{"text_format":"1","workbook":"xlsx","n_sheets":34,"sheets":["SchuelernamenEingabe","EingabeAngabe","Ausdruck","AusdruckHochformat","Schueler1Punkte","Schueler2Punkte","Schueler3Punkte","Schueler4Punkte","Schueler5Punkte","Schueler6Punkte","Schueler7Punkte","Schueler8Punkte","Schueler9Punkte","Schueler10Punkte","Schueler11Punkte","Schueler12Punkte","Schueler13Punkte","Schueler14Punkte","Schueler15Punkte","Schueler16Punkte","Schueler17Punkte","Schueler18Punkte","Schueler19Punkte","Schueler20Punkte","Schueler21Punkte","Schueler22Punkte","Schueler23Punkte","Schueler24Punkte","Schueler25Punkte","Schueler26Punkte","Schueler27Punkte","Schueler28Punkte","Schueler29Punkte","Schueler30Punkte"],"not_rendered":{"charts":0,"images":0,"macros":1,"external_links":0,"defined_names":1,"comments":0,"pivot_tables":0},"unopened":[],"bounds":{"document_bytes":16777216,"sheet_cells":100000,"rows_first":2000,"rows_last":500,"rows_between":2000,"halvings":0,"cell_chars":16384,"cell_head_chars":4096},"cells_cut":0,"cells_raw":0,"read":"whole","date_system":"1900"}

{"sheet":"SchuelernamenEingabe","index":0,"n_rows":35,"n_cols":5,"rows_kept":35,"cut":false,"hidden":false,"merged":[[31,3,34,3],[19,3,25,3],[26,3,30,3],[31,4,34,4],[0,0,0,1],[1,3,1,4],[2,4,10,4],[11,4,18,4],[19,4,25,4],[26,4,30,4],[2,3,10,3],[11,3,18,3]]}
["Schülernamen:"]
[1,null,null,"Notendefinitionen laut LBVO §14"]
[{"$f":"A2+1","v":2},null,null,"Sehr gut","\"Der Schüler, die Schülerin hat die nach Maßgabe des Lehrplanes gestellten Anforderungen in der Erfassung und in der Anwendung des Lehrstoffes sowie in der Durchführung der Aufgaben in weit über das Wesentliche hinausgehendem Ausmaß erfüllt und, wo dies möglich ist, deutliche Eigenständigkeit beziehungsweise die Fähigkeit zur selbständigen Anwendung seines Wissens und Könnens auf für ihn neuartige Aufgaben gezeigt\" "]
[{"$f":"A3+1","v":3}]
[{"$f":"A4+1","v":4}]
[{"$f":"A5+1","v":5}]
[{"$f":"A6+1","v":6}]
[7]
[8]
[9]
[10]
[11,null,null,"Gut","\"Der Schüler, die Schülerin hat die nach Maßgabe des Lehrplanes gestellten Anforderungen in der Erfassung und in der Anwendung des Lehrstoffes sowie in der Durchführung der Aufgaben in über das Wesentliche hinausgehendem  Ausmaß erfüllt und, wo dies möglich ist, merkliche Ansätze zur Eigenständigkeit beziehungsweise bei entsprechender Anleitung die Fähigkeit zur Anwendung seines Wissens und Könnens auf für ihn neuartige Aufgaben gezeigt\" "]
[12]
[13]
[14]
[15]
[16]
[17]
[18]
[19,null,null,"Befriedigend","\"Der Schüler, die Schülerin hat die nach Maßgabe des Lehrplanes gestellten Anforderungen in der Erfassung und in der Anwendung des Lehrstoffes sowie in der Durchführung der Aufgaben in den wesentlichen Bereichen zur Gänze erfüllt; dabei werden Mängel in der Durchführung durch merkliche Ansätze zur Eigenständigkeit ausgeglichen.\""]
[20]
[21]
[22]
[23]
[24]
[25]
[26,null,null,"Genügend","\"Der Schüler, die Schülerin hat die nach Maßgabe des Lehrplanes gestellten Anforderungen in der Erfassung und in  der Anwendung des Lehrstoffes sowie in der Durchführung der Aufgaben in den wesentlichen Bereichen überwiegend erfüllt.\""]
[27]
[28]
[29]
[30]
[null,null,null,"Nicht genügend","\"Der Schüler, die Schülerin hat die nach Maßgabe des Lehrplanes gestellten Anforderungen in der Erfassung und in der Anwendung des Lehrstoffes sowie in der Durchführung der Aufgaben in den wesentlichen Bereichen nicht überwiegend erfüllt.\""]
[]
[]
[null,{"$f":"30-(COUNTIF(B2:B31,\"\"))","v":0}]

{"sheet":"EingabeAngabe","index":1,"n_rows":80,"n_cols":37,"rows_kept":80,"cut":false,"hidden":false,"merged":[[1,2,1,4],[2,2,2,4],[27,36,28,36],[17,36,18,36],[19,36,20,36],[21,36,22,36],[23,36,24,36],[25,36,26,36],[5,36,6,36],[7,36,8,36],[9,36,10,36],[11,36,12,36],[13,36,14,36],[15,36,16,36],[15,35,16,35],[13,35,14,35],[11,35,12,35],[9,35,10,35],[7,35,8,35],[5,35,6,35],[27,35,28,35],[25,35,26,35],[23,35,24,35],[21,35,22,35],[19,35,20,35],[17,35,18,35],[15,31,16,31],[13,31,14,31],[11,31,12,31],[9,31,10,31],[7,31,8,31],[5,31,6,31],[27,31,28,31],[25,31,26,31],[23,31,24,31],[21,31,22,31],[19,31,20,31],[17,31,18,31],[17,32,18,32],[19,32,20,32],[21,32,22,32],[23,32,24,32],[25,32,26,32],[27,32,28,32],[5,32,6,32],[7,32,8,32],[9,32,10,32],[11,32,12,32],[13,32,14,32],[15,32,16,32],[15,33,16,33],[13,33,14,33],[11,33,12,33],[9,33,10,33],[7,33,8,33],[5,33,6,33],[27,33,28,33],[25,33,26,33],[23,33,24,33],[21,33,22,33],[19,33,20,33],[17,33,18,33],[17,34,18,34],[19,34,20,34],[21,34,22,34],[23,34,24,34],[25,34,26,34],[27,34,28,34],[5,34,6,34],[7,34,8,34],[9,34,10,34],[11,34,12,34],[13,34,14,34],[15,34,16,34],[15,27,16,27],[13,27,14,27],[11,27,12,27],[9,27,10,27],[7,27,8,27],[5,27,6,27],[27,27,28,27],[25,27,26,27],[23,27,24,27],[21,27,22,27],[19,27,20,27],[17,27,18,27],[17,28,18,28],[19,28,20,28],[21,28,22,28],[23,28,24,28],[25,28,26,28],[27,28,28,28],[5,28,6,28],[7,28,8,28],[9,28,10,28],[11,28,12,28],[13,28,14,28],[15,28,16,28],[15,29,16,29],[13,29,14,29],[11,29,12,29],[9,29,10,29],[7,29,8,29],[5,29,6,29],[27,29,28,29],[25,29,26,29],[23,29,24,29],[21,29,22,29],[19,29,20,29],[17,29,18,29],[17,30,18,30],[19,30,20,30],[21,30,22,30],[23,30,24,30],[25,30,26,30],[27,30,28,30],[5,30,6,30],[7,30,8,30],[9,30,10,30],[11,30,12,30],[13,30,14,30],[15,30,16,30],[15,24,16,24],[13,24,14,24],[11,24,12,24],[9,24,10,24],[7,24,8,24],[5,24,6,24],[27,24,28,24],[25,24,26,24],[23,24,24,24],[21,24,22,24],[19,24,20,24],[17,24,18,24],[17,25,18,25],[19,25,20,25],[21,25,22,25],[23,25,24,25],[25,25,26,25],[27,25,28,25],[5,25,6,25],[7,25,8,25],[9,25,10,25],[11,25,12,25],[13,25,14,25],[15,25,16,25],[15,26,16,26],[13,26,14,26],[11,26,12,26],[9,26,10,26],[7,26,8,26],[5,26,6,26],[27,26,28,26],[25,26,26,26],[23,26,24,26],[21,26,22,26],[19,26,20,26],[17,26,18,26],[15,20,16,20],[13,20,14,20],[11,20,12,20],[9,20,10,20],[7,20,8,20],[5,20,6,20],[27,20,28,20],[25,20,26,20],[23,20,24,20],[21,20,22,20],[19,20,20,20],[17,20,18,20],[15,21,16,21],[13,21,14,21],[11,21,12,21],[9,21,10,21],[7,21,8,21],[5,21,6,21],[27,21,28,21],[25,21,26,21],[23,21,24,21],[21,21,22,21],[19,21,20,21],[17,21,18,21],[15,22,16,22],[13,22,14,22],[11,22,12,22],[9,22,10,22],[7,22,8,22],[5,22,6,22],[27,22,28,22],[25,22,26,22],[23,22,24,22],[21,22,22,22],[19,22,20,22],[17,22,18,22],[15,23,16,23],[13,23,14,23],[11,23,12,23],[9,23,10,23],[7,23,8,23],[5,23,6,23],[27,23,28,23],[25,23,26,23],[23,23,24,23],[21,23,22,23],[19,23,20,23],[17,23,18,23],[15,16,16,16],[13,16,14,16],[11,16,12,16],[9,16,10,16],[7,16,8,16],[5,16,6,16],[27,16,28,16],[25,16,26,16],[23,16,24,16],[21,16,22,16],[19,16,20,16],[17,16,18,16],[15,17,16,17],[13,17,14,17],[11,17,12,17],[9,17,10,17],[7,17,8,17],[5,17,6,17],[27,17,28,17],[25,17,26,17],[23,17,24,17],[21,17,22,17],[19,17,20,17],[17,17,18,17],[15,18,16,18],[13,18,14,18],[11,18,12,18],[9,18,10,18],[7,18,8,18],[5,18,6,18],[27,18,28,18],[25,18,26,18],[23,18,24,18],[21,18,22,18],[19,18,20,18],[17,18,18,18],[15,19,16,19],[13,19,14,19],[11,19,12,19],[9,19,10,19],[7,19,8,19],[5,19,6,19],[27,19,28,19],[25,19,26,19],[23,19,24,19],[21,19,22,19],[19,19,20,19],[17,19,18,19],[15,13,16,13],[13,13,14,13],[11,13,12,13],[9,13,10,13],[7,13,8,13],[5,13,6,13],[27,13,28,13],[25,13,26,13],[23,13,24,13],[21,13,22,13],[19,13,20,13],[17,13,18,13],[15,14,16,14],[13,14,14,14],[11,14,12,14],[9,14,10,14],[7,14,8,14],[5,14,6,14],[27,14,28,14],[25,14,26,14],[23,14,24,14],[21,14,22,14],[19,14,20,14],[17,14,18,14],[15,15,16,15],[13,15,14,15],[11,15,12,15],[9,15,10,15],[7,15,8,15],[5,15,6,15],[27,15,28,15],[25,15,26,15],[23,15,24,15],[21,15,22,15],[19,15,20,15],[17,15,18,15],[17,12,18,12],[19,12,20,12],[21,12,22,12],[23,12,24,12],[25,12,26,12],[27,12,28,12],[5,12,6,12],[7,12,8,12],[9,12,10,12],[11,12,12,12],[13,12,14,12],[15,12,16,12],[17,11,18,11],[19,11,20,11],[21,11,22,11],[23,11,24,11],[25,11,26,11],[27,11,28,11],[5,11,6,11],[7,11,8,11],[9,11,10,11],[11,11,12,11],[13,11,14,11],[15,11,16,11],[73,2,74,2],[21,9,22,9],[59,0,59,2],[57,2,57,4],[58,3,58,4],[66,2,66,4],[67,2,67,4],[60,2,60,4],[61,2,61,4],[62,2,62,4],[21,10,22,10],[23,10,24,10],[25,9,26,9],[25,10,26,10],[27,9,28,9],[27,10,28,10],[13,10,14,10],[15,9,16,9],[15,10,16,10],[17,10,18,10],[19,9,20,9],[19,10,20,10],[5,10,6,10],[7,9,8,9],[7,10,8,10],[9,9,10,9],[9,10,10,10],[11,10,12,10],[19,8,20,8],[21,8,22,8],[23,8,24,8],[25,8,26,8],[27,8,28,8],[5,9,6,9],[11,9,12,9],[17,9,18,9],[23,9,24,9],[13,9,14,9],[5,8,6,8],[7,8,8,8],[9,8,10,8],[11,8,12,8],[13,8,14,8],[15,8,16,8],[17,8,18,8],[38,3,38,4],[47,3,47,4],[39,3,39,4],[55,3,55,4],[54,3,54,4],[53,3,53,4],[52,3,52,4],[48,3,48,4],[19,2,19,4],[63,2,63,4],[64,2,64,4],[65,2,65,4],[56,3,56,4],[44,3,44,4],[41,3,41,4],[40,3,40,4],[46,3,46,4],[45,3,45,4],[49,3,49,4],[77,3,77,4],[76,3,76,4],[75,3,75,4],[74,3,74,4],[73,3,73,4],[72,3,72,4],[3,0,3,4],[4,2,4,4],[5,2,5,4],[5,1,6,1],[7,2,7,4],[71,3,71,4],[70,3,70,4],[8,2,8,4],[9,2,9,4],[10,2,10,4],[24,2,24,4],[25,2,25,4],[14,2,14,4],[15,2,15,4],[16,2,16,4],[17,2,17,4],[18,2,18,4],[9,1,10,1],[11,1,12,1],[13,1,14,1],[15,1,16,1],[17,1,18,1],[20,2,20,4],[11,2,11,4],[12,2,12,4],[13,2,13,4],[27,1,28,1],[5,5,6,5],[7,5,8,5],[9,5,10,5],[11,5,12,5],[13,5,14,5],[26,2,26,4],[27,2,27,4],[28,2,28,4],[7,1,8,1],[21,5,22,5],[23,5,24,5],[25,5,26,5],[19,1,20,1],[21,1,22,1],[23,1,24,1],[25,1,26,1],[21,2,21,4],[22,2,22,4],[23,2,23,4],[13,6,14,6],[15,6,16,6],[17,6,18,6],[19,6,20,6],[15,5,16,5],[17,5,18,5],[19,5,20,5],[21,6,22,6],[23,6,24,6],[25,6,26,6],[27,6,28,6],[27,5,28,5],[6,2,6,4],[5,6,6,6],[7,6,8,6],[9,6,10,6],[11,6,12,6],[5,0,6,0],[7,0,8,0],[9,0,10,0],[11,0,12,0],[13,0,14,0],[15,0,16,0],[17,0,18,0],[19,0,20,0],[21,0,22,0],[23,0,24,0],[25,0,26,0],[27,0,28,0],[5,7,6,7],[7,7,8,7],[9,7,10,7],[11,7,12,7],[13,7,14,7],[15,7,16,7],[17,7,18,7],[19,7,20,7],[21,7,22,7],[23,7,24,7],[25,7,26,7],[27,7,28,7]]}
[null,"Ch.P.-Art Name","Phrase",null,null,null,{"$f":"IF(Schueler1Punkte!$D$1=0,\"\",Schueler1Punkte!$D$1)","v":""},{"$f":"IF(Schueler2Punkte!$D$1=0,\"\",Schueler2Punkte!$D$1)","v":""},{"$f":"IF(Schueler3Punkte!$D$1=0,\"\",Schueler3Punkte!$D$1)","v":""},{"$f":"IF(Schueler4Punkte!$D$1=0,\"\",Schueler4Punkte!$D$1)","v":""},{"$f":"IF(Schueler5Punkte!$D$1=0,\"\",Schueler5Punkte!$D$1)","v":""},{"$f":"IF(Schueler6Punkte!$D$1=0,\"\",Schueler6Punkte!$D$1)","v":""},{"$f":"IF(Schueler7Punkte!$D$1=0,\"\",Schueler7Punkte!$D$1)","v":""},{"$f":"IF(Schueler8Punkte!$D$1=0,\"\",Schueler8Punkte!$D$1)","v":""},{"$f":"IF(Schueler9Punkte!$D$1=0,\"\",Schueler9Punkte!$D$1)","v":""},{"$f":"IF(Schueler10Punkte!$D$1=0,\"\",Schueler10Punkte!$D$1)","v":""},{"$f":"IF(Schueler11Punkte!$D$1=0,\"\",Schueler11Punkte!$D$1)","v":""},{"$f":"IF(Schueler12Punkte!$D$1=0,\"\",Schueler12Punkte!$D$1)","v":""},{"$f":"IF(Schueler13Punkte!$D$1=0,\"\",Schueler13Punkte!$D$1)","v":""},{"$f":"IF(Schueler14Punkte!$D$1=0,\"\",Schueler14Punkte!$D$1)","v":""},{"$f":"IF(Schueler15Punkte!$D$1=0,\"\",Schueler15Punkte!$D$1)","v":""},{"$f":"IF(Schueler16Punkte!$D$1=0,\"\",Schueler16Punkte!$D$1)","v":""},{"$f":"IF(Schueler17Punkte!$D$1=0,\"\",Schueler17Punkte!$D$1)","v":""},{"$f":"IF(Schueler18Punkte!$D$1=0,\"\",Schueler18Punkte!$D$1)","v":""},{"$f":"IF(Schueler19Punkte!$D$1=0,\"\",Schueler19Punkte!$D$1)","v":""},{"$f":"IF(Schueler20Punkte!$D$1=0,\"\",Schueler20Punkte!$D$1)","v":""},{"$f":"IF(Schueler21Punkte!$D$1=0,\"\",Schueler21Punkte!$D$1)","v":""},{"$f":"IF(Schueler22Punkte!$D$1=0,\"\",Schueler22Punkte!$D$1)","v":""},{"$f":"IF(Schueler23Punkte!$D$1=0,\"\",Schueler23Punkte!$D$1)","v":""},{"$f":"IF(Schueler24Punkte!$D$1=0,\"\",Schueler24Punkte!$D$1)","v":""},{"$f":"IF(Schueler25Punkte!$D$1=0,\"\",Schueler25Punkte!$D$1)","v":""},{"$f":"IF(Schueler26Punkte!$D$1=0,\"\",Schueler26Punkte!$D$1)","v":""},{"$f":"IF(Schueler27Punkte!$D$1=0,\"\",Schueler27Punkte!$D$1)","v":""},{"$f":"IF(Schueler28Punkte!$D$1=0,\"\",Schueler28Punkte!$D$1)","v":""},{"$f":"IF(Schueler29Punkte!$D$1=0,\"\",Schueler29Punkte!$D$1)","v":""},{"$f":"IF(Schueler30Punkte!$D$1=0,\"\",Schueler30Punkte!$D$1)","v":""},"% richtig"]
[null,null,"GESAMT",null,null,60,{"$f":"IF(G61=\"\",\"\",SUM(G59+G60))","v":""},"","","","","","","","","","","","","","","","","","","","","","","","","","","","",""]
[null,null,"NOTE",null,null,null,{"$f":"IF(OR(G$1=\"\",G$2=\"\"),\"\",IF(G2<$G$75,5,IF(G2<$G$74,4,IF(G2<$G$73,3,IF(G2<$G$72,2,1)))))","v":""},"","","","","","","","","","","","","","","","","","","","","","","","","","","","",""]
["ÜBERSETZUNGSTEXT"]
[null,null,"TEXTSINN",null,null,12,{"$f":"IF(OR(G6=\"\",G6=\"f\"),\"\",SUM(G6,G8,G10,G12,G14,G16,G18,G20,G22,G24,G26,G28))","v":""},{"$f":"IF(OR(H6=\"\",H6=\"f\"),\"\",SUM(H6,H8,H10,H12,H14,H16,H18,H20,H22,H24,H26,H28))","v":""},"","","","","","","","","","","","","","","","","","","","","","","","","","","",""]
[1,"SE1",null,null,null,1,{"$f":"IF(Schueler1Punkte!$D$1=0,\"\",IF(Schueler1Punkte!$G2=\"\",\"f\",IF(Schueler1Punkte!$G2>1,\"f\",Schueler1Punkte!$G2)))","v":""},{"$f":"IF(Schueler2Punkte!$D$1=0,\"\",IF(Schueler2Punkte!$G2=\"\",\"f\",IF(Schueler2Punkte!$G2>1,\"f\",Schueler2Punkte!$G2)))","v":""},{"$f":"IF(Schueler3Punkte!$D$1=0,\"\",IF(Schueler3Punkte!$G2=\"\",\"f\",IF(Schueler3Punkte!$G2>1,\"f\",Schueler3Punkte!$G2)))","v":""},{"$f":"IF(Schueler4Punkte!$D$1=0,\"\",IF(Schueler4Punkte!$G2=\"\",\"f\",IF(Schueler4Punkte!$G2>1,\"f\",Schueler4Punkte!$G2)))","v":""},{"$f":"IF(Schueler5Punkte!$D$1=0,\"\",IF(Schueler5Punkte!$G2=\"\",\"f\",IF(Schueler5Punkte!$G2>1,\"f\",Schueler5Punkte!$G2)))","v":""},{"$f":"IF(Schueler6Punkte!$D$1=0,\"\",IF(Schueler6Punkte!$G2=\"\",\"f\",IF(Schueler6Punkte!$G2>1,\"f\",Schueler6Punkte!$G2)))","v":""},{"$f":"IF(Schueler7Punkte!$D$1=0,\"\",IF(Schueler7Punkte!$G2=\"\",\"f\",IF(Schueler7Punkte!$G2>1,\"f\",Schueler7Punkte!$G2)))","v":""},{"$f":"IF(Schueler8Punkte!$D$1=0,\"\",IF(Schueler8Punkte!$G2=\"\",\"f\",IF(Schueler8Punkte!$G2>1,\"f\",Schueler8Punkte!$G2)))","v":""},{"$f":"IF(Schueler9Punkte!$D$1=0,\"\",IF(Schueler9Punkte!$G2=\"\",\"f\",IF(Schueler9Punkte!$G2>1,\"f\",Schueler9Punkte!$G2)))","v":""},{"$f":"IF(Schueler10Punkte!$D$1=0,\"\",IF(Schueler10Punkte!$G2=\"\",\"f\",IF(Schueler10Punkte!$G2>1,\"f\",Schueler10Punkte!$G2)))","v":""},{"$f":"IF(Schueler11Punkte!$D$1=0,\"\",IF(Schueler11Punkte!$G2=\"\",\"f\",IF(Schueler11Punkte!$G2>1,\"f\",Schueler11Punkte!$G2)))","v":""},{"$f":"IF(Schueler12Punkte!$D$1=0,\"\",IF(Schueler12Punkte!$G2=\"\",\"f\",IF(Schueler12Punkte!$G2>1,\"f\",Schueler12Punkte!$G2)))","v":""},{"$f":"IF(Schueler13Punkte!$D$1=0,\"\",IF(Schueler13Punkte!$G2=\"\",\"f\",IF(Schueler13Punkte!$G2>1,\"f\",Schueler13Punkte!$G2)))","v":""},{"$f":"IF(Schueler14Punkte!$D$1=0,\"\",IF(Schueler14Punkte!$G2=\"\",\"f\",IF(Schueler14Punkte!$G2>1,\"f\",Schueler14Punkte!$G2)))","v":""},{"$f":"IF(Schueler15Punkte!$D$1=0,\"\",IF(Schueler15Punkte!$G2=\"\",\"f\",IF(Schueler15Punkte!$G2>1,\"f\",Schueler15Punkte!$G2)))","v":""},{"$f":"IF(Schueler16Punkte!$D$1=0,\"\",IF(Schueler16Punkte!$G2=\"\",\"f\",IF(Schueler16Punkte!$G2>1,\"f\",Schueler16Punkte!$G2)))","v":""},{"$f":"IF(Schueler17Punkte!$D$1=0,\"\",IF(Schueler17Punkte!$G2=\"\",\"f\",IF(Schueler17Punkte!$G2>1,\"f\",Schueler17Punkte!$G2)))","v":""},{"$f":"IF(Schueler18Punkte!$D$1=0,\"\",IF(Schueler18Punkte!$G2=\"\",\"f\",IF(Schueler18Punkte!$G2>1,\"f\",Schueler18Punkte!$G2)))","v":""},{"$f":"IF(Schueler19Punkte!$D$1=0,\"\",IF(Schueler19Punkte!$G2=\"\",\"f\",IF(Schueler19Punkte!$G2>1,\"f\",Schueler19Punkte!$G2)))","v":""},{"$f":"IF(Schueler20Punkte!$D$1=0,\"\",IF(Schueler20Punkte!$G2=\"\",\"f\",IF(Schueler20Punkte!$G2>1,\"f\",Schueler20Punkte!$G2)))","v":""},{"$f":"IF(Schueler21Punkte!$D$1=0,\"\",IF(Schueler21Punkte!$G2=\"\",\"f\",IF(Schueler21Punkte!$G2>1,\"f\",Schueler21Punkte!$G2)))","v":""},{"$f":"IF(Schueler22Punkte!$D$1=0,\"\",IF(Schueler22Punkte!$G2=\"\",\"f\",IF(Schueler22Punkte!$G2>1,\"f\",Schueler22Punkte!$G2)))","v":""},{"$f":"IF(Schueler23Punkte!$D$1=0,\"\",IF(Schueler23Punkte!$G2=\"\",\"f\",IF(Schueler23Punkte!$G2>1,\"f\",Schueler23Punkte!$G2)))","v":""},{"$f":"IF(Schueler24Punkte!$D$1=0,\"\",IF(Schueler24Punkte!$G2=\"\",\"f\",IF(Schueler24Punkte!$G2>1,\"f\",Schueler24Punkte!$G2)))","v":""},{"$f":"IF(Schueler25Punkte!$D$1=0,\"\",IF(Schueler25Punkte!$G2=\"\",\"f\",IF(Schueler25Punkte!$G2>1,\"f\",Schueler25Punkte!$G2)))","v":""},{"$f":"IF(Schueler26Punkte!$D$1=0,\"\",IF(Schueler26Punkte!$G2=\"\",\"f\",IF(Schueler26Punkte!$G2>1,\"f\",Schueler26Punkte!$G2)))","v":""},{"$f":"IF(Schueler27Punkte!$D$1=0,\"\",IF(Schueler27Punkte!$G2=\"\",\"f\",IF(Schueler27Punkte!$G2>1,\"f\",Schueler27Punkte!$G2)))","v":""},{"$f":"IF(Schueler28Punkte!$D$1=0,\"\",IF(Schueler28Punkte!$G2=\"\",\"f\",IF(Schueler28Punkte!$G2>1,\"f\",Schueler28Punkte!$G2)))","v":""},{"$f":"IF(Schueler29Punkte!$D$1=0,\"\",IF(Schueler29Punkte!$G2=\"\",\"f\",IF(Schueler29Punkte!$G2>1,\"f\",Schueler29Punkte!$G2)))","v":""},{"$f":"IF(Schueler30Punkte!$D$1=0,\"\",IF(Schueler30Punkte!$G2=\"\",\"f\",IF(Schueler30Punkte!$G2>1,\"f\",Schueler30Punkte!$G2)))","v":""},{"$f":"COUNTIF(G6:AJ6,1)/(COUNTIF(G6:AJ6,1)+COUNTIF(G6:AJ6,0))","v":{"$error":"#DIV/0!"}}]
[]
[2,"SE2",null,null,null,1,{"$f":"IF(Schueler1Punkte!$D$1=0,\"\",IF(Schueler1Punkte!$G4=\"\",\"f\",IF(Schueler1Punkte!$G4>1,\"f\",Schueler1Punkte!$G4)))","v":""},{"$f":"IF(Schueler2Punkte!$D$1=0,\"\",IF(Schueler2Punkte!$G4=\"\",\"f\",IF(Schueler2Punkte!$G4>1,\"f\",Schueler2Punkte!$G4)))","v":""},{"$f":"IF(Schueler3Punkte!$D$1=0,\"\",IF(Schueler3Punkte!$G4=\"\",\"f\",IF(Schueler3Punkte!$G4>1,\"f\",Schueler3Punkte!$G4)))","v":""},{"$f":"IF(Schueler4Punkte!$D$1=0,\"\",IF(Schueler4Punkte!$G4=\"\",\"f\",IF(Schueler4Punkte!$G4>1,\"f\",Schueler4Punkte!$G4)))","v":""},{"$f":"IF(Schueler5Punkte!$D$1=0,\"\",IF(Schueler5Punkte!$G4=\"\",\"f\",IF(Schueler5Punkte!$G4>1,\"f\",Schueler5Punkte!$G4)))","v":""},{"$f":"IF(Schueler6Punkte!$D$1=0,\"\",IF(Schueler6Punkte!$G4=\"\",\"f\",IF(Schueler6Punkte!$G4>1,\"f\",Schueler6Punkte!$G4)))","v":""},{"$f":"IF(Schueler7Punkte!$D$1=0,\"\",IF(Schueler7Punkte!$G4=\"\",\"f\",IF(Schueler7Punkte!$G4>1,\"f\",Schueler7Punkte!$G4)))","v":""},{"$f":"IF(Schueler8Punkte!$D$1=0,\"\",IF(Schueler8Punkte!$G4=\"\",\"f\",IF(Schueler8Punkte!$G4>1,\"f\",Schueler8Punkte!$G4)))","v":""},{"$f":"IF(Schueler9Punkte!$D$1=0,\"\",IF(Schueler9Punkte!$G4=\"\",\"f\",IF(Schueler9Punkte!$G4>1,\"f\",Schueler9Punkte!$G4)))","v":""},{"$f":"IF(Schueler10Punkte!$D$1=0,\"\",IF(Schueler10Punkte!$G4=\"\",\"f\",IF(Schueler10Punkte!$G4>1,\"f\",Schueler10Punkte!$G4)))","v":""},{"$f":"IF(Schueler11Punkte!$D$1=0,\"\",IF(Schueler11Punkte!$G4=\"\",\"f\",IF(Schueler11Punkte!$G4>1,\"f\",Schueler11Punkte!$G4)))","v":""},{"$f":"IF(Schueler12Punkte!$D$1=0,\"\",IF(Schueler12Punkte!$G4=\"\",\"f\",IF(Schueler12Punkte!$G4>1,\"f\",Schueler12Punkte!$G4)))","v":""},{"$f":"IF(Schueler13Punkte!$D$1=0,\"\",IF(Schueler13Punkte!$G4=\"\",\"f\",IF(Schueler13Punkte!$G4>1,\"f\",Schueler13Punkte!$G4)))","v":""},{"$f":"IF(Schueler14Punkte!$D$1=0,\"\",IF(Schueler14Punkte!$G4=\"\",\"f\",IF(Schueler14Punkte!$G4>1,\"f\",Schueler14Punkte!$G4)))","v":""},{"$f":"IF(Schueler15Punkte!$D$1=0,\"\",IF(Schueler15Punkte!$G4=\"\",\"f\",IF(Schueler15Punkte!$G4>1,\"f\",Schueler15Punkte!$G4)))","v":""},{"$f":"IF(Schueler16Punkte!$D$1=0,\"\",IF(Schueler16Punkte!$G4=\"\",\"f\",IF(Schueler16Punkte!$G4>1,\"f\",Schueler16Punkte!$G4)))","v":""},{"$f":"IF(Schueler17Punkte!$D$1=0,\"\",IF(Schueler17Punkte!$G4=\"\",\"f\",IF(Schueler17Punkte!$G4>1,\"f\",Schueler17Punkte!$G4)))","v":""},{"$f":"IF(Schueler18Punkte!$D$1=0,\"\",IF(Schueler18Punkte!$G4=\"\",\"f\",IF(Schueler18Punkte!$G4>1,\"f\",Schueler18Punkte!$G4)))","v":""},{"$f":"IF(Schueler19Punkte!$D$1=0,\"\",IF(Schueler19Punkte!$G4=\"\",\"f\",IF(Schueler19Punkte!$G4>1,\"f\",Schueler19Punkte!$G4)))","v":""},{"$f":"IF(Schueler20Punkte!$D$1=0,\"\",IF(Schueler20Punkte!$G4=\"\",\"f\",IF(Schueler20Punkte!$G4>1,\"f\",Schueler20Punkte!$G4)))","v":""},{"$f":"IF(Schueler21Punkte!$D$1=0,\"\",IF(Schueler21Punkte!$G4=\"\",\"f\",IF(Schueler21Punkte!$G4>1,\"f\",Schueler21Punkte!$G4)))","v":""},{"$f":"IF(Schueler22Punkte!$D$1=0,\"\",IF(Schueler22Punkte!$G4=\"\",\"f\",IF(Schueler22Punkte!$G4>1,\"f\",Schueler22Punkte!$G4)))","v":""},{"$f":"IF(Schueler23Punkte!$D$1=0,\"\",IF(Schueler23Punkte!$G4=\"\",\"f\",IF(Schueler23Punkte!$G4>1,\"f\",Schueler23Punkte!$G4)))","v":""},{"$f":"IF(Schueler24Punkte!$D$1=0,\"\",IF(Schueler24Punkte!$G4=\"\",\"f\",IF(Schueler24Punkte!$G4>1,\"f\",Schueler24Punkte!$G4)))","v":""},{"$f":"IF(Schueler25Punkte!$D$1=0,\"\",IF(Schueler25Punkte!$G4=\"\",\"f\",IF(Schueler25Punkte!$G4>1,\"f\",Schueler25Punkte!$G4)))","v":""},{"$f":"IF(Schueler26Punkte!$D$1=0,\"\",IF(Schueler26Punkte!$G4=\"\",\"f\",IF(Schueler26Punkte!$G4>1,\"f\",Schueler26Punkte!$G4)))","v":""},{"$f":"IF(Schueler27Punkte!$D$1=0,\"\",IF(Schueler27Punkte!$G4=\"\",\"f\",IF(Schueler27Punkte!$G4>1,\"f\",Schueler27Punkte!$G4)))","v":""},{"$f":"IF(Schueler28Punkte!$D$1=0,\"\",IF(Schueler28Punkte!$G4=\"\",\"f\",IF(Schueler28Punkte!$G4>1,\"f\",Schueler28Punkte!$G4)))","v":""},{"$f":"IF(Schueler29Punkte!$D$1=0,\"\",IF(Schueler29Punkte!$G4=\"\",\"f\",IF(Schueler29Punkte!$G4>1,\"f\",Schueler29Punkte!$G4)))","v":""},{"$f":"IF(Schueler30Punkte!$D$1=0,\"\",IF(Schueler30Punkte!$G4=\"\",\"f\",IF(Schueler30Punkte!$G4>1,\"f\",Schueler30Punkte!$G4)))","v":""},{"$f":"COUNTIF(G8:AJ8,1)/(COUNTIF(G8:AJ8,1)+COUNTIF(G8:AJ8,0))","v":{"$error":"#DIV/0!"}}]
[]
[3,"SE3",null,null,null,1,{"$f":"IF(Schueler1Punkte!$D$1=0,\"\",IF(Schueler1Punkte!$G6=\"\",\"f\",IF(Schueler1Punkte!$G6>1,\"f\",Schueler1Punkte!$G6)))","v":""},{"$f":"IF(Schueler2Punkte!$D$1=0,\"\",IF(Schueler2Punkte!$G6=\"\",\"f\",IF(Schueler2Punkte!$G6>1,\"f\",Schueler2Punkte!$G6)))","v":""},{"$f":"IF(Schueler3Punkte!$D$1=0,\"\",IF(Schueler3Punkte!$G6=\"\",\"f\",IF(Schueler3Punkte!$G6>1,\"f\",Schueler3Punkte!$G6)))","v":""},{"$f":"IF(Schueler4Punkte!$D$1=0,\"\",IF(Schueler4Punkte!$G6=\"\",\"f\",IF(Schueler4Punkte!$G6>1,\"f\",Schueler4Punkte!$G6)))","v":""},{"$f":"IF(Schueler5Punkte!$D$1=0,\"\",IF(Schueler5Punkte!$G6=\"\",\"f\",IF(Schueler5Punkte!$G6>1,\"f\",Schueler5Punkte!$G6)))","v":""},{"$f":"IF(Schueler6Punkte!$D$1=0,\"\",IF(Schueler6Punkte!$G6=\"\",\"f\",IF(Schueler6Punkte!$G6>1,\"f\",Schueler6Punkte!$G6)))","v":""},{"$f":"IF(Schueler7Punkte!$D$1=0,\"\",IF(Schueler7Punkte!$G6=\"\",\"f\",IF(Schueler7Punkte!$G6>1,\"f\",Schueler7Punkte!$G6)))","v":""},{"$f":"IF(Schueler8Punkte!$D$1=0,\"\",IF(Schueler8Punkte!$G6=\"\",\"f\",IF(Schueler8Punkte!$G6>1,\"f\",Schueler8Punkte!$G6)))","v":""},{"$f":"IF(Schueler9Punkte!$D$1=0,\"\",IF(Schueler9Punkte!$G6=\"\",\"f\",IF(Schueler9Punkte!$G6>1,\"f\",Schueler9Punkte!$G6)))","v":""},{"$f":"IF(Schueler10Punkte!$D$1=0,\"\",IF(Schueler10Punkte!$G6=\"\",\"f\",IF(Schueler10Punkte!$G6>1,\"f\",Schueler10Punkte!$G6)))","v":""},{"$f":"IF(Schueler11Punkte!$D$1=0,\"\",IF(Schueler11Punkte!$G6=\"\",\"f\",IF(Schueler11Punkte!$G6>1,\"f\",Schueler11Punkte!$G6)))","v":""},{"$f":"IF(Schueler12Punkte!$D$1=0,\"\",IF(Schueler12Punkte!$G6=\"\",\"f\",IF(Schueler12Punkte!$G6>1,\"f\",Schueler12Punkte!$G6)))","v":""},{"$f":"IF(Schueler13Punkte!$D$1=0,\"\",IF(Schueler13Punkte!$G6=\"\",\"f\",IF(Schueler13Punkte!$G6>1,\"f\",Schueler13Punkte!$G6)))","v":""},{"$f":"IF(Schueler14Punkte!$D$1=0,\"\",IF(Schueler14Punkte!$G6=\"\",\"f\",IF(Schueler14Punkte!$G6>1,\"f\",Schueler14Punkte!$G6)))","v":""},{"$f":"IF(Schueler15Punkte!$D$1=0,\"\",IF(Schueler15Punkte!$G6=\"\",\"f\",IF(Schueler15Punkte!$G6>1,\"f\",Schueler15Punkte!$G6)))","v":""},{"$f":"IF(Schueler16Punkte!$D$1=0,\"\",IF(Schueler16Punkte!$G6=\"\",\"f\",IF(Schueler16Punkte!$G6>1,\"f\",Schueler16Punkte!$G6)))","v":""},{"$f":"IF(Schueler17Punkte!$D$1=0,\"\",IF(Schueler17Punkte!$G6=\"\",\"f\",IF(Schueler17Punkte!$G6>1,\"f\",Schueler17Punkte!$G6)))","v":""},{"$f":"IF(Schueler18Punkte!$D$1=0,\"\",IF(Schueler18Punkte!$G6=\"\",\"f\",IF(Schueler18Punkte!$G6>1,\"f\",Schueler18Punkte!$G6)))","v":""},{"$f":"IF(Schueler19Punkte!$D$1=0,\"\",IF(Schueler19Punkte!$G6=\"\",\"f\",IF(Schueler19Punkte!$G6>1,\"f\",Schueler19Punkte!$G6)))","v":""},{"$f":"IF(Schueler20Punkte!$D$1=0,\"\",IF(Schueler20Punkte!$G6=\"\",\"f\",IF(Schueler20Punkte!$G6>1,\"f\",Schueler20Punkte!$G6)))","v":""},{"$f":"IF(Schueler21Punkte!$D$1=0,\"\",IF(Schueler21Punkte!$G6=\"\",\"f\",IF(Schueler21Punkte!$G6>1,\"f\",Schueler21Punkte!$G6)))","v":""},{"$f":"IF(Schueler22Punkte!$D$1=0,\"\",IF(Schueler22Punkte!$G6=\"\",\"f\",IF(Schueler22Punkte!$G6>1,\"f\",Schueler22Punkte!$G6)))","v":""},{"$f":"IF(Schueler23Punkte!$D$1=0,\"\",IF(Schueler23Punkte!$G6=\"\",\"f\",IF(Schueler23Punkte!$G6>1,\"f\",Schueler23Punkte!$G6)))","v":""},{"$f":"IF(Schueler24Punkte!$D$1=0,\"\",IF(Schueler24Punkte!$G6=\"\",\"f\",IF(Schueler24Punkte!$G6>1,\"f\",Schueler24Punkte!$G6)))","v":""},{"$f":"IF(Schueler25Punkte!$D$1=0,\"\",IF(Schueler25Punkte!$G6=\"\",\"f\",IF(Schueler25Punkte!$G6>1,\"f\",Schueler25Punkte!$G6)))","v":""},{"$f":"IF(Schueler26Punkte!$D$1=0,\"\",IF(Schueler26Punkte!$G6=\"\",\"f\",IF(Schueler26Punkte!$G6>1,\"f\",Schueler26Punkte!$G6)))","v":""},{"$f":"IF(Schueler27Punkte!$D$1=0,\"\",IF(Schueler27Punkte!$G6=\"\",\"f\",IF(Schueler27Punkte!$G6>1,\"f\",Schueler27Punkte!$G6)))","v":""},{"$f":"IF(Schueler28Punkte!$D$1=0,\"\",IF(Schueler28Punkte!$G6=\"\",\"f\",IF(Schueler28Punkte!$G6>1,\"f\",Schueler28Punkte!$G6)))","v":""},{"$f":"IF(Schueler29Punkte!$D$1=0,\"\",IF(Schueler29Punkte!$G6=\"\",\"f\",IF(Schueler29Punkte!$G6>1,\"f\",Schueler29Punkte!$G6)))","v":""},{"$f":"IF(Schueler30Punkte!$D$1=0,\"\",IF(Schueler30Punkte!$G6=\"\",\"f\",IF(Schueler30Punkte!$G6>1,\"f\",Schueler30Punkte!$G6)))","v":""},{"$f":"COUNTIF(G10:AJ10,1)/(COUNTIF(G10:AJ10,1)+COUNTIF(G10:AJ10,0))","v":{"$error":"#DIV/0!"}}]
[]
[4,"SE4",null,null,null,1,{"$f":"IF(Schueler1Punkte!$D$1=0,\"\",IF(Schueler1Punkte!$G8=\"\",\"f\",IF(Schueler1Punkte!$G8>1,\"f\",Schueler1Punkte!$G8)))","v":""},{"$f":"IF(Schueler2Punkte!$D$1=0,\"\",IF(Schueler2Punkte!$G8=\"\",\"f\",IF(Schueler2Punkte!$G8>1,\"f\",Schueler2Punkte!$G8)))","v":""},{"$f":"IF(Schueler3Punkte!$D$1=0,\"\",IF(Schueler3Punkte!$G8=\"\",\"f\",IF(Schueler3Punkte!$G8>1,\"f\",Schueler3Punkte!$G8)))","v":""},{"$f":"IF(Schueler4Punkte!$D$1=0,\"\",IF(Schueler4Punkte!$G8=\"\",\"f\",IF(Schueler4Punkte!$G8>1,\"f\",Schueler4Punkte!$G8)))","v":""},{"$f":"IF(Schueler5Punkte!$D$1=0,\"\",IF(Schueler5Punkte!$G8=\"\",\"f\",IF(Schueler5Punkte!$G8>1,\"f\",Schueler5Punkte!$G8)))","v":""},{"$f":"IF(Schueler6Punkte!$D$1=0,\"\",IF(Schueler6Punkte!$G8=\"\",\"f\",IF(Schueler6Punkte!$G8>1,\"f\",Schueler6Punkte!$G8)))","v":""},{"$f":"IF(Schueler7Punkte!$D$1=0,\"\",IF(Schueler7Punkte!$G8=\"\",\"f\",IF(Schueler7Punkte!$G8>1,\"f\",Schueler7Punkte!$G8)))","v":""},{"$f":"IF(Schueler8Punkte!$D$1=0,\"\",IF(Schueler8Punkte!$G8=\"\",\"f\",IF(Schueler8Punkte!$G8>1,\"f\",Schueler8Punkte!$G8)))","v":""},{"$f":"IF(Schueler9Punkte!$D$1=0,\"\",IF(Schueler9Punkte!$G8=\"\",\"f\",IF(Schueler9Punkte!$G8>1,\"f\",Schueler9Punkte!$G8)))","v":""},{"$f":"IF(Schueler10Punkte!$D$1=0,\"\",IF(Schueler10Punkte!$G8=\"\",\"f\",IF(Schueler10Punkte!$G8>1,\"f\",Schueler10Punkte!$G8)))","v":""},{"$f":"IF(Schueler11Punkte!$D$1=0,\"\",IF(Schueler11Punkte!$G8=\"\",\"f\",IF(Schueler11Punkte!$G8>1,\"f\",Schueler11Punkte!$G8)))","v":""},{"$f":"IF(Schueler12Punkte!$D$1=0,\"\",IF(Schueler12Punkte!$G8=\"\",\"f\",IF(Schueler12Punkte!$G8>1,\"f\",Schueler12Punkte!$G8)))","v":""},{"$f":"IF(Schueler13Punkte!$D$1=0,\"\",IF(Schueler13Punkte!$G8=\"\",\"f\",IF(Schueler13Punkte!$G8>1,\"f\",Schueler13Punkte!$G8)))","v":""},{"$f":"IF(Schueler14Punkte!$D$1=0,\"\",IF(Schueler14Punkte!$G8=\"\",\"f\",IF(Schueler14Punkte!$G8>1,\"f\",Schueler14Punkte!$G8)))","v":""},{"$f":"IF(Schueler15Punkte!$D$1=0,\"\",IF(Schueler15Punkte!$G8=\"\",\"f\",IF(Schueler15Punkte!$G8>1,\"f\",Schueler15Punkte!$G8)))","v":""},{"$f":"IF(Schueler16Punkte!$D$1=0,\"\",IF(Schueler16Punkte!$G8=\"\",\"f\",IF(Schueler16Punkte!$G8>1,\"f\",Schueler16Punkte!$G8)))","v":""},{"$f":"IF(Schueler17Punkte!$D$1=0,\"\",IF(Schueler17Punkte!$G8=\"\",\"f\",IF(Schueler17Punkte!$G8>1,\"f\",Schueler17Punkte!$G8)))","v":""},{"$f":"IF(Schueler18Punkte!$D$1=0,\"\",IF(Schueler18Punkte!$G8=\"\",\"f\",IF(Schueler18Punkte!$G8>1,\"f\",Schueler18Punkte!$G8)))","v":""},{"$f":"IF(Schueler19Punkte!$D$1=0,\"\",IF(Schueler19Punkte!$G8=\"\",\"f\",IF(Schueler19Punkte!$G8>1,\"f\",Schueler19Punkte!$G8)))","v":""},{"$f":"IF(Schueler20Punkte!$D$1=0,\"\",IF(Schueler20Punkte!$G8=\"\",\"f\",IF(Schueler20Punkte!$G8>1,\"f\",Schueler20Punkte!$G8)))","v":""},{"$f":"IF(Schueler21Punkte!$D$1=0,\"\",IF(Schueler21Punkte!$G8=\"\",\"f\",IF(Schueler21Punkte!$G8>1,\"f\",Schueler21Punkte!$G8)))","v":""},{"$f":"IF(Schueler22Punkte!$D$1=0,\"\",IF(Schueler22Punkte!$G8=\"\",\"f\",IF(Schueler22Punkte!$G8>1,\"f\",Schueler22Punkte!$G8)))","v":""},{"$f":"IF(Schueler23Punkte!$D$1=0,\"\",IF(Schueler23Punkte!$G8=\"\",\"f\",IF(Schueler23Punkte!$G8>1,\"f\",Schueler23Punkte!$G8)))","v":""},{"$f":"IF(Schueler24Punkte!$D$1=0,\"\",IF(Schueler24Punkte!$G8=\"\",\"f\",IF(Schueler24Punkte!$G8>1,\"f\",Schueler24Punkte!$G8)))","v":""},{"$f":"IF(Schueler25Punkte!$D$1=0,\"\",IF(Schueler25Punkte!$G8=\"\",\"f\",IF(Schueler25Punkte!$G8>1,\"f\",Schueler25Punkte!$G8)))","v":""},{"$f":"IF(Schueler26Punkte!$D$1=0,\"\",IF(Schueler26Punkte!$G8=\"\",\"f\",IF(Schueler26Punkte!$G8>1,\"f\",Schueler26Punkte!$G8)))","v":""},{"$f":"IF(Schueler27Punkte!$D$1=0,\"\",IF(Schueler27Punkte!$G8=\"\",\"f\",IF(Schueler27Punkte!$G8>1,\"f\",Schueler27Punkte!$G8)))","v":""},{"$f":"IF(Schueler28Punkte!$D$1=0,\"\",IF(Schueler28Punkte!$G8=\"\",\"f\",IF(Schueler28Punkte!$G8>1,\"f\",Schueler28Punkte!$G8)))","v":""},{"$f":"IF(Schueler29Punkte!$D$1=0,\"\",IF(Schueler29Punkte!$G8=\"\",\"f\",IF(Schueler29Punkte!$G8>1,\"f\",Schueler29Punkte!$G8)))","v":""},{"$f":"IF(Schueler30Punkte!$D$1=0,\"\",IF(Schueler30Punkte!$G8=\"\",\"f\",IF(Schueler30Punkte!$G8>1,\"f\",Schueler30Punkte!$G8)))","v":""},{"$f":"COUNTIF(G12:AJ12,1)/(COUNTIF(G12:AJ12,1)+COUNTIF(G12:AJ12,0))","v":{"$error":"#DIV/0!"}}]
[]
[5,"SE5",null,null,null,1,{"$f":"IF(Schueler1Punkte!$D$1=0,\"\",IF(Schueler1Punkte!$G10=\"\",\"f\",IF(Schueler1Punkte!$G10>1,\"f\",Schueler1Punkte!$G10)))","v":""},{"$f":"IF(Schueler2Punkte!$D$1=0,\"\",IF(Schueler2Punkte!$G10=\"\",\"f\",IF(Schueler2Punkte!$G10>1,\"f\",Schueler2Punkte!$G10)))","v":""},{"$f":"IF(Schueler3Punkte!$D$1=0,\"\",IF(Schueler3Punkte!$G10=\"\",\"f\",IF(Schueler3Punkte!$G10>1,\"f\",Schueler3Punkte!$G10)))","v":""},{"$f":"IF(Schueler4Punkte!$D$1=0,\"\",IF(Schueler4Punkte!$G10=\"\",\"f\",IF(Schueler4Punkte!$G10>1,\"f\",Schueler4Punkte!$G10)))","v":""},{"$f":"IF(Schueler5Punkte!$D$1=0,\"\",IF(Schueler5Punkte!$G10=\"\",\"f\",IF(Schueler5Punkte!$G10>1,\"f\",Schueler5Punkte!$G10)))","v":""},{"$f":"IF(Schueler6Punkte!$D$1=0,\"\",IF(Schueler6Punkte!$G10=\"\",\"f\",IF(Schueler6Punkte!$G10>1,\"f\",Schueler6Punkte!$G10)))","v":""},{"$f":"IF(Schueler7Punkte!$D$1=0,\"\",IF(Schueler7Punkte!$G10=\"\",\"f\",IF(Schueler7Punkte!$G10>1,\"f\",Schueler7Punkte!$G10)))","v":""},{"$f":"IF(Schueler8Punkte!$D$1=0,\"\",IF(Schueler8Punkte!$G10=\"\",\"f\",IF(Schueler8Punkte!$G10>1,\"f\",Schueler8Punkte!$G10)))","v":""},{"$f":"IF(Schueler9Punkte!$D$1=0,\"\",IF(Schueler9Punkte!$G10=\"\",\"f\",IF(Schueler9Punkte!$G10>1,\"f\",Schueler9Punkte!$G10)))","v":""},{"$f":"IF(Schueler10Punkte!$D$1=0,\"\",IF(Schueler10Punkte!$G10=\"\",\"f\",IF(Schueler10Punkte!$G10>1,\"f\",Schueler10Punkte!$G10)))","v":""},{"$f":"IF(Schueler11Punkte!$D$1=0,\"\",IF(Schueler11Punkte!$G10=\"\",\"f\",IF(Schueler11Punkte!$G10>1,\"f\",Schueler11Punkte!$G10)))","v":""},{"$f":"IF(Schueler12Punkte!$D$1=0,\"\",IF(Schueler12Punkte!$G10=\"\",\"f\",IF(Schueler12Punkte!$G10>1,\"f\",Schueler12Punkte!$G10)))","v":""},{"$f":"IF(Schueler13Punkte!$D$1=0,\"\",IF(Schueler13Punkte!$G10=\"\",\"f\",IF(Schueler13Punkte!$G10>1,\"f\",Schueler13Punkte!$G10)))","v":""},{"$f":"IF(Schueler14Punkte!$D$1=0,\"\",IF(Schueler14Punkte!$G10=\"\",\"f\",IF(Schueler14Punkte!$G10>1,\"f\",Schueler14Punkte!$G10)))","v":""},{"$f":"IF(Schueler15Punkte!$D$1=0,\"\",IF(Schueler15Punkte!$G10=\"\",\"f\",IF(Schueler15Punkte!$G10>1,\"f\",Schueler15Punkte!$G10)))","v":""},{"$f":"IF(Schueler16Punkte!$D$1=0,\"\",IF(Schueler16Punkte!$G10=\"\",\"f\",IF(Schueler16Punkte!$G10>1,\"f\",Schueler16Punkte!$G10)))","v":""},{"$f":"IF(Schueler17Punkte!$D$1=0,\"\",IF(Schueler17Punkte!$G10=\"\",\"f\",IF(Schueler17Punkte!$G10>1,\"f\",Schueler17Punkte!$G10)))","v":""},{"$f":"IF(Schueler18Punkte!$D$1=0,\"\",IF(Schueler18Punkte!$G10=\"\",\"f\",IF(Schueler18Punkte!$G10>1,\"f\",Schueler18Punkte!$G10)))","v":""},{"$f":"IF(Schueler19Punkte!$D$1=0,\"\",IF(Schueler19Punkte!$G10=\"\",\"f\",IF(Schueler19Punkte!$G10>1,\"f\",Schueler19Punkte!$G10)))","v":""},{"$f":"IF(Schueler20Punkte!$D$1=0,\"\",IF(Schueler20Punkte!$G10=\"\",\"f\",IF(Schueler20Punkte!$G10>1,\"f\",Schueler20Punkte!$G10)))","v":""},{"$f":"IF(Schueler21Punkte!$D$1=0,\"\",IF(Schueler21Punkte!$G10=\"\",\"f\",IF(Schueler21Punkte!$G10>1,\"f\",Schueler21Punkte!$G10)))","v":""},{"$f":"IF(Schueler22Punkte!$D$1=0,\"\",IF(Schueler22Punkte!$G10=\"\",\"f\",IF(Schueler22Punkte!$G10>1,\"f\",Schueler22Punkte!$G10)))","v":""},{"$f":"IF(Schueler23Punkte!$D$1=0,\"\",IF(Schueler23Punkte!$G10=\"\",\"f\",IF(Schueler23Punkte!$G10>1,\"f\",Schueler23Punkte!$G10)))","v":""},{"$f":"IF(Schueler24Punkte!$D$1=0,\"\",IF(Schueler24Punkte!$G10=\"\",\"f\",IF(Schueler24Punkte!$G10>1,\"f\",Schueler24Punkte!$G10)))","v":""},{"$f":"IF(Schueler25Punkte!$D$1=0,\"\",IF(Schueler25Punkte!$G10=\"\",\"f\",IF(Schueler25Punkte!$G10>1,\"f\",Schueler25Punkte!$G10)))","v":""},{"$f":"IF(Schueler26Punkte!$D$1=0,\"\",IF(Schueler26Punkte!$G10=\"\",\"f\",IF(Schueler26Punkte!$G10>1,\"f\",Schueler26Punkte!$G10)))","v":""},{"$f":"IF(Schueler27Punkte!$D$1=0,\"\",IF(Schueler27Punkte!$G10=\"\",\"f\",IF(Schueler27Punkte!$G10>1,\"f\",Schueler27Punkte!$G10)))","v":""},{"$f":"IF(Schueler28Punkte!$D$1=0,\"\",IF(Schueler28Punkte!$G10=\"\",\"f\",IF(Schueler28Punkte!$G10>1,\"f\",Schueler28Punkte!$G10)))","v":""},{"$f":"IF(Schueler29Punkte!$D$1=0,\"\",IF(Schueler29Punkte!$G10=\"\",\"f\",IF(Schueler29Punkte!$G10>1,\"f\",Schueler29Punkte!$G10)))","v":""},{"$f":"IF(Schueler30Punkte!$D$1=0,\"\",IF(Schueler30Punkte!$G10=\"\",\"f\",IF(Schueler30Punkte!$G10>1,\"f\",Schueler30Punkte!$G10)))","v":""},{"$f":"COUNTIF(G14:AJ14,1)/(COUNTIF(G14:AJ14,1)+COUNTIF(G14:AJ14,0))","v":{"$error":"#DIV/0!"}}]
[]
[6,"SE6",null,null,null,1,{"$f":"IF(Schueler1Punkte!$D$1=0,\"\",IF(Schueler1Punkte!$G12=\"\",\"f\",IF(Schueler1Punkte!$G12>1,\"f\",Schueler1Punkte!$G12)))","v":""},{"$f":"IF(Schueler2Punkte!$D$1=0,\"\",IF(Schueler2Punkte!$G12=\"\",\"f\",IF(Schueler2Punkte!$G12>1,\"f\",Schueler2Punkte!$G12)))","v":""},{"$f":"IF(Schueler3Punkte!$D$1=0,\"\",IF(Schueler3Punkte!$G12=\"\",\"f\",IF(Schueler3Punkte!$G12>1,\"f\",Schueler3Punkte!$G12)))","v":""},{"$f":"IF(Schueler4Punkte!$D$1=0,\"\",IF(Schueler4Punkte!$G12=\"\",\"f\",IF(Schueler4Punkte!$G12>1,\"f\",Schueler4Punkte!$G12)))","v":""},{"$f":"IF(Schueler5Punkte!$D$1=0,\"\",IF(Schueler5Punkte!$G12=\"\",\"f\",IF(Schueler5Punkte!$G12>1,\"f\",Schueler5Punkte!$G12)))","v":""},{"$f":"IF(Schueler6Punkte!$D$1=0,\"\",IF(Schueler6Punkte!$G12=\"\",\"f\",IF(Schueler6Punkte!$G12>1,\"f\",Schueler6Punkte!$G12)))","v":""},{"$f":"IF(Schueler7Punkte!$D$1=0,\"\",IF(Schueler7Punkte!$G12=\"\",\"f\",IF(Schueler7Punkte!$G12>1,\"f\",Schueler7Punkte!$G12)))","v":""},{"$f":"IF(Schueler8Punkte!$D$1=0,\"\",IF(Schueler8Punkte!$G12=\"\",\"f\",IF(Schueler8Punkte!$G12>1,\"f\",Schueler8Punkte!$G12)))","v":""},{"$f":"IF(Schueler9Punkte!$D$1=0,\"\",IF(Schueler9Punkte!$G12=\"\",\"f\",IF(Schueler9Punkte!$G12>1,\"f\",Schueler9Punkte!$G12)))","v":""},{"$f":"IF(Schueler10Punkte!$D$1=0,\"\",IF(Schueler10Punkte!$G12=\"\",\"f\",IF(Schueler10Punkte!$G12>1,\"f\",Schueler10Punkte!$G12)))","v":""},{"$f":"IF(Schueler11Punkte!$D$1=0,\"\",IF(Schueler11Punkte!$G12=\"\",\"f\",IF(Schueler11Punkte!$G12>1,\"f\",Schueler11Punkte!$G12)))","v":""},{"$f":"IF(Schueler12Punkte!$D$1=0,\"\",IF(Schueler12Punkte!$G12=\"\",\"f\",IF(Schueler12Punkte!$G12>1,\"f\",Schueler12Punkte!$G12)))","v":""},{"$f":"IF(Schueler13Punkte!$D$1=0,\"\",IF(Schueler13Punkte!$G12=\"\",\"f\",IF(Schueler13Punkte!$G12>1,\"f\",Schueler13Punkte!$G12)))","v":""},{"$f":"IF(Schueler14Punkte!$D$1=0,\"\",IF(Schueler14Punkte!$G12=\"\",\"f\",IF(Schueler14Punkte!$G12>1,\"f\",Schueler14Punkte!$G12)))","v":""},{"$f":"IF(Schueler15Punkte!$D$1=0,\"\",IF(Schueler15Punkte!$G12=\"\",\"f\",IF(Schueler15Punkte!$G12>1,\"f\",Schueler15Punkte!$G12)))","v":""},{"$f":"IF(Schueler16Punkte!$D$1=0,\"\",IF(Schueler16Punkte!$G12=\"\",\"f\",IF(Schueler16Punkte!$G12>1,\"f\",Schueler16Punkte!$G12)))","v":""},{"$f":"IF(Schueler17Punkte!$D$1=0,\"\",IF(Schueler17Punkte!$G12=\"\",\"f\",IF(Schueler17Punkte!$G12>1,\"f\",Schueler17Punkte!$G12)))","v":""},{"$f":"IF(Schueler18Punkte!$D$1=0,\"\",IF(Schueler18Punkte!$G12=\"\",\"f\",IF(Schueler18Punkte!$G12>1,\"f\",Schueler18Punkte!$G12)))","v":""},{"$f":"IF(Schueler19Punkte!$D$1=0,\"\",IF(Schueler19Punkte!$G12=\"\",\"f\",IF(Schueler19Punkte!$G12>1,\"f\",Schueler19Punkte!$G12)))","v":""},{"$f":"IF(Schueler20Punkte!$D$1=0,\"\",IF(Schueler20Punkte!$G12=\"\",\"f\",IF(Schueler20Punkte!$G12>1,\"f\",Schueler20Punkte!$G12)))","v":""},{"$f":"IF(Schueler21Punkte!$D$1=0,\"\",IF(Schueler21Punkte!$G12=\"\",\"f\",IF(Schueler21Punkte!$G12>1,\"f\",Schueler21Punkte!$G12)))","v":""},{"$f":"IF(Schueler22Punkte!$D$1=0,\"\",IF(Schueler22Punkte!$G12=\"\",\"f\",IF(Schueler22Punkte!$G12>1,\"f\",Schueler22Punkte!$G12)))","v":""},{"$f":"IF(Schueler23Punkte!$D$1=0,\"\",IF(Schueler23Punkte!$G12=\"\",\"f\",IF(Schueler23Punkte!$G12>1,\"f\",Schueler23Punkte!$G12)))","v":""},{"$f":"IF(Schueler24Punkte!$D$1=0,\"\",IF(Schueler24Punkte!$G12=\"\",\"f\",IF(Schueler24Punkte!$G12>1,\"f\",Schueler24Punkte!$G12)))","v":""},{"$f":"IF(Schueler25Punkte!$D$1=0,\"\",IF(Schueler25Punkte!$G12=\"\",\"f\",IF(Schueler25Punkte!$G12>1,\"f\",Schueler25Punkte!$G12)))","v":""},{"$f":"IF(Schueler26Punkte!$D$1=0,\"\",IF(Schueler26Punkte!$G12=\"\",\"f\",IF(Schueler26Punkte!$G12>1,\"f\",Schueler26Punkte!$G12)))","v":""},{"$f":"IF(Schueler27Punkte!$D$1=0,\"\",IF(Schueler27Punkte!$G12=\"\",\"f\",IF(Schueler27Punkte!$G12>1,\"f\",Schueler27Punkte!$G12)))","v":""},{"$f":"IF(Schueler28Punkte!$D$1=0,\"\",IF(Schueler28Punkte!$G12=\"\",\"f\",IF(Schueler28Punkte!$G12>1,\"f\",Schueler28Punkte!$G12)))","v":""},{"$f":"IF(Schueler29Punkte!$D$1=0,\"\",IF(Schueler29Punkte!$G12=\"\",\"f\",IF(Schueler29Punkte!$G12>1,\"f\",Schueler29Punkte!$G12)))","v":""},{"$f":"IF(Schueler30Punkte!$D$1=0,\"\",IF(Schueler30Punkte!$G12=\"\",\"f\",IF(Schueler30Punkte!$G12>1,\"f\",Schueler30Punkte!$G12)))","v":""},{"$f":"COUNTIF(G16:AJ16,1)/(COUNTIF(G16:AJ16,1)+COUNTIF(G16:AJ16,0))","v":{"$error":"#DIV/0!"}}]
[]
[7,"SE7",null,null,null,1,{"$f":"IF(Schueler1Punkte!$D$1=0,\"\",IF(Schueler1Punkte!$G14=\"\",\"f\",IF(Schueler1Punkte!$G14>1,\"f\",Schueler1Punkte!$G14)))","v":""},{"$f":"IF(Schueler2Punkte!$D$1=0,\"\",IF(Schueler2Punkte!$G14=\"\",\"f\",IF(Schueler2Punkte!$G14>1,\"f\",Schueler2Punkte!$G14)))","v":""},{"$f":"IF(Schueler3Punkte!$D$1=0,\"\",IF(Schueler3Punkte!$G14=\"\",\"f\",IF(Schueler3Punkte!$G14>1,\"f\",Schueler3Punkte!$G14)))","v":""},{"$f":"IF(Schueler4Punkte!$D$1=0,\"\",IF(Schueler4Punkte!$G14=\"\",\"f\",IF(Schueler4Punkte!$G14>1,\"f\",Schueler4Punkte!$G14)))","v":""},{"$f":"IF(Schueler5Punkte!$D$1=0,\"\",IF(Schueler5Punkte!$G14=\"\",\"f\",IF(Schueler5Punkte!$G14>1,\"f\",Schueler5Punkte!$G14)))","v":""},{"$f":"IF(Schueler6Punkte!$D$1=0,\"\",IF(Schueler6Punkte!$G14=\"\",\"f\",IF(Schueler6Punkte!$G14>1,\"f\",Schueler6Punkte!$G14)))","v":""},{"$f":"IF(Schueler7Punkte!$D$1=0,\"\",IF(Schueler7Punkte!$G14=\"\",\"f\",IF(Schueler7Punkte!$G14>1,\"f\",Schueler7Punkte!$G14)))","v":""},{"$f":"IF(Schueler8Punkte!$D$1=0,\"\",IF(Schueler8Punkte!$G14=\"\",\"f\",IF(Schueler8Punkte!$G14>1,\"f\",Schueler8Punkte!$G14)))","v":""},{"$f":"IF(Schueler9Punkte!$D$1=0,\"\",IF(Schueler9Punkte!$G14=\"\",\"f\",IF(Schueler9Punkte!$G14>1,\"f\",Schueler9Punkte!$G14)))","v":""},{"$f":"IF(Schueler10Punkte!$D$1=0,\"\",IF(Schueler10Punkte!$G14=\"\",\"f\",IF(Schueler10Punkte!$G14>1,\"f\",Schueler10Punkte!$G14)))","v":""},{"$f":"IF(Schueler11Punkte!$D$1=0,\"\",IF(Schueler11Punkte!$G14=\"\",\"f\",IF(Schueler11Punkte!$G14>1,\"f\",Schueler11Punkte!$G14)))","v":""},{"$f":"IF(Schueler12Punkte!$D$1=0,\"\",IF(Schueler12Punkte!$G14=\"\",\"f\",IF(Schueler12Punkte!$G14>1,\"f\",Schueler12Punkte!$G14)))","v":""},{"$f":"IF(Schueler13Punkte!$D$1=0,\"\",IF(Schueler13Punkte!$G14=\"\",\"f\",IF(Schueler13Punkte!$G14>1,\"f\",Schueler13Punkte!$G14)))","v":""},{"$f":"IF(Schueler14Punkte!$D$1=0,\"\",IF(Schueler14Punkte!$G14=\"\",\"f\",IF(Schueler14Punkte!$G14>1,\"f\",Schueler14Punkte!$G14)))","v":""},{"$f":"IF(Schueler15Punkte!$D$1=0,\"\",IF(Schueler15Punkte!$G14=\"\",\"f\",IF(Schueler15Punkte!$G14>1,\"f\",Schueler15Punkte!$G14)))","v":""},{"$f":"IF(Schueler16Punkte!$D$1=0,\"\",IF(Schueler16Punkte!$G14=\"\",\"f\",IF(Schueler16Punkte!$G14>1,\"f\",Schueler16Punkte!$G14)))","v":""},{"$f":"IF(Schueler17Punkte!$D$1=0,\"\",IF(Schueler17Punkte!$G14=\"\",\"f\",IF(Schueler17Punkte!$G14>1,\"f\",Schueler17Punkte!$G14)))","v":""},{"$f":"IF(Schueler18Punkte!$D$1=0,\"\",IF(Schueler18Punkte!$G14=\"\",\"f\",IF(Schueler18Punkte!$G14>1,\"f\",Schueler18Punkte!$G14)))","v":""},{"$f":"IF(Schueler19Punkte!$D$1=0,\"\",IF(Schueler19Punkte!$G14=\"\",\"f\",IF(Schueler19Punkte!$G14>1,\"f\",Schueler19Punkte!$G14)))","v":""},{"$f":"IF(Schueler20Punkte!$D$1=0,\"\",IF(Schueler20Punkte!$G14=\"\",\"f\",IF(Schueler20Punkte!$G14>1,\"f\",Schueler20Punkte!$G14)))","v":""},{"$f":"IF(Schueler21Punkte!$D$1=0,\"\",IF(Schueler21Punkte!$G14=\"\",\"f\",IF(Schueler21Punkte!$G14>1,\"f\",Schueler21Punkte!$G14)))","v":""},{"$f":"IF(Schueler22Punkte!$D$1=0,\"\",IF(Schueler22Punkte!$G14=\"\",\"f\",IF(Schueler22Punkte!$G14>1,\"f\",Schueler22Punkte!$G14)))","v":""},{"$f":"IF(Schueler23Punkte!$D$1=0,\"\",IF(Schueler23Punkte!$G14=\"\",\"f\",IF(Schueler23Punkte!$G14>1,\"f\",Schueler23Punkte!$G14)))","v":""},{"$f":"IF(Schueler24Punkte!$D$1=0,\"\",IF(Schueler24Punkte!$G14=\"\",\"f\",IF(Schueler24Punkte!$G14>1,\"f\",Schueler24Punkte!$G14)))","v":""},{"$f":"IF(Schueler25Punkte!$D$1=0,\"\",IF(Schueler25Punkte!$G14=\"\",\"f\",IF(Schueler25Punkte!$G14>1,\"f\",Schueler25Punkte!$G14)))","v":""},{"$f":"IF(Schueler26Punkte!$D$1=0,\"\",IF(Schueler26Punkte!$G14=\"\",\"f\",IF(Schueler26Punkte!$G14>1,\"f\",Schueler26Punkte!$G14)))","v":""},{"$f":"IF(Schueler27Punkte!$D$1=0,\"\",IF(Schueler27Punkte!$G14=\"\",\"f\",IF(Schueler27Punkte!$G14>1,\"f\",Schueler27Punkte!$G14)))","v":""},{"$f":"IF(Schueler28Punkte!$D$1=0,\"\",IF(Schueler28Punkte!$G14=\"\",\"f\",IF(Schueler28Punkte!$G14>1,\"f\",Schueler28Punkte!$G14)))","v":""},{"$f":"IF(Schueler29Punkte!$D$1=0,\"\",IF(Schueler29Punkte!$G14=\"\",\"f\",IF(Schueler29Punkte!$G14>1,\"f\",Schueler29Punkte!$G14)))","v":""},{"$f":"IF(Schueler30Punkte!$D$1=0,\"\",IF(Schueler30Punkte!$G14=\"\",\"f\",IF(Schueler30Punkte!$G14>1,\"f\",Schueler30Punkte!$G14)))","v":""},{"$f":"COUNTIF(G18:AJ18,1)/(COUNTIF(G18:AJ18,1)+COUNTIF(G18:AJ18,0))","v":{"$error":"#DIV/0!"}}]
[]
[8,"SE8",null,null,null,1,{"$f":"IF(Schueler1Punkte!$D$1=0,\"\",IF(Schueler1Punkte!$G16=\"\",\"f\",IF(Schueler1Punkte!$G16>1,\"f\",Schueler1Punkte!$G16)))","v":""},{"$f":"IF(Schueler2Punkte!$D$1=0,\"\",IF(Schueler2Punkte!$G16=\"\",\"f\",IF(Schueler2Punkte!$G16>1,\"f\",Schueler2Punkte!$G16)))","v":""},{"$f":"IF(Schueler3Punkte!$D$1=0,\"\",IF(Schueler3Punkte!$G16=\"\",\"f\",IF(Schueler3Punkte!$G16>1,\"f\",Schueler3Punkte!$G16)))","v":""},{"$f":"IF(Schueler4Punkte!$D$1=0,\"\",IF(Schueler4Punkte!$G16=\"\",\"f\",IF(Schueler4Punkte!$G16>1,\"f\",Schueler4Punkte!$G16)))","v":""},{"$f":"IF(Schueler5Punkte!$D$1=0,\"\",IF(Schueler5Punkte!$G16=\"\",\"f\",IF(Schueler5Punkte!$G16>1,\"f\",Schueler5Punkte!$G16)))","v":""},{"$f":"IF(Schueler6Punkte!$D$1=0,\"\",IF(Schueler6Punkte!$G16=\"\",\"f\",IF(Schueler6Punkte!$G16>1,\"f\",Schueler6Punkte!$G16)))","v":""},{"$f":"IF(Schueler7Punkte!$D$1=0,\"\",IF(Schueler7Punkte!$G16=\"\",\"f\",IF(Schueler7Punkte!$G16>1,\"f\",Schueler7Punkte!$G16)))","v":""},{"$f":"IF(Schueler8Punkte!$D$1=0,\"\",IF(Schueler8Punkte!$G16=\"\",\"f\",IF(Schueler8Punkte!$G16>1,\"f\",Schueler8Punkte!$G16)))","v":""},{"$f":"IF(Schueler9Punkte!$D$1=0,\"\",IF(Schueler9Punkte!$G16=\"\",\"f\",IF(Schueler9Punkte!$G16>1,\"f\",Schueler9Punkte!$G16)))","v":""},{"$f":"IF(Schueler10Punkte!$D$1=0,\"\",IF(Schueler10Punkte!$G16=\"\",\"f\",IF(Schueler10Punkte!$G16>1,\"f\",Schueler10Punkte!$G16)))","v":""},{"$f":"IF(Schueler11Punkte!$D$1=0,\"\",IF(Schueler11Punkte!$G16=\"\",\"f\",IF(Schueler11Punkte!$G16>1,\"f\",Schueler11Punkte!$G16)))","v":""},{"$f":"IF(Schueler12Punkte!$D$1=0,\"\",IF(Schueler12Punkte!$G16=\"\",\"f\",IF(Schueler12Punkte!$G16>1,\"f\",Schueler12Punkte!$G16)))","v":""},{"$f":"IF(Schueler13Punkte!$D$1=0,\"\",IF(Schueler13Punkte!$G16=\"\",\"f\",IF(Schueler13Punkte!$G16>1,\"f\",Schueler13Punkte!$G16)))","v":""},{"$f":"IF(Schueler14Punkte!$D$1=0,\"\",IF(Schueler14Punkte!$G16=\"\",\"f\",IF(Schueler14Punkte!$G16>1,\"f\",Schueler14Punkte!$G16)))","v":""},{"$f":"IF(Schueler15Punkte!$D$1=0,\"\",IF(Schueler15Punkte!$G16=\"\",\"f\",IF(Schueler15Punkte!$G16>1,\"f\",Schueler15Punkte!$G16)))","v":""},{"$f":"IF(Schueler16Punkte!$D$1=0,\"\",IF(Schueler16Punkte!$G16=\"\",\"f\",IF(Schueler16Punkte!$G16>1,\"f\",Schueler16Punkte!$G16)))","v":""},{"$f":"IF(Schueler17Punkte!$D$1=0,\"\",IF(Schueler17Punkte!$G16=\"\",\"f\",IF(Schueler17Punkte!$G16>1,\"f\",Schueler17Punkte!$G16)))","v":""},{"$f":"IF(Schueler18Punkte!$D$1=0,\"\",IF(Schueler18Punkte!$G16=\"\",\"f\",IF(Schueler18Punkte!$G16>1,\"f\",Schueler18Punkte!$G16)))","v":""},{"$f":"IF(Schueler19Punkte!$D$1=0,\"\",IF(Schueler19Punkte!$G16=\"\",\"f\",IF(Schueler19Punkte!$G16>1,\"f\",Schueler19Punkte!$G16)))","v":""},{"$f":"IF(Schueler20Punkte!$D$1=0,\"\",IF(Schueler20Punkte!$G16=\"\",\"f\",IF(Schueler20Punkte!$G16>1,\"f\",Schueler20Punkte!$G16)))","v":""},{"$f":"IF(Schueler21Punkte!$D$1=0,\"\",IF(Schueler21Punkte!$G16=\"\",\"f\",IF(Schueler21Punkte!$G16>1,\"f\",Schueler21Punkte!$G16)))","v":""},{"$f":"IF(Schueler22Punkte!$D$1=0,\"\",IF(Schueler22Punkte!$G16=\"\",\"f\",IF(Schueler22Punkte!$G16>1,\"f\",Schueler22Punkte!$G16)))","v":""},{"$f":"IF(Schueler23Punkte!$D$1=0,\"\",IF(Schueler23Punkte!$G16=\"\",\"f\",IF(Schueler23Punkte!$G16>1,\"f\",Schueler23Punkte!$G16)))","v":""},{"$f":"IF(Schueler24Punkte!$D$1=0,\"\",IF(Schueler24Punkte!$G16=\"\",\"f\",IF(Schueler24Punkte!$G16>1,\"f\",Schueler24Punkte!$G16)))","v":""},{"$f":"IF(Schueler25Punkte!$D$1=0,\"\",IF(Schueler25Punkte!$G16=\"\",\"f\",IF(Schueler25Punkte!$G16>1,\"f\",Schueler25Punkte!$G16)))","v":""},{"$f":"IF(Schueler26Punkte!$D$1=0,\"\",IF(Schueler26Punkte!$G16=\"\",\"f\",IF(Schueler26Punkte!$G16>1,\"f\",Schueler26Punkte!$G16)))","v":""},{"$f":"IF(Schueler27Punkte!$D$1=0,\"\",IF(Schueler27Punkte!$G16=\"\",\"f\",IF(Schueler27Punkte!$G16>1,\"f\",Schueler27Punkte!$G16)))","v":""},{"$f":"IF(Schueler28Punkte!$D$1=0,\"\",IF(Schueler28Punkte!$G16=\"\",\"f\",IF(Schueler28Punkte!$G16>1,\"f\",Schueler28Punkte!$G16)))","v":""},{"$f":"IF(Schueler29Punkte!$D$1=0,\"\",IF(Schueler29Punkte!$G16=\"\",\"f\",IF(Schueler29Punkte!$G16>1,\"f\",Schueler29Punkte!$G16)))","v":""},{"$f":"IF(Schueler30Punkte!$D$1=0,\"\",IF(Schueler30Punkte!$G16=\"\",\"f\",IF(Schueler30Punkte!$G16>1,\"f\",Schueler30Punkte!$G16)))","v":""},{"$f":"COUNTIF(G20:AJ20,1)/(COUNTIF(G20:AJ20,1)+COUNTIF(G20:AJ20,0))","v":{"$error":"#DIV/0!"}}]
[]
[9,"SE9",null,null,null,1,{"$f":"IF(Schueler1Punkte!$D$1=0,\"\",IF(Schueler1Punkte!$G18=\"\",\"f\",IF(Schueler1Punkte!$G18>1,\"f\",Schueler1Punkte!$G18)))","v":""},{"$f":"IF(Schueler2Punkte!$D$1=0,\"\",IF(Schueler2Punkte!$G18=\"\",\"f\",IF(Schueler2Punkte!$G18>1,\"f\",Schueler2Punkte!$G18)))","v":""},{"$f":"IF(Schueler3Punkte!$D$1=0,\"\",IF(Schueler3Punkte!$G18=\"\",\"f\",IF(Schueler3Punkte!$G18>1,\"f\",Schueler3Punkte!$G18)))","v":""},{"$f":"IF(Schueler4Punkte!$D$1=0,\"\",IF(Schueler4Punkte!$G18=\"\",\"f\",IF(Schueler4Punkte!$G18>1,\"f\",Schueler4Punkte!$G18)))","v":""},{"$f":"IF(Schueler5Punkte!$D$1=0,\"\",IF(Schueler5Punkte!$G18=\"\",\"f\",IF(Schueler5Punkte!$G18>1,\"f\",Schueler5Punkte!$G18)))","v":""},{"$f":"IF(Schueler6Punkte!$D$1=0,\"\",IF(Schueler6Punkte!$G18=\"\",\"f\",IF(Schueler6Punkte!$G18>1,\"f\",Schueler6Punkte!$G18)))","v":""},{"$f":"IF(Schueler7Punkte!$D$1=0,\"\",IF(Schueler7Punkte!$G18=\"\",\"f\",IF(Schueler7Punkte!$G18>1,\"f\",Schueler7Punkte!$G18)))","v":""},{"$f":"IF(Schueler8Punkte!$D$1=0,\"\",IF(Schueler8Punkte!$G18=\"\",\"f\",IF(Schueler8Punkte!$G18>1,\"f\",Schueler8Punkte!$G18)))","v":""},{"$f":"IF(Schueler9Punkte!$D$1=0,\"\",IF(Schueler9Punkte!$G18=\"\",\"f\",IF(Schueler9Punkte!$G18>1,\"f\",Schueler9Punkte!$G18)))","v":""},{"$f":"IF(Schueler10Punkte!$D$1=0,\"\",IF(Schueler10Punkte!$G18=\"\",\"f\",IF(Schueler10Punkte!$G18>1,\"f\",Schueler10Punkte!$G18)))","v":""},{"$f":"IF(Schueler11Punkte!$D$1=0,\"\",IF(Schueler11Punkte!$G18=\"\",\"f\",IF(Schueler11Punkte!$G18>1,\"f\",Schueler11Punkte!$G18)))","v":""},{"$f":"IF(Schueler12Punkte!$D$1=0,\"\",IF(Schueler12Punkte!$G18=\"\",\"f\",IF(Schueler12Punkte!$G18>1,\"f\",Schueler12Punkte!$G18)))","v":""},{"$f":"IF(Schueler13Punkte!$D$1=0,\"\",IF(Schueler13Punkte!$G18=\"\",\"f\",IF(Schueler13Punkte!$G18>1,\"f\",Schueler13Punkte!$G18)))","v":""},{"$f":"IF(Schueler14Punkte!$D$1=0,\"\",IF(Schueler14Punkte!$G18=\"\",\"f\",IF(Schueler14Punkte!$G18>1,\"f\",Schueler14Punkte!$G18)))","v":""},{"$f":"IF(Schueler15Punkte!$D$1=0,\"\",IF(Schueler15Punkte!$G18=\"\",\"f\",IF(Schueler15Punkte!$G18>1,\"f\",Schueler15Punkte!$G18)))","v":""},{"$f":"IF(Schueler16Punkte!$D$1=0,\"\",IF(Schueler16Punkte!$G18=\"\",\"f\",IF(Schueler16Punkte!$G18>1,\"f\",Schueler16Punkte!$G18)))","v":""},{"$f":"IF(Schueler17Punkte!$D$1=0,\"\",IF(Schueler17Punkte!$G18=\"\",\"f\",IF(Schueler17Punkte!$G18>1,\"f\",Schueler17Punkte!$G18)))","v":""},{"$f":"IF(Schueler18Punkte!$D$1=0,\"\",IF(Schueler18Punkte!$G18=\"\",\"f\",IF(Schueler18Punkte!$G18>1,\"f\",Schueler18Punkte!$G18)))","v":""},{"$f":"IF(Schueler19Punkte!$D$1=0,\"\",IF(Schueler19Punkte!$G18=\"\",\"f\",IF(Schueler19Punkte!$G18>1,\"f\",Schueler19Punkte!$G18)))","v":""},{"$f":"IF(Schueler20Punkte!$D$1=0,\"\",IF(Schueler20Punkte!$G18=\"\",\"f\",IF(Schueler20Punkte!$G18>1,\"f\",Schueler20Punkte!$G18)))","v":""},{"$f":"IF(Schueler21Punkte!$D$1=0,\"\",IF(Schueler21Punkte!$G18=\"\",\"f\",IF(Schueler21Punkte!$G18>1,\"f\",Schueler21Punkte!$G18)))","v":""},{"$f":"IF(Schueler22Punkte!$D$1=0,\"\",IF(Schueler22Punkte!$G18=\"\",\"f\",IF(Schueler22Punkte!$G18>1,\"f\",Schueler22Punkte!$G18)))","v":""},{"$f":"IF(Schueler23Punkte!$D$1=0,\"\",IF(Schueler23Punkte!$G18=\"\",\"f\",IF(Schueler23Punkte!$G18>1,\"f\",Schueler23Punkte!$G18)))","v":""},{"$f":"IF(Schueler24Punkte!$D$1=0,\"\",IF(Schueler24Punkte!$G18=\"\",\"f\",IF(Schueler24Punkte!$G18>1,\"f\",Schueler24Punkte!$G18)))","v":""},{"$f":"IF(Schueler25Punkte!$D$1=0,\"\",IF(Schueler25Punkte!$G18=\"\",\"f\",IF(Schueler25Punkte!$G18>1,\"f\",Schueler25Punkte!$G18)))","v":""},{"$f":"IF(Schueler26Punkte!$D$1=0,\"\",IF(Schueler26Punkte!$G18=\"\",\"f\",IF(Schueler26Punkte!$G18>1,\"f\",Schueler26Punkte!$G18)))","v":""},{"$f":"IF(Schueler27Punkte!$D$1=0,\"\",IF(Schueler27Punkte!$G18=\"\",\"f\",IF(Schueler27Punkte!$G18>1,\"f\",Schueler27Punkte!$G18)))","v":""},{"$f":"IF(Schueler28Punkte!$D$1=0,\"\",IF(Schueler28Punkte!$G18=\"\",\"f\",IF(Schueler28Punkte!$G18>1,\"f\",Schueler28Punkte!$G18)))","v":""},{"$f":"IF(Schueler29Punkte!$D$1=0,\"\",IF(Schueler29Punkte!$G18=\"\",\"f\",IF(Schueler29Punkte!$G18>1,\"f\",Schueler29Punkte!$G18)))","v":""},{"$f":"IF(Schueler30Punkte!$D$1=0,\"\",IF(Schueler30Punkte!$G18=\"\",\"f\",IF(Schueler30Punkte!$G18>1,\"f\",Schueler30Punkte!$G18)))","v":""},{"$f":"COUNTIF(G22:AJ22,1)/(COUNTIF(G22:AJ22,1)+COUNTIF(G22:AJ22,0))","v":{"$error":"#DIV/0!"}}]
[]
[10,"SE10",null,null,null,1,{"$f":"IF(Schueler1Punkte!$D$1=0,\"\",IF(Schueler1Punkte!$G20=\"\",\"f\",IF(Schueler1Punkte!$G20>1,\"f\",Schueler1Punkte!$G20)))","v":""},{"$f":"IF(Schueler2Punkte!$D$1=0,\"\",IF(Schueler2Punkte!$G20=\"\",\"f\",IF(Schueler2Punkte!$G20>1,\"f\",Schueler2Punkte!$G20)))","v":""},{"$f":"IF(Schueler3Punkte!$D$1=0,\"\",IF(Schueler3Punkte!$G20=\"\",\"f\",IF(Schueler3Punkte!$G20>1,\"f\",Schueler3Punkte!$G20)))","v":""},{"$f":"IF(Schueler4Punkte!$D$1=0,\"\",IF(Schueler4Punkte!$G20=\"\",\"f\",IF(Schueler4Punkte!$G20>1,\"f\",Schueler4Punkte!$G20)))","v":""},{"$f":"IF(Schueler5Punkte!$D$1=0,\"\",IF(Schueler5Punkte!$G20=\"\",\"f\",IF(Schueler5Punkte!$G20>1,\"f\",Schueler5Punkte!$G20)))","v":""},{"$f":"IF(Schueler6Punkte!$D$1=0,\"\",IF(Schueler6Punkte!$G20=\"\",\"f\",IF(Schueler6Punkte!$G20>1,\"f\",Schueler6Punkte!$G20)))","v":""},{"$f":"IF(Schueler7Punkte!$D$1=0,\"\",IF(Schueler7Punkte!$G20=\"\",\"f\",IF(Schueler7Punkte!$G20>1,\"f\",Schueler7Punkte!$G20)))","v":""},{"$f":"IF(Schueler8Punkte!$D$1=0,\"\",IF(Schueler8Punkte!$G20=\"\",\"f\",IF(Schueler8Punkte!$G20>1,\"f\",Schueler8Punkte!$G20)))","v":""},{"$f":"IF(Schueler9Punkte!$D$1=0,\"\",IF(Schueler9Punkte!$G20=\"\",\"f\",IF(Schueler9Punkte!$G20>1,\"f\",Schueler9Punkte!$G20)))","v":""},{"$f":"IF(Schueler10Punkte!$D$1=0,\"\",IF(Schueler10Punkte!$G20=\"\",\"f\",IF(Schueler10Punkte!$G20>1,\"f\",Schueler10Punkte!$G20)))","v":""},{"$f":"IF(Schueler11Punkte!$D$1=0,\"\",IF(Schueler11Punkte!$G20=\"\",\"f\",IF(Schueler11Punkte!$G20>1,\"f\",Schueler11Punkte!$G20)))","v":""},{"$f":"IF(Schueler12Punkte!$D$1=0,\"\",IF(Schueler12Punkte!$G20=\"\",\"f\",IF(Schueler12Punkte!$G20>1,\"f\",Schueler12Punkte!$G20)))","v":""},{"$f":"IF(Schueler13Punkte!$D$1=0,\"\",IF(Schueler13Punkte!$G20=\"\",\"f\",IF(Schueler13Punkte!$G20>1,\"f\",Schueler13Punkte!$G20)))","v":""},{"$f":"IF(Schueler14Punkte!$D$1=0,\"\",IF(Schueler14Punkte!$G20=\"\",\"f\",IF(Schueler14Punkte!$G20>1,\"f\",Schueler14Punkte!$G20)))","v":""},{"$f":"IF(Schueler15Punkte!$D$1=0,\"\",IF(Schueler15Punkte!$G20=\"\",\"f\",IF(Schueler15Punkte!$G20>1,\"f\",Schueler15Punkte!$G20)))","v":""},{"$f":"IF(Schueler16Punkte!$D$1=0,\"\",IF(Schueler16Punkte!$G20=\"\",\"f\",IF(Schueler16Punkte!$G20>1,\"f\",Schueler16Punkte!$G20)))","v":""},{"$f":"IF(Schueler17Punkte!$D$1=0,\"\",IF(Schueler17Punkte!$G20=\"\",\"f\",IF(Schueler17Punkte!$G20>1,\"f\",Schueler17Punkte!$G20)))","v":""},{"$f":"IF(Schueler18Punkte!$D$1=0,\"\",IF(Schueler18Punkte!$G20=\"\",\"f\",IF(Schueler18Punkte!$G20>1,\"f\",Schueler18Punkte!$G20)))","v":""},{"$f":"IF(Schueler19Punkte!$D$1=0,\"\",IF(Schueler19Punkte!$G20=\"\",\"f\",IF(Schueler19Punkte!$G20>1,\"f\",Schueler19Punkte!$G20)))","v":""},{"$f":"IF(Schueler20Punkte!$D$1=0,\"\",IF(Schueler20Punkte!$G20=\"\",\"f\",IF(Schueler20Punkte!$G20>1,\"f\",Schueler20Punkte!$G20)))","v":""},{"$f":"IF(Schueler21Punkte!$D$1=0,\"\",IF(Schueler21Punkte!$G20=\"\",\"f\",IF(Schueler21Punkte!$G20>1,\"f\",Schueler21Punkte!$G20)))","v":""},{"$f":"IF(Schueler22Punkte!$D$1=0,\"\",IF(Schueler22Punkte!$G20=\"\",\"f\",IF(Schueler22Punkte!$G20>1,\"f\",Schueler22Punkte!$G20)))","v":""},{"$f":"IF(Schueler23Punkte!$D$1=0,\"\",IF(Schueler23Punkte!$G20=\"\",\"f\",IF(Schueler23Punkte!$G20>1,\"f\",Schueler23Punkte!$G20)))","v":""},{"$f":"IF(Schueler24Punkte!$D$1=0,\"\",IF(Schueler24Punkte!$G20=\"\",\"f\",IF(Schueler24Punkte!$G20>1,\"f\",Schueler24Punkte!$G20)))","v":""},{"$f":"IF(Schueler25Punkte!$D$1=0,\"\",IF(Schueler25Punkte!$G20=\"\",\"f\",IF(Schueler25Punkte!$G20>1,\"f\",Schueler25Punkte!$G20)))","v":""},{"$f":"IF(Schueler26Punkte!$D$1=0,\"\",IF(Schueler26Punkte!$G20=\"\",\"f\",IF(Schueler26Punkte!$G20>1,\"f\",Schueler26Punkte!$G20)))","v":""},{"$f":"IF(Schueler27Punkte!$D$1=0,\"\",IF(Schueler27Punkte!$G20=\"\",\"f\",IF(Schueler27Punkte!$G20>1,\"f\",Schueler27Punkte!$G20)))","v":""},{"$f":"IF(Schueler28Punkte!$D$1=0,\"\",IF(Schueler28Punkte!$G20=\"\",\"f\",IF(Schueler28Punkte!$G20>1,\"f\",Schueler28Punkte!$G20)))","v":""},{"$f":"IF(Schueler29Punkte!$D$1=0,\"\",IF(Schueler29Punkte!$G20=\"\",\"f\",IF(Schueler29Punkte!$G20>1,\"f\",Schueler29Punkte!$G20)))","v":""},{"$f":"IF(Schueler30Punkte!$D$1=0,\"\",IF(Schueler30Punkte!$G20=\"\",\"f\",IF(Schueler30Punkte!$G20>1,\"f\",Schueler30Punkte!$G20)))","v":""},{"$f":"COUNTIF(G24:AJ24,1)/(COUNTIF(G24:AJ24,1)+COUNTIF(G24:AJ24,0))","v":{"$error":"#DIV/0!"}}]
[]
[11,"SE11",null,null,null,1,{"$f":"IF(Schueler1Punkte!$D$1=0,\"\",IF(Schueler1Punkte!$G22=\"\",\"f\",IF(Schueler1Punkte!$G22>1,\"f\",Schueler1Punkte!$G22)))","v":""},{"$f":"IF(Schueler2Punkte!$D$1=0,\"\",IF(Schueler2Punkte!$G22=\"\",\"f\",IF(Schueler2Punkte!$G22>1,\"f\",Schueler2Punkte!$G22)))","v":""},{"$f":"IF(Schueler3Punkte!$D$1=0,\"\",IF(Schueler3Punkte!$G22=\"\",\"f\",IF(Schueler3Punkte!$G22>1,\"f\",Schueler3Punkte!$G22)))","v":""},{"$f":"IF(Schueler4Punkte!$D$1=0,\"\",IF(Schueler4Punkte!$G22=\"\",\"f\",IF(Schueler4Punkte!$G22>1,\"f\",Schueler4Punkte!$G22)))","v":""},{"$f":"IF(Schueler5Punkte!$D$1=0,\"\",IF(Schueler5Punkte!$G22=\"\",\"f\",IF(Schueler5Punkte!$G22>1,\"f\",Schueler5Punkte!$G22)))","v":""},{"$f":"IF(Schueler6Punkte!$D$1=0,\"\",IF(Schueler6Punkte!$G22=\"\",\"f\",IF(Schueler6Punkte!$G22>1,\"f\",Schueler6Punkte!$G22)))","v":""},{"$f":"IF(Schueler7Punkte!$D$1=0,\"\",IF(Schueler7Punkte!$G22=\"\",\"f\",IF(Schueler7Punkte!$G22>1,\"f\",Schueler7Punkte!$G22)))","v":""},{"$f":"IF(Schueler8Punkte!$D$1=0,\"\",IF(Schueler8Punkte!$G22=\"\",\"f\",IF(Schueler8Punkte!$G22>1,\"f\",Schueler8Punkte!$G22)))","v":""},{"$f":"IF(Schueler9Punkte!$D$1=0,\"\",IF(Schueler9Punkte!$G22=\"\",\"f\",IF(Schueler9Punkte!$G22>1,\"f\",Schueler9Punkte!$G22)))","v":""},{"$f":"IF(Schueler10Punkte!$D$1=0,\"\",IF(Schueler10Punkte!$G22=\"\",\"f\",IF(Schueler10Punkte!$G22>1,\"f\",Schueler10Punkte!$G22)))","v":""},{"$f":"IF(Schueler11Punkte!$D$1=0,\"\",IF(Schueler11Punkte!$G22=\"\",\"f\",IF(Schueler11Punkte!$G22>1,\"f\",Schueler11Punkte!$G22)))","v":""},{"$f":"IF(Schueler12Punkte!$D$1=0,\"\",IF(Schueler12Punkte!$G22=\"\",\"f\",IF(Schueler12Punkte!$G22>1,\"f\",Schueler12Punkte!$G22)))","v":""},{"$f":"IF(Schueler13Punkte!$D$1=0,\"\",IF(Schueler13Punkte!$G22=\"\",\"f\",IF(Schueler13Punkte!$G22>1,\"f\",Schueler13Punkte!$G22)))","v":""},{"$f":"IF(Schueler14Punkte!$D$1=0,\"\",IF(Schueler14Punkte!$G22=\"\",\"f\",IF(Schueler14Punkte!$G22>1,\"f\",Schueler14Punkte!$G22)))","v":""},{"$f":"IF(Schueler15Punkte!$D$1=0,\"\",IF(Schueler15Punkte!$G22=\"\",\"f\",IF(Schueler15Punkte!$G22>1,\"f\",Schueler15Punkte!$G22)))","v":""},{"$f":"IF(Schueler16Punkte!$D$1=0,\"\",IF(Schueler16Punkte!$G22=\"\",\"f\",IF(Schueler16Punkte!$G22>1,\"f\",Schueler16Punkte!$G22)))","v":""},{"$f":"IF(Schueler17Punkte!$D$1=0,\"\",IF(Schueler17Punkte!$G22=\"\",\"f\",IF(Schueler17Punkte!$G22>1,\"f\",Schueler17Punkte!$G22)))","v":""},{"$f":"IF(Schueler18Punkte!$D$1=0,\"\",IF(Schueler18Punkte!$G22=\"\",\"f\",IF(Schueler18Punkte!$G22>1,\"f\",Schueler18Punkte!$G22)))","v":""},{"$f":"IF(Schueler19Punkte!$D$1=0,\"\",IF(Schueler19Punkte!$G22=\"\",\"f\",IF(Schueler19Punkte!$G22>1,\"f\",Schueler19Punkte!$G22)))","v":""},{"$f":"IF(Schueler20Punkte!$D$1=0,\"\",IF(Schueler20Punkte!$G22=\"\",\"f\",IF(Schueler20Punkte!$G22>1,\"f\",Schueler20Punkte!$G22)))","v":""},{"$f":"IF(Schueler21Punkte!$D$1=0,\"\",IF(Schueler21Punkte!$G22=\"\",\"f\",IF(Schueler21Punkte!$G22>1,\"f\",Schueler21Punkte!$G22)))","v":""},{"$f":"IF(Schueler22Punkte!$D$1=0,\"\",IF(Schueler22Punkte!$G22=\"\",\"f\",IF(Schueler22Punkte!$G22>1,\"f\",Schueler22Punkte!$G22)))","v":""},{"$f":"IF(Schueler23Punkte!$D$1=0,\"\",IF(Schueler23Punkte!$G22=\"\",\"f\",IF(Schueler23Punkte!$G22>1,\"f\",Schueler23Punkte!$G22)))","v":""},{"$f":"IF(Schueler24Punkte!$D$1=0,\"\",IF(Schueler24Punkte!$G22=\"\",\"f\",IF(Schueler24Punkte!$G22>1,\"f\",Schueler24Punkte!$G22)))","v":""},{"$f":"IF(Schueler25Punkte!$D$1=0,\"\",IF(Schueler25Punkte!$G22=\"\",\"f\",IF(Schueler25Punkte!$G22>1,\"f\",Schueler25Punkte!$G22)))","v":""},{"$f":"IF(Schueler26Punkte!$D$1=0,\"\",IF(Schueler26Punkte!$G22=\"\",\"f\",IF(Schueler26Punkte!$G22>1,\"f\",Schueler26Punkte!$G22)))","v":""},{"$f":"IF(Schueler27Punkte!$D$1=0,\"\",IF(Schueler27Punkte!$G22=\"\",\"f\",IF(Schueler27Punkte!$G22>1,\"f\",Schueler27Punkte!$G22)))","v":""},{"$f":"IF(Schueler28Punkte!$D$1=0,\"\",IF(Schueler28Punkte!$G22=\"\",\"f\",IF(Schueler28Punkte!$G22>1,\"f\",Schueler28Punkte!$G22)))","v":""},{"$f":"IF(Schueler29Punkte!$D$1=0,\"\",IF(Schueler29Punkte!$G22=\"\",\"f\",IF(Schueler29Punkte!$G22>1,\"f\",Schueler29Punkte!$G22)))","v":""},{"$f":"IF(Schueler30Punkte!$D$1=0,\"\",IF(Schueler30Punkte!$G22=\"\",\"f\",IF(Schueler30Punkte!$G22>1,\"f\",Schueler30Punkte!$G22)))","v":""},{"$f":"COUNTIF(G26:AJ26,1)/(COUNTIF(G26:AJ26,1)+COUNTIF(G26:AJ26,0))","v":{"$error":"#DIV/0!"}}]
[]
[12,"SE12",null,null,null,1,{"$f":"IF(Schueler1Punkte!$D$1=0,\"\",IF(Schueler1Punkte!$G24=\"\",\"f\",IF(Schueler1Punkte!$G24>1,\"f\",Schueler1Punkte!$G24)))","v":""},{"$f":"IF(Schueler2Punkte!$D$1=0,\"\",IF(Schueler2Punkte!$G24=\"\",\"f\",IF(Schueler2Punkte!$G24>1,\"f\",Schueler2Punkte!$G24)))","v":""},{"$f":"IF(Schueler3Punkte!$D$1=0,\"\",IF(Schueler3Punkte!$G24=\"\",\"f\",IF(Schueler3Punkte!$G24>1,\"f\",Schueler3Punkte!$G24)))","v":""},{"$f":"IF(Schueler4Punkte!$D$1=0,\"\",IF(Schueler4Punkte!$G24=\"\",\"f\",IF(Schueler4Punkte!$G24>1,\"f\",Schueler4Punkte!$G24)))","v":""},{"$f":"IF(Schueler5Punkte!$D$1=0,\"\",IF(Schueler5Punkte!$G24=\"\",\"f\",IF(Schueler5Punkte!$G24>1,\"f\",Schueler5Punkte!$G24)))","v":""},{"$f":"IF(Schueler6Punkte!$D$1=0,\"\",IF(Schueler6Punkte!$G24=\"\",\"f\",IF(Schueler6Punkte!$G24>1,\"f\",Schueler6Punkte!$G24)))","v":""},{"$f":"IF(Schueler7Punkte!$D$1=0,\"\",IF(Schueler7Punkte!$G24=\"\",\"f\",IF(Schueler7Punkte!$G24>1,\"f\",Schueler7Punkte!$G24)))","v":""},{"$f":"IF(Schueler8Punkte!$D$1=0,\"\",IF(Schueler8Punkte!$G24=\"\",\"f\",IF(Schueler8Punkte!$G24>1,\"f\",Schueler8Punkte!$G24)))","v":""},{"$f":"IF(Schueler9Punkte!$D$1=0,\"\",IF(Schueler9Punkte!$G24=\"\",\"f\",IF(Schueler9Punkte!$G24>1,\"f\",Schueler9Punkte!$G24)))","v":""},{"$f":"IF(Schueler10Punkte!$D$1=0,\"\",IF(Schueler10Punkte!$G24=\"\",\"f\",IF(Schueler10Punkte!$G24>1,\"f\",Schueler10Punkte!$G24)))","v":""},{"$f":"IF(Schueler11Punkte!$D$1=0,\"\",IF(Schueler11Punkte!$G24=\"\",\"f\",IF(Schueler11Punkte!$G24>1,\"f\",Schueler11Punkte!$G24)))","v":""},{"$f":"IF(Schueler12Punkte!$D$1=0,\"\",IF(Schueler12Punkte!$G24=\"\",\"f\",IF(Schueler12Punkte!$G24>1,\"f\",Schueler12Punkte!$G24)))","v":""},{"$f":"IF(Schueler13Punkte!$D$1=0,\"\",IF(Schueler13Punkte!$G24=\"\",\"f\",IF(Schueler13Punkte!$G24>1,\"f\",Schueler13Punkte!$G24)))","v":""},{"$f":"IF(Schueler14Punkte!$D$1=0,\"\",IF(Schueler14Punkte!$G24=\"\",\"f\",IF(Schueler14Punkte!$G24>1,\"f\",Schueler14Punkte!$G24)))","v":""},{"$f":"IF(Schueler15Punkte!$D$1=0,\"\",IF(Schueler15Punkte!$G24=\"\",\"f\",IF(Schueler15Punkte!$G24>1,\"f\",Schueler15Punkte!$G24)))","v":""},{"$f":"IF(Schueler16Punkte!$D$1=0,\"\",IF(Schueler16Punkte!$G24=\"\",\"f\",IF(Schueler16Punkte!$G24>1,\"f\",Schueler16Punkte!$G24)))","v":""},{"$f":"IF(Schueler17Punkte!$D$1=0,\"\",IF(Schueler17Punkte!$G24=\"\",\"f\",IF(Schueler17Punkte!$G24>1,\"f\",Schueler17Punkte!$G24)))","v":""},{"$f":"IF(Schueler18Punkte!$D$1=0,\"\",IF(Schueler18Punkte!$G24=\"\",\"f\",IF(Schueler18Punkte!$G24>1,\"f\",Schueler18Punkte!$G24)))","v":""},{"$f":"IF(Schueler19Punkte!$D$1=0,\"\",IF(Schueler19Punkte!$G24=\"\",\"f\",IF(Schueler19Punkte!$G24>1,\"f\",Schueler19Punkte!$G24)))","v":""},{"$f":"IF(Schueler20Punkte!$D$1=0,\"\",IF(Schueler20Punkte!$G24=\"\",\"f\",IF(Schueler20Punkte!$G24>1,\"f\",Schueler20Punkte!$G24)))","v":""},{"$f":"IF(Schueler21Punkte!$D$1=0,\"\",IF(Schueler21Punkte!$G24=\"\",\"f\",IF(Schueler21Punkte!$G24>1,\"f\",Schueler21Punkte!$G24)))","v":""},{"$f":"IF(Schueler22Punkte!$D$1=0,\"\",IF(Schueler22Punkte!$G24=\"\",\"f\",IF(Schueler22Punkte!$G24>1,\"f\",Schueler22Punkte!$G24)))","v":""},{"$f":"IF(Schueler23Punkte!$D$1=0,\"\",IF(Schueler23Punkte!$G24=\"\",\"f\",IF(Schueler23Punkte!$G24>1,\"f\",Schueler23Punkte!$G24)))","v":""},{"$f":"IF(Schueler24Punkte!$D$1=0,\"\",IF(Schueler24Punkte!$G24=\"\",\"f\",IF(Schueler24Punkte!$G24>1,\"f\",Schueler24Punkte!$G24)))","v":""},{"$f":"IF(Schueler25Punkte!$D$1=0,\"\",IF(Schueler25Punkte!$G24=\"\",\"f\",IF(Schueler25Punkte!$G24>1,\"f\",Schueler25Punkte!$G24)))","v":""},{"$f":"IF(Schueler26Punkte!$D$1=0,\"\",IF(Schueler26Punkte!$G24=\"\",\"f\",IF(Schueler26Punkte!$G24>1,\"f\",Schueler26Punkte!$G24)))","v":""},{"$f":"IF(Schueler27Punkte!$D$1=0,\"\",IF(Schueler27Punkte!$G24=\"\",\"f\",IF(Schueler27Punkte!$G24>1,\"f\",Schueler27Punkte!$G24)))","v":""},{"$f":"IF(Schueler28Punkte!$D$1=0,\"\",IF(Schueler28Punkte!$G24=\"\",\"f\",IF(Schueler28Punkte!$G24>1,\"f\",Schueler28Punkte!$G24)))","v":""},{"$f":"IF(Schueler29Punkte!$D$1=0,\"\",IF(Schueler29Punkte!$G24=\"\",\"f\",IF(Schueler29Punkte!$G24>1,\"f\",Schueler29Punkte!$G24)))","v":""},{"$f":"IF(Schueler30Punkte!$D$1=0,\"\",IF(Schueler30Punkte!$G24=\"\",\"f\",IF(Schueler30Punkte!$G24>1,\"f\",Schueler30Punkte!$G24)))","v":""},{"$f":"COUNTIF(G28:AJ28,1)/(COUNTIF(G28:AJ28,1)+COUNTIF(G28:AJ28,0))","v":{"$error":"#DIV/0!"}}]
[]
[null,null,"LEXIK",null,null,8,{"$f":"IF(OR(G31=\"\",G31=\"f\"),\"\",SUM(G31,G32,G33,G34,G35,G36,G37,G38))","v":""},{"$f":"IF(OR(H31=\"\",H31=\"f\"),\"\",SUM(H31,H32,H33,H34,H35,H36,H37,H38))","v":""},"","","","","","","","","","","","","","","","","","","","","","","","","","","",""]
[1,"LE13",null,null,null,1,{"$f":"IF(Schueler1Punkte!$D$1=0,\"\",IF(Schueler1Punkte!$G26=\"\",\"f\",IF(Schueler1Punkte!$G26>1,\"f\",Schueler1Punkte!$G26)))","v":""},{"$f":"IF(Schueler2Punkte!$D$1=0,\"\",IF(Schueler2Punkte!$G26=\"\",\"f\",IF(Schueler2Punkte!$G26>1,\"f\",Schueler2Punkte!$G26)))","v":""},{"$f":"IF(Schueler3Punkte!$D$1=0,\"\",IF(Schueler3Punkte!$G26=\"\",\"f\",IF(Schueler3Punkte!$G26>1,\"f\",Schueler3Punkte!$G26)))","v":""},{"$f":"IF(Schueler4Punkte!$D$1=0,\"\",IF(Schueler4Punkte!$G26=\"\",\"f\",IF(Schueler4Punkte!$G26>1,\"f\",Schueler4Punkte!$G26)))","v":""},{"$f":"IF(Schueler5Punkte!$D$1=0,\"\",IF(Schueler5Punkte!$G26=\"\",\"f\",IF(Schueler5Punkte!$G26>1,\"f\",Schueler5Punkte!$G26)))","v":""},{"$f":"IF(Schueler6Punkte!$D$1=0,\"\",IF(Schueler6Punkte!$G26=\"\",\"f\",IF(Schueler6Punkte!$G26>1,\"f\",Schueler6Punkte!$G26)))","v":""},{"$f":"IF(Schueler7Punkte!$D$1=0,\"\",IF(Schueler7Punkte!$G26=\"\",\"f\",IF(Schueler7Punkte!$G26>1,\"f\",Schueler7Punkte!$G26)))","v":""},{"$f":"IF(Schueler8Punkte!$D$1=0,\"\",IF(Schueler8Punkte!$G26=\"\",\"f\",IF(Schueler8Punkte!$G26>1,\"f\",Schueler8Punkte!$G26)))","v":""},{"$f":"IF(Schueler9Punkte!$D$1=0,\"\",IF(Schueler9Punkte!$G26=\"\",\"f\",IF(Schueler9Punkte!$G26>1,\"f\",Schueler9Punkte!$G26)))","v":""},{"$f":"IF(Schueler10Punkte!$D$1=0,\"\",IF(Schueler10Punkte!$G26=\"\",\"f\",IF(Schueler10Punkte!$G26>1,\"f\",Schueler10Punkte!$G26)))","v":""},{"$f":"IF(Schueler11Punkte!$D$1=0,\"\",IF(Schueler11Punkte!$G26=\"\",\"f\",IF(Schueler11Punkte!$G26>1,\"f\",Schueler11Punkte!$G26)))","v":""},{"$f":"IF(Schueler12Punkte!$D$1=0,\"\",IF(Schueler12Punkte!$G26=\"\",\"f\",IF(Schueler12Punkte!$G26>1,\"f\",Schueler12Punkte!$G26)))","v":""},{"$f":"IF(Schueler13Punkte!$D$1=0,\"\",IF(Schueler13Punkte!$G26=\"\",\"f\",IF(Schueler13Punkte!$G26>1,\"f\",Schueler13Punkte!$G26)))","v":""},{"$f":"IF(Schueler14Punkte!$D$1=0,\"\",IF(Schueler14Punkte!$G26=\"\",\"f\",IF(Schueler14Punkte!$G26>1,\"f\",Schueler14Punkte!$G26)))","v":""},{"$f":"IF(Schueler15Punkte!$D$1=0,\"\",IF(Schueler15Punkte!$G26=\"\",\"f\",IF(Schueler15Punkte!$G26>1,\"f\",Schueler15Punkte!$G26)))","v":""},{"$f":"IF(Schueler16Punkte!$D$1=0,\"\",IF(Schueler16Punkte!$G26=\"\",\"f\",IF(Schueler16Punkte!$G26>1,\"f\",Schueler16Punkte!$G26)))","v":""},{"$f":"IF(Schueler17Punkte!$D$1=0,\"\",IF(Schueler17Punkte!$G26=\"\",\"f\",IF(Schueler17Punkte!$G26>1,\"f\",Schueler17Punkte!$G26)))","v":""},{"$f":"IF(Schueler18Punkte!$D$1=0,\"\",IF(Schueler18Punkte!$G26=\"\",\"f\",IF(Schueler18Punkte!$G26>1,\"f\",Schueler18Punkte!$G26)))","v":""},{"$f":"IF(Schueler19Punkte!$D$1=0,\"\",IF(Schueler19Punkte!$G26=\"\",\"f\",IF(Schueler19Punkte!$G26>1,\"f\",Schueler19Punkte!$G26)))","v":""},{"$f":"IF(Schueler20Punkte!$D$1=0,\"\",IF(Schueler20Punkte!$G26=\"\",\"f\",IF(Schueler20Punkte!$G26>1,\"f\",Schueler20Punkte!$G26)))","v":""},{"$f":"IF(Schueler21Punkte!$D$1=0,\"\",IF(Schueler21Punkte!$G26=\"\",\"f\",IF(Schueler21Punkte!$G26>1,\"f\",Schueler21Punkte!$G26)))","v":""},{"$f":"IF(Schueler22Punkte!$D$1=0,\"\",IF(Schueler22Punkte!$G26=\"\",\"f\",IF(Schueler22Punkte!$G26>1,\"f\",Schueler22Punkte!$G26)))","v":""},{"$f":"IF(Schueler23Punkte!$D$1=0,\"\",IF(Schueler23Punkte!$G26=\"\",\"f\",IF(Schueler23Punkte!$G26>1,\"f\",Schueler23Punkte!$G26)))","v":""},{"$f":"IF(Schueler24Punkte!$D$1=0,\"\",IF(Schueler24Punkte!$G26=\"\",\"f\",IF(Schueler24Punkte!$G26>1,\"f\",Schueler24Punkte!$G26)))","v":""},{"$f":"IF(Schueler25Punkte!$D$1=0,\"\",IF(Schueler25Punkte!$G26=\"\",\"f\",IF(Schueler25Punkte!$G26>1,\"f\",Schueler25Punkte!$G26)))","v":""},{"$f":"IF(Schueler26Punkte!$D$1=0,\"\",IF(Schueler26Punkte!$G26=\"\",\"f\",IF(Schueler26Punkte!$G26>1,\"f\",Schueler26Punkte!$G26)))","v":""},{"$f":"IF(Schueler27Punkte!$D$1=0,\"\",IF(Schueler27Punkte!$G26=\"\",\"f\",IF(Schueler27Punkte!$G26>1,\"f\",Schueler27Punkte!$G26)))","v":""},{"$f":"IF(Schueler28Punkte!$D$1=0,\"\",IF(Schueler28Punkte!$G26=\"\",\"f\",IF(Schueler28Punkte!$G26>1,\"f\",Schueler28Punkte!$G26)))","v":""},{"$f":"IF(Schueler29Punkte!$D$1=0,\"\",IF(Schueler29Punkte!$G26=\"\",\"f\",IF(Schueler29Punkte!$G26>1,\"f\",Schueler29Punkte!$G26)))","v":""},{"$f":"IF(Schueler30Punkte!$D$1=0,\"\",IF(Schueler30Punkte!$G26=\"\",\"f\",IF(Schueler30Punkte!$G26>1,\"f\",Schueler30Punkte!$G26)))","v":""},{"$f":"COUNTIF(G31:AJ31,1)/(COUNTIF(G31:AJ31,1)+COUNTIF(G31:AJ31,0))","v":{"$error":"#DIV/0!"}}]
[2,"LE14",null,null,null,1,{"$f":"IF(Schueler1Punkte!$D$1=0,\"\",IF(Schueler1Punkte!$G27=\"\",\"f\",IF(Schueler1Punkte!$G27>1,\"f\",Schueler1Punkte!$G27)))","v":""},{"$f":"IF(Schueler2Punkte!$D$1=0,\"\",IF(Schueler2Punkte!$G27=\"\",\"f\",IF(Schueler2Punkte!$G27>1,\"f\",Schueler2Punkte!$G27)))","v":""},{"$f":"IF(Schueler3Punkte!$D$1=0,\"\",IF(Schueler3Punkte!$G27=\"\",\"f\",IF(Schueler3Punkte!$G27>1,\"f\",Schueler3Punkte!$G27)))","v":""},{"$f":"IF(Schueler4Punkte!$D$1=0,\"\",IF(Schueler4Punkte!$G27=\"\",\"f\",IF(Schueler4Punkte!$G27>1,\"f\",Schueler4Punkte!$G27)))","v":""},{"$f":"IF(Schueler5Punkte!$D$1=0,\"\",IF(Schueler5Punkte!$G27=\"\",\"f\",IF(Schueler5Punkte!$G27>1,\"f\",Schueler5Punkte!$G27)))","v":""},{"$f":"IF(Schueler6Punkte!$D$1=0,\"\",IF(Schueler6Punkte!$G27=\"\",\"f\",IF(Schueler6Punkte!$G27>1,\"f\",Schueler6Punkte!$G27)))","v":""},{"$f":"IF(Schueler7Punkte!$D$1=0,\"\",IF(Schueler7Punkte!$G27=\"\",\"f\",IF(Schueler7Punkte!$G27>1,\"f\",Schueler7Punkte!$G27)))","v":""},{"$f":"IF(Schueler8Punkte!$D$1=0,\"\",IF(Schueler8Punkte!$G27=\"\",\"f\",IF(Schueler8Punkte!$G27>1,\"f\",Schueler8Punkte!$G27)))","v":""},{"$f":"IF(Schueler9Punkte!$D$1=0,\"\",IF(Schueler9Punkte!$G27=\"\",\"f\",IF(Schueler9Punkte!$G27>1,\"f\",Schueler9Punkte!$G27)))","v":""},{"$f":"IF(Schueler10Punkte!$D$1=0,\"\",IF(Schueler10Punkte!$G27=\"\",\"f\",IF(Schueler10Punkte!$G27>1,\"f\",Schueler10Punkte!$G27)))","v":""},{"$f":"IF(Schueler11Punkte!$D$1=0,\"\",IF(Schueler11Punkte!$G27=\"\",\"f\",IF(Schueler11Punkte!$G27>1,\"f\",Schueler11Punkte!$G27)))","v":""},{"$f":"IF(Schueler12Punkte!$D$1=0,\"\",IF(Schueler12Punkte!$G27=\"\",\"f\",IF(Schueler12Punkte!$G27>1,\"f\",Schueler12Punkte!$G27)))","v":""},{"$f":"IF(Schueler13Punkte!$D$1=0,\"\",IF(Schueler13Punkte!$G27=\"\",\"f\",IF(Schueler13Punkte!$G27>1,\"f\",Schueler13Punkte!$G27)))","v":""},{"$f":"IF(Schueler14Punkte!$D$1=0,\"\",IF(Schueler14Punkte!$G27=\"\",\"f\",IF(Schueler14Punkte!$G27>1,\"f\",Schueler14Punkte!$G27)))","v":""},{"$f":"IF(Schueler15Punkte!$D$1=0,\"\",IF(Schueler15Punkte!$G27=\"\",\"f\",IF(Schueler15Punkte!$G27>1,\"f\",Schueler15Punkte!$G27)))","v":""},{"$f":"IF(Schueler16Punkte!$D$1=0,\"\",IF(Schueler16Punkte!$G27=\"\",\"f\",IF(Schueler16Punkte!$G27>1,\"f\",Schueler16Punkte!$G27)))","v":""},{"$f":"IF(Schueler17Punkte!$D$1=0,\"\",IF(Schueler17Punkte!$G27=\"\",\"f\",IF(Schueler17Punkte!$G27>1,\"f\",Schueler17Punkte!$G27)))","v":""},{"$f":"IF(Schueler18Punkte!$D$1=0,\"\",IF(Schueler18Punkte!$G27=\"\",\"f\",IF(Schueler18Punkte!$G27>1,\"f\",Schueler18Punkte!$G27)))","v":""},{"$f":"IF(Schueler19Punkte!$D$1=0,\"\",IF(Schueler19Punkte!$G27=\"\",\"f\",IF(Schueler19Punkte!$G27>1,\"f\",Schueler19Punkte!$G27)))","v":""},{"$f":"IF(Schueler20Punkte!$D$1=0,\"\",IF(Schueler20Punkte!$G27=\"\",\"f\",IF(Schueler20Punkte!$G27>1,\"f\",Schueler20Punkte!$G27)))","v":""},{"$f":"IF(Schueler21Punkte!$D$1=0,\"\",IF(Schueler21Punkte!$G27=\"\",\"f\",IF(Schueler21Punkte!$G27>1,\"f\",Schueler21Punkte!$G27)))","v":""},{"$f":"IF(Schueler22Punkte!$D$1=0,\"\",IF(Schueler22Punkte!$G27=\"\",\"f\",IF(Schueler22Punkte!$G27>1,\"f\",Schueler22Punkte!$G27)))","v":""},{"$f":"IF(Schueler23Punkte!$D$1=0,\"\",IF(Schueler23Punkte!$G27=\"\",\"f\",IF(Schueler23Punkte!$G27>1,\"f\",Schueler23Punkte!$G27)))","v":""},{"$f":"IF(Schueler24Punkte!$D$1=0,\"\",IF(Schueler24Punkte!$G27=\"\",\"f\",IF(Schueler24Punkte!$G27>1,\"f\",Schueler24Punkte!$G27)))","v":""},{"$f":"IF(Schueler25Punkte!$D$1=0,\"\",IF(Schueler25Punkte!$G27=\"\",\"f\",IF(Schueler25Punkte!$G27>1,\"f\",Schueler25Punkte!$G27)))","v":""},{"$f":"IF(Schueler26Punkte!$D$1=0,\"\",IF(Schueler26Punkte!$G27=\"\",\"f\",IF(Schueler26Punkte!$G27>1,\"f\",Schueler26Punkte!$G27)))","v":""},{"$f":"IF(Schueler27Punkte!$D$1=0,\"\",IF(Schueler27Punkte!$G27=\"\",\"f\",IF(Schueler27Punkte!$G27>1,\"f\",Schueler27Punkte!$G27)))","v":""},{"$f":"IF(Schueler28Punkte!$D$1=0,\"\",IF(Schueler28Punkte!$G27=\"\",\"f\",IF(Schueler28Punkte!$G27>1,\"f\",Schueler28Punkte!$G27)))","v":""},{"$f":"IF(Schueler29Punkte!$D$1=0,\"\",IF(Schueler29Punkte!$G27=\"\",\"f\",IF(Schueler29Punkte!$G27>1,\"f\",Schueler29Punkte!$G27)))","v":""},{"$f":"IF(Schueler30Punkte!$D$1=0,\"\",IF(Schueler30Punkte!$G27=\"\",\"f\",IF(Schueler30Punkte!$G27>1,\"f\",Schueler30Punkte!$G27)))","v":""},{"$error":"#DIV/0!"}]
[3,"LE15",null,null,null,1,{"$f":"IF(Schueler1Punkte!$D$1=0,\"\",IF(Schueler1Punkte!$G28=\"\",\"f\",IF(Schueler1Punkte!$G28>1,\"f\",Schueler1Punkte!$G28)))","v":""},{"$f":"IF(Schueler2Punkte!$D$1=0,\"\",IF(Schueler2Punkte!$G28=\"\",\"f\",IF(Schueler2Punkte!$G28>1,\"f\",Schueler2Punkte!$G28)))","v":""},{"$f":"IF(Schueler3Punkte!$D$1=0,\"\",IF(Schueler3Punkte!$G28=\"\",\"f\",IF(Schueler3Punkte!$G28>1,\"f\",Schueler3Punkte!$G28)))","v":""},{"$f":"IF(Schueler4Punkte!$D$1=0,\"\",IF(Schueler4Punkte!$G28=\"\",\"f\",IF(Schueler4Punkte!$G28>1,\"f\",Schueler4Punkte!$G28)))","v":""},{"$f":"IF(Schueler5Punkte!$D$1=0,\"\",IF(Schueler5Punkte!$G28=\"\",\"f\",IF(Schueler5Punkte!$G28>1,\"f\",Schueler5Punkte!$G28)))","v":""},{"$f":"IF(Schueler6Punkte!$D$1=0,\"\",IF(Schueler6Punkte!$G28=\"\",\"f\",IF(Schueler6Punkte!$G28>1,\"f\",Schueler6Punkte!$G28)))","v":""},{"$f":"IF(Schueler7Punkte!$D$1=0,\"\",IF(Schueler7Punkte!$G28=\"\",\"f\",IF(Schueler7Punkte!$G28>1,\"f\",Schueler7Punkte!$G28)))","v":""},{"$f":"IF(Schueler8Punkte!$D$1=0,\"\",IF(Schueler8Punkte!$G28=\"\",\"f\",IF(Schueler8Punkte!$G28>1,\"f\",Schueler8Punkte!$G28)))","v":""},{"$f":"IF(Schueler9Punkte!$D$1=0,\"\",IF(Schueler9Punkte!$G28=\"\",\"f\",IF(Schueler9Punkte!$G28>1,\"f\",Schueler9Punkte!$G28)))","v":""},{"$f":"IF(Schueler10Punkte!$D$1=0,\"\",IF(Schueler10Punkte!$G28=\"\",\"f\",IF(Schueler10Punkte!$G28>1,\"f\",Schueler10Punkte!$G28)))","v":""},{"$f":"IF(Schueler11Punkte!$D$1=0,\"\",IF(Schueler11Punkte!$G28=\"\",\"f\",IF(Schueler11Punkte!$G28>1,\"f\",Schueler11Punkte!$G28)))","v":""},{"$f":"IF(Schueler12Punkte!$D$1=0,\"\",IF(Schueler12Punkte!$G28=\"\",\"f\",IF(Schueler12Punkte!$G28>1,\"f\",Schueler12Punkte!$G28)))","v":""},{"$f":"IF(Schueler13Punkte!$D$1=0,\"\",IF(Schueler13Punkte!$G28=\"\",\"f\",IF(Schueler13Punkte!$G28>1,\"f\",Schueler13Punkte!$G28)))","v":""},{"$f":"IF(Schueler14Punkte!$D$1=0,\"\",IF(Schueler14Punkte!$G28=\"\",\"f\",IF(Schueler14Punkte!$G28>1,\"f\",Schueler14Punkte!$G28)))","v":""},{"$f":"IF(Schueler15Punkte!$D$1=0,\"\",IF(Schueler15Punkte!$G28=\"\",\"f\",IF(Schueler15Punkte!$G28>1,\"f\",Schueler15Punkte!$G28)))","v":""},{"$f":"IF(Schueler16Punkte!$D$1=0,\"\",IF(Schueler16Punkte!$G28=\"\",\"f\",IF(Schueler16Punkte!$G28>1,\"f\",Schueler16Punkte!$G28)))","v":""},{"$f":"IF(Schueler17Punkte!$D$1=0,\"\",IF(Schueler17Punkte!$G28=\"\",\"f\",IF(Schueler17Punkte!$G28>1,\"f\",Schueler17Punkte!$G28)))","v":""},{"$f":"IF(Schueler18Punkte!$D$1=0,\"\",IF(Schueler18Punkte!$G28=\"\",\"f\",IF(Schueler18Punkte!$G28>1,\"f\",Schueler18Punkte!$G28)))","v":""},{"$f":"IF(Schueler19Punkte!$D$1=0,\"\",IF(Schueler19Punkte!$G28=\"\",\"f\",IF(Schueler19Punkte!$G28>1,\"f\",Schueler19Punkte!$G28)))","v":""},{"$f":"IF(Schueler20Punkte!$D$1=0,\"\",IF(Schueler20Punkte!$G28=\"\",\"f\",IF(Schueler20Punkte!$G28>1,\"f\",Schueler20Punkte!$G28)))","v":""},{"$f":"IF(Schueler21Punkte!$D$1=0,\"\",IF(Schueler21Punkte!$G28=\"\",\"f\",IF(Schueler21Punkte!$G28>1,\"f\",Schueler21Punkte!$G28)))","v":""},{"$f":"IF(Schueler22Punkte!$D$1=0,\"\",IF(Schueler22Punkte!$G28=\"\",\"f\",IF(Schueler22Punkte!$G28>1,\"f\",Schueler22Punkte!$G28)))","v":""},{"$f":"IF(Schueler23Punkte!$D$1=0,\"\",IF(Schueler23Punkte!$G28=\"\",\"f\",IF(Schueler23Punkte!$G28>1,\"f\",Schueler23Punkte!$G28)))","v":""},{"$f":"IF(Schueler24Punkte!$D$1=0,\"\",IF(Schueler24Punkte!$G28=\"\",\"f\",IF(Schueler24Punkte!$G28>1,\"f\",Schueler24Punkte!$G28)))","v":""},{"$f":"IF(Schueler25Punkte!$D$1=0,\"\",IF(Schueler25Punkte!$G28=\"\",\"f\",IF(Schueler25Punkte!$G28>1,\"f\",Schueler25Punkte!$G28)))","v":""},{"$f":"IF(Schueler26Punkte!$D$1=0,\"\",IF(Schueler26Punkte!$G28=\"\",\"f\",IF(Schueler26Punkte!$G28>1,\"f\",Schueler26Punkte!$G28)))","v":""},{"$f":"IF(Schueler27Punkte!$D$1=0,\"\",IF(Schueler27Punkte!$G28=\"\",\"f\",IF(Schueler27Punkte!$G28>1,\"f\",Schueler27Punkte!$G28)))","v":""},{"$f":"IF(Schueler28Punkte!$D$1=0,\"\",IF(Schueler28Punkte!$G28=\"\",\"f\",IF(Schueler28Punkte!$G28>1,\"f\",Schueler28Punkte!$G28)))","v":""},{"$f":"IF(Schueler29Punkte!$D$1=0,\"\",IF(Schueler29Punkte!$G28=\"\",\"f\",IF(Schueler29Punkte!$G28>1,\"f\",Schueler29Punkte!$G28)))","v":""},{"$f":"IF(Schueler30Punkte!$D$1=0,\"\",IF(Schueler30Punkte!$G28=\"\",\"f\",IF(Schueler30Punkte!$G28>1,\"f\",Schueler30Punkte!$G28)))","v":""},{"$error":"#DIV/0!"}]
[4,"LE16",null,null,null,1,{"$f":"IF(Schueler1Punkte!$D$1=0,\"\",IF(Schueler1Punkte!$G29=\"\",\"f\",IF(Schueler1Punkte!$G29>1,\"f\",Schueler1Punkte!$G29)))","v":""},{"$f":"IF(Schueler2Punkte!$D$1=0,\"\",IF(Schueler2Punkte!$G29=\"\",\"f\",IF(Schueler2Punkte!$G29>1,\"f\",Schueler2Punkte!$G29)))","v":""},{"$f":"IF(Schueler3Punkte!$D$1=0,\"\",IF(Schueler3Punkte!$G29=\"\",\"f\",IF(Schueler3Punkte!$G29>1,\"f\",Schueler3Punkte!$G29)))","v":""},{"$f":"IF(Schueler4Punkte!$D$1=0,\"\",IF(Schueler4Punkte!$G29=\"\",\"f\",IF(Schueler4Punkte!$G29>1,\"f\",Schueler4Punkte!$G29)))","v":""},{"$f":"IF(Schueler5Punkte!$D$1=0,\"\",IF(Schueler5Punkte!$G29=\"\",\"f\",IF(Schueler5Punkte!$G29>1,\"f\",Schueler5Punkte!$G29)))","v":""},{"$f":"IF(Schueler6Punkte!$D$1=0,\"\",IF(Schueler6Punkte!$G29=\"\",\"f\",IF(Schueler6Punkte!$G29>1,\"f\",Schueler6Punkte!$G29)))","v":""},{"$f":"IF(Schueler7Punkte!$D$1=0,\"\",IF(Schueler7Punkte!$G29=\"\",\"f\",IF(Schueler7Punkte!$G29>1,\"f\",Schueler7Punkte!$G29)))","v":""},{"$f":"IF(Schueler8Punkte!$D$1=0,\"\",IF(Schueler8Punkte!$G29=\"\",\"f\",IF(Schueler8Punkte!$G29>1,\"f\",Schueler8Punkte!$G29)))","v":""},{"$f":"IF(Schueler9Punkte!$D$1=0,\"\",IF(Schueler9Punkte!$G29=\"\",\"f\",IF(Schueler9Punkte!$G29>1,\"f\",Schueler9Punkte!$G29)))","v":""},{"$f":"IF(Schueler10Punkte!$D$1=0,\"\",IF(Schueler10Punkte!$G29=\"\",\"f\",IF(Schueler10Punkte!$G29>1,\"f\",Schueler10Punkte!$G29)))","v":""},{"$f":"IF(Schueler11Punkte!$D$1=0,\"\",IF(Schueler11Punkte!$G29=\"\",\"f\",IF(Schueler11Punkte!$G29>1,\"f\",Schueler11Punkte!$G29)))","v":""},{"$f":"IF(Schueler12Punkte!$D$1=0,\"\",IF(Schueler12Punkte!$G29=\"\",\"f\",IF(Schueler12Punkte!$G29>1,\"f\",Schueler12Punkte!$G29)))","v":""},{"$f":"IF(Schueler13Punkte!$D$1=0,\"\",IF(Schueler13Punkte!$G29=\"\",\"f\",IF(Schueler13Punkte!$G29>1,\"f\",Schueler13Punkte!$G29)))","v":""},{"$f":"IF(Schueler14Punkte!$D$1=0,\"\",IF(Schueler14Punkte!$G29=\"\",\"f\",IF(Schueler14Punkte!$G29>1,\"f\",Schueler14Punkte!$G29)))","v":""},{"$f":"IF(Schueler15Punkte!$D$1=0,\"\",IF(Schueler15Punkte!$G29=\"\",\"f\",IF(Schueler15Punkte!$G29>1,\"f\",Schueler15Punkte!$G29)))","v":""},{"$f":"IF(Schueler16Punkte!$D$1=0,\"\",IF(Schueler16Punkte!$G29=\"\",\"f\",IF(Schueler16Punkte!$G29>1,\"f\",Schueler16Punkte!$G29)))","v":""},{"$f":"IF(Schueler17Punkte!$D$1=0,\"\",IF(Schueler17Punkte!$G29=\"\",\"f\",IF(Schueler17Punkte!$G29>1,\"f\",Schueler17Punkte!$G29)))","v":""},{"$f":"IF(Schueler18Punkte!$D$1=0,\"\",IF(Schueler18Punkte!$G29=\"\",\"f\",IF(Schueler18Punkte!$G29>1,\"f\",Schueler18Punkte!$G29)))","v":""},{"$f":"IF(Schueler19Punkte!$D$1=0,\"\",IF(Schueler19Punkte!$G29=\"\",\"f\",IF(Schueler19Punkte!$G29>1,\"f\",Schueler19Punkte!$G29)))","v":""},{"$f":"IF(Schueler20Punkte!$D$1=0,\"\",IF(Schueler20Punkte!$G29=\"\",\"f\",IF(Schueler20Punkte!$G29>1,\"f\",Schueler20Punkte!$G29)))","v":""},{"$f":"IF(Schueler21Punkte!$D$1=0,\"\",IF(Schueler21Punkte!$G29=\"\",\"f\",IF(Schueler21Punkte!$G29>1,\"f\",Schueler21Punkte!$G29)))","v":""},{"$f":"IF(Schueler22Punkte!$D$1=0,\"\",IF(Schueler22Punkte!$G29=\"\",\"f\",IF(Schueler22Punkte!$G29>1,\"f\",Schueler22Punkte!$G29)))","v":""},{"$f":"IF(Schueler23Punkte!$D$1=0,\"\",IF(Schueler23Punkte!$G29=\"\",\"f\",IF(Schueler23Punkte!$G29>1,\"f\",Schueler23Punkte!$G29)))","v":""},{"$f":"IF(Schueler24Punkte!$D$1=0,\"\",IF(Schueler24Punkte!$G29=\"\",\"f\",IF(Schueler24Punkte!$G29>1,\"f\",Schueler24Punkte!$G29)))","v":""},{"$f":"IF(Schueler25Punkte!$D$1=0,\"\",IF(Schueler25Punkte!$G29=\"\",\"f\",IF(Schueler25Punkte!$G29>1,\"f\",Schueler25Punkte!$G29)))","v":""},{"$f":"IF(Schueler26Punkte!$D$1=0,\"\",IF(Schueler26Punkte!$G29=\"\",\"f\",IF(Schueler26Punkte!$G29>1,\"f\",Schueler26Punkte!$G29)))","v":""},{"$f":"IF(Schueler27Punkte!$D$1=0,\"\",IF(Schueler27Punkte!$G29=\"\",\"f\",IF(Schueler27Punkte!$G29>1,\"f\",Schueler27Punkte!$G29)))","v":""},{"$f":"IF(Schueler28Punkte!$D$1=0,\"\",IF(Schueler28Punkte!$G29=\"\",\"f\",IF(Schueler28Punkte!$G29>1,\"f\",Schueler28Punkte!$G29)))","v":""},{"$f":"IF(Schueler29Punkte!$D$1=0,\"\",IF(Schueler29Punkte!$G29=\"\",\"f\",IF(Schueler29Punkte!$G29>1,\"f\",Schueler29Punkte!$G29)))","v":""},{"$f":"IF(Schueler30Punkte!$D$1=0,\"\",IF(Schueler30Punkte!$G29=\"\",\"f\",IF(Schueler30Punkte!$G29>1,\"f\",Schueler30Punkte!$G29)))","v":""},{"$f":"COUNTIF(G34:AJ34,1)/(COUNTIF(G34:AJ34,1)+COUNTIF(G34:AJ34,0))","v":{"$error":"#DIV/0!"}}]
[5,"LE17",null,null,null,1,{"$f":"IF(Schueler1Punkte!$D$1=0,\"\",IF(Schueler1Punkte!$G30=\"\",\"f\",IF(Schueler1Punkte!$G30>1,\"f\",Schueler1Punkte!$G30)))","v":""},{"$f":"IF(Schueler2Punkte!$D$1=0,\"\",IF(Schueler2Punkte!$G30=\"\",\"f\",IF(Schueler2Punkte!$G30>1,\"f\",Schueler2Punkte!$G30)))","v":""},{"$f":"IF(Schueler3Punkte!$D$1=0,\"\",IF(Schueler3Punkte!$G30=\"\",\"f\",IF(Schueler3Punkte!$G30>1,\"f\",Schueler3Punkte!$G30)))","v":""},{"$f":"IF(Schueler4Punkte!$D$1=0,\"\",IF(Schueler4Punkte!$G30=\"\",\"f\",IF(Schueler4Punkte!$G30>1,\"f\",Schueler4Punkte!$G30)))","v":""},{"$f":"IF(Schueler5Punkte!$D$1=0,\"\",IF(Schueler5Punkte!$G30=\"\",\"f\",IF(Schueler5Punkte!$G30>1,\"f\",Schueler5Punkte!$G30)))","v":""},{"$f":"IF(Schueler6Punkte!$D$1=0,\"\",IF(Schueler6Punkte!$G30=\"\",\"f\",IF(Schueler6Punkte!$G30>1,\"f\",Schueler6Punkte!$G30)))","v":""},{"$f":"IF(Schueler7Punkte!$D$1=0,\"\",IF(Schueler7Punkte!$G30=\"\",\"f\",IF(Schueler7Punkte!$G30>1,\"f\",Schueler7Punkte!$G30)))","v":""},{"$f":"IF(Schueler8Punkte!$D$1=0,\"\",IF(Schueler8Punkte!$G30=\"\",\"f\",IF(Schueler8Punkte!$G30>1,\"f\",Schueler8Punkte!$G30)))","v":""},{"$f":"IF(Schueler9Punkte!$D$1=0,\"\",IF(Schueler9Punkte!$G30=\"\",\"f\",IF(Schueler9Punkte!$G30>1,\"f\",Schueler9Punkte!$G30)))","v":""},{"$f":"IF(Schueler10Punkte!$D$1=0,\"\",IF(Schueler10Punkte!$G30=\"\",\"f\",IF(Schueler10Punkte!$G30>1,\"f\",Schueler10Punkte!$G30)))","v":""},{"$f":"IF(Schueler11Punkte!$D$1=0,\"\",IF(Schueler11Punkte!$G30=\"\",\"f\",IF(Schueler11Punkte!$G30>1,\"f\",Schueler11Punkte!$G30)))","v":""},{"$f":"IF(Schueler12Punkte!$D$1=0,\"\",IF(Schueler12Punkte!$G30=\"\",\"f\",IF(Schueler12Punkte!$G30>1,\"f\",Schueler12Punkte!$G30)))","v":""},{"$f":"IF(Schueler13Punkte!$D$1=0,\"\",IF(Schueler13Punkte!$G30=\"\",\"f\",IF(Schueler13Punkte!$G30>1,\"f\",Schueler13Punkte!$G30)))","v":""},{"$f":"IF(Schueler14Punkte!$D$1=0,\"\",IF(Schueler14Punkte!$G30=\"\",\"f\",IF(Schueler14Punkte!$G30>1,\"f\",Schueler14Punkte!$G30)))","v":""},{"$f":"IF(Schueler15Punkte!$D$1=0,\"\",IF(Schueler15Punkte!$G30=\"\",\"f\",IF(Schueler15Punkte!$G30>1,\"f\",Schueler15Punkte!$G30)))","v":""},{"$f":"IF(Schueler16Punkte!$D$1=0,\"\",IF(Schueler16Punkte!$G30=\"\",\"f\",IF(Schueler16Punkte!$G30>1,\"f\",Schueler16Punkte!$G30)))","v":""},{"$f":"IF(Schueler17Punkte!$D$1=0,\"\",IF(Schueler17Punkte!$G30=\"\",\"f\",IF(Schueler17Punkte!$G30>1,\"f\",Schueler17Punkte!$G30)))","v":""},{"$f":"IF(Schueler18Punkte!$D$1=0,\"\",IF(Schueler18Punkte!$G30=\"\",\"f\",IF(Schueler18Punkte!$G30>1,\"f\",Schueler18Punkte!$G30)))","v":""},{"$f":"IF(Schueler19Punkte!$D$1=0,\"\",IF(Schueler19Punkte!$G30=\"\",\"f\",IF(Schueler19Punkte!$G30>1,\"f\",Schueler19Punkte!$G30)))","v":""},{"$f":"IF(Schueler20Punkte!$D$1=0,\"\",IF(Schueler20Punkte!$G30=\"\",\"f\",IF(Schueler20Punkte!$G30>1,\"f\",Schueler20Punkte!$G30)))","v":""},{"$f":"IF(Schueler21Punkte!$D$1=0,\"\",IF(Schueler21Punkte!$G30=\"\",\"f\",IF(Schueler21Punkte!$G30>1,\"f\",Schueler21Punkte!$G30)))","v":""},{"$f":"IF(Schueler22Punkte!$D$1=0,\"\",IF(Schueler22Punkte!$G30=\"\",\"f\",IF(Schueler22Punkte!$G30>1,\"f\",Schueler22Punkte!$G30)))","v":""},{"$f":"IF(Schueler23Punkte!$D$1=0,\"\",IF(Schueler23Punkte!$G30=\"\",\"f\",IF(Schueler23Punkte!$G30>1,\"f\",Schueler23Punkte!$G30)))","v":""},{"$f":"IF(Schueler24Punkte!$D$1=0,\"\",IF(Schueler24Punkte!$G30=\"\",\"f\",IF(Schueler24Punkte!$G30>1,\"f\",Schueler24Punkte!$G30)))","v":""},{"$f":"IF(Schueler25Punkte!$D$1=0,\"\",IF(Schueler25Punkte!$G30=\"\",\"f\",IF(Schueler25Punkte!$G30>1,\"f\",Schueler25Punkte!$G30)))","v":""},{"$f":"IF(Schueler26Punkte!$D$1=0,\"\",IF(Schueler26Punkte!$G30=\"\",\"f\",IF(Schueler26Punkte!$G30>1,\"f\",Schueler26Punkte!$G30)))","v":""},{"$f":"IF(Schueler27Punkte!$D$1=0,\"\",IF(Schueler27Punkte!$G30=\"\",\"f\",IF(Schueler27Punkte!$G30>1,\"f\",Schueler27Punkte!$G30)))","v":""},{"$f":"IF(Schueler28Punkte!$D$1=0,\"\",IF(Schueler28Punkte!$G30=\"\",\"f\",IF(Schueler28Punkte!$G30>1,\"f\",Schueler28Punkte!$G30)))","v":""},{"$f":"IF(Schueler29Punkte!$D$1=0,\"\",IF(Schueler29Punkte!$G30=\"\",\"f\",IF(Schueler29Punkte!$G30>1,\"f\",Schueler29Punkte!$G30)))","v":""},{"$f":"IF(Schueler30Punkte!$D$1=0,\"\",IF(Schueler30Punkte!$G30=\"\",\"f\",IF(Schueler30Punkte!$G30>1,\"f\",Schueler30Punkte!$G30)))","v":""},{"$f":"COUNTIF(G35:AJ35,1)/(COUNTIF(G35:AJ35,1)+COUNTIF(G35:AJ35,0))","v":{"$error":"#DIV/0!"}}]
[6,"LE18",null,null,null,1,{"$f":"IF(Schueler1Punkte!$D$1=0,\"\",IF(Schueler1Punkte!$G31=\"\",\"f\",IF(Schueler1Punkte!$G31>1,\"f\",Schueler1Punkte!$G31)))","v":""},{"$f":"IF(Schueler2Punkte!$D$1=0,\"\",IF(Schueler2Punkte!$G31=\"\",\"f\",IF(Schueler2Punkte!$G31>1,\"f\",Schueler2Punkte!$G31)))","v":""},{"$f":"IF(Schueler3Punkte!$D$1=0,\"\",IF(Schueler3Punkte!$G31=\"\",\"f\",IF(Schueler3Punkte!$G31>1,\"f\",Schueler3Punkte!$G31)))","v":""},{"$f":"IF(Schueler4Punkte!$D$1=0,\"\",IF(Schueler4Punkte!$G31=\"\",\"f\",IF(Schueler4Punkte!$G31>1,\"f\",Schueler4Punkte!$G31)))","v":""},{"$f":"IF(Schueler5Punkte!$D$1=0,\"\",IF(Schueler5Punkte!$G31=\"\",\"f\",IF(Schueler5Punkte!$G31>1,\"f\",Schueler5Punkte!$G31)))","v":""},{"$f":"IF(Schueler6Punkte!$D$1=0,\"\",IF(Schueler6Punkte!$G31=\"\",\"f\",IF(Schueler6Punkte!$G31>1,\"f\",Schueler6Punkte!$G31)))","v":""},{"$f":"IF(Schueler7Punkte!$D$1=0,\"\",IF(Schueler7Punkte!$G31=\"\",\"f\",IF(Schueler7Punkte!$G31>1,\"f\",Schueler7Punkte!$G31)))","v":""},{"$f":"IF(Schueler8Punkte!$D$1=0,\"\",IF(Schueler8Punkte!$G31=\"\",\"f\",IF(Schueler8Punkte!$G31>1,\"f\",Schueler8Punkte!$G31)))","v":""},{"$f":"IF(Schueler9Punkte!$D$1=0,\"\",IF(Schueler9Punkte!$G31=\"\",\"f\",IF(Schueler9Punkte!$G31>1,\"f\",Schueler9Punkte!$G31)))","v":""},{"$f":"IF(Schueler10Punkte!$D$1=0,\"\",IF(Schueler10Punkte!$G31=\"\",\"f\",IF(Schueler10Punkte!$G31>1,\"f\",Schueler10Punkte!$G31)))","v":""},{"$f":"IF(Schueler11Punkte!$D$1=0,\"\",IF(Schueler11Punkte!$G31=\"\",\"f\",IF(Schueler11Punkte!$G31>1,\"f\",Schueler11Punkte!$G31)))","v":""},{"$f":"IF(Schueler12Punkte!$D$1=0,\"\",IF(Schueler12Punkte!$G31=\"\",\"f\",IF(Schueler12Punkte!$G31>1,\"f\",Schueler12Punkte!$G31)))","v":""},{"$f":"IF(Schueler13Punkte!$D$1=0,\"\",IF(Schueler13Punkte!$G31=\"\",\"f\",IF(Schueler13Punkte!$G31>1,\"f\",Schueler13Punkte!$G31)))","v":""},{"$f":"IF(Schueler14Punkte!$D$1=0,\"\",IF(Schueler14Punkte!$G31=\"\",\"f\",IF(Schueler14Punkte!$G31>1,\"f\",Schueler14Punkte!$G31)))","v":""},{"$f":"IF(Schueler15Punkte!$D$1=0,\"\",IF(Schueler15Punkte!$G31=\"\",\"f\",IF(Schueler15Punkte!$G31>1,\"f\",Schueler15Punkte!$G31)))","v":""},{"$f":"IF(Schueler16Punkte!$D$1=0,\"\",IF(Schueler16Punkte!$G31=\"\",\"f\",IF(Schueler16Punkte!$G31>1,\"f\",Schueler16Punkte!$G31)))","v":""},{"$f":"IF(Schueler17Punkte!$D$1=0,\"\",IF(Schueler17Punkte!$G31=\"\",\"f\",IF(Schueler17Punkte!$G31>1,\"f\",Schueler17Punkte!$G31)))","v":""},{"$f":"IF(Schueler18Punkte!$D$1=0,\"\",IF(Schueler18Punkte!$G31=\"\",\"f\",IF(Schueler18Punkte!$G31>1,\"f\",Schueler18Punkte!$G31)))","v":""},{"$f":"IF(Schueler19Punkte!$D$1=0,\"\",IF(Schueler19Punkte!$G31=\"\",\"f\",IF(Schueler19Punkte!$G31>1,\"f\",Schueler19Punkte!$G31)))","v":""},{"$f":"IF(Schueler20Punkte!$D$1=0,\"\",IF(Schueler20Punkte!$G31=\"\",\"f\",IF(Schueler20Punkte!$G31>1,\"f\",Schueler20Punkte!$G31)))","v":""},{"$f":"IF(Schueler21Punkte!$D$1=0,\"\",IF(Schueler21Punkte!$G31=\"\",\"f\",IF(Schueler21Punkte!$G31>1,\"f\",Schueler21Punkte!$G31)))","v":""},{"$f":"IF(Schueler22Punkte!$D$1=0,\"\",IF(Schueler22Punkte!$G31=\"\",\"f\",IF(Schueler22Punkte!$G31>1,\"f\",Schueler22Punkte!$G31)))","v":""},{"$f":"IF(Schueler23Punkte!$D$1=0,\"\",IF(Schueler23Punkte!$G31=\"\",\"f\",IF(Schueler23Punkte!$G31>1,\"f\",Schueler23Punkte!$G31)))","v":""},{"$f":"IF(Schueler24Punkte!$D$1=0,\"\",IF(Schueler24Punkte!$G31=\"\",\"f\",IF(Schueler24Punkte!$G31>1,\"f\",Schueler24Punkte!$G31)))","v":""},{"$f":"IF(Schueler25Punkte!$D$1=0,\"\",IF(Schueler25Punkte!$G31=\"\",\"f\",IF(Schueler25Punkte!$G31>1,\"f\",Schueler25Punkte!$G31)))","v":""},{"$f":"IF(Schueler26Punkte!$D$1=0,\"\",IF(Schueler26Punkte!$G31=\"\",\"f\",IF(Schueler26Punkte!$G31>1,\"f\",Schueler26Punkte!$G31)))","v":""},{"$f":"IF(Schueler27Punkte!$D$1=0,\"\",IF(Schueler27Punkte!$G31=\"\",\"f\",IF(Schueler27Punkte!$G31>1,\"f\",Schueler27Punkte!$G31)))","v":""},{"$f":"IF(Schueler28Punkte!$D$1=0,\"\",IF(Schueler28Punkte!$G31=\"\",\"f\",IF(Schueler28Punkte!$G31>1,\"f\",Schueler28Punkte!$G31)))","v":""},{"$f":"IF(Schueler29Punkte!$D$1=0,\"\",IF(Schueler29Punkte!$G31=\"\",\"f\",IF(Schueler29Punkte!$G31>1,\"f\",Schueler29Punkte!$G31)))","v":""},{"$f":"IF(Schueler30Punkte!$D$1=0,\"\",IF(Schueler30Punkte!$G31=\"\",\"f\",IF(Schueler30Punkte!$G31>1,\"f\",Schueler30Punkte!$G31)))","v":""},{"$error":"#DIV/0!"}]
[7,"LE19",null,null,null,1,{"$f":"IF(Schueler1Punkte!$D$1=0,\"\",IF(Schueler1Punkte!$G32=\"\",\"f\",IF(Schueler1Punkte!$G32>1,\"f\",Schueler1Punkte!$G32)))","v":""},{"$f":"IF(Schueler2Punkte!$D$1=0,\"\",IF(Schueler2Punkte!$G32=\"\",\"f\",IF(Schueler2Punkte!$G32>1,\"f\",Schueler2Punkte!$G32)))","v":""},{"$f":"IF(Schueler3Punkte!$D$1=0,\"\",IF(Schueler3Punkte!$G32=\"\",\"f\",IF(Schueler3Punkte!$G32>1,\"f\",Schueler3Punkte!$G32)))","v":""},{"$f":"IF(Schueler4Punkte!$D$1=0,\"\",IF(Schueler4Punkte!$G32=\"\",\"f\",IF(Schueler4Punkte!$G32>1,\"f\",Schueler4Punkte!$G32)))","v":""},{"$f":"IF(Schueler5Punkte!$D$1=0,\"\",IF(Schueler5Punkte!$G32=\"\",\"f\",IF(Schueler5Punkte!$G32>1,\"f\",Schueler5Punkte!$G32)))","v":""},{"$f":"IF(Schueler6Punkte!$D$1=0,\"\",IF(Schueler6Punkte!$G32=\"\",\"f\",IF(Schueler6Punkte!$G32>1,\"f\",Schueler6Punkte!$G32)))","v":""},{"$f":"IF(Schueler7Punkte!$D$1=0,\"\",IF(Schueler7Punkte!$G32=\"\",\"f\",IF(Schueler7Punkte!$G32>1,\"f\",Schueler7Punkte!$G32)))","v":""},{"$f":"IF(Schueler8Punkte!$D$1=0,\"\",IF(Schueler8Punkte!$G32=\"\",\"f\",IF(Schueler8Punkte!$G32>1,\"f\",Schueler8Punkte!$G32)))","v":""},{"$f":"IF(Schueler9Punkte!$D$1=0,\"\",IF(Schueler9Punkte!$G32=\"\",\"f\",IF(Schueler9Punkte!$G32>1,\"f\",Schueler9Punkte!$G32)))","v":""},{"$f":"IF(Schueler10Punkte!$D$1=0,\"\",IF(Schueler10Punkte!$G32=\"\",\"f\",IF(Schueler10Punkte!$G32>1,\"f\",Schueler10Punkte!$G32)))","v":""},{"$f":"IF(Schueler11Punkte!$D$1=0,\"\",IF(Schueler11Punkte!$G32=\"\",\"f\",IF(Schueler11Punkte!$G32>1,\"f\",Schueler11Punkte!$G32)))","v":""},{"$f":"IF(Schueler12Punkte!$D$1=0,\"\",IF(Schueler12Punkte!$G32=\"\",\"f\",IF(Schueler12Punkte!$G32>1,\"f\",Schueler12Punkte!$G32)))","v":""},{"$f":"IF(Schueler13Punkte!$D$1=0,\"\",IF(Schueler13Punkte!$G32=\"\",\"f\",IF(Schueler13Punkte!$G32>1,\"f\",Schueler13Punkte!$G32)))","v":""},{"$f":"IF(Schueler14Punkte!$D$1=0,\"\",IF(Schueler14Punkte!$G32=\"\",\"f\",IF(Schueler14Punkte!$G32>1,\"f\",Schueler14Punkte!$G32)))","v":""},{"$f":"IF(Schueler15Punkte!$D$1=0,\"\",IF(Schueler15Punkte!$G32=\"\",\"f\",IF(Schueler15Punkte!$G32>1,\"f\",Schueler15Punkte!$G32)))","v":""},{"$f":"IF(Schueler16Punkte!$D$1=0,\"\",IF(Schueler16Punkte!$G32=\"\",\"f\",IF(Schueler16Punkte!$G32>1,\"f\",Schueler16Punkte!$G32)))","v":""},{"$f":"IF(Schueler17Punkte!$D$1=0,\"\",IF(Schueler17Punkte!$G32=\"\",\"f\",IF(Schueler17Punkte!$G32>1,\"f\",Schueler17Punkte!$G32)))","v":""},{"$f":"IF(Schueler18Punkte!$D$1=0,\"\",IF(Schueler18Punkte!$G32=\"\",\"f\",IF(Schueler18Punkte!$G32>1,\"f\",Schueler18Punkte!$G32)))","v":""},{"$f":"IF(Schueler19Punkte!$D$1=0,\"\",IF(Schueler19Punkte!$G32=\"\",\"f\",IF(Schueler19Punkte!$G32>1,\"f\",Schueler19Punkte!$G32)))","v":""},{"$f":"IF(Schueler20Punkte!$D$1=0,\"\",IF(Schueler20Punkte!$G32=\"\",\"f\",IF(Schueler20Punkte!$G32>1,\"f\",Schueler20Punkte!$G32)))","v":""},{"$f":"IF(Schueler21Punkte!$D$1=0,\"\",IF(Schueler21Punkte!$G32=\"\",\"f\",IF(Schueler21Punkte!$G32>1,\"f\",Schueler21Punkte!$G32)))","v":""},{"$f":"IF(Schueler22Punkte!$D$1=0,\"\",IF(Schueler22Punkte!$G32=\"\",\"f\",IF(Schueler22Punkte!$G32>1,\"f\",Schueler22Punkte!$G32)))","v":""},{"$f":"IF(Schueler23Punkte!$D$1=0,\"\",IF(Schueler23Punkte!$G32=\"\",\"f\",IF(Schueler23Punkte!$G32>1,\"f\",Schueler23Punkte!$G32)))","v":""},{"$f":"IF(Schueler24Punkte!$D$1=0,\"\",IF(Schueler24Punkte!$G32=\"\",\"f\",IF(Schueler24Punkte!$G32>1,\"f\",Schueler24Punkte!$G32)))","v":""},{"$f":"IF(Schueler25Punkte!$D$1=0,\"\",IF(Schueler25Punkte!$G32=\"\",\"f\",IF(Schueler25Punkte!$G32>1,\"f\",Schueler25Punkte!$G32)))","v":""},{"$f":"IF(Schueler26Punkte!$D$1=0,\"\",IF(Schueler26Punkte!$G32=\"\",\"f\",IF(Schueler26Punkte!$G32>1,\"f\",Schueler26Punkte!$G32)))","v":""},{"$f":"IF(Schueler27Punkte!$D$1=0,\"\",IF(Schueler27Punkte!$G32=\"\",\"f\",IF(Schueler27Punkte!$G32>1,\"f\",Schueler27Punkte!$G32)))","v":""},{"$f":"IF(Schueler28Punkte!$D$1=0,\"\",IF(Schueler28Punkte!$G32=\"\",\"f\",IF(Schueler28Punkte!$G32>1,\"f\",Schueler28Punkte!$G32)))","v":""},{"$f":"IF(Schueler29Punkte!$D$1=0,\"\",IF(Schueler29Punkte!$G32=\"\",\"f\",IF(Schueler29Punkte!$G32>1,\"f\",Schueler29Punkte!$G32)))","v":""},{"$f":"IF(Schueler30Punkte!$D$1=0,\"\",IF(Schueler30Punkte!$G32=\"\",\"f\",IF(Schueler30Punkte!$G32>1,\"f\",Schueler30Punkte!$G32)))","v":""},{"$error":"#DIV/0!"}]
[8,"LE20",null,null,null,1,{"$f":"IF(Schueler1Punkte!$D$1=0,\"\",IF(Schueler1Punkte!$G33=\"\",\"f\",IF(Schueler1Punkte!$G33>1,\"f\",Schueler1Punkte!$G33)))","v":""},{"$f":"IF(Schueler2Punkte!$D$1=0,\"\",IF(Schueler2Punkte!$G33=\"\",\"f\",IF(Schueler2Punkte!$G33>1,\"f\",Schueler2Punkte!$G33)))","v":""},{"$f":"IF(Schueler3Punkte!$D$1=0,\"\",IF(Schueler3Punkte!$G33=\"\",\"f\",IF(Schueler3Punkte!$G33>1,\"f\",Schueler3Punkte!$G33)))","v":""},{"$f":"IF(Schueler4Punkte!$D$1=0,\"\",IF(Schueler4Punkte!$G33=\"\",\"f\",IF(Schueler4Punkte!$G33>1,\"f\",Schueler4Punkte!$G33)))","v":""},{"$f":"IF(Schueler5Punkte!$D$1=0,\"\",IF(Schueler5Punkte!$G33=\"\",\"f\",IF(Schueler5Punkte!$G33>1,\"f\",Schueler5Punkte!$G33)))","v":""},{"$f":"IF(Schueler6Punkte!$D$1=0,\"\",IF(Schueler6Punkte!$G33=\"\",\"f\",IF(Schueler6Punkte!$G33>1,\"f\",Schueler6Punkte!$G33)))","v":""},{"$f":"IF(Schueler7Punkte!$D$1=0,\"\",IF(Schueler7Punkte!$G33=\"\",\"f\",IF(Schueler7Punkte!$G33>1,\"f\",Schueler7Punkte!$G33)))","v":""},{"$f":"IF(Schueler8Punkte!$D$1=0,\"\",IF(Schueler8Punkte!$G33=\"\",\"f\",IF(Schueler8Punkte!$G33>1,\"f\",Schueler8Punkte!$G33)))","v":""},{"$f":"IF(Schueler9Punkte!$D$1=0,\"\",IF(Schueler9Punkte!$G33=\"\",\"f\",IF(Schueler9Punkte!$G33>1,\"f\",Schueler9Punkte!$G33)))","v":""},{"$f":"IF(Schueler10Punkte!$D$1=0,\"\",IF(Schueler10Punkte!$G33=\"\",\"f\",IF(Schueler10Punkte!$G33>1,\"f\",Schueler10Punkte!$G33)))","v":""},{"$f":"IF(Schueler11Punkte!$D$1=0,\"\",IF(Schueler11Punkte!$G33=\"\",\"f\",IF(Schueler11Punkte!$G33>1,\"f\",Schueler11Punkte!$G33)))","v":""},{"$f":"IF(Schueler12Punkte!$D$1=0,\"\",IF(Schueler12Punkte!$G33=\"\",\"f\",IF(Schueler12Punkte!$G33>1,\"f\",Schueler12Punkte!$G33)))","v":""},{"$f":"IF(Schueler13Punkte!$D$1=0,\"\",IF(Schueler13Punkte!$G33=\"\",\"f\",IF(Schueler13Punkte!$G33>1,\"f\",Schueler13Punkte!$G33)))","v":""},{"$f":"IF(Schueler14Punkte!$D$1=0,\"\",IF(Schueler14Punkte!$G33=\"\",\"f\",IF(Schueler14Punkte!$G33>1,\"f\",Schueler14Punkte!$G33)))","v":""},{"$f":"IF(Schueler15Punkte!$D$1=0,\"\",IF(Schueler15Punkte!$G33=\"\",\"f\",IF(Schueler15Punkte!$G33>1,\"f\",Schueler15Punkte!$G33)))","v":""},{"$f":"IF(Schueler16Punkte!$D$1=0,\"\",IF(Schueler16Punkte!$G33=\"\",\"f\",IF(Schueler16Punkte!$G33>1,\"f\",Schueler16Punkte!$G33)))","v":""},{"$f":"IF(Schueler17Punkte!$D$1=0,\"\",IF(Schueler17Punkte!$G33=\"\",\"f\",IF(Schueler17Punkte!$G33>1,\"f\",Schueler17Punkte!$G33)))","v":""},{"$f":"IF(Schueler18Punkte!$D$1=0,\"\",IF(Schueler18Punkte!$G33=\"\",\"f\",IF(Schueler18Punkte!$G33>1,\"f\",Schueler18Punkte!$G33)))","v":""},{"$f":"IF(Schueler19Punkte!$D$1=0,\"\",IF(Schueler19Punkte!$G33=\"\",\"f\",IF(Schueler19Punkte!$G33>1,\"f\",Schueler19Punkte!$G33)))","v":""},{"$f":"IF(Schueler20Punkte!$D$1=0,\"\",IF(Schueler20Punkte!$G33=\"\",\"f\",IF(Schueler20Punkte!$G33>1,\"f\",Schueler20Punkte!$G33)))","v":""},{"$f":"IF(Schueler21Punkte!$D$1=0,\"\",IF(Schueler21Punkte!$G33=\"\",\"f\",IF(Schueler21Punkte!$G33>1,\"f\",Schueler21Punkte!$G33)))","v":""},{"$f":"IF(Schueler22Punkte!$D$1=0,\"\",IF(Schueler22Punkte!$G33=\"\",\"f\",IF(Schueler22Punkte!$G33>1,\"f\",Schueler22Punkte!$G33)))","v":""},{"$f":"IF(Schueler23Punkte!$D$1=0,\"\",IF(Schueler23Punkte!$G33=\"\",\"f\",IF(Schueler23Punkte!$G33>1,\"f\",Schueler23Punkte!$G33)))","v":""},{"$f":"IF(Schueler24Punkte!$D$1=0,\"\",IF(Schueler24Punkte!$G33=\"\",\"f\",IF(Schueler24Punkte!$G33>1,\"f\",Schueler24Punkte!$G33)))","v":""},{"$f":"IF(Schueler25Punkte!$D$1=0,\"\",IF(Schueler25Punkte!$G33=\"\",\"f\",IF(Schueler25Punkte!$G33>1,\"f\",Schueler25Punkte!$G33)))","v":""},{"$f":"IF(Schueler26Punkte!$D$1=0,\"\",IF(Schueler26Punkte!$G33=\"\",\"f\",IF(Schueler26Punkte!$G33>1,\"f\",Schueler26Punkte!$G33)))","v":""},{"$f":"IF(Schueler27Punkte!$D$1=0,\"\",IF(Schueler27Punkte!$G33=\"\",\"f\",IF(Schueler27Punkte!$G33>1,\"f\",Schueler27Punkte!$G33)))","v":""},{"$f":"IF(Schueler28Punkte!$D$1=0,\"\",IF(Schueler28Punkte!$G33=\"\",\"f\",IF(Schueler28Punkte!$G33>1,\"f\",Schueler28Punkte!$G33)))","v":""},{"$f":"IF(Schueler29Punkte!$D$1=0,\"\",IF(Schueler29Punkte!$G33=\"\",\"f\",IF(Schueler29Punkte!$G33>1,\"f\",Schueler29Punkte!$G33)))","v":""},{"$f":"IF(Schueler30Punkte!$D$1=0,\"\",IF(Schueler30Punkte!$G33=\"\",\"f\",IF(Schueler30Punkte!$G33>1,\"f\",Schueler30Punkte!$G33)))","v":""},{"$error":"#DIV/0!"}]
[null,null,"MORPHOLOGIE",null,null,8,{"$f":"IF(OR(G40=\"\",G40=\"f\"),\"\",SUM(G40,G41,G42,G43,G44,G45,G46,G47))","v":""},{"$f":"IF(OR(H40=\"\",H40=\"f\"),\"\",SUM(H40,H41,H42,H43,H44,H45,H46,H47))","v":""},"","","","","","","","","","","","","","","","","","","","","","","","","","","",""]
[1,"MO21",null,null,null,1,{"$f":"IF(Schueler1Punkte!$D$1=0,\"\",IF(Schueler1Punkte!$G34=\"\",\"f\",IF(Schueler1Punkte!$G34>1,\"f\",Schueler1Punkte!$G34)))","v":""},{"$f":"IF(Schueler2Punkte!$D$1=0,\"\",IF(Schueler2Punkte!$G34=\"\",\"f\",IF(Schueler2Punkte!$G34>1,\"f\",Schueler2Punkte!$G34)))","v":""},{"$f":"IF(Schueler3Punkte!$D$1=0,\"\",IF(Schueler3Punkte!$G34=\"\",\"f\",IF(Schueler3Punkte!$G34>1,\"f\",Schueler3Punkte!$G34)))","v":""},{"$f":"IF(Schueler4Punkte!$D$1=0,\"\",IF(Schueler4Punkte!$G34=\"\",\"f\",IF(Schueler4Punkte!$G34>1,\"f\",Schueler4Punkte!$G34)))","v":""},{"$f":"IF(Schueler5Punkte!$D$1=0,\"\",IF(Schueler5Punkte!$G34=\"\",\"f\",IF(Schueler5Punkte!$G34>1,\"f\",Schueler5Punkte!$G34)))","v":""},{"$f":"IF(Schueler6Punkte!$D$1=0,\"\",IF(Schueler6Punkte!$G34=\"\",\"f\",IF(Schueler6Punkte!$G34>1,\"f\",Schueler6Punkte!$G34)))","v":""},{"$f":"IF(Schueler7Punkte!$D$1=0,\"\",IF(Schueler7Punkte!$G34=\"\",\"f\",IF(Schueler7Punkte!$G34>1,\"f\",Schueler7Punkte!$G34)))","v":""},{"$f":"IF(Schueler8Punkte!$D$1=0,\"\",IF(Schueler8Punkte!$G34=\"\",\"f\",IF(Schueler8Punkte!$G34>1,\"f\",Schueler8Punkte!$G34)))","v":""},{"$f":"IF(Schueler9Punkte!$D$1=0,\"\",IF(Schueler9Punkte!$G34=\"\",\"f\",IF(Schueler9Punkte!$G34>1,\"f\",Schueler9Punkte!$G34)))","v":""},{"$f":"IF(Schueler10Punkte!$D$1=0,\"\",IF(Schueler10Punkte!$G34=\"\",\"f\",IF(Schueler10Punkte!$G34>1,\"f\",Schueler10Punkte!$G34)))","v":""},{"$f":"IF(Schueler11Punkte!$D$1=0,\"\",IF(Schueler11Punkte!$G34=\"\",\"f\",IF(Schueler11Punkte!$G34>1,\"f\",Schueler11Punkte!$G34)))","v":""},{"$f":"IF(Schueler12Punkte!$D$1=0,\"\",IF(Schueler12Punkte!$G34=\"\",\"f\",IF(Schueler12Punkte!$G34>1,\"f\",Schueler12Punkte!$G34)))","v":""},{"$f":"IF(Schueler13Punkte!$D$1=0,\"\",IF(Schueler13Punkte!$G34=\"\",\"f\",IF(Schueler13Punkte!$G34>1,\"f\",Schueler13Punkte!$G34)))","v":""},{"$f":"IF(Schueler14Punkte!$D$1=0,\"\",IF(Schueler14Punkte!$G34=\"\",\"f\",IF(Schueler14Punkte!$G34>1,\"f\",Schueler14Punkte!$G34)))","v":""},{"$f":"IF(Schueler15Punkte!$D$1=0,\"\",IF(Schueler15Punkte!$G34=\"\",\"f\",IF(Schueler15Punkte!$G34>1,\"f\",Schueler15Punkte!$G34)))","v":""},{"$f":"IF(Schueler16Punkte!$D$1=0,\"\",IF(Schueler16Punkte!$G34=\"\",\"f\",IF(Schueler16Punkte!$G34>1,\"f\",Schueler16Punkte!$G34)))","v":""},{"$f":"IF(Schueler17Punkte!$D$1=0,\"\",IF(Schueler17Punkte!$G34=\"\",\"f\",IF(Schueler17Punkte!$G34>1,\"f\",Schueler17Punkte!$G34)))","v":""},{"$f":"IF(Schueler18Punkte!$D$1=0,\"\",IF(Schueler18Punkte!$G34=\"\",\"f\",IF(Schueler18Punkte!$G34>1,\"f\",Schueler18Punkte!$G34)))","v":""},{"$f":"IF(Schueler19Punkte!$D$1=0,\"\",IF(Schueler19Punkte!$G34=\"\",\"f\",IF(Schueler19Punkte!$G34>1,\"f\",Schueler19Punkte!$G34)))","v":""},{"$f":"IF(Schueler20Punkte!$D$1=0,\"\",IF(Schueler20Punkte!$G34=\"\",\"f\",IF(Schueler20Punkte!$G34>1,\"f\",Schueler20Punkte!$G34)))","v":""},{"$f":"IF(Schueler21Punkte!$D$1=0,\"\",IF(Schueler21Punkte!$G34=\"\",\"f\",IF(Schueler21Punkte!$G34>1,\"f\",Schueler21Punkte!$G34)))","v":""},{"$f":"IF(Schueler22Punkte!$D$1=0,\"\",IF(Schueler22Punkte!$G34=\"\",\"f\",IF(Schueler22Punkte!$G34>1,\"f\",Schueler22Punkte!$G34)))","v":""},{"$f":"IF(Schueler23Punkte!$D$1=0,\"\",IF(Schueler23Punkte!$G34=\"\",\"f\",IF(Schueler23Punkte!$G34>1,\"f\",Schueler23Punkte!$G34)))","v":""},{"$f":"IF(Schueler24Punkte!$D$1=0,\"\",IF(Schueler24Punkte!$G34=\"\",\"f\",IF(Schueler24Punkte!$G34>1,\"f\",Schueler24Punkte!$G34)))","v":""},{"$f":"IF(Schueler25Punkte!$D$1=0,\"\",IF(Schueler25Punkte!$G34=\"\",\"f\",IF(Schueler25Punkte!$G34>1,\"f\",Schueler25Punkte!$G34)))","v":""},{"$f":"IF(Schueler26Punkte!$D$1=0,\"\",IF(Schueler26Punkte!$G34=\"\",\"f\",IF(Schueler26Punkte!$G34>1,\"f\",Schueler26Punkte!$G34)))","v":""},{"$f":"IF(Schueler27Punkte!$D$1=0,\"\",IF(Schueler27Punkte!$G34=\"\",\"f\",IF(Schueler27Punkte!$G34>1,\"f\",Schueler27Punkte!$G34)))","v":""},{"$f":"IF(Schueler28Punkte!$D$1=0,\"\",IF(Schueler28Punkte!$G34=\"\",\"f\",IF(Schueler28Punkte!$G34>1,\"f\",Schueler28Punkte!$G34)))","v":""},{"$f":"IF(Schueler29Punkte!$D$1=0,\"\",IF(Schueler29Punkte!$G34=\"\",\"f\",IF(Schueler29Punkte!$G34>1,\"f\",Schueler29Punkte!$G34)))","v":""},{"$f":"IF(Schueler30Punkte!$D$1=0,\"\",IF(Schueler30Punkte!$G34=\"\",\"f\",IF(Schueler30Punkte!$G34>1,\"f\",Schueler30Punkte!$G34)))","v":""},{"$error":"#DIV/0!"}]
[2,"MO22",null,null,null,1,{"$f":"IF(Schueler1Punkte!$D$1=0,\"\",IF(Schueler1Punkte!$G35=\"\",\"f\",IF(Schueler1Punkte!$G35>1,\"f\",Schueler1Punkte!$G35)))","v":""},{"$f":"IF(Schueler2Punkte!$D$1=0,\"\",IF(Schueler2Punkte!$G35=\"\",\"f\",IF(Schueler2Punkte!$G35>1,\"f\",Schueler2Punkte!$G35)))","v":""},{"$f":"IF(Schueler3Punkte!$D$1=0,\"\",IF(Schueler3Punkte!$G35=\"\",\"f\",IF(Schueler3Punkte!$G35>1,\"f\",Schueler3Punkte!$G35)))","v":""},{"$f":"IF(Schueler4Punkte!$D$1=0,\"\",IF(Schueler4Punkte!$G35=\"\",\"f\",IF(Schueler4Punkte!$G35>1,\"f\",Schueler4Punkte!$G35)))","v":""},{"$f":"IF(Schueler5Punkte!$D$1=0,\"\",IF(Schueler5Punkte!$G35=\"\",\"f\",IF(Schueler5Punkte!$G35>1,\"f\",Schueler5Punkte!$G35)))","v":""},{"$f":"IF(Schueler6Punkte!$D$1=0,\"\",IF(Schueler6Punkte!$G35=\"\",\"f\",IF(Schueler6Punkte!$G35>1,\"f\",Schueler6Punkte!$G35)))","v":""},{"$f":"IF(Schueler7Punkte!$D$1=0,\"\",IF(Schueler7Punkte!$G35=\"\",\"f\",IF(Schueler7Punkte!$G35>1,\"f\",Schueler7Punkte!$G35)))","v":""},{"$f":"IF(Schueler8Punkte!$D$1=0,\"\",IF(Schueler8Punkte!$G35=\"\",\"f\",IF(Schueler8Punkte!$G35>1,\"f\",Schueler8Punkte!$G35)))","v":""},{"$f":"IF(Schueler9Punkte!$D$1=0,\"\",IF(Schueler9Punkte!$G35=\"\",\"f\",IF(Schueler9Punkte!$G35>1,\"f\",Schueler9Punkte!$G35)))","v":""},{"$f":"IF(Schueler10Punkte!$D$1=0,\"\",IF(Schueler10Punkte!$G35=\"\",\"f\",IF(Schueler10Punkte!$G35>1,\"f\",Schueler10Punkte!$G35)))","v":""},{"$f":"IF(Schueler11Punkte!$D$1=0,\"\",IF(Schueler11Punkte!$G35=\"\",\"f\",IF(Schueler11Punkte!$G35>1,\"f\",Schueler11Punkte!$G35)))","v":""},{"$f":"IF(Schueler12Punkte!$D$1=0,\"\",IF(Schueler12Punkte!$G35=\"\",\"f\",IF(Schueler12Punkte!$G35>1,\"f\",Schueler12Punkte!$G35)))","v":""},{"$f":"IF(Schueler13Punkte!$D$1=0,\"\",IF(Schueler13Punkte!$G35=\"\",\"f\",IF(Schueler13Punkte!$G35>1,\"f\",Schueler13Punkte!$G35)))","v":""},{"$f":"IF(Schueler14Punkte!$D$1=0,\"\",IF(Schueler14Punkte!$G35=\"\",\"f\",IF(Schueler14Punkte!$G35>1,\"f\",Schueler14Punkte!$G35)))","v":""},{"$f":"IF(Schueler15Punkte!$D$1=0,\"\",IF(Schueler15Punkte!$G35=\"\",\"f\",IF(Schueler15Punkte!$G35>1,\"f\",Schueler15Punkte!$G35)))","v":""},{"$f":"IF(Schueler16Punkte!$D$1=0,\"\",IF(Schueler16Punkte!$G35=\"\",\"f\",IF(Schueler16Punkte!$G35>1,\"f\",Schueler16Punkte!$G35)))","v":""},{"$f":"IF(Schueler17Punkte!$D$1=0,\"\",IF(Schueler17Punkte!$G35=\"\",\"f\",IF(Schueler17Punkte!$G35>1,\"f\",Schueler17Punkte!$G35)))","v":""},{"$f":"IF(Schueler18Punkte!$D$1=0,\"\",IF(Schueler18Punkte!$G35=\"\",\"f\",IF(Schueler18Punkte!$G35>1,\"f\",Schueler18Punkte!$G35)))","v":""},{"$f":"IF(Schueler19Punkte!$D$1=0,\"\",IF(Schueler19Punkte!$G35=\"\",\"f\",IF(Schueler19Punkte!$G35>1,\"f\",Schueler19Punkte!$G35)))","v":""},{"$f":"IF(Schueler20Punkte!$D$1=0,\"\",IF(Schueler20Punkte!$G35=\"\",\"f\",IF(Schueler20Punkte!$G35>1,\"f\",Schueler20Punkte!$G35)))","v":""},{"$f":"IF(Schueler21Punkte!$D$1=0,\"\",IF(Schueler21Punkte!$G35=\"\",\"f\",IF(Schueler21Punkte!$G35>1,\"f\",Schueler21Punkte!$G35)))","v":""},{"$f":"IF(Schueler22Punkte!$D$1=0,\"\",IF(Schueler22Punkte!$G35=\"\",\"f\",IF(Schueler22Punkte!$G35>1,\"f\",Schueler22Punkte!$G35)))","v":""},{"$f":"IF(Schueler23Punkte!$D$1=0,\"\",IF(Schueler23Punkte!$G35=\"\",\"f\",IF(Schueler23Punkte!$G35>1,\"f\",Schueler23Punkte!$G35)))","v":""},{"$f":"IF(Schueler24Punkte!$D$1=0,\"\",IF(Schueler24Punkte!$G35=\"\",\"f\",IF(Schueler24Punkte!$G35>1,\"f\",Schueler24Punkte!$G35)))","v":""},{"$f":"IF(Schueler25Punkte!$D$1=0,\"\",IF(Schueler25Punkte!$G35=\"\",\"f\",IF(Schueler25Punkte!$G35>1,\"f\",Schueler25Punkte!$G35)))","v":""},{"$f":"IF(Schueler26Punkte!$D$1=0,\"\",IF(Schueler26Punkte!$G35=\"\",\"f\",IF(Schueler26Punkte!$G35>1,\"f\",Schueler26Punkte!$G35)))","v":""},{"$f":"IF(Schueler27Punkte!$D$1=0,\"\",IF(Schueler27Punkte!$G35=\"\",\"f\",IF(Schueler27Punkte!$G35>1,\"f\",Schueler27Punkte!$G35)))","v":""},{"$f":"IF(Schueler28Punkte!$D$1=0,\"\",IF(Schueler28Punkte!$G35=\"\",\"f\",IF(Schueler28Punkte!$G35>1,\"f\",Schueler28Punkte!$G35)))","v":""},{"$f":"IF(Schueler29Punkte!$D$1=0,\"\",IF(Schueler29Punkte!$G35=\"\",\"f\",IF(Schueler29Punkte!$G35>1,\"f\",Schueler29Punkte!$G35)))","v":""},{"$f":"IF(Schueler30Punkte!$D$1=0,\"\",IF(Schueler30Punkte!$G35=\"\",\"f\",IF(Schueler30Punkte!$G35>1,\"f\",Schueler30Punkte!$G35)))","v":""},{"$error":"#DIV/0!"}]
[3,"MO23",null,null,null,1,{"$f":"IF(Schueler1Punkte!$D$1=0,\"\",IF(Schueler1Punkte!$G36=\"\",\"f\",IF(Schueler1Punkte!$G36>1,\"f\",Schueler1Punkte!$G36)))","v":""},{"$f":"IF(Schueler2Punkte!$D$1=0,\"\",IF(Schueler2Punkte!$G36=\"\",\"f\",IF(Schueler2Punkte!$G36>1,\"f\",Schueler2Punkte!$G36)))","v":""},{"$f":"IF(Schueler3Punkte!$D$1=0,\"\",IF(Schueler3Punkte!$G36=\"\",\"f\",IF(Schueler3Punkte!$G36>1,\"f\",Schueler3Punkte!$G36)))","v":""},{"$f":"IF(Schueler4Punkte!$D$1=0,\"\",IF(Schueler4Punkte!$G36=\"\",\"f\",IF(Schueler4Punkte!$G36>1,\"f\",Schueler4Punkte!$G36)))","v":""},{"$f":"IF(Schueler5Punkte!$D$1=0,\"\",IF(Schueler5Punkte!$G36=\"\",\"f\",IF(Schueler5Punkte!$G36>1,\"f\",Schueler5Punkte!$G36)))","v":""},{"$f":"IF(Schueler6Punkte!$D$1=0,\"\",IF(Schueler6Punkte!$G36=\"\",\"f\",IF(Schueler6Punkte!$G36>1,\"f\",Schueler6Punkte!$G36)))","v":""},{"$f":"IF(Schueler7Punkte!$D$1=0,\"\",IF(Schueler7Punkte!$G36=\"\",\"f\",IF(Schueler7Punkte!$G36>1,\"f\",Schueler7Punkte!$G36)))","v":""},{"$f":"IF(Schueler8Punkte!$D$1=0,\"\",IF(Schueler8Punkte!$G36=\"\",\"f\",IF(Schueler8Punkte!$G36>1,\"f\",Schueler8Punkte!$G36)))","v":""},{"$f":"IF(Schueler9Punkte!$D$1=0,\"\",IF(Schueler9Punkte!$G36=\"\",\"f\",IF(Schueler9Punkte!$G36>1,\"f\",Schueler9Punkte!$G36)))","v":""},{"$f":"IF(Schueler10Punkte!$D$1=0,\"\",IF(Schueler10Punkte!$G36=\"\",\"f\",IF(Schueler10Punkte!$G36>1,\"f\",Schueler10Punkte!$G36)))","v":""},{"$f":"IF(Schueler11Punkte!$D$1=0,\"\",IF(Schueler11Punkte!$G36=\"\",\"f\",IF(Schueler11Punkte!$G36>1,\"f\",Schueler11Punkte!$G36)))","v":""},{"$f":"IF(Schueler12Punkte!$D$1=0,\"\",IF(Schueler12Punkte!$G36=\"\",\"f\",IF(Schueler12Punkte!$G36>1,\"f\",Schueler12Punkte!$G36)))","v":""},{"$f":"IF(Schueler13Punkte!$D$1=0,\"\",IF(Schueler13Punkte!$G36=\"\",\"f\",IF(Schueler13Punkte!$G36>1,\"f\",Schueler13Punkte!$G36)))","v":""},{"$f":"IF(Schueler14Punkte!$D$1=0,\"\",IF(Schueler14Punkte!$G36=\"\",\"f\",IF(Schueler14Punkte!$G36>1,\"f\",Schueler14Punkte!$G36)))","v":""},{"$f":"IF(Schueler15Punkte!$D$1=0,\"\",IF(Schueler15Punkte!$G36=\"\",\"f\",IF(Schueler15Punkte!$G36>1,\"f\",Schueler15Punkte!$G36)))","v":""},{"$f":"IF(Schueler16Punkte!$D$1=0,\"\",IF(Schueler16Punkte!$G36=\"\",\"f\",IF(Schueler16Punkte!$G36>1,\"f\",Schueler16Punkte!$G36)))","v":""},{"$f":"IF(Schueler17Punkte!$D$1=0,\"\",IF(Schueler17Punkte!$G36=\"\",\"f\",IF(Schueler17Punkte!$G36>1,\"f\",Schueler17Punkte!$G36)))","v":""},{"$f":"IF(Schueler18Punkte!$D$1=0,\"\",IF(Schueler18Punkte!$G36=\"\",\"f\",IF(Schueler18Punkte!$G36>1,\"f\",Schueler18Punkte!$G36)))","v":""},{"$f":"IF(Schueler19Punkte!$D$1=0,\"\",IF(Schueler19Punkte!$G36=\"\",\"f\",IF(Schueler19Punkte!$G36>1,\"f\",Schueler19Punkte!$G36)))","v":""},{"$f":"IF(Schueler20Punkte!$D$1=0,\"\",IF(Schueler20Punkte!$G36=\"\",\"f\",IF(Schueler20Punkte!$G36>1,\"f\",Schueler20Punkte!$G36)))","v":""},{"$f":"IF(Schueler21Punkte!$D$1=0,\"\",IF(Schueler21Punkte!$G36=\"\",\"f\",IF(Schueler21Punkte!$G36>1,\"f\",Schueler21Punkte!$G36)))","v":""},{"$f":"IF(Schueler22Punkte!$D$1=0,\"\",IF(Schueler22Punkte!$G36=\"\",\"f\",IF(Schueler22Punkte!$G36>1,\"f\",Schueler22Punkte!$G36)))","v":""},{"$f":"IF(Schueler23Punkte!$D$1=0,\"\",IF(Schueler23Punkte!$G36=\"\",\"f\",IF(Schueler23Punkte!$G36>1,\"f\",Schueler23Punkte!$G36)))","v":""},{"$f":"IF(Schueler24Punkte!$D$1=0,\"\",IF(Schueler24Punkte!$G36=\"\",\"f\",IF(Schueler24Punkte!$G36>1,\"f\",Schueler24Punkte!$G36)))","v":""},{"$f":"IF(Schueler25Punkte!$D$1=0,\"\",IF(Schueler25Punkte!$G36=\"\",\"f\",IF(Schueler25Punkte!$G36>1,\"f\",Schueler25Punkte!$G36)))","v":""},{"$f":"IF(Schueler26Punkte!$D$1=0,\"\",IF(Schueler26Punkte!$G36=\"\",\"f\",IF(Schueler26Punkte!$G36>1,\"f\",Schueler26Punkte!$G36)))","v":""},{"$f":"IF(Schueler27Punkte!$D$1=0,\"\",IF(Schueler27Punkte!$G36=\"\",\"f\",IF(Schueler27Punkte!$G36>1,\"f\",Schueler27Punkte!$G36)))","v":""},{"$f":"IF(Schueler28Punkte!$D$1=0,\"\",IF(Schueler28Punkte!$G36=\"\",\"f\",IF(Schueler28Punkte!$G36>1,\"f\",Schueler28Punkte!$G36)))","v":""},{"$f":"IF(Schueler29Punkte!$D$1=0,\"\",IF(Schueler29Punkte!$G36=\"\",\"f\",IF(Schueler29Punkte!$G36>1,\"f\",Schueler29Punkte!$G36)))","v":""},{"$f":"IF(Schueler30Punkte!$D$1=0,\"\",IF(Schueler30Punkte!$G36=\"\",\"f\",IF(Schueler30Punkte!$G36>1,\"f\",Schueler30Punkte!$G36)))","v":""},{"$error":"#DIV/0!"}]
[4,"MO24",null,null,null,1,{"$f":"IF(Schueler1Punkte!$D$1=0,\"\",IF(Schueler1Punkte!$G37=\"\",\"f\",IF(Schueler1Punkte!$G37>1,\"f\",Schueler1Punkte!$G37)))","v":""},{"$f":"IF(Schueler2Punkte!$D$1=0,\"\",IF(Schueler2Punkte!$G37=\"\",\"f\",IF(Schueler2Punkte!$G37>1,\"f\",Schueler2Punkte!$G37)))","v":""},{"$f":"IF(Schueler3Punkte!$D$1=0,\"\",IF(Schueler3Punkte!$G37=\"\",\"f\",IF(Schueler3Punkte!$G37>1,\"f\",Schueler3Punkte!$G37)))","v":""},{"$f":"IF(Schueler4Punkte!$D$1=0,\"\",IF(Schueler4Punkte!$G37=\"\",\"f\",IF(Schueler4Punkte!$G37>1,\"f\",Schueler4Punkte!$G37)))","v":""},{"$f":"IF(Schueler5Punkte!$D$1=0,\"\",IF(Schueler5Punkte!$G37=\"\",\"f\",IF(Schueler5Punkte!$G37>1,\"f\",Schueler5Punkte!$G37)))","v":""},{"$f":"IF(Schueler6Punkte!$D$1=0,\"\",IF(Schueler6Punkte!$G37=\"\",\"f\",IF(Schueler6Punkte!$G37>1,\"f\",Schueler6Punkte!$G37)))","v":""},{"$f":"IF(Schueler7Punkte!$D$1=0,\"\",IF(Schueler7Punkte!$G37=\"\",\"f\",IF(Schueler7Punkte!$G37>1,\"f\",Schueler7Punkte!$G37)))","v":""},{"$f":"IF(Schueler8Punkte!$D$1=0,\"\",IF(Schueler8Punkte!$G37=\"\",\"f\",IF(Schueler8Punkte!$G37>1,\"f\",Schueler8Punkte!$G37)))","v":""},{"$f":"IF(Schueler9Punkte!$D$1=0,\"\",IF(Schueler9Punkte!$G37=\"\",\"f\",IF(Schueler9Punkte!$G37>1,\"f\",Schueler9Punkte!$G37)))","v":""},{"$f":"IF(Schueler10Punkte!$D$1=0,\"\",IF(Schueler10Punkte!$G37=\"\",\"f\",IF(Schueler10Punkte!$G37>1,\"f\",Schueler10Punkte!$G37)))","v":""},{"$f":"IF(Schueler11Punkte!$D$1=0,\"\",IF(Schueler11Punkte!$G37=\"\",\"f\",IF(Schueler11Punkte!$G37>1,\"f\",Schueler11Punkte!$G37)))","v":""},{"$f":"IF(Schueler12Punkte!$D$1=0,\"\",IF(Schueler12Punkte!$G37=\"\",\"f\",IF(Schueler12Punkte!$G37>1,\"f\",Schueler12Punkte!$G37)))","v":""},{"$f":"IF(Schueler13Punkte!$D$1=0,\"\",IF(Schueler13Punkte!$G37=\"\",\"f\",IF(Schueler13Punkte!$G37>1,\"f\",Schueler13Punkte!$G37)))","v":""},{"$f":"IF(Schueler14Punkte!$D$1=0,\"\",IF(Schueler14Punkte!$G37=\"\",\"f\",IF(Schueler14Punkte!$G37>1,\"f\",Schueler14Punkte!$G37)))","v":""},{"$f":"IF(Schueler15Punkte!$D$1=0,\"\",IF(Schueler15Punkte!$G37=\"\",\"f\",IF(Schueler15Punkte!$G37>1,\"f\",Schueler15Punkte!$G37)))","v":""},{"$f":"IF(Schueler16Punkte!$D$1=0,\"\",IF(Schueler16Punkte!$G37=\"\",\"f\",IF(Schueler16Punkte!$G37>1,\"f\",Schueler16Punkte!$G37)))","v":""},{"$f":"IF(Schueler17Punkte!$D$1=0,\"\",IF(Schueler17Punkte!$G37=\"\",\"f\",IF(Schueler17Punkte!$G37>1,\"f\",Schueler17Punkte!$G37)))","v":""},{"$f":"IF(Schueler18Punkte!$D$1=0,\"\",IF(Schueler18Punkte!$G37=\"\",\"f\",IF(Schueler18Punkte!$G37>1,\"f\",Schueler18Punkte!$G37)))","v":""},{"$f":"IF(Schueler19Punkte!$D$1=0,\"\",IF(Schueler19Punkte!$G37=\"\",\"f\",IF(Schueler19Punkte!$G37>1,\"f\",Schueler19Punkte!$G37)))","v":""},{"$f":"IF(Schueler20Punkte!$D$1=0,\"\",IF(Schueler20Punkte!$G37=\"\",\"f\",IF(Schueler20Punkte!$G37>1,\"f\",Schueler20Punkte!$G37)))","v":""},{"$f":"IF(Schueler21Punkte!$D$1=0,\"\",IF(Schueler21Punkte!$G37=\"\",\"f\",IF(Schueler21Punkte!$G37>1,\"f\",Schueler21Punkte!$G37)))","v":""},{"$f":"IF(Schueler22Punkte!$D$1=0,\"\",IF(Schueler22Punkte!$G37=\"\",\"f\",IF(Schueler22Punkte!$G37>1,\"f\",Schueler22Punkte!$G37)))","v":""},{"$f":"IF(Schueler23Punkte!$D$1=0,\"\",IF(Schueler23Punkte!$G37=\"\",\"f\",IF(Schueler23Punkte!$G37>1,\"f\",Schueler23Punkte!$G37)))","v":""},{"$f":"IF(Schueler24Punkte!$D$1=0,\"\",IF(Schueler24Punkte!$G37=\"\",\"f\",IF(Schueler24Punkte!$G37>1,\"f\",Schueler24Punkte!$G37)))","v":""},{"$f":"IF(Schueler25Punkte!$D$1=0,\"\",IF(Schueler25Punkte!$G37=\"\",\"f\",IF(Schueler25Punkte!$G37>1,\"f\",Schueler25Punkte!$G37)))","v":""},{"$f":"IF(Schueler26Punkte!$D$1=0,\"\",IF(Schueler26Punkte!$G37=\"\",\"f\",IF(Schueler26Punkte!$G37>1,\"f\",Schueler26Punkte!$G37)))","v":""},{"$f":"IF(Schueler27Punkte!$D$1=0,\"\",IF(Schueler27Punkte!$G37=\"\",\"f\",IF(Schueler27Punkte!$G37>1,\"f\",Schueler27Punkte!$G37)))","v":""},{"$f":"IF(Schueler28Punkte!$D$1=0,\"\",IF(Schueler28Punkte!$G37=\"\",\"f\",IF(Schueler28Punkte!$G37>1,\"f\",Schueler28Punkte!$G37)))","v":""},{"$f":"IF(Schueler29Punkte!$D$1=0,\"\",IF(Schueler29Punkte!$G37=\"\",\"f\",IF(Schueler29Punkte!$G37>1,\"f\",Schueler29Punkte!$G37)))","v":""},{"$f":"IF(Schueler30Punkte!$D$1=0,\"\",IF(Schueler30Punkte!$G37=\"\",\"f\",IF(Schueler30Punkte!$G37>1,\"f\",Schueler30Punkte!$G37)))","v":""},{"$f":"COUNTIF(G43:AJ43,1)/(COUNTIF(G43:AJ43,1)+COUNTIF(G43:AJ43,0))","v":{"$error":"#DIV/0!"}}]
[5,"MO25",null,null,null,1,{"$f":"IF(Schueler1Punkte!$D$1=0,\"\",IF(Schueler1Punkte!$G38=\"\",\"f\",IF(Schueler1Punkte!$G38>1,\"f\",Schueler1Punkte!$G38)))","v":""},{"$f":"IF(Schueler2Punkte!$D$1=0,\"\",IF(Schueler2Punkte!$G38=\"\",\"f\",IF(Schueler2Punkte!$G38>1,\"f\",Schueler2Punkte!$G38)))","v":""},{"$f":"IF(Schueler3Punkte!$D$1=0,\"\",IF(Schueler3Punkte!$G38=\"\",\"f\",IF(Schueler3Punkte!$G38>1,\"f\",Schueler3Punkte!$G38)))","v":""},{"$f":"IF(Schueler4Punkte!$D$1=0,\"\",IF(Schueler4Punkte!$G38=\"\",\"f\",IF(Schueler4Punkte!$G38>1,\"f\",Schueler4Punkte!$G38)))","v":""},{"$f":"IF(Schueler5Punkte!$D$1=0,\"\",IF(Schueler5Punkte!$G38=\"\",\"f\",IF(Schueler5Punkte!$G38>1,\"f\",Schueler5Punkte!$G38)))","v":""},{"$f":"IF(Schueler6Punkte!$D$1=0,\"\",IF(Schueler6Punkte!$G38=\"\",\"f\",IF(Schueler6Punkte!$G38>1,\"f\",Schueler6Punkte!$G38)))","v":""},{"$f":"IF(Schueler7Punkte!$D$1=0,\"\",IF(Schueler7Punkte!$G38=\"\",\"f\",IF(Schueler7Punkte!$G38>1,\"f\",Schueler7Punkte!$G38)))","v":""},{"$f":"IF(Schueler8Punkte!$D$1=0,\"\",IF(Schueler8Punkte!$G38=\"\",\"f\",IF(Schueler8Punkte!$G38>1,\"f\",Schueler8Punkte!$G38)))","v":""},{"$f":"IF(Schueler9Punkte!$D$1=0,\"\",IF(Schueler9Punkte!$G38=\"\",\"f\",IF(Schueler9Punkte!$G38>1,\"f\",Schueler9Punkte!$G38)))","v":""},{"$f":"IF(Schueler10Punkte!$D$1=0,\"\",IF(Schueler10Punkte!$G38=\"\",\"f\",IF(Schueler10Punkte!$G38>1,\"f\",Schueler10Punkte!$G38)))","v":""},{"$f":"IF(Schueler11Punkte!$D$1=0,\"\",IF(Schueler11Punkte!$G38=\"\",\"f\",IF(Schueler11Punkte!$G38>1,\"f\",Schueler11Punkte!$G38)))","v":""},{"$f":"IF(Schueler12Punkte!$D$1=0,\"\",IF(Schueler12Punkte!$G38=\"\",\"f\",IF(Schueler12Punkte!$G38>1,\"f\",Schueler12Punkte!$G38)))","v":""},{"$f":"IF(Schueler13Punkte!$D$1=0,\"\",IF(Schueler13Punkte!$G38=\"\",\"f\",IF(Schueler13Punkte!$G38>1,\"f\",Schueler13Punkte!$G38)))","v":""},{"$f":"IF(Schueler14Punkte!$D$1=0,\"\",IF(Schueler14Punkte!$G38=\"\",\"f\",IF(Schueler14Punkte!$G38>1,\"f\",Schueler14Punkte!$G38)))","v":""},{"$f":"IF(Schueler15Punkte!$D$1=0,\"\",IF(Schueler15Punkte!$G38=\"\",\"f\",IF(Schueler15Punkte!$G38>1,\"f\",Schueler15Punkte!$G38)))","v":""},{"$f":"IF(Schueler16Punkte!$D$1=0,\"\",IF(Schueler16Punkte!$G38=\"\",\"f\",IF(Schueler16Punkte!$G38>1,\"f\",Schueler16Punkte!$G38)))","v":""},{"$f":"IF(Schueler17Punkte!$D$1=0,\"\",IF(Schueler17Punkte!$G38=\"\",\"f\",IF(Schueler17Punkte!$G38>1,\"f\",Schueler17Punkte!$G38)))","v":""},{"$f":"IF(Schueler18Punkte!$D$1=0,\"\",IF(Schueler18Punkte!$G38=\"\",\"f\",IF(Schueler18Punkte!$G38>1,\"f\",Schueler18Punkte!$G38)))","v":""},{"$f":"IF(Schueler19Punkte!$D$1=0,\"\",IF(Schueler19Punkte!$G38=\"\",\"f\",IF(Schueler19Punkte!$G38>1,\"f\",Schueler19Punkte!$G38)))","v":""},{"$f":"IF(Schueler20Punkte!$D$1=0,\"\",IF(Schueler20Punkte!$G38=\"\",\"f\",IF(Schueler20Punkte!$G38>1,\"f\",Schueler20Punkte!$G38)))","v":""},{"$f":"IF(Schueler21Punkte!$D$1=0,\"\",IF(Schueler21Punkte!$G38=\"\",\"f\",IF(Schueler21Punkte!$G38>1,\"f\",Schueler21Punkte!$G38)))","v":""},{"$f":"IF(Schueler22Punkte!$D$1=0,\"\",IF(Schueler22Punkte!$G38=\"\",\"f\",IF(Schueler22Punkte!$G38>1,\"f\",Schueler22Punkte!$G38)))","v":""},{"$f":"IF(Schueler23Punkte!$D$1=0,\"\",IF(Schueler23Punkte!$G38=\"\",\"f\",IF(Schueler23Punkte!$G38>1,\"f\",Schueler23Punkte!$G38)))","v":""},{"$f":"IF(Schueler24Punkte!$D$1=0,\"\",IF(Schueler24Punkte!$G38=\"\",\"f\",IF(Schueler24Punkte!$G38>1,\"f\",Schueler24Punkte!$G38)))","v":""},{"$f":"IF(Schueler25Punkte!$D$1=0,\"\",IF(Schueler25Punkte!$G38=\"\",\"f\",IF(Schueler25Punkte!$G38>1,\"f\",Schueler25Punkte!$G38)))","v":""},{"$f":"IF(Schueler26Punkte!$D$1=0,\"\",IF(Schueler26Punkte!$G38=\"\",\"f\",IF(Schueler26Punkte!$G38>1,\"f\",Schueler26Punkte!$G38)))","v":""},{"$f":"IF(Schueler27Punkte!$D$1=0,\"\",IF(Schueler27Punkte!$G38=\"\",\"f\",IF(Schueler27Punkte!$G38>1,\"f\",Schueler27Punkte!$G38)))","v":""},{"$f":"IF(Schueler28Punkte!$D$1=0,\"\",IF(Schueler28Punkte!$G38=\"\",\"f\",IF(Schueler28Punkte!$G38>1,\"f\",Schueler28Punkte!$G38)))","v":""},{"$f":"IF(Schueler29Punkte!$D$1=0,\"\",IF(Schueler29Punkte!$G38=\"\",\"f\",IF(Schueler29Punkte!$G38>1,\"f\",Schueler29Punkte!$G38)))","v":""},{"$f":"IF(Schueler30Punkte!$D$1=0,\"\",IF(Schueler30Punkte!$G38=\"\",\"f\",IF(Schueler30Punkte!$G38>1,\"f\",Schueler30Punkte!$G38)))","v":""},{"$f":"COUNTIF(G44:AJ44,1)/(COUNTIF(G44:AJ44,1)+COUNTIF(G44:AJ44,0))","v":{"$error":"#DIV/0!"}}]
[6,"MO26",null,null,null,1,{"$f":"IF(Schueler1Punkte!$D$1=0,\"\",IF(Schueler1Punkte!$G39=\"\",\"f\",IF(Schueler1Punkte!$G39>1,\"f\",Schueler1Punkte!$G39)))","v":""},{"$f":"IF(Schueler2Punkte!$D$1=0,\"\",IF(Schueler2Punkte!$G39=\"\",\"f\",IF(Schueler2Punkte!$G39>1,\"f\",Schueler2Punkte!$G39)))","v":""},{"$f":"IF(Schueler3Punkte!$D$1=0,\"\",IF(Schueler3Punkte!$G39=\"\",\"f\",IF(Schueler3Punkte!$G39>1,\"f\",Schueler3Punkte!$G39)))","v":""},{"$f":"IF(Schueler4Punkte!$D$1=0,\"\",IF(Schueler4Punkte!$G39=\"\",\"f\",IF(Schueler4Punkte!$G39>1,\"f\",Schueler4Punkte!$G39)))","v":""},{"$f":"IF(Schueler5Punkte!$D$1=0,\"\",IF(Schueler5Punkte!$G39=\"\",\"f\",IF(Schueler5Punkte!$G39>1,\"f\",Schueler5Punkte!$G39)))","v":""},{"$f":"IF(Schueler6Punkte!$D$1=0,\"\",IF(Schueler6Punkte!$G39=\"\",\"f\",IF(Schueler6Punkte!$G39>1,\"f\",Schueler6Punkte!$G39)))","v":""},{"$f":"IF(Schueler7Punkte!$D$1=0,\"\",IF(Schueler7Punkte!$G39=\"\",\"f\",IF(Schueler7Punkte!$G39>1,\"f\",Schueler7Punkte!$G39)))","v":""},{"$f":"IF(Schueler8Punkte!$D$1=0,\"\",IF(Schueler8Punkte!$G39=\"\",\"f\",IF(Schueler8Punkte!$G39>1,\"f\",Schueler8Punkte!$G39)))","v":""},{"$f":"IF(Schueler9Punkte!$D$1=0,\"\",IF(Schueler9Punkte!$G39=\"\",\"f\",IF(Schueler9Punkte!$G39>1,\"f\",Schueler9Punkte!$G39)))","v":""},{"$f":"IF(Schueler10Punkte!$D$1=0,\"\",IF(Schueler10Punkte!$G39=\"\",\"f\",IF(Schueler10Punkte!$G39>1,\"f\",Schueler10Punkte!$G39)))","v":""},{"$f":"IF(Schueler11Punkte!$D$1=0,\"\",IF(Schueler11Punkte!$G39=\"\",\"f\",IF(Schueler11Punkte!$G39>1,\"f\",Schueler11Punkte!$G39)))","v":""},{"$f":"IF(Schueler12Punkte!$D$1=0,\"\",IF(Schueler12Punkte!$G39=\"\",\"f\",IF(Schueler12Punkte!$G39>1,\"f\",Schueler12Punkte!$G39)))","v":""},{"$f":"IF(Schueler13Punkte!$D$1=0,\"\",IF(Schueler13Punkte!$G39=\"\",\"f\",IF(Schueler13Punkte!$G39>1,\"f\",Schueler13Punkte!$G39)))","v":""},{"$f":"IF(Schueler14Punkte!$D$1=0,\"\",IF(Schueler14Punkte!$G39=\"\",\"f\",IF(Schueler14Punkte!$G39>1,\"f\",Schueler14Punkte!$G39)))","v":""},{"$f":"IF(Schueler15Punkte!$D$1=0,\"\",IF(Schueler15Punkte!$G39=\"\",\"f\",IF(Schueler15Punkte!$G39>1,\"f\",Schueler15Punkte!$G39)))","v":""},{"$f":"IF(Schueler16Punkte!$D$1=0,\"\",IF(Schueler16Punkte!$G39=\"\",\"f\",IF(Schueler16Punkte!$G39>1,\"f\",Schueler16Punkte!$G39)))","v":""},{"$f":"IF(Schueler17Punkte!$D$1=0,\"\",IF(Schueler17Punkte!$G39=\"\",\"f\",IF(Schueler17Punkte!$G39>1,\"f\",Schueler17Punkte!$G39)))","v":""},{"$f":"IF(Schueler18Punkte!$D$1=0,\"\",IF(Schueler18Punkte!$G39=\"\",\"f\",IF(Schueler18Punkte!$G39>1,\"f\",Schueler18Punkte!$G39)))","v":""},{"$f":"IF(Schueler19Punkte!$D$1=0,\"\",IF(Schueler19Punkte!$G39=\"\",\"f\",IF(Schueler19Punkte!$G39>1,\"f\",Schueler19Punkte!$G39)))","v":""},{"$f":"IF(Schueler20Punkte!$D$1=0,\"\",IF(Schueler20Punkte!$G39=\"\",\"f\",IF(Schueler20Punkte!$G39>1,\"f\",Schueler20Punkte!$G39)))","v":""},{"$f":"IF(Schueler21Punkte!$D$1=0,\"\",IF(Schueler21Punkte!$G39=\"\",\"f\",IF(Schueler21Punkte!$G39>1,\"f\",Schueler21Punkte!$G39)))","v":""},{"$f":"IF(Schueler22Punkte!$D$1=0,\"\",IF(Schueler22Punkte!$G39=\"\",\"f\",IF(Schueler22Punkte!$G39>1,\"f\",Schueler22Punkte!$G39)))","v":""},{"$f":"IF(Schueler23Punkte!$D$1=0,\"\",IF(Schueler23Punkte!$G39=\"\",\"f\",IF(Schueler23Punkte!$G39>1,\"f\",Schueler23Punkte!$G39)))","v":""},{"$f":"IF(Schueler24Punkte!$D$1=0,\"\",IF(Schueler24Punkte!$G39=\"\",\"f\",IF(Schueler24Punkte!$G39>1,\"f\",Schueler24Punkte!$G39)))","v":""},{"$f":"IF(Schueler25Punkte!$D$1=0,\"\",IF(Schueler25Punkte!$G39=\"\",\"f\",IF(Schueler25Punkte!$G39>1,\"f\",Schueler25Punkte!$G39)))","v":""},{"$f":"IF(Schueler26Punkte!$D$1=0,\"\",IF(Schueler26Punkte!$G39=\"\",\"f\",IF(Schueler26Punkte!$G39>1,\"f\",Schueler26Punkte!$G39)))","v":""},{"$f":"IF(Schueler27Punkte!$D$1=0,\"\",IF(Schueler27Punkte!$G39=\"\",\"f\",IF(Schueler27Punkte!$G39>1,\"f\",Schueler27Punkte!$G39)))","v":""},{"$f":"IF(Schueler28Punkte!$D$1=0,\"\",IF(Schueler28Punkte!$G39=\"\",\"f\",IF(Schueler28Punkte!$G39>1,\"f\",Schueler28Punkte!$G39)))","v":""},{"$f":"IF(Schueler29Punkte!$D$1=0,\"\",IF(Schueler29Punkte!$G39=\"\",\"f\",IF(Schueler29Punkte!$G39>1,\"f\",Schueler29Punkte!$G39)))","v":""},{"$f":"IF(Schueler30Punkte!$D$1=0,\"\",IF(Schueler30Punkte!$G39=\"\",\"f\",IF(Schueler30Punkte!$G39>1,\"f\",Schueler30Punkte!$G39)))","v":""},{"$error":"#DIV/0!"}]
[7,"MO27",null,null,null,1,{"$f":"IF(Schueler1Punkte!$D$1=0,\"\",IF(Schueler1Punkte!$G40=\"\",\"f\",IF(Schueler1Punkte!$G40>1,\"f\",Schueler1Punkte!$G40)))","v":""},{"$f":"IF(Schueler2Punkte!$D$1=0,\"\",IF(Schueler2Punkte!$G40=\"\",\"f\",IF(Schueler2Punkte!$G40>1,\"f\",Schueler2Punkte!$G40)))","v":""},{"$f":"IF(Schueler3Punkte!$D$1=0,\"\",IF(Schueler3Punkte!$G40=\"\",\"f\",IF(Schueler3Punkte!$G40>1,\"f\",Schueler3Punkte!$G40)))","v":""},{"$f":"IF(Schueler4Punkte!$D$1=0,\"\",IF(Schueler4Punkte!$G40=\"\",\"f\",IF(Schueler4Punkte!$G40>1,\"f\",Schueler4Punkte!$G40)))","v":""},{"$f":"IF(Schueler5Punkte!$D$1=0,\"\",IF(Schueler5Punkte!$G40=\"\",\"f\",IF(Schueler5Punkte!$G40>1,\"f\",Schueler5Punkte!$G40)))","v":""},{"$f":"IF(Schueler6Punkte!$D$1=0,\"\",IF(Schueler6Punkte!$G40=\"\",\"f\",IF(Schueler6Punkte!$G40>1,\"f\",Schueler6Punkte!$G40)))","v":""},{"$f":"IF(Schueler7Punkte!$D$1=0,\"\",IF(Schueler7Punkte!$G40=\"\",\"f\",IF(Schueler7Punkte!$G40>1,\"f\",Schueler7Punkte!$G40)))","v":""},{"$f":"IF(Schueler8Punkte!$D$1=0,\"\",IF(Schueler8Punkte!$G40=\"\",\"f\",IF(Schueler8Punkte!$G40>1,\"f\",Schueler8Punkte!$G40)))","v":""},{"$f":"IF(Schueler9Punkte!$D$1=0,\"\",IF(Schueler9Punkte!$G40=\"\",\"f\",IF(Schueler9Punkte!$G40>1,\"f\",Schueler9Punkte!$G40)))","v":""},{"$f":"IF(Schueler10Punkte!$D$1=0,\"\",IF(Schueler10Punkte!$G40=\"\",\"f\",IF(Schueler10Punkte!$G40>1,\"f\",Schueler10Punkte!$G40)))","v":""},{"$f":"IF(Schueler11Punkte!$D$1=0,\"\",IF(Schueler11Punkte!$G40=\"\",\"f\",IF(Schueler11Punkte!$G40>1,\"f\",Schueler11Punkte!$G40)))","v":""},{"$f":"IF(Schueler12Punkte!$D$1=0,\"\",IF(Schueler12Punkte!$G40=\"\",\"f\",IF(Schueler12Punkte!$G40>1,\"f\",Schueler12Punkte!$G40)))","v":""},{"$f":"IF(Schueler13Punkte!$D$1=0,\"\",IF(Schueler13Punkte!$G40=\"\",\"f\",IF(Schueler13Punkte!$G40>1,\"f\",Schueler13Punkte!$G40)))","v":""},{"$f":"IF(Schueler14Punkte!$D$1=0,\"\",IF(Schueler14Punkte!$G40=\"\",\"f\",IF(Schueler14Punkte!$G40>1,\"f\",Schueler14Punkte!$G40)))","v":""},{"$f":"IF(Schueler15Punkte!$D$1=0,\"\",IF(Schueler15Punkte!$G40=\"\",\"f\",IF(Schueler15Punkte!$G40>1,\"f\",Schueler15Punkte!$G40)))","v":""},{"$f":"IF(Schueler16Punkte!$D$1=0,\"\",IF(Schueler16Punkte!$G40=\"\",\"f\",IF(Schueler16Punkte!$G40>1,\"f\",Schueler16Punkte!$G40)))","v":""},{"$f":"IF(Schueler17Punkte!$D$1=0,\"\",IF(Schueler17Punkte!$G40=\"\",\"f\",IF(Schueler17Punkte!$G40>1,\"f\",Schueler17Punkte!$G40)))","v":""},{"$f":"IF(Schueler18Punkte!$D$1=0,\"\",IF(Schueler18Punkte!$G40=\"\",\"f\",IF(Schueler18Punkte!$G40>1,\"f\",Schueler18Punkte!$G40)))","v":""},{"$f":"IF(Schueler19Punkte!$D$1=0,\"\",IF(Schueler19Punkte!$G40=\"\",\"f\",IF(Schueler19Punkte!$G40>1,\"f\",Schueler19Punkte!$G40)))","v":""},{"$f":"IF(Schueler20Punkte!$D$1=0,\"\",IF(Schueler20Punkte!$G40=\"\",\"f\",IF(Schueler20Punkte!$G40>1,\"f\",Schueler20Punkte!$G40)))","v":""},{"$f":"IF(Schueler21Punkte!$D$1=0,\"\",IF(Schueler21Punkte!$G40=\"\",\"f\",IF(Schueler21Punkte!$G40>1,\"f\",Schueler21Punkte!$G40)))","v":""},{"$f":"IF(Schueler22Punkte!$D$1=0,\"\",IF(Schueler22Punkte!$G40=\"\",\"f\",IF(Schueler22Punkte!$G40>1,\"f\",Schueler22Punkte!$G40)))","v":""},{"$f":"IF(Schueler23Punkte!$D$1=0,\"\",IF(Schueler23Punkte!$G40=\"\",\"f\",IF(Schueler23Punkte!$G40>1,\"f\",Schueler23Punkte!$G40)))","v":""},{"$f":"IF(Schueler24Punkte!$D$1=0,\"\",IF(Schueler24Punkte!$G40=\"\",\"f\",IF(Schueler24Punkte!$G40>1,\"f\",Schueler24Punkte!$G40)))","v":""},{"$f":"IF(Schueler25Punkte!$D$1=0,\"\",IF(Schueler25Punkte!$G40=\"\",\"f\",IF(Schueler25Punkte!$G40>1,\"f\",Schueler25Punkte!$G40)))","v":""},{"$f":"IF(Schueler26Punkte!$D$1=0,\"\",IF(Schueler26Punkte!$G40=\"\",\"f\",IF(Schueler26Punkte!$G40>1,\"f\",Schueler26Punkte!$G40)))","v":""},{"$f":"IF(Schueler27Punkte!$D$1=0,\"\",IF(Schueler27Punkte!$G40=\"\",\"f\",IF(Schueler27Punkte!$G40>1,\"f\",Schueler27Punkte!$G40)))","v":""},{"$f":"IF(Schueler28Punkte!$D$1=0,\"\",IF(Schueler28Punkte!$G40=\"\",\"f\",IF(Schueler28Punkte!$G40>1,\"f\",Schueler28Punkte!$G40)))","v":""},{"$f":"IF(Schueler29Punkte!$D$1=0,\"\",IF(Schueler29Punkte!$G40=\"\",\"f\",IF(Schueler29Punkte!$G40>1,\"f\",Schueler29Punkte!$G40)))","v":""},{"$f":"IF(Schueler30Punkte!$D$1=0,\"\",IF(Schueler30Punkte!$G40=\"\",\"f\",IF(Schueler30Punkte!$G40>1,\"f\",Schueler30Punkte!$G40)))","v":""},{"$f":"COUNTIF(G46:AJ46,1)/(COUNTIF(G46:AJ46,1)+COUNTIF(G46:AJ46,0))","v":{"$error":"#DIV/0!"}}]
[8,"MO28",null,null,null,1,{"$f":"IF(Schueler1Punkte!$D$1=0,\"\",IF(Schueler1Punkte!$G41=\"\",\"f\",IF(Schueler1Punkte!$G41>1,\"f\",Schueler1Punkte!$G41)))","v":""},{"$f":"IF(Schueler2Punkte!$D$1=0,\"\",IF(Schueler2Punkte!$G41=\"\",\"f\",IF(Schueler2Punkte!$G41>1,\"f\",Schueler2Punkte!$G41)))","v":""},{"$f":"IF(Schueler3Punkte!$D$1=0,\"\",IF(Schueler3Punkte!$G41=\"\",\"f\",IF(Schueler3Punkte!$G41>1,\"f\",Schueler3Punkte!$G41)))","v":""},{"$f":"IF(Schueler4Punkte!$D$1=0,\"\",IF(Schueler4Punkte!$G41=\"\",\"f\",IF(Schueler4Punkte!$G41>1,\"f\",Schueler4Punkte!$G41)))","v":""},{"$f":"IF(Schueler5Punkte!$D$1=0,\"\",IF(Schueler5Punkte!$G41=\"\",\"f\",IF(Schueler5Punkte!$G41>1,\"f\",Schueler5Punkte!$G41)))","v":""},{"$f":"IF(Schueler6Punkte!$D$1=0,\"\",IF(Schueler6Punkte!$G41=\"\",\"f\",IF(Schueler6Punkte!$G41>1,\"f\",Schueler6Punkte!$G41)))","v":""},{"$f":"IF(Schueler7Punkte!$D$1=0,\"\",IF(Schueler7Punkte!$G41=\"\",\"f\",IF(Schueler7Punkte!$G41>1,\"f\",Schueler7Punkte!$G41)))","v":""},{"$f":"IF(Schueler8Punkte!$D$1=0,\"\",IF(Schueler8Punkte!$G41=\"\",\"f\",IF(Schueler8Punkte!$G41>1,\"f\",Schueler8Punkte!$G41)))","v":""},{"$f":"IF(Schueler9Punkte!$D$1=0,\"\",IF(Schueler9Punkte!$G41=\"\",\"f\",IF(Schueler9Punkte!$G41>1,\"f\",Schueler9Punkte!$G41)))","v":""},{"$f":"IF(Schueler10Punkte!$D$1=0,\"\",IF(Schueler10Punkte!$G41=\"\",\"f\",IF(Schueler10Punkte!$G41>1,\"f\",Schueler10Punkte!$G41)))","v":""},{"$f":"IF(Schueler11Punkte!$D$1=0,\"\",IF(Schueler11Punkte!$G41=\"\",\"f\",IF(Schueler11Punkte!$G41>1,\"f\",Schueler11Punkte!$G41)))","v":""},{"$f":"IF(Schueler12Punkte!$D$1=0,\"\",IF(Schueler12Punkte!$G41=\"\",\"f\",IF(Schueler12Punkte!$G41>1,\"f\",Schueler12Punkte!$G41)))","v":""},{"$f":"IF(Schueler13Punkte!$D$1=0,\"\",IF(Schueler13Punkte!$G41=\"\",\"f\",IF(Schueler13Punkte!$G41>1,\"f\",Schueler13Punkte!$G41)))","v":""},{"$f":"IF(Schueler14Punkte!$D$1=0,\"\",IF(Schueler14Punkte!$G41=\"\",\"f\",IF(Schueler14Punkte!$G41>1,\"f\",Schueler14Punkte!$G41)))","v":""},{"$f":"IF(Schueler15Punkte!$D$1=0,\"\",IF(Schueler15Punkte!$G41=\"\",\"f\",IF(Schueler15Punkte!$G41>1,\"f\",Schueler15Punkte!$G41)))","v":""},{"$f":"IF(Schueler16Punkte!$D$1=0,\"\",IF(Schueler16Punkte!$G41=\"\",\"f\",IF(Schueler16Punkte!$G41>1,\"f\",Schueler16Punkte!$G41)))","v":""},{"$f":"IF(Schueler17Punkte!$D$1=0,\"\",IF(Schueler17Punkte!$G41=\"\",\"f\",IF(Schueler17Punkte!$G41>1,\"f\",Schueler17Punkte!$G41)))","v":""},{"$f":"IF(Schueler18Punkte!$D$1=0,\"\",IF(Schueler18Punkte!$G41=\"\",\"f\",IF(Schueler18Punkte!$G41>1,\"f\",Schueler18Punkte!$G41)))","v":""},{"$f":"IF(Schueler19Punkte!$D$1=0,\"\",IF(Schueler19Punkte!$G41=\"\",\"f\",IF(Schueler19Punkte!$G41>1,\"f\",Schueler19Punkte!$G41)))","v":""},{"$f":"IF(Schueler20Punkte!$D$1=0,\"\",IF(Schueler20Punkte!$G41=\"\",\"f\",IF(Schueler20Punkte!$G41>1,\"f\",Schueler20Punkte!$G41)))","v":""},{"$f":"IF(Schueler21Punkte!$D$1=0,\"\",IF(Schueler21Punkte!$G41=\"\",\"f\",IF(Schueler21Punkte!$G41>1,\"f\",Schueler21Punkte!$G41)))","v":""},{"$f":"IF(Schueler22Punkte!$D$1=0,\"\",IF(Schueler22Punkte!$G41=\"\",\"f\",IF(Schueler22Punkte!$G41>1,\"f\",Schueler22Punkte!$G41)))","v":""},{"$f":"IF(Schueler23Punkte!$D$1=0,\"\",IF(Schueler23Punkte!$G41=\"\",\"f\",IF(Schueler23Punkte!$G41>1,\"f\",Schueler23Punkte!$G41)))","v":""},{"$f":"IF(Schueler24Punkte!$D$1=0,\"\",IF(Schueler24Punkte!$G41=\"\",\"f\",IF(Schueler24Punkte!$G41>1,\"f\",Schueler24Punkte!$G41)))","v":""},{"$f":"IF(Schueler25Punkte!$D$1=0,\"\",IF(Schueler25Punkte!$G41=\"\",\"f\",IF(Schueler25Punkte!$G41>1,\"f\",Schueler25Punkte!$G41)))","v":""},{"$f":"IF(Schueler26Punkte!$D$1=0,\"\",IF(Schueler26Punkte!$G41=\"\",\"f\",IF(Schueler26Punkte!$G41>1,\"f\",Schueler26Punkte!$G41)))","v":""},{"$f":"IF(Schueler27Punkte!$D$1=0,\"\",IF(Schueler27Punkte!$G41=\"\",\"f\",IF(Schueler27Punkte!$G41>1,\"f\",Schueler27Punkte!$G41)))","v":""},{"$f":"IF(Schueler28Punkte!$D$1=0,\"\",IF(Schueler28Punkte!$G41=\"\",\"f\",IF(Schueler28Punkte!$G41>1,\"f\",Schueler28Punkte!$G41)))","v":""},{"$f":"IF(Schueler29Punkte!$D$1=0,\"\",IF(Schueler29Punkte!$G41=\"\",\"f\",IF(Schueler29Punkte!$G41>1,\"f\",Schueler29Punkte!$G41)))","v":""},{"$f":"IF(Schueler30Punkte!$D$1=0,\"\",IF(Schueler30Punkte!$G41=\"\",\"f\",IF(Schueler30Punkte!$G41>1,\"f\",Schueler30Punkte!$G41)))","v":""},{"$error":"#DIV/0!"}]
[null,null,"SYNTAX",null,null,8,{"$f":"IF(OR(G49=\"\",G49=\"f\"),\"\",SUM(G49,G50,G51,G52,G53,G54,G55,G56))","v":""},{"$f":"IF(OR(H49=\"\",H49=\"f\"),\"\",SUM(H49,H50,H51,H52,H53,H54,H55,H56))","v":""},"","","","","","","","","","","","","","","","","","","","","","","","","","","",{"$f":"IF(OR(AJ49=\"\",AJ49=\"f\"),\"\",SUM(AJ49+AJ50+AJ51+AJ52+AJ53+AJ54+AJ55+AJ56))","v":""}]
[1,"SY29",null,null,null,1,{"$f":"IF(Schueler1Punkte!$D$1=0,\"\",IF(Schueler1Punkte!$G42=\"\",\"f\",IF(Schueler1Punkte!$G42>1,\"f\",Schueler1Punkte!$G42)))","v":""},{"$f":"IF(Schueler2Punkte!$D$1=0,\"\",IF(Schueler2Punkte!$G42=\"\",\"f\",IF(Schueler2Punkte!$G42>1,\"f\",Schueler2Punkte!$G42)))","v":""},{"$f":"IF(Schueler3Punkte!$D$1=0,\"\",IF(Schueler3Punkte!$G42=\"\",\"f\",IF(Schueler3Punkte!$G42>1,\"f\",Schueler3Punkte!$G42)))","v":""},{"$f":"IF(Schueler4Punkte!$D$1=0,\"\",IF(Schueler4Punkte!$G42=\"\",\"f\",IF(Schueler4Punkte!$G42>1,\"f\",Schueler4Punkte!$G42)))","v":""},{"$f":"IF(Schueler5Punkte!$D$1=0,\"\",IF(Schueler5Punkte!$G42=\"\",\"f\",IF(Schueler5Punkte!$G42>1,\"f\",Schueler5Punkte!$G42)))","v":""},{"$f":"IF(Schueler6Punkte!$D$1=0,\"\",IF(Schueler6Punkte!$G42=\"\",\"f\",IF(Schueler6Punkte!$G42>1,\"f\",Schueler6Punkte!$G42)))","v":""},{"$f":"IF(Schueler7Punkte!$D$1=0,\"\",IF(Schueler7Punkte!$G42=\"\",\"f\",IF(Schueler7Punkte!$G42>1,\"f\",Schueler7Punkte!$G42)))","v":""},{"$f":"IF(Schueler8Punkte!$D$1=0,\"\",IF(Schueler8Punkte!$G42=\"\",\"f\",IF(Schueler8Punkte!$G42>1,\"f\",Schueler8Punkte!$G42)))","v":""},{"$f":"IF(Schueler9Punkte!$D$1=0,\"\",IF(Schueler9Punkte!$G42=\"\",\"f\",IF(Schueler9Punkte!$G42>1,\"f\",Schueler9Punkte!$G42)))","v":""},{"$f":"IF(Schueler10Punkte!$D$1=0,\"\",IF(Schueler10Punkte!$G42=\"\",\"f\",IF(Schueler10Punkte!$G42>1,\"f\",Schueler10Punkte!$G42)))","v":""},{"$f":"IF(Schueler11Punkte!$D$1=0,\"\",IF(Schueler11Punkte!$G42=\"\",\"f\",IF(Schueler11Punkte!$G42>1,\"f\",Schueler11Punkte!$G42)))","v":""},{"$f":"IF(Schueler12Punkte!$D$1=0,\"\",IF(Schueler12Punkte!$G42=\"\",\"f\",IF(Schueler12Punkte!$G42>1,\"f\",Schueler12Punkte!$G42)))","v":""},{"$f":"IF(Schueler13Punkte!$D$1=0,\"\",IF(Schueler13Punkte!$G42=\"\",\"f\",IF(Schueler13Punkte!$G42>1,\"f\",Schueler13Punkte!$G42)))","v":""},{"$f":"IF(Schueler14Punkte!$D$1=0,\"\",IF(Schueler14Punkte!$G42=\"\",\"f\",IF(Schueler14Punkte!$G42>1,\"f\",Schueler14Punkte!$G42)))","v":""},{"$f":"IF(Schueler15Punkte!$D$1=0,\"\",IF(Schueler15Punkte!$G42=\"\",\"f\",IF(Schueler15Punkte!$G42>1,\"f\",Schueler15Punkte!$G42)))","v":""},{"$f":"IF(Schueler16Punkte!$D$1=0,\"\",IF(Schueler16Punkte!$G42=\"\",\"f\",IF(Schueler16Punkte!$G42>1,\"f\",Schueler16Punkte!$G42)))","v":""},{"$f":"IF(Schueler17Punkte!$D$1=0,\"\",IF(Schueler17Punkte!$G42=\"\",\"f\",IF(Schueler17Punkte!$G42>1,\"f\",Schueler17Punkte!$G42)))","v":""},{"$f":"IF(Schueler18Punkte!$D$1=0,\"\",IF(Schueler18Punkte!$G42=\"\",\"f\",IF(Schueler18Punkte!$G42>1,\"f\",Schueler18Punkte!$G42)))","v":""},{"$f":"IF(Schueler19Punkte!$D$1=0,\"\",IF(Schueler19Punkte!$G42=\"\",\"f\",IF(Schueler19Punkte!$G42>1,\"f\",Schueler19Punkte!$G42)))","v":""},{"$f":"IF(Schueler20Punkte!$D$1=0,\"\",IF(Schueler20Punkte!$G42=\"\",\"f\",IF(Schueler20Punkte!$G42>1,\"f\",Schueler20Punkte!$G42)))","v":""},{"$f":"IF(Schueler21Punkte!$D$1=0,\"\",IF(Schueler21Punkte!$G42=\"\",\"f\",IF(Schueler21Punkte!$G42>1,\"f\",Schueler21Punkte!$G42)))","v":""},{"$f":"IF(Schueler22Punkte!$D$1=0,\"\",IF(Schueler22Punkte!$G42=\"\",\"f\",IF(Schueler22Punkte!$G42>1,\"f\",Schueler22Punkte!$G42)))","v":""},{"$f":"IF(Schueler23Punkte!$D$1=0,\"\",IF(Schueler23Punkte!$G42=\"\",\"f\",IF(Schueler23Punkte!$G42>1,\"f\",Schueler23Punkte!$G42)))","v":""},{"$f":"IF(Schueler24Punkte!$D$1=0,\"\",IF(Schueler24Punkte!$G42=\"\",\"f\",IF(Schueler24Punkte!$G42>1,\"f\",Schueler24Punkte!$G42)))","v":""},{"$f":"IF(Schueler25Punkte!$D$1=0,\"\",IF(Schueler25Punkte!$G42=\"\",\"f\",IF(Schueler25Punkte!$G42>1,\"f\",Schueler25Punkte!$G42)))","v":""},{"$f":"IF(Schueler26Punkte!$D$1=0,\"\",IF(Schueler26Punkte!$G42=\"\",\"f\",IF(Schueler26Punkte!$G42>1,\"f\",Schueler26Punkte!$G42)))","v":""},{"$f":"IF(Schueler27Punkte!$D$1=0,\"\",IF(Schueler27Punkte!$G42=\"\",\"f\",IF(Schueler27Punkte!$G42>1,\"f\",Schueler27Punkte!$G42)))","v":""},{"$f":"IF(Schueler28Punkte!$D$1=0,\"\",IF(Schueler28Punkte!$G42=\"\",\"f\",IF(Schueler28Punkte!$G42>1,\"f\",Schueler28Punkte!$G42)))","v":""},{"$f":"IF(Schueler29Punkte!$D$1=0,\"\",IF(Schueler29Punkte!$G42=\"\",\"f\",IF(Schueler29Punkte!$G42>1,\"f\",Schueler29Punkte!$G42)))","v":""},{"$f":"IF(Schueler30Punkte!$D$1=0,\"\",IF(Schueler30Punkte!$G42=\"\",\"f\",IF(Schueler30Punkte!$G42>1,\"f\",Schueler30Punkte!$G42)))","v":""},{"$error":"#DIV/0!"}]
[2,"SY30",null,null,null,1,{"$f":"IF(Schueler1Punkte!$D$1=0,\"\",IF(Schueler1Punkte!$G43=\"\",\"f\",IF(Schueler1Punkte!$G43>1,\"f\",Schueler1Punkte!$G43)))","v":""},{"$f":"IF(Schueler2Punkte!$D$1=0,\"\",IF(Schueler2Punkte!$G43=\"\",\"f\",IF(Schueler2Punkte!$G43>1,\"f\",Schueler2Punkte!$G43)))","v":""},{"$f":"IF(Schueler3Punkte!$D$1=0,\"\",IF(Schueler3Punkte!$G43=\"\",\"f\",IF(Schueler3Punkte!$G43>1,\"f\",Schueler3Punkte!$G43)))","v":""},{"$f":"IF(Schueler4Punkte!$D$1=0,\"\",IF(Schueler4Punkte!$G43=\"\",\"f\",IF(Schueler4Punkte!$G43>1,\"f\",Schueler4Punkte!$G43)))","v":""},{"$f":"IF(Schueler5Punkte!$D$1=0,\"\",IF(Schueler5Punkte!$G43=\"\",\"f\",IF(Schueler5Punkte!$G43>1,\"f\",Schueler5Punkte!$G43)))","v":""},{"$f":"IF(Schueler6Punkte!$D$1=0,\"\",IF(Schueler6Punkte!$G43=\"\",\"f\",IF(Schueler6Punkte!$G43>1,\"f\",Schueler6Punkte!$G43)))","v":""},{"$f":"IF(Schueler7Punkte!$D$1=0,\"\",IF(Schueler7Punkte!$G43=\"\",\"f\",IF(Schueler7Punkte!$G43>1,\"f\",Schueler7Punkte!$G43)))","v":""},{"$f":"IF(Schueler8Punkte!$D$1=0,\"\",IF(Schueler8Punkte!$G43=\"\",\"f\",IF(Schueler8Punkte!$G43>1,\"f\",Schueler8Punkte!$G43)))","v":""},{"$f":"IF(Schueler9Punkte!$D$1=0,\"\",IF(Schueler9Punkte!$G43=\"\",\"f\",IF(Schueler9Punkte!$G43>1,\"f\",Schueler9Punkte!$G43)))","v":""},{"$f":"IF(Schueler10Punkte!$D$1=0,\"\",IF(Schueler10Punkte!$G43=\"\",\"f\",IF(Schueler10Punkte!$G43>1,\"f\",Schueler10Punkte!$G43)))","v":""},{"$f":"IF(Schueler11Punkte!$D$1=0,\"\",IF(Schueler11Punkte!$G43=\"\",\"f\",IF(Schueler11Punkte!$G43>1,\"f\",Schueler11Punkte!$G43)))","v":""},{"$f":"IF(Schueler12Punkte!$D$1=0,\"\",IF(Schueler12Punkte!$G43=\"\",\"f\",IF(Schueler12Punkte!$G43>1,\"f\",Schueler12Punkte!$G43)))","v":""},{"$f":"IF(Schueler13Punkte!$D$1=0,\"\",IF(Schueler13Punkte!$G43=\"\",\"f\",IF(Schueler13Punkte!$G43>1,\"f\",Schueler13Punkte!$G43)))","v":""},{"$f":"IF(Schueler14Punkte!$D$1=0,\"\",IF(Schueler14Punkte!$G43=\"\",\"f\",IF(Schueler14Punkte!$G43>1,\"f\",Schueler14Punkte!$G43)))","v":""},{"$f":"IF(Schueler15Punkte!$D$1=0,\"\",IF(Schueler15Punkte!$G43=\"\",\"f\",IF(Schueler15Punkte!$G43>1,\"f\",Schueler15Punkte!$G43)))","v":""},{"$f":"IF(Schueler16Punkte!$D$1=0,\"\",IF(Schueler16Punkte!$G43=\"\",\"f\",IF(Schueler16Punkte!$G43>1,\"f\",Schueler16Punkte!$G43)))","v":""},{"$f":"IF(Schueler17Punkte!$D$1=0,\"\",IF(Schueler17Punkte!$G43=\"\",\"f\",IF(Schueler17Punkte!$G43>1,\"f\",Schueler17Punkte!$G43)))","v":""},{"$f":"IF(Schueler18Punkte!$D$1=0,\"\",IF(Schueler18Punkte!$G43=\"\",\"f\",IF(Schueler18Punkte!$G43>1,\"f\",Schueler18Punkte!$G43)))","v":""},{"$f":"IF(Schueler19Punkte!$D$1=0,\"\",IF(Schueler19Punkte!$G43=\"\",\"f\",IF(Schueler19Punkte!$G43>1,\"f\",Schueler19Punkte!$G43)))","v":""},{"$f":"IF(Schueler20Punkte!$D$1=0,\"\",IF(Schueler20Punkte!$G43=\"\",\"f\",IF(Schueler20Punkte!$G43>1,\"f\",Schueler20Punkte!$G43)))","v":""},{"$f":"IF(Schueler21Punkte!$D$1=0,\"\",IF(Schueler21Punkte!$G43=\"\",\"f\",IF(Schueler21Punkte!$G43>1,\"f\",Schueler21Punkte!$G43)))","v":""},{"$f":"IF(Schueler22Punkte!$D$1=0,\"\",IF(Schueler22Punkte!$G43=\"\",\"f\",IF(Schueler22Punkte!$G43>1,\"f\",Schueler22Punkte!$G43)))","v":""},{"$f":"IF(Schueler23Punkte!$D$1=0,\"\",IF(Schueler23Punkte!$G43=\"\",\"f\",IF(Schueler23Punkte!$G43>1,\"f\",Schueler23Punkte!$G43)))","v":""},{"$f":"IF(Schueler24Punkte!$D$1=0,\"\",IF(Schueler24Punkte!$G43=\"\",\"f\",IF(Schueler24Punkte!$G43>1,\"f\",Schueler24Punkte!$G43)))","v":""},{"$f":"IF(Schueler25Punkte!$D$1=0,\"\",IF(Schueler25Punkte!$G43=\"\",\"f\",IF(Schueler25Punkte!$G43>1,\"f\",Schueler25Punkte!$G43)))","v":""},{"$f":"IF(Schueler26Punkte!$D$1=0,\"\",IF(Schueler26Punkte!$G43=\"\",\"f\",IF(Schueler26Punkte!$G43>1,\"f\",Schueler26Punkte!$G43)))","v":""},{"$f":"IF(Schueler27Punkte!$D$1=0,\"\",IF(Schueler27Punkte!$G43=\"\",\"f\",IF(Schueler27Punkte!$G43>1,\"f\",Schueler27Punkte!$G43)))","v":""},{"$f":"IF(Schueler28Punkte!$D$1=0,\"\",IF(Schueler28Punkte!$G43=\"\",\"f\",IF(Schueler28Punkte!$G43>1,\"f\",Schueler28Punkte!$G43)))","v":""},{"$f":"IF(Schueler29Punkte!$D$1=0,\"\",IF(Schueler29Punkte!$G43=\"\",\"f\",IF(Schueler29Punkte!$G43>1,\"f\",Schueler29Punkte!$G43)))","v":""},{"$f":"IF(Schueler30Punkte!$D$1=0,\"\",IF(Schueler30Punkte!$G43=\"\",\"f\",IF(Schueler30Punkte!$G43>1,\"f\",Schueler30Punkte!$G43)))","v":""},{"$error":"#DIV/0!"}]
[3,"SY31",null,null,null,1,{"$f":"IF(Schueler1Punkte!$D$1=0,\"\",IF(Schueler1Punkte!$G44=\"\",\"f\",IF(Schueler1Punkte!$G44>1,\"f\",Schueler1Punkte!$G44)))","v":""},{"$f":"IF(Schueler2Punkte!$D$1=0,\"\",IF(Schueler2Punkte!$G44=\"\",\"f\",IF(Schueler2Punkte!$G44>1,\"f\",Schueler2Punkte!$G44)))","v":""},{"$f":"IF(Schueler3Punkte!$D$1=0,\"\",IF(Schueler3Punkte!$G44=\"\",\"f\",IF(Schueler3Punkte!$G44>1,\"f\",Schueler3Punkte!$G44)))","v":""},{"$f":"IF(Schueler4Punkte!$D$1=0,\"\",IF(Schueler4Punkte!$G44=\"\",\"f\",IF(Schueler4Punkte!$G44>1,\"f\",Schueler4Punkte!$G44)))","v":""},{"$f":"IF(Schueler5Punkte!$D$1=0,\"\",IF(Schueler5Punkte!$G44=\"\",\"f\",IF(Schueler5Punkte!$G44>1,\"f\",Schueler5Punkte!$G44)))","v":""},{"$f":"IF(Schueler6Punkte!$D$1=0,\"\",IF(Schueler6Punkte!$G44=\"\",\"f\",IF(Schueler6Punkte!$G44>1,\"f\",Schueler6Punkte!$G44)))","v":""},{"$f":"IF(Schueler7Punkte!$D$1=0,\"\",IF(Schueler7Punkte!$G44=\"\",\"f\",IF(Schueler7Punkte!$G44>1,\"f\",Schueler7Punkte!$G44)))","v":""},{"$f":"IF(Schueler8Punkte!$D$1=0,\"\",IF(Schueler8Punkte!$G44=\"\",\"f\",IF(Schueler8Punkte!$G44>1,\"f\",Schueler8Punkte!$G44)))","v":""},{"$f":"IF(Schueler9Punkte!$D$1=0,\"\",IF(Schueler9Punkte!$G44=\"\",\"f\",IF(Schueler9Punkte!$G44>1,\"f\",Schueler9Punkte!$G44)))","v":""},{"$f":"IF(Schueler10Punkte!$D$1=0,\"\",IF(Schueler10Punkte!$G44=\"\",\"f\",IF(Schueler10Punkte!$G44>1,\"f\",Schueler10Punkte!$G44)))","v":""},{"$f":"IF(Schueler11Punkte!$D$1=0,\"\",IF(Schueler11Punkte!$G44=\"\",\"f\",IF(Schueler11Punkte!$G44>1,\"f\",Schueler11Punkte!$G44)))","v":""},{"$f":"IF(Schueler12Punkte!$D$1=0,\"\",IF(Schueler12Punkte!$G44=\"\",\"f\",IF(Schueler12Punkte!$G44>1,\"f\",Schueler12Punkte!$G44)))","v":""},{"$f":"IF(Schueler13Punkte!$D$1=0,\"\",IF(Schueler13Punkte!$G44=\"\",\"f\",IF(Schueler13Punkte!$G44>1,\"f\",Schueler13Punkte!$G44)))","v":""},{"$f":"IF(Schueler14Punkte!$D$1=0,\"\",IF(Schueler14Punkte!$G44=\"\",\"f\",IF(Schueler14Punkte!$G44>1,\"f\",Schueler14Punkte!$G44)))","v":""},{"$f":"IF(Schueler15Punkte!$D$1=0,\"\",IF(Schueler15Punkte!$G44=\"\",\"f\",IF(Schueler15Punkte!$G44>1,\"f\",Schueler15Punkte!$G44)))","v":""},{"$f":"IF(Schueler16Punkte!$D$1=0,\"\",IF(Schueler16Punkte!$G44=\"\",\"f\",IF(Schueler16Punkte!$G44>1,\"f\",Schueler16Punkte!$G44)))","v":""},{"$f":"IF(Schueler17Punkte!$D$1=0,\"\",IF(Schueler17Punkte!$G44=\"\",\"f\",IF(Schueler17Punkte!$G44>1,\"f\",Schueler17Punkte!$G44)))","v":""},{"$f":"IF(Schueler18Punkte!$D$1=0,\"\",IF(Schueler18Punkte!$G44=\"\",\"f\",IF(Schueler18Punkte!$G44>1,\"f\",Schueler18Punkte!$G44)))","v":""},{"$f":"IF(Schueler19Punkte!$D$1=0,\"\",IF(Schueler19Punkte!$G44=\"\",\"f\",IF(Schueler19Punkte!$G44>1,\"f\",Schueler19Punkte!$G44)))","v":""},{"$f":"IF(Schueler20Punkte!$D$1=0,\"\",IF(Schueler20Punkte!$G44=\"\",\"f\",IF(Schueler20Punkte!$G44>1,\"f\",Schueler20Punkte!$G44)))","v":""},{"$f":"IF(Schueler21Punkte!$D$1=0,\"\",IF(Schueler21Punkte!$G44=\"\",\"f\",IF(Schueler21Punkte!$G44>1,\"f\",Schueler21Punkte!$G44)))","v":""},{"$f":"IF(Schueler22Punkte!$D$1=0,\"\",IF(Schueler22Punkte!$G44=\"\",\"f\",IF(Schueler22Punkte!$G44>1,\"f\",Schueler22Punkte!$G44)))","v":""},{"$f":"IF(Schueler23Punkte!$D$1=0,\"\",IF(Schueler23Punkte!$G44=\"\",\"f\",IF(Schueler23Punkte!$G44>1,\"f\",Schueler23Punkte!$G44)))","v":""},{"$f":"IF(Schueler24Punkte!$D$1=0,\"\",IF(Schueler24Punkte!$G44=\"\",\"f\",IF(Schueler24Punkte!$G44>1,\"f\",Schueler24Punkte!$G44)))","v":""},{"$f":"IF(Schueler25Punkte!$D$1=0,\"\",IF(Schueler25Punkte!$G44=\"\",\"f\",IF(Schueler25Punkte!$G44>1,\"f\",Schueler25Punkte!$G44)))","v":""},{"$f":"IF(Schueler26Punkte!$D$1=0,\"\",IF(Schueler26Punkte!$G44=\"\",\"f\",IF(Schueler26Punkte!$G44>1,\"f\",Schueler26Punkte!$G44)))","v":""},{"$f":"IF(Schueler27Punkte!$D$1=0,\"\",IF(Schueler27Punkte!$G44=\"\",\"f\",IF(Schueler27Punkte!$G44>1,\"f\",Schueler27Punkte!$G44)))","v":""},{"$f":"IF(Schueler28Punkte!$D$1=0,\"\",IF(Schueler28Punkte!$G44=\"\",\"f\",IF(Schueler28Punkte!$G44>1,\"f\",Schueler28Punkte!$G44)))","v":""},{"$f":"IF(Schueler29Punkte!$D$1=0,\"\",IF(Schueler29Punkte!$G44=\"\",\"f\",IF(Schueler29Punkte!$G44>1,\"f\",Schueler29Punkte!$G44)))","v":""},{"$f":"IF(Schueler30Punkte!$D$1=0,\"\",IF(Schueler30Punkte!$G44=\"\",\"f\",IF(Schueler30Punkte!$G44>1,\"f\",Schueler30Punkte!$G44)))","v":""},{"$f":"COUNTIF(G51:AJ51,1)/(COUNTIF(G51:AJ51,1)+COUNTIF(G51:AJ51,0))","v":{"$error":"#DIV/0!"}}]
[4,"SY32",null,null,null,1,{"$f":"IF(Schueler1Punkte!$D$1=0,\"\",IF(Schueler1Punkte!$G45=\"\",\"f\",IF(Schueler1Punkte!$G45>1,\"f\",Schueler1Punkte!$G45)))","v":""},{"$f":"IF(Schueler2Punkte!$D$1=0,\"\",IF(Schueler2Punkte!$G45=\"\",\"f\",IF(Schueler2Punkte!$G45>1,\"f\",Schueler2Punkte!$G45)))","v":""},{"$f":"IF(Schueler3Punkte!$D$1=0,\"\",IF(Schueler3Punkte!$G45=\"\",\"f\",IF(Schueler3Punkte!$G45>1,\"f\",Schueler3Punkte!$G45)))","v":""},{"$f":"IF(Schueler4Punkte!$D$1=0,\"\",IF(Schueler4Punkte!$G45=\"\",\"f\",IF(Schueler4Punkte!$G45>1,\"f\",Schueler4Punkte!$G45)))","v":""},{"$f":"IF(Schueler5Punkte!$D$1=0,\"\",IF(Schueler5Punkte!$G45=\"\",\"f\",IF(Schueler5Punkte!$G45>1,\"f\",Schueler5Punkte!$G45)))","v":""},{"$f":"IF(Schueler6Punkte!$D$1=0,\"\",IF(Schueler6Punkte!$G45=\"\",\"f\",IF(Schueler6Punkte!$G45>1,\"f\",Schueler6Punkte!$G45)))","v":""},{"$f":"IF(Schueler7Punkte!$D$1=0,\"\",IF(Schueler7Punkte!$G45=\"\",\"f\",IF(Schueler7Punkte!$G45>1,\"f\",Schueler7Punkte!$G45)))","v":""},{"$f":"IF(Schueler8Punkte!$D$1=0,\"\",IF(Schueler8Punkte!$G45=\"\",\"f\",IF(Schueler8Punkte!$G45>1,\"f\",Schueler8Punkte!$G45)))","v":""},{"$f":"IF(Schueler9Punkte!$D$1=0,\"\",IF(Schueler9Punkte!$G45=\"\",\"f\",IF(Schueler9Punkte!$G45>1,\"f\",Schueler9Punkte!$G45)))","v":""},{"$f":"IF(Schueler10Punkte!$D$1=0,\"\",IF(Schueler10Punkte!$G45=\"\",\"f\",IF(Schueler10Punkte!$G45>1,\"f\",Schueler10Punkte!$G45)))","v":""},{"$f":"IF(Schueler11Punkte!$D$1=0,\"\",IF(Schueler11Punkte!$G45=\"\",\"f\",IF(Schueler11Punkte!$G45>1,\"f\",Schueler11Punkte!$G45)))","v":""},{"$f":"IF(Schueler12Punkte!$D$1=0,\"\",IF(Schueler12Punkte!$G45=\"\",\"f\",IF(Schueler12Punkte!$G45>1,\"f\",Schueler12Punkte!$G45)))","v":""},{"$f":"IF(Schueler13Punkte!$D$1=0,\"\",IF(Schueler13Punkte!$G45=\"\",\"f\",IF(Schueler13Punkte!$G45>1,\"f\",Schueler13Punkte!$G45)))","v":""},{"$f":"IF(Schueler14Punkte!$D$1=0,\"\",IF(Schueler14Punkte!$G45=\"\",\"f\",IF(Schueler14Punkte!$G45>1,\"f\",Schueler14Punkte!$G45)))","v":""},{"$f":"IF(Schueler15Punkte!$D$1=0,\"\",IF(Schueler15Punkte!$G45=\"\",\"f\",IF(Schueler15Punkte!$G45>1,\"f\",Schueler15Punkte!$G45)))","v":""},{"$f":"IF(Schueler16Punkte!$D$1=0,\"\",IF(Schueler16Punkte!$G45=\"\",\"f\",IF(Schueler16Punkte!$G45>1,\"f\",Schueler16Punkte!$G45)))","v":""},{"$f":"IF(Schueler17Punkte!$D$1=0,\"\",IF(Schueler17Punkte!$G45=\"\",\"f\",IF(Schueler17Punkte!$G45>1,\"f\",Schueler17Punkte!$G45)))","v":""},{"$f":"IF(Schueler18Punkte!$D$1=0,\"\",IF(Schueler18Punkte!$G45=\"\",\"f\",IF(Schueler18Punkte!$G45>1,\"f\",Schueler18Punkte!$G45)))","v":""},{"$f":"IF(Schueler19Punkte!$D$1=0,\"\",IF(Schueler19Punkte!$G45=\"\",\"f\",IF(Schueler19Punkte!$G45>1,\"f\",Schueler19Punkte!$G45)))","v":""},{"$f":"IF(Schueler20Punkte!$D$1=0,\"\",IF(Schueler20Punkte!$G45=\"\",\"f\",IF(Schueler20Punkte!$G45>1,\"f\",Schueler20Punkte!$G45)))","v":""},{"$f":"IF(Schueler21Punkte!$D$1=0,\"\",IF(Schueler21Punkte!$G45=\"\",\"f\",IF(Schueler21Punkte!$G45>1,\"f\",Schueler21Punkte!$G45)))","v":""},{"$f":"IF(Schueler22Punkte!$D$1=0,\"\",IF(Schueler22Punkte!$G45=\"\",\"f\",IF(Schueler22Punkte!$G45>1,\"f\",Schueler22Punkte!$G45)))","v":""},{"$f":"IF(Schueler23Punkte!$D$1=0,\"\",IF(Schueler23Punkte!$G45=\"\",\"f\",IF(Schueler23Punkte!$G45>1,\"f\",Schueler23Punkte!$G45)))","v":""},{"$f":"IF(Schueler24Punkte!$D$1=0,\"\",IF(Schueler24Punkte!$G45=\"\",\"f\",IF(Schueler24Punkte!$G45>1,\"f\",Schueler24Punkte!$G45)))","v":""},{"$f":"IF(Schueler25Punkte!$D$1=0,\"\",IF(Schueler25Punkte!$G45=\"\",\"f\",IF(Schueler25Punkte!$G45>1,\"f\",Schueler25Punkte!$G45)))","v":""},{"$f":"IF(Schueler26Punkte!$D$1=0,\"\",IF(Schueler26Punkte!$G45=\"\",\"f\",IF(Schueler26Punkte!$G45>1,\"f\",Schueler26Punkte!$G45)))","v":""},{"$f":"IF(Schueler27Punkte!$D$1=0,\"\",IF(Schueler27Punkte!$G45=\"\",\"f\",IF(Schueler27Punkte!$G45>1,\"f\",Schueler27Punkte!$G45)))","v":""},{"$f":"IF(Schueler28Punkte!$D$1=0,\"\",IF(Schueler28Punkte!$G45=\"\",\"f\",IF(Schueler28Punkte!$G45>1,\"f\",Schueler28Punkte!$G45)))","v":""},{"$f":"IF(Schueler29Punkte!$D$1=0,\"\",IF(Schueler29Punkte!$G45=\"\",\"f\",IF(Schueler29Punkte!$G45>1,\"f\",Schueler29Punkte!$G45)))","v":""},{"$f":"IF(Schueler30Punkte!$D$1=0,\"\",IF(Schueler30Punkte!$G45=\"\",\"f\",IF(Schueler30Punkte!$G45>1,\"f\",Schueler30Punkte!$G45)))","v":""},{"$f":"COUNTIF(G52:AJ52,1)/(COUNTIF(G52:AJ52,1)+COUNTIF(G52:AJ52,0))","v":{"$error":"#DIV/0!"}}]
[5,"SY33",null,null,null,1,{"$f":"IF(Schueler1Punkte!$D$1=0,\"\",IF(Schueler1Punkte!$G46=\"\",\"f\",IF(Schueler1Punkte!$G46>1,\"f\",Schueler1Punkte!$G46)))","v":""},{"$f":"IF(Schueler2Punkte!$D$1=0,\"\",IF(Schueler2Punkte!$G46=\"\",\"f\",IF(Schueler2Punkte!$G46>1,\"f\",Schueler2Punkte!$G46)))","v":""},{"$f":"IF(Schueler3Punkte!$D$1=0,\"\",IF(Schueler3Punkte!$G46=\"\",\"f\",IF(Schueler3Punkte!$G46>1,\"f\",Schueler3Punkte!$G46)))","v":""},{"$f":"IF(Schueler4Punkte!$D$1=0,\"\",IF(Schueler4Punkte!$G46=\"\",\"f\",IF(Schueler4Punkte!$G46>1,\"f\",Schueler4Punkte!$G46)))","v":""},{"$f":"IF(Schueler5Punkte!$D$1=0,\"\",IF(Schueler5Punkte!$G46=\"\",\"f\",IF(Schueler5Punkte!$G46>1,\"f\",Schueler5Punkte!$G46)))","v":""},{"$f":"IF(Schueler6Punkte!$D$1=0,\"\",IF(Schueler6Punkte!$G46=\"\",\"f\",IF(Schueler6Punkte!$G46>1,\"f\",Schueler6Punkte!$G46)))","v":""},{"$f":"IF(Schueler7Punkte!$D$1=0,\"\",IF(Schueler7Punkte!$G46=\"\",\"f\",IF(Schueler7Punkte!$G46>1,\"f\",Schueler7Punkte!$G46)))","v":""},{"$f":"IF(Schueler8Punkte!$D$1=0,\"\",IF(Schueler8Punkte!$G46=\"\",\"f\",IF(Schueler8Punkte!$G46>1,\"f\",Schueler8Punkte!$G46)))","v":""},{"$f":"IF(Schueler9Punkte!$D$1=0,\"\",IF(Schueler9Punkte!$G46=\"\",\"f\",IF(Schueler9Punkte!$G46>1,\"f\",Schueler9Punkte!$G46)))","v":""},{"$f":"IF(Schueler10Punkte!$D$1=0,\"\",IF(Schueler10Punkte!$G46=\"\",\"f\",IF(Schueler10Punkte!$G46>1,\"f\",Schueler10Punkte!$G46)))","v":""},{"$f":"IF(Schueler11Punkte!$D$1=0,\"\",IF(Schueler11Punkte!$G46=\"\",\"f\",IF(Schueler11Punkte!$G46>1,\"f\",Schueler11Punkte!$G46)))","v":""},{"$f":"IF(Schueler12Punkte!$D$1=0,\"\",IF(Schueler12Punkte!$G46=\"\",\"f\",IF(Schueler12Punkte!$G46>1,\"f\",Schueler12Punkte!$G46)))","v":""},{"$f":"IF(Schueler13Punkte!$D$1=0,\"\",IF(Schueler13Punkte!$G46=\"\",\"f\",IF(Schueler13Punkte!$G46>1,\"f\",Schueler13Punkte!$G46)))","v":""},{"$f":"IF(Schueler14Punkte!$D$1=0,\"\",IF(Schueler14Punkte!$G46=\"\",\"f\",IF(Schueler14Punkte!$G46>1,\"f\",Schueler14Punkte!$G46)))","v":""},{"$f":"IF(Schueler15Punkte!$D$1=0,\"\",IF(Schueler15Punkte!$G46=\"\",\"f\",IF(Schueler15Punkte!$G46>1,\"f\",Schueler15Punkte!$G46)))","v":""},{"$f":"IF(Schueler16Punkte!$D$1=0,\"\",IF(Schueler16Punkte!$G46=\"\",\"f\",IF(Schueler16Punkte!$G46>1,\"f\",Schueler16Punkte!$G46)))","v":""},{"$f":"IF(Schueler17Punkte!$D$1=0,\"\",IF(Schueler17Punkte!$G46=\"\",\"f\",IF(Schueler17Punkte!$G46>1,\"f\",Schueler17Punkte!$G46)))","v":""},{"$f":"IF(Schueler18Punkte!$D$1=0,\"\",IF(Schueler18Punkte!$G46=\"\",\"f\",IF(Schueler18Punkte!$G46>1,\"f\",Schueler18Punkte!$G46)))","v":""},{"$f":"IF(Schueler19Punkte!$D$1=0,\"\",IF(Schueler19Punkte!$G46=\"\",\"f\",IF(Schueler19Punkte!$G46>1,\"f\",Schueler19Punkte!$G46)))","v":""},{"$f":"IF(Schueler20Punkte!$D$1=0,\"\",IF(Schueler20Punkte!$G46=\"\",\"f\",IF(Schueler20Punkte!$G46>1,\"f\",Schueler20Punkte!$G46)))","v":""},{"$f":"IF(Schueler21Punkte!$D$1=0,\"\",IF(Schueler21Punkte!$G46=\"\",\"f\",IF(Schueler21Punkte!$G46>1,\"f\",Schueler21Punkte!$G46)))","v":""},{"$f":"IF(Schueler22Punkte!$D$1=0,\"\",IF(Schueler22Punkte!$G46=\"\",\"f\",IF(Schueler22Punkte!$G46>1,\"f\",Schueler22Punkte!$G46)))","v":""},{"$f":"IF(Schueler23Punkte!$D$1=0,\"\",IF(Schueler23Punkte!$G46=\"\",\"f\",IF(Schueler23Punkte!$G46>1,\"f\",Schueler23Punkte!$G46)))","v":""},{"$f":"IF(Schueler24Punkte!$D$1=0,\"\",IF(Schueler24Punkte!$G46=\"\",\"f\",IF(Schueler24Punkte!$G46>1,\"f\",Schueler24Punkte!$G46)))","v":""},{"$f":"IF(Schueler25Punkte!$D$1=0,\"\",IF(Schueler25Punkte!$G46=\"\",\"f\",IF(Schueler25Punkte!$G46>1,\"f\",Schueler25Punkte!$G46)))","v":""},{"$f":"IF(Schueler26Punkte!$D$1=0,\"\",IF(Schueler26Punkte!$G46=\"\",\"f\",IF(Schueler26Punkte!$G46>1,\"f\",Schueler26Punkte!$G46)))","v":""},{"$f":"IF(Schueler27Punkte!$D$1=0,\"\",IF(Schueler27Punkte!$G46=\"\",\"f\",IF(Schueler27Punkte!$G46>1,\"f\",Schueler27Punkte!$G46)))","v":""},{"$f":"IF(Schueler28Punkte!$D$1=0,\"\",IF(Schueler28Punkte!$G46=\"\",\"f\",IF(Schueler28Punkte!$G46>1,\"f\",Schueler28Punkte!$G46)))","v":""},{"$f":"IF(Schueler29Punkte!$D$1=0,\"\",IF(Schueler29Punkte!$G46=\"\",\"f\",IF(Schueler29Punkte!$G46>1,\"f\",Schueler29Punkte!$G46)))","v":""},{"$f":"IF(Schueler30Punkte!$D$1=0,\"\",IF(Schueler30Punkte!$G46=\"\",\"f\",IF(Schueler30Punkte!$G46>1,\"f\",Schueler30Punkte!$G46)))","v":""},{"$error":"#DIV/0!"}]
[6,"SY34",null,null,null,1,{"$f":"IF(Schueler1Punkte!$D$1=0,\"\",IF(Schueler1Punkte!$G47=\"\",\"f\",IF(Schueler1Punkte!$G47>1,\"f\",Schueler1Punkte!$G47)))","v":""},{"$f":"IF(Schueler2Punkte!$D$1=0,\"\",IF(Schueler2Punkte!$G47=\"\",\"f\",IF(Schueler2Punkte!$G47>1,\"f\",Schueler2Punkte!$G47)))","v":""},{"$f":"IF(Schueler3Punkte!$D$1=0,\"\",IF(Schueler3Punkte!$G47=\"\",\"f\",IF(Schueler3Punkte!$G47>1,\"f\",Schueler3Punkte!$G47)))","v":""},{"$f":"IF(Schueler4Punkte!$D$1=0,\"\",IF(Schueler4Punkte!$G47=\"\",\"f\",IF(Schueler4Punkte!$G47>1,\"f\",Schueler4Punkte!$G47)))","v":""},{"$f":"IF(Schueler5Punkte!$D$1=0,\"\",IF(Schueler5Punkte!$G47=\"\",\"f\",IF(Schueler5Punkte!$G47>1,\"f\",Schueler5Punkte!$G47)))","v":""},{"$f":"IF(Schueler6Punkte!$D$1=0,\"\",IF(Schueler6Punkte!$G47=\"\",\"f\",IF(Schueler6Punkte!$G47>1,\"f\",Schueler6Punkte!$G47)))","v":""},{"$f":"IF(Schueler7Punkte!$D$1=0,\"\",IF(Schueler7Punkte!$G47=\"\",\"f\",IF(Schueler7Punkte!$G47>1,\"f\",Schueler7Punkte!$G47)))","v":""},{"$f":"IF(Schueler8Punkte!$D$1=0,\"\",IF(Schueler8Punkte!$G47=\"\",\"f\",IF(Schueler8Punkte!$G47>1,\"f\",Schueler8Punkte!$G47)))","v":""},{"$f":"IF(Schueler9Punkte!$D$1=0,\"\",IF(Schueler9Punkte!$G47=\"\",\"f\",IF(Schueler9Punkte!$G47>1,\"f\",Schueler9Punkte!$G47)))","v":""},{"$f":"IF(Schueler10Punkte!$D$1=0,\"\",IF(Schueler10Punkte!$G47=\"\",\"f\",IF(Schueler10Punkte!$G47>1,\"f\",Schueler10Punkte!$G47)))","v":""},{"$f":"IF(Schueler11Punkte!$D$1=0,\"\",IF(Schueler11Punkte!$G47=\"\",\"f\",IF(Schueler11Punkte!$G47>1,\"f\",Schueler11Punkte!$G47)))","v":""},{"$f":"IF(Schueler12Punkte!$D$1=0,\"\",IF(Schueler12Punkte!$G47=\"\",\"f\",IF(Schueler12Punkte!$G47>1,\"f\",Schueler12Punkte!$G47)))","v":""},{"$f":"IF(Schueler13Punkte!$D$1=0,\"\",IF(Schueler13Punkte!$G47=\"\",\"f\",IF(Schueler13Punkte!$G47>1,\"f\",Schueler13Punkte!$G47)))","v":""},{"$f":"IF(Schueler14Punkte!$D$1=0,\"\",IF(Schueler14Punkte!$G47=\"\",\"f\",IF(Schueler14Punkte!$G47>1,\"f\",Schueler14Punkte!$G47)))","v":""},{"$f":"IF(Schueler15Punkte!$D$1=0,\"\",IF(Schueler15Punkte!$G47=\"\",\"f\",IF(Schueler15Punkte!$G47>1,\"f\",Schueler15Punkte!$G47)))","v":""},{"$f":"IF(Schueler16Punkte!$D$1=0,\"\",IF(Schueler16Punkte!$G47=\"\",\"f\",IF(Schueler16Punkte!$G47>1,\"f\",Schueler16Punkte!$G47)))","v":""},{"$f":"IF(Schueler17Punkte!$D$1=0,\"\",IF(Schueler17Punkte!$G47=\"\",\"f\",IF(Schueler17Punkte!$G47>1,\"f\",Schueler17Punkte!$G47)))","v":""},{"$f":"IF(Schueler18Punkte!$D$1=0,\"\",IF(Schueler18Punkte!$G47=\"\",\"f\",IF(Schueler18Punkte!$G47>1,\"f\",Schueler18Punkte!$G47)))","v":""},{"$f":"IF(Schueler19Punkte!$D$1=0,\"\",IF(Schueler19Punkte!$G47=\"\",\"f\",IF(Schueler19Punkte!$G47>1,\"f\",Schueler19Punkte!$G47)))","v":""},{"$f":"IF(Schueler20Punkte!$D$1=0,\"\",IF(Schueler20Punkte!$G47=\"\",\"f\",IF(Schueler20Punkte!$G47>1,\"f\",Schueler20Punkte!$G47)))","v":""},{"$f":"IF(Schueler21Punkte!$D$1=0,\"\",IF(Schueler21Punkte!$G47=\"\",\"f\",IF(Schueler21Punkte!$G47>1,\"f\",Schueler21Punkte!$G47)))","v":""},{"$f":"IF(Schueler22Punkte!$D$1=0,\"\",IF(Schueler22Punkte!$G47=\"\",\"f\",IF(Schueler22Punkte!$G47>1,\"f\",Schueler22Punkte!$G47)))","v":""},{"$f":"IF(Schueler23Punkte!$D$1=0,\"\",IF(Schueler23Punkte!$G47=\"\",\"f\",IF(Schueler23Punkte!$G47>1,\"f\",Schueler23Punkte!$G47)))","v":""},{"$f":"IF(Schueler24Punkte!$D$1=0,\"\",IF(Schueler24Punkte!$G47=\"\",\"f\",IF(Schueler24Punkte!$G47>1,\"f\",Schueler24Punkte!$G47)))","v":""},{"$f":"IF(Schueler25Punkte!$D$1=0,\"\",IF(Schueler25Punkte!$G47=\"\",\"f\",IF(Schueler25Punkte!$G47>1,\"f\",Schueler25Punkte!$G47)))","v":""},{"$f":"IF(Schueler26Punkte!$D$1=0,\"\",IF(Schueler26Punkte!$G47=\"\",\"f\",IF(Schueler26Punkte!$G47>1,\"f\",Schueler26Punkte!$G47)))","v":""},{"$f":"IF(Schueler27Punkte!$D$1=0,\"\",IF(Schueler27Punkte!$G47=\"\",\"f\",IF(Schueler27Punkte!$G47>1,\"f\",Schueler27Punkte!$G47)))","v":""},{"$f":"IF(Schueler28Punkte!$D$1=0,\"\",IF(Schueler28Punkte!$G47=\"\",\"f\",IF(Schueler28Punkte!$G47>1,\"f\",Schueler28Punkte!$G47)))","v":""},{"$f":"IF(Schueler29Punkte!$D$1=0,\"\",IF(Schueler29Punkte!$G47=\"\",\"f\",IF(Schueler29Punkte!$G47>1,\"f\",Schueler29Punkte!$G47)))","v":""},{"$f":"IF(Schueler30Punkte!$D$1=0,\"\",IF(Schueler30Punkte!$G47=\"\",\"f\",IF(Schueler30Punkte!$G47>1,\"f\",Schueler30Punkte!$G47)))","v":""},{"$error":"#DIV/0!"}]
[7,"SY35",null,null,null,1,{"$f":"IF(Schueler1Punkte!$D$1=0,\"\",IF(Schueler1Punkte!$G48=\"\",\"f\",IF(Schueler1Punkte!$G48>1,\"f\",Schueler1Punkte!$G48)))","v":""},{"$f":"IF(Schueler2Punkte!$D$1=0,\"\",IF(Schueler2Punkte!$G48=\"\",\"f\",IF(Schueler2Punkte!$G48>1,\"f\",Schueler2Punkte!$G48)))","v":""},{"$f":"IF(Schueler3Punkte!$D$1=0,\"\",IF(Schueler3Punkte!$G48=\"\",\"f\",IF(Schueler3Punkte!$G48>1,\"f\",Schueler3Punkte!$G48)))","v":""},{"$f":"IF(Schueler4Punkte!$D$1=0,\"\",IF(Schueler4Punkte!$G48=\"\",\"f\",IF(Schueler4Punkte!$G48>1,\"f\",Schueler4Punkte!$G48)))","v":""},{"$f":"IF(Schueler5Punkte!$D$1=0,\"\",IF(Schueler5Punkte!$G48=\"\",\"f\",IF(Schueler5Punkte!$G48>1,\"f\",Schueler5Punkte!$G48)))","v":""},{"$f":"IF(Schueler6Punkte!$D$1=0,\"\",IF(Schueler6Punkte!$G48=\"\",\"f\",IF(Schueler6Punkte!$G48>1,\"f\",Schueler6Punkte!$G48)))","v":""},{"$f":"IF(Schueler7Punkte!$D$1=0,\"\",IF(Schueler7Punkte!$G48=\"\",\"f\",IF(Schueler7Punkte!$G48>1,\"f\",Schueler7Punkte!$G48)))","v":""},{"$f":"IF(Schueler8Punkte!$D$1=0,\"\",IF(Schueler8Punkte!$G48=\"\",\"f\",IF(Schueler8Punkte!$G48>1,\"f\",Schueler8Punkte!$G48)))","v":""},{"$f":"IF(Schueler9Punkte!$D$1=0,\"\",IF(Schueler9Punkte!$G48=\"\",\"f\",IF(Schueler9Punkte!$G48>1,\"f\",Schueler9Punkte!$G48)))","v":""},{"$f":"IF(Schueler10Punkte!$D$1=0,\"\",IF(Schueler10Punkte!$G48=\"\",\"f\",IF(Schueler10Punkte!$G48>1,\"f\",Schueler10Punkte!$G48)))","v":""},{"$f":"IF(Schueler11Punkte!$D$1=0,\"\",IF(Schueler11Punkte!$G48=\"\",\"f\",IF(Schueler11Punkte!$G48>1,\"f\",Schueler11Punkte!$G48)))","v":""},{"$f":"IF(Schueler12Punkte!$D$1=0,\"\",IF(Schueler12Punkte!$G48=\"\",\"f\",IF(Schueler12Punkte!$G48>1,\"f\",Schueler12Punkte!$G48)))","v":""},{"$f":"IF(Schueler13Punkte!$D$1=0,\"\",IF(Schueler13Punkte!$G48=\"\",\"f\",IF(Schueler13Punkte!$G48>1,\"f\",Schueler13Punkte!$G48)))","v":""},{"$f":"IF(Schueler14Punkte!$D$1=0,\"\",IF(Schueler14Punkte!$G48=\"\",\"f\",IF(Schueler14Punkte!$G48>1,\"f\",Schueler14Punkte!$G48)))","v":""},{"$f":"IF(Schueler15Punkte!$D$1=0,\"\",IF(Schueler15Punkte!$G48=\"\",\"f\",IF(Schueler15Punkte!$G48>1,\"f\",Schueler15Punkte!$G48)))","v":""},{"$f":"IF(Schueler16Punkte!$D$1=0,\"\",IF(Schueler16Punkte!$G48=\"\",\"f\",IF(Schueler16Punkte!$G48>1,\"f\",Schueler16Punkte!$G48)))","v":""},{"$f":"IF(Schueler17Punkte!$D$1=0,\"\",IF(Schueler17Punkte!$G48=\"\",\"f\",IF(Schueler17Punkte!$G48>1,\"f\",Schueler17Punkte!$G48)))","v":""},{"$f":"IF(Schueler18Punkte!$D$1=0,\"\",IF(Schueler18Punkte!$G48=\"\",\"f\",IF(Schueler18Punkte!$G48>1,\"f\",Schueler18Punkte!$G48)))","v":""},{"$f":"IF(Schueler19Punkte!$D$1=0,\"\",IF(Schueler19Punkte!$G48=\"\",\"f\",IF(Schueler19Punkte!$G48>1,\"f\",Schueler19Punkte!$G48)))","v":""},{"$f":"IF(Schueler20Punkte!$D$1=0,\"\",IF(Schueler20Punkte!$G48=\"\",\"f\",IF(Schueler20Punkte!$G48>1,\"f\",Schueler20Punkte!$G48)))","v":""},{"$f":"IF(Schueler21Punkte!$D$1=0,\"\",IF(Schueler21Punkte!$G48=\"\",\"f\",IF(Schueler21Punkte!$G48>1,\"f\",Schueler21Punkte!$G48)))","v":""},{"$f":"IF(Schueler22Punkte!$D$1=0,\"\",IF(Schueler22Punkte!$G48=\"\",\"f\",IF(Schueler22Punkte!$G48>1,\"f\",Schueler22Punkte!$G48)))","v":""},{"$f":"IF(Schueler23Punkte!$D$1=0,\"\",IF(Schueler23Punkte!$G48=\"\",\"f\",IF(Schueler23Punkte!$G48>1,\"f\",Schueler23Punkte!$G48)))","v":""},{"$f":"IF(Schueler24Punkte!$D$1=0,\"\",IF(Schueler24Punkte!$G48=\"\",\"f\",IF(Schueler24Punkte!$G48>1,\"f\",Schueler24Punkte!$G48)))","v":""},{"$f":"IF(Schueler25Punkte!$D$1=0,\"\",IF(Schueler25Punkte!$G48=\"\",\"f\",IF(Schueler25Punkte!$G48>1,\"f\",Schueler25Punkte!$G48)))","v":""},{"$f":"IF(Schueler26Punkte!$D$1=0,\"\",IF(Schueler26Punkte!$G48=\"\",\"f\",IF(Schueler26Punkte!$G48>1,\"f\",Schueler26Punkte!$G48)))","v":""},{"$f":"IF(Schueler27Punkte!$D$1=0,\"\",IF(Schueler27Punkte!$G48=\"\",\"f\",IF(Schueler27Punkte!$G48>1,\"f\",Schueler27Punkte!$G48)))","v":""},{"$f":"IF(Schueler28Punkte!$D$1=0,\"\",IF(Schueler28Punkte!$G48=\"\",\"f\",IF(Schueler28Punkte!$G48>1,\"f\",Schueler28Punkte!$G48)))","v":""},{"$f":"IF(Schueler29Punkte!$D$1=0,\"\",IF(Schueler29Punkte!$G48=\"\",\"f\",IF(Schueler29Punkte!$G48>1,\"f\",Schueler29Punkte!$G48)))","v":""},{"$f":"IF(Schueler30Punkte!$D$1=0,\"\",IF(Schueler30Punkte!$G48=\"\",\"f\",IF(Schueler30Punkte!$G48>1,\"f\",Schueler30Punkte!$G48)))","v":""},{"$error":"#DIV/0!"}]
[8,"SY36",null,null,null,1,{"$f":"IF(Schueler1Punkte!$D$1=0,\"\",IF(Schueler1Punkte!$G49=\"\",\"f\",IF(Schueler1Punkte!$G49>1,\"f\",Schueler1Punkte!$G49)))","v":""},{"$f":"IF(Schueler2Punkte!$D$1=0,\"\",IF(Schueler2Punkte!$G49=\"\",\"f\",IF(Schueler2Punkte!$G49>1,\"f\",Schueler2Punkte!$G49)))","v":""},{"$f":"IF(Schueler3Punkte!$D$1=0,\"\",IF(Schueler3Punkte!$G49=\"\",\"f\",IF(Schueler3Punkte!$G49>1,\"f\",Schueler3Punkte!$G49)))","v":""},{"$f":"IF(Schueler4Punkte!$D$1=0,\"\",IF(Schueler4Punkte!$G49=\"\",\"f\",IF(Schueler4Punkte!$G49>1,\"f\",Schueler4Punkte!$G49)))","v":""},{"$f":"IF(Schueler5Punkte!$D$1=0,\"\",IF(Schueler5Punkte!$G49=\"\",\"f\",IF(Schueler5Punkte!$G49>1,\"f\",Schueler5Punkte!$G49)))","v":""},{"$f":"IF(Schueler6Punkte!$D$1=0,\"\",IF(Schueler6Punkte!$G49=\"\",\"f\",IF(Schueler6Punkte!$G49>1,\"f\",Schueler6Punkte!$G49)))","v":""},{"$f":"IF(Schueler7Punkte!$D$1=0,\"\",IF(Schueler7Punkte!$G49=\"\",\"f\",IF(Schueler7Punkte!$G49>1,\"f\",Schueler7Punkte!$G49)))","v":""},{"$f":"IF(Schueler8Punkte!$D$1=0,\"\",IF(Schueler8Punkte!$G49=\"\",\"f\",IF(Schueler8Punkte!$G49>1,\"f\",Schueler8Punkte!$G49)))","v":""},{"$f":"IF(Schueler9Punkte!$D$1=0,\"\",IF(Schueler9Punkte!$G49=\"\",\"f\",IF(Schueler9Punkte!$G49>1,\"f\",Schueler9Punkte!$G49)))","v":""},{"$f":"IF(Schueler10Punkte!$D$1=0,\"\",IF(Schueler10Punkte!$G49=\"\",\"f\",IF(Schueler10Punkte!$G49>1,\"f\",Schueler10Punkte!$G49)))","v":""},{"$f":"IF(Schueler11Punkte!$D$1=0,\"\",IF(Schueler11Punkte!$G49=\"\",\"f\",IF(Schueler11Punkte!$G49>1,\"f\",Schueler11Punkte!$G49)))","v":""},{"$f":"IF(Schueler12Punkte!$D$1=0,\"\",IF(Schueler12Punkte!$G49=\"\",\"f\",IF(Schueler12Punkte!$G49>1,\"f\",Schueler12Punkte!$G49)))","v":""},{"$f":"IF(Schueler13Punkte!$D$1=0,\"\",IF(Schueler13Punkte!$G49=\"\",\"f\",IF(Schueler13Punkte!$G49>1,\"f\",Schueler13Punkte!$G49)))","v":""},{"$f":"IF(Schueler14Punkte!$D$1=0,\"\",IF(Schueler14Punkte!$G49=\"\",\"f\",IF(Schueler14Punkte!$G49>1,\"f\",Schueler14Punkte!$G49)))","v":""},{"$f":"IF(Schueler15Punkte!$D$1=0,\"\",IF(Schueler15Punkte!$G49=\"\",\"f\",IF(Schueler15Punkte!$G49>1,\"f\",Schueler15Punkte!$G49)))","v":""},{"$f":"IF(Schueler16Punkte!$D$1=0,\"\",IF(Schueler16Punkte!$G49=\"\",\"f\",IF(Schueler16Punkte!$G49>1,\"f\",Schueler16Punkte!$G49)))","v":""},{"$f":"IF(Schueler17Punkte!$D$1=0,\"\",IF(Schueler17Punkte!$G49=\"\",\"f\",IF(Schueler17Punkte!$G49>1,\"f\",Schueler17Punkte!$G49)))","v":""},{"$f":"IF(Schueler18Punkte!$D$1=0,\"\",IF(Schueler18Punkte!$G49=\"\",\"f\",IF(Schueler18Punkte!$G49>1,\"f\",Schueler18Punkte!$G49)))","v":""},{"$f":"IF(Schueler19Punkte!$D$1=0,\"\",IF(Schueler19Punkte!$G49=\"\",\"f\",IF(Schueler19Punkte!$G49>1,\"f\",Schueler19Punkte!$G49)))","v":""},{"$f":"IF(Schueler20Punkte!$D$1=0,\"\",IF(Schueler20Punkte!$G49=\"\",\"f\",IF(Schueler20Punkte!$G49>1,\"f\",Schueler20Punkte!$G49)))","v":""},{"$f":"IF(Schueler21Punkte!$D$1=0,\"\",IF(Schueler21Punkte!$G49=\"\",\"f\",IF(Schueler21Punkte!$G49>1,\"f\",Schueler21Punkte!$G49)))","v":""},{"$f":"IF(Schueler22Punkte!$D$1=0,\"\",IF(Schueler22Punkte!$G49=\"\",\"f\",IF(Schueler22Punkte!$G49>1,\"f\",Schueler22Punkte!$G49)))","v":""},{"$f":"IF(Schueler23Punkte!$D$1=0,\"\",IF(Schueler23Punkte!$G49=\"\",\"f\",IF(Schueler23Punkte!$G49>1,\"f\",Schueler23Punkte!$G49)))","v":""},{"$f":"IF(Schueler24Punkte!$D$1=0,\"\",IF(Schueler24Punkte!$G49=\"\",\"f\",IF(Schueler24Punkte!$G49>1,\"f\",Schueler24Punkte!$G49)))","v":""},{"$f":"IF(Schueler25Punkte!$D$1=0,\"\",IF(Schueler25Punkte!$G49=\"\",\"f\",IF(Schueler25Punkte!$G49>1,\"f\",Schueler25Punkte!$G49)))","v":""},{"$f":"IF(Schueler26Punkte!$D$1=0,\"\",IF(Schueler26Punkte!$G49=\"\",\"f\",IF(Schueler26Punkte!$G49>1,\"f\",Schueler26Punkte!$G49)))","v":""},{"$f":"IF(Schueler27Punkte!$D$1=0,\"\",IF(Schueler27Punkte!$G49=\"\",\"f\",IF(Schueler27Punkte!$G49>1,\"f\",Schueler27Punkte!$G49)))","v":""},{"$f":"IF(Schueler28Punkte!$D$1=0,\"\",IF(Schueler28Punkte!$G49=\"\",\"f\",IF(Schueler28Punkte!$G49>1,\"f\",Schueler28Punkte!$G49)))","v":""},{"$f":"IF(Schueler29Punkte!$D$1=0,\"\",IF(Schueler29Punkte!$G49=\"\",\"f\",IF(Schueler29Punkte!$G49>1,\"f\",Schueler29Punkte!$G49)))","v":""},{"$f":"IF(Schueler30Punkte!$D$1=0,\"\",IF(Schueler30Punkte!$G49=\"\",\"f\",IF(Schueler30Punkte!$G49>1,\"f\",Schueler30Punkte!$G49)))","v":""},{"$error":"#DIV/0!"}]
["2.",null,"SPRACHLICHE QUALITÄT IN DER ZIELSPRACHE",null,null,"6/4/2/0"]
[1,null,"gut verständlich/  mit einiger Anstrengung verständlich/ kaum verständlich",null,null,null,{"$f":"IF(Schueler1Punkte!$G$50=\"\",\"\",IF(Schueler1Punkte!$G$50=1,\"f\",IF(Schueler1Punkte!$G$50=3,\"f\",IF(Schueler1Punkte!$G$50=5,\"f\",IF(Schueler1Punkte!$G$50>6,\"f\",Schueler1Punkte!$G50)))))","v":""},{"$f":"IF(Schueler2Punkte!$G$50=\"\",\"\",IF(Schueler2Punkte!$G$50=1,\"f\",IF(Schueler2Punkte!$G$50=3,\"f\",IF(Schueler2Punkte!$G$50=5,\"f\",IF(Schueler2Punkte!$G$50>6,\"f\",Schueler2Punkte!$G50)))))","v":""},{"$f":"IF(Schueler3Punkte!$G$50=\"\",\"\",IF(Schueler3Punkte!$G$50=1,\"f\",IF(Schueler3Punkte!$G$50=3,\"f\",IF(Schueler3Punkte!$G$50=5,\"f\",IF(Schueler3Punkte!$G$50>6,\"f\",Schueler3Punkte!$G50)))))","v":""},{"$f":"IF(Schueler4Punkte!$G$50=\"\",\"\",IF(Schueler4Punkte!$G$50=1,\"f\",IF(Schueler4Punkte!$G$50=3,\"f\",IF(Schueler4Punkte!$G$50=5,\"f\",IF(Schueler4Punkte!$G$50>6,\"f\",Schueler4Punkte!$G50)))))","v":""},{"$f":"IF(Schueler5Punkte!$G$50=\"\",\"\",IF(Schueler5Punkte!$G$50=1,\"f\",IF(Schueler5Punkte!$G$50=3,\"f\",IF(Schueler5Punkte!$G$50=5,\"f\",IF(Schueler5Punkte!$G$50>6,\"f\",Schueler5Punkte!$G50)))))","v":""},{"$f":"IF(Schueler6Punkte!$G$50=\"\",\"\",IF(Schueler6Punkte!$G$50=1,\"f\",IF(Schueler6Punkte!$G$50=3,\"f\",IF(Schueler6Punkte!$G$50=5,\"f\",IF(Schueler6Punkte!$G$50>6,\"f\",Schueler6Punkte!$G50)))))","v":""},{"$f":"IF(Schueler7Punkte!$G$50=\"\",\"\",IF(Schueler7Punkte!$G$50=1,\"f\",IF(Schueler7Punkte!$G$50=3,\"f\",IF(Schueler7Punkte!$G$50=5,\"f\",IF(Schueler7Punkte!$G$50>6,\"f\",Schueler7Punkte!$G50)))))","v":0},{"$f":"IF(Schueler8Punkte!$G$50=\"\",\"\",IF(Schueler8Punkte!$G$50=1,\"f\",IF(Schueler8Punkte!$G$50=3,\"f\",IF(Schueler8Punkte!$G$50=5,\"f\",IF(Schueler8Punkte!$G$50>6,\"f\",Schueler8Punkte!$G50)))))","v":""},{"$f":"IF(Schueler9Punkte!$G$50=\"\",\"\",IF(Schueler9Punkte!$G$50=1,\"f\",IF(Schueler9Punkte!$G$50=3,\"f\",IF(Schueler9Punkte!$G$50=5,\"f\",IF(Schueler9Punkte!$G$50>6,\"f\",Schueler9Punkte!$G50)))))","v":""},{"$f":"IF(Schueler10Punkte!$G$50=\"\",\"\",IF(Schueler10Punkte!$G$50=1,\"f\",IF(Schueler10Punkte!$G$50=3,\"f\",IF(Schueler10Punkte!$G$50=5,\"f\",IF(Schueler10Punkte!$G$50>6,\"f\",Schueler10Punkte!$G50)))))","v":""},{"$f":"IF(Schueler11Punkte!$G$50=\"\",\"\",IF(Schueler11Punkte!$G$50=1,\"f\",IF(Schueler11Punkte!$G$50=3,\"f\",IF(Schueler11Punkte!$G$50=5,\"f\",IF(Schueler11Punkte!$G$50>6,\"f\",Schueler11Punkte!$G50)))))","v":""},{"$f":"IF(Schueler12Punkte!$G$50=\"\",\"\",IF(Schueler12Punkte!$G$50=1,\"f\",IF(Schueler12Punkte!$G$50=3,\"f\",IF(Schueler12Punkte!$G$50=5,\"f\",IF(Schueler12Punkte!$G$50>6,\"f\",Schueler12Punkte!$G50)))))","v":""},{"$f":"IF(Schueler13Punkte!$G$50=\"\",\"\",IF(Schueler13Punkte!$G$50=1,\"f\",IF(Schueler13Punkte!$G$50=3,\"f\",IF(Schueler13Punkte!$G$50=5,\"f\",IF(Schueler13Punkte!$G$50>6,\"f\",Schueler13Punkte!$G50)))))","v":""},{"$f":"IF(Schueler14Punkte!$G$50=\"\",\"\",IF(Schueler14Punkte!$G$50=1,\"f\",IF(Schueler14Punkte!$G$50=3,\"f\",IF(Schueler14Punkte!$G$50=5,\"f\",IF(Schueler14Punkte!$G$50>6,\"f\",Schueler14Punkte!$G50)))))","v":""},{"$f":"IF(Schueler15Punkte!$G$50=\"\",\"\",IF(Schueler15Punkte!$G$50=1,\"f\",IF(Schueler15Punkte!$G$50=3,\"f\",IF(Schueler15Punkte!$G$50=5,\"f\",IF(Schueler15Punkte!$G$50>6,\"f\",Schueler15Punkte!$G50)))))","v":""},{"$f":"IF(Schueler16Punkte!$G$50=\"\",\"\",IF(Schueler16Punkte!$G$50=1,\"f\",IF(Schueler16Punkte!$G$50=3,\"f\",IF(Schueler16Punkte!$G$50=5,\"f\",IF(Schueler16Punkte!$G$50>6,\"f\",Schueler16Punkte!$G50)))))","v":""},{"$f":"IF(Schueler17Punkte!$G$50=\"\",\"\",IF(Schueler17Punkte!$G$50=1,\"f\",IF(Schueler17Punkte!$G$50=3,\"f\",IF(Schueler17Punkte!$G$50=5,\"f\",IF(Schueler17Punkte!$G$50>6,\"f\",Schueler17Punkte!$G50)))))","v":""},{"$f":"IF(Schueler18Punkte!$G$50=\"\",\"\",IF(Schueler18Punkte!$G$50=1,\"f\",IF(Schueler18Punkte!$G$50=3,\"f\",IF(Schueler18Punkte!$G$50=5,\"f\",IF(Schueler18Punkte!$G$50>6,\"f\",Schueler18Punkte!$G50)))))","v":""},{"$f":"IF(Schueler19Punkte!$G$50=\"\",\"\",IF(Schueler19Punkte!$G$50=1,\"f\",IF(Schueler19Punkte!$G$50=3,\"f\",IF(Schueler19Punkte!$G$50=5,\"f\",IF(Schueler19Punkte!$G$50>6,\"f\",Schueler19Punkte!$G50)))))","v":""},{"$f":"IF(Schueler20Punkte!$G$50=\"\",\"\",IF(Schueler20Punkte!$G$50=1,\"f\",IF(Schueler20Punkte!$G$50=3,\"f\",IF(Schueler20Punkte!$G$50=5,\"f\",IF(Schueler20Punkte!$G$50>6,\"f\",Schueler20Punkte!$G50)))))","v":""},{"$f":"IF(Schueler21Punkte!$G$50=\"\",\"\",IF(Schueler21Punkte!$G$50=1,\"f\",IF(Schueler21Punkte!$G$50=3,\"f\",IF(Schueler21Punkte!$G$50=5,\"f\",IF(Schueler21Punkte!$G$50>6,\"f\",Schueler21Punkte!$G50)))))","v":""},{"$f":"IF(Schueler22Punkte!$G$50=\"\",\"\",IF(Schueler22Punkte!$G$50=1,\"f\",IF(Schueler22Punkte!$G$50=3,\"f\",IF(Schueler22Punkte!$G$50=5,\"f\",IF(Schueler22Punkte!$G$50>6,\"f\",Schueler22Punkte!$G50)))))","v":""},{"$f":"IF(Schueler23Punkte!$G$50=\"\",\"\",IF(Schueler23Punkte!$G$50=1,\"f\",IF(Schueler23Punkte!$G$50=3,\"f\",IF(Schueler23Punkte!$G$50=5,\"f\",IF(Schueler23Punkte!$G$50>6,\"f\",Schueler23Punkte!$G50)))))","v":""},{"$f":"IF(Schueler24Punkte!$G$50=\"\",\"\",IF(Schueler24Punkte!$G$50=1,\"f\",IF(Schueler24Punkte!$G$50=3,\"f\",IF(Schueler24Punkte!$G$50=5,\"f\",IF(Schueler24Punkte!$G$50>6,\"f\",Schueler24Punkte!$G50)))))","v":""},{"$f":"IF(Schueler25Punkte!$G$50=\"\",\"\",IF(Schueler25Punkte!$G$50=1,\"f\",IF(Schueler25Punkte!$G$50=3,\"f\",IF(Schueler25Punkte!$G$50=5,\"f\",IF(Schueler25Punkte!$G$50>6,\"f\",Schueler25Punkte!$G50)))))","v":""},{"$f":"IF(Schueler26Punkte!$G$50=\"\",\"\",IF(Schueler26Punkte!$G$50=1,\"f\",IF(Schueler26Punkte!$G$50=3,\"f\",IF(Schueler26Punkte!$G$50=5,\"f\",IF(Schueler26Punkte!$G$50>6,\"f\",Schueler26Punkte!$G50)))))","v":""},{"$f":"IF(Schueler27Punkte!$G$50=\"\",\"\",IF(Schueler27Punkte!$G$50=1,\"f\",IF(Schueler27Punkte!$G$50=3,\"f\",IF(Schueler27Punkte!$G$50=5,\"f\",IF(Schueler27Punkte!$G$50>6,\"f\",Schueler27Punkte!$G50)))))","v":""},{"$f":"IF(Schueler28Punkte!$G$50=\"\",\"\",IF(Schueler28Punkte!$G$50=1,\"f\",IF(Schueler28Punkte!$G$50=3,\"f\",IF(Schueler28Punkte!$G$50=5,\"f\",IF(Schueler28Punkte!$G$50>6,\"f\",Schueler28Punkte!$G50)))))","v":""},{"$f":"IF(Schueler29Punkte!$G$50=\"\",\"\",IF(Schueler29Punkte!$G$50=1,\"f\",IF(Schueler29Punkte!$G$50=3,\"f\",IF(Schueler29Punkte!$G$50=5,\"f\",IF(Schueler29Punkte!$G$50>6,\"f\",Schueler29Punkte!$G50)))))","v":""},{"$f":"IF(Schueler30Punkte!$G$50=\"\",\"\",IF(Schueler30Punkte!$G$50=1,\"f\",IF(Schueler30Punkte!$G$50=3,\"f\",IF(Schueler30Punkte!$G$50=5,\"f\",IF(Schueler30Punkte!$G$50>6,\"f\",Schueler30Punkte!$G50)))))","v":""},{"$f":"SUM(G58:AJ58)/((COUNTIF(G58:AJ58,0)+COUNTIF(G58:AJ58,3)+COUNTIF(G58:AJ58,6))*6)","v":0}]
[null,"Summe",null,null,null,42,{"$f":"IF(G1=\"\",\"\",COUNTIF(G6:G28,\"1\")+COUNTIF(G31:G38,\"1\")+COUNTIF(G40:G47,\"1\")+COUNTIF(G49:G56,\"1\")+IF(Schueler1Punkte!$G50=\"\",0,Schueler1Punkte!$G50))","v":""},{"$f":"IF(H1=\"\",\"\",COUNTIF(H6:H28,\"1\")+COUNTIF(H31:H38,\"1\")+COUNTIF(H40:H47,\"1\")+COUNTIF(H49:H56,\"1\")+IF(Schueler2Punkte!$G50=\"\",0,Schueler2Punkte!$G50))","v":""},{"$f":"IF(I1=\"\",\"\",COUNTIF(I6:I28,\"1\")+COUNTIF(I31:I38,\"1\")+COUNTIF(I40:I47,\"1\")+COUNTIF(I49:I56,\"1\")+IF(Schueler3Punkte!$G50=\"\",0,Schueler3Punkte!$G50))","v":""},{"$f":"IF(J1=\"\",\"\",COUNTIF(J6:J28,\"1\")+COUNTIF(J31:J38,\"1\")+COUNTIF(J40:J47,\"1\")+COUNTIF(J49:J56,\"1\")+IF(Schueler4Punkte!$G50=\"\",0,Schueler4Punkte!$G50))","v":""},{"$f":"IF(K1=\"\",\"\",COUNTIF(K6:K28,\"1\")+COUNTIF(K31:K38,\"1\")+COUNTIF(K40:K47,\"1\")+COUNTIF(K49:K56,\"1\")+IF(Schueler5Punkte!$G50=\"\",0,Schueler5Punkte!$G50))","v":""},{"$f":"IF(L1=\"\",\"\",COUNTIF(L6:L28,\"1\")+COUNTIF(L31:L38,\"1\")+COUNTIF(L40:L47,\"1\")+COUNTIF(L49:L56,\"1\")+IF(Schueler6Punkte!$G50=\"\",0,Schueler6Punkte!$G50))","v":""},{"$f":"IF(M1=\"\",\"\",COUNTIF(M6:M28,\"1\")+COUNTIF(M31:M38,\"1\")+COUNTIF(M40:M47,\"1\")+COUNTIF(M49:M56,\"1\")+IF(Schueler7Punkte!$G50=\"\",0,Schueler7Punkte!$G50))","v":""},{"$f":"IF(N1=\"\",\"\",COUNTIF(N6:N28,\"1\")+COUNTIF(N31:N38,\"1\")+COUNTIF(N40:N47,\"1\")+COUNTIF(N49:N56,\"1\")+IF(Schueler8Punkte!$G50=\"\",0,Schueler8Punkte!$G50))","v":""},{"$f":"IF(O1=\"\",\"\",COUNTIF(O6:O28,\"1\")+COUNTIF(O31:O38,\"1\")+COUNTIF(O40:O47,\"1\")+COUNTIF(O49:O56,\"1\")+IF(Schueler9Punkte!$G50=\"\",0,Schueler9Punkte!$G50))","v":""},{"$f":"IF(P1=\"\",\"\",COUNTIF(P6:P28,\"1\")+COUNTIF(P31:P38,\"1\")+COUNTIF(P40:P47,\"1\")+COUNTIF(P49:P56,\"1\")+IF(Schueler10Punkte!$G50=\"\",0,Schueler10Punkte!$G50))","v":""},{"$f":"IF(Q1=\"\",\"\",COUNTIF(Q6:Q28,\"1\")+COUNTIF(Q31:Q38,\"1\")+COUNTIF(Q40:Q47,\"1\")+COUNTIF(Q49:Q56,\"1\")+IF(Schueler11Punkte!$G50=\"\",0,Schueler11Punkte!$G50))","v":""},{"$f":"IF(R1=\"\",\"\",COUNTIF(R6:R28,\"1\")+COUNTIF(R31:R38,\"1\")+COUNTIF(R40:R47,\"1\")+COUNTIF(R49:R56,\"1\")+IF(Schueler12Punkte!$G50=\"\",0,Schueler12Punkte!$G50))","v":""},{"$f":"IF(S1=\"\",\"\",COUNTIF(S6:S28,\"1\")+COUNTIF(S31:S38,\"1\")+COUNTIF(S40:S47,\"1\")+COUNTIF(S49:S56,\"1\")+IF(Schueler13Punkte!$G50=\"\",0,Schueler13Punkte!$G50))","v":""},{"$f":"IF(T1=\"\",\"\",COUNTIF(T6:T28,\"1\")+COUNTIF(T31:T38,\"1\")+COUNTIF(T40:T47,\"1\")+COUNTIF(T49:T56,\"1\")+IF(Schueler14Punkte!$G50=\"\",0,Schueler14Punkte!$G50))","v":""},{"$f":"IF(U1=\"\",\"\",COUNTIF(U6:U28,\"1\")+COUNTIF(U31:U38,\"1\")+COUNTIF(U40:U47,\"1\")+COUNTIF(U49:U56,\"1\")+IF(Schueler15Punkte!$G50=\"\",0,Schueler15Punkte!$G50))","v":""},{"$f":"IF(V1=\"\",\"\",COUNTIF(V6:V28,\"1\")+COUNTIF(V31:V38,\"1\")+COUNTIF(V40:V47,\"1\")+COUNTIF(V49:V56,\"1\")+IF(Schueler16Punkte!$G50=\"\",0,Schueler16Punkte!$G50))","v":""},{"$f":"IF(W1=\"\",\"\",COUNTIF(W6:W28,\"1\")+COUNTIF(W31:W38,\"1\")+COUNTIF(W40:W47,\"1\")+COUNTIF(W49:W56,\"1\")+IF(Schueler17Punkte!$G50=\"\",0,Schueler17Punkte!$G50))","v":""},{"$f":"IF(X1=\"\",\"\",COUNTIF(X6:X28,\"1\")+COUNTIF(X31:X38,\"1\")+COUNTIF(X40:X47,\"1\")+COUNTIF(X49:X56,\"1\")+IF(Schueler18Punkte!$G50=\"\",0,Schueler18Punkte!$G50))","v":""},{"$f":"IF(Y1=\"\",\"\",COUNTIF(Y6:Y28,\"1\")+COUNTIF(Y31:Y38,\"1\")+COUNTIF(Y40:Y47,\"1\")+COUNTIF(Y49:Y56,\"1\")+IF(Schueler19Punkte!$G50=\"\",0,Schueler19Punkte!$G50))","v":""},{"$f":"IF(Z1=\"\",\"\",COUNTIF(Z6:Z28,\"1\")+COUNTIF(Z31:Z38,\"1\")+COUNTIF(Z40:Z47,\"1\")+COUNTIF(Z49:Z56,\"1\")+IF(Schueler20Punkte!$G50=\"\",0,Schueler20Punkte!$G50))","v":""},{"$f":"IF(AA1=\"\",\"\",COUNTIF(AA6:AA28,\"1\")+COUNTIF(AA31:AA38,\"1\")+COUNTIF(AA40:AA47,\"1\")+COUNTIF(AA49:AA56,\"1\")+IF(Schueler21Punkte!$G50=\"\",0,Schueler21Punkte!$G50))","v":""},{"$f":"IF(AB1=\"\",\"\",COUNTIF(AB6:AB28,\"1\")+COUNTIF(AB31:AB38,\"1\")+COUNTIF(AB40:AB47,\"1\")+COUNTIF(AB49:AB56,\"1\")+IF(Schueler22Punkte!$G50=\"\",0,Schueler22Punkte!$G50))","v":""},{"$f":"IF(AC1=\"\",\"\",COUNTIF(AC6:AC28,\"1\")+COUNTIF(AC31:AC38,\"1\")+COUNTIF(AC40:AC47,\"1\")+COUNTIF(AC49:AC56,\"1\")+IF(Schueler23Punkte!$G50=\"\",0,Schueler23Punkte!$G50))","v":""},{"$f":"IF(AD1=\"\",\"\",COUNTIF(AD6:AD28,\"1\")+COUNTIF(AD31:AD38,\"1\")+COUNTIF(AD40:AD47,\"1\")+COUNTIF(AD49:AD56,\"1\")+IF(Schueler24Punkte!$G50=\"\",0,Schueler24Punkte!$G50))","v":""},{"$f":"IF(AE1=\"\",\"\",COUNTIF(AE6:AE28,\"1\")+COUNTIF(AE31:AE38,\"1\")+COUNTIF(AE40:AE47,\"1\")+COUNTIF(AE49:AE56,\"1\")+IF(Schueler25Punkte!$G50=\"\",0,Schueler25Punkte!$G50))","v":""},{"$f":"IF(AF1=\"\",\"\",COUNTIF(AF6:AF28,\"1\")+COUNTIF(AF31:AF38,\"1\")+COUNTIF(AF40:AF47,\"1\")+COUNTIF(AF49:AF56,\"1\")+IF(Schueler26Punkte!$G50=\"\",0,Schueler26Punkte!$G50))","v":""},{"$f":"IF(AG1=\"\",\"\",COUNTIF(AG6:AG28,\"1\")+COUNTIF(AG31:AG38,\"1\")+COUNTIF(AG40:AG47,\"1\")+COUNTIF(AG49:AG56,\"1\")+IF(Schueler27Punkte!$G50=\"\",0,Schueler27Punkte!$G50))","v":""},{"$f":"IF(AH1=\"\",\"\",COUNTIF(AH6:AH28,\"1\")+COUNTIF(AH31:AH38,\"1\")+COUNTIF(AH40:AH47,\"1\")+COUNTIF(AH49:AH56,\"1\")+IF(Schueler28Punkte!$G50=\"\",0,Schueler28Punkte!$G50))","v":""},{"$f":"IF(AI1=\"\",\"\",COUNTIF(AI6:AI28,\"1\")+COUNTIF(AI31:AI38,\"1\")+COUNTIF(AI40:AI47,\"1\")+COUNTIF(AI49:AI56,\"1\")+IF(Schueler29Punkte!$G50=\"\",0,Schueler29Punkte!$G50))","v":""},{"$f":"IF(AJ1=\"\",\"\",COUNTIF(AJ6:AJ28,\"1\")+COUNTIF(AJ31:AJ38,\"1\")+COUNTIF(AJ40:AJ47,\"1\")+COUNTIF(AJ49:AJ56,\"1\")+IF(Schueler30Punkte!$G50=\"\",0,Schueler30Punkte!$G50))","v":""}]
["Arbeitsaufgaben/Interpretation",null,null,{"$f":"IF(SUM(F61:F68)=0,\"\",IF(SUM(F61:F68)>F60,\"Fehler - zuviele Punkte\",SUM(F61:F68)))","v":""},{"$f":"IF(SUM(F61:F68)=0,\"\",IF(SUM(F61:F68)<F60,\"Fehler - zuwenig Punkte\",SUM(F61:F68)))","v":""},18,{"$f":"IF(G61=\"\",\"\",IF(COUNTIF($F61:$F68,\"\")<(COUNTIF(G61:G68,\"\")),\"\",SUM(IF(G68=\"\",0,G68),IF(G67=\"\",0,G67),IF(G66=\"\",0,G66),IF(G65=\"\",0,G65),IF(G64=\"\",0,G64),IF(G63=\"\",0,G63),IF(G62=\"\",0,G62),IF(G61=\"\",0,G61))))","v":""},{"$f":"IF(H61=\"\",\"\",IF(COUNTIF($F61:$F68,\"\")<(COUNTIF(H61:H68,\"\")),\"\",SUM(IF(H68=\"\",0,H68),IF(H67=\"\",0,H67),IF(H66=\"\",0,H66),IF(H65=\"\",0,H65),IF(H64=\"\",0,H64),IF(H63=\"\",0,H63),IF(H62=\"\",0,H62),IF(H61=\"\",0,H61))))","v":""},"","","","","","","","","","","","","","","","","","","","","","","","","","","",""]
[1,"IT1",null,null,null,null,{"$f":"IF(Schueler1Punkte!$D$1=0,\"\",IF(Schueler1Punkte!$M2=\"F\",\"f\",IF($F61=\"\",\"\",IF(AND(F61>0,Schueler1Punkte!N2=\"\"),\"F\",IF(Schueler1Punkte!N2=\"\",\"\",Schueler1Punkte!N2)))))","v":""},{"$f":"IF(Schueler2Punkte!$D$1=0,\"\",IF(Schueler2Punkte!$M2=\"F\",\"f\",IF($F61=\"\",\"\",IF(AND(G61>0,Schueler2Punkte!$N2=\"\"),\"F\",IF(Schueler2Punkte!$N2=\"\",\"\",Schueler2Punkte!$N2)))))","v":""},{"$f":"IF(Schueler3Punkte!$D$1=0,\"\",IF(Schueler3Punkte!$M2=\"F\",\"f\",IF($F61=\"\",\"\",IF(AND(H61>0,Schueler3Punkte!$N2=\"\"),\"F\",IF(Schueler3Punkte!$N2=\"\",\"\",Schueler3Punkte!$N2)))))","v":""},{"$f":"IF(Schueler4Punkte!$D$1=0,\"\",IF(Schueler4Punkte!$M2=\"F\",\"f\",IF($F61=\"\",\"\",IF(AND(I61>0,Schueler4Punkte!$N2=\"\"),\"F\",IF(Schueler4Punkte!$N2=\"\",\"\",Schueler4Punkte!$N2)))))","v":""},{"$f":"IF(Schueler5Punkte!$D$1=0,\"\",IF(Schueler5Punkte!$M2=\"F\",\"f\",IF($F61=\"\",\"\",IF(AND(J61>0,Schueler5Punkte!$N2=\"\"),\"F\",IF(Schueler5Punkte!$N2=\"\",\"\",Schueler5Punkte!$N2)))))","v":""},{"$f":"IF(Schueler6Punkte!$D$1=0,\"\",IF(Schueler6Punkte!$M2=\"F\",\"f\",IF($F61=\"\",\"\",IF(AND(K61>0,Schueler6Punkte!$N2=\"\"),\"F\",IF(Schueler6Punkte!$N2=\"\",\"\",Schueler6Punkte!$N2)))))","v":""},{"$f":"IF(Schueler7Punkte!$D$1=0,\"\",IF(Schueler7Punkte!$M2=\"F\",\"f\",IF($F61=\"\",\"\",IF(AND(L61>0,Schueler7Punkte!$N2=\"\"),\"F\",IF(Schueler7Punkte!$N2=\"\",\"\",Schueler7Punkte!$N2)))))","v":""},{"$f":"IF(Schueler8Punkte!$D$1=0,\"\",IF(Schueler8Punkte!$M2=\"F\",\"f\",IF($F61=\"\",\"\",IF(AND(M61>0,Schueler8Punkte!$N2=\"\"),\"F\",IF(Schueler8Punkte!$N2=\"\",\"\",Schueler8Punkte!$N2)))))","v":""},{"$f":"IF(Schueler9Punkte!$D$1=0,\"\",IF(Schueler9Punkte!$M2=\"F\",\"f\",IF($F61=\"\",\"\",IF(AND(N61>0,Schueler9Punkte!$N2=\"\"),\"F\",IF(Schueler9Punkte!$N2=\"\",\"\",Schueler9Punkte!$N2)))))","v":""},{"$f":"IF(Schueler10Punkte!$D$1=0,\"\",IF(Schueler10Punkte!$M2=\"F\",\"f\",IF($F61=\"\",\"\",IF(AND(O61>0,Schueler10Punkte!$N2=\"\"),\"F\",IF(Schueler10Punkte!$N2=\"\",\"\",Schueler10Punkte!$N2)))))","v":""},{"$f":"IF(Schueler11Punkte!$D$1=0,\"\",IF(Schueler11Punkte!$M2=\"F\",\"f\",IF($F61=\"\",\"\",IF(AND(P61>0,Schueler11Punkte!$N2=\"\"),\"F\",IF(Schueler11Punkte!$N2=\"\",\"\",Schueler11Punkte!$N2)))))","v":""},{"$f":"IF(Schueler12Punkte!$D$1=0,\"\",IF(Schueler12Punkte!$M2=\"F\",\"f\",IF($F61=\"\",\"\",IF(AND(Q61>0,Schueler12Punkte!$N2=\"\"),\"F\",IF(Schueler12Punkte!$N2=\"\",\"\",Schueler12Punkte!$N2)))))","v":""},{"$f":"IF(Schueler13Punkte!$D$1=0,\"\",IF(Schueler13Punkte!$M2=\"F\",\"f\",IF($F61=\"\",\"\",IF(AND(R61>0,Schueler13Punkte!$N2=\"\"),\"F\",IF(Schueler13Punkte!$N2=\"\",\"\",Schueler13Punkte!$N2)))))","v":""},{"$f":"IF(Schueler14Punkte!$D$1=0,\"\",IF(Schueler14Punkte!$M2=\"F\",\"f\",IF($F61=\"\",\"\",IF(AND(S61>0,Schueler14Punkte!$N2=\"\"),\"F\",IF(Schueler14Punkte!$N2=\"\",\"\",Schueler14Punkte!$N2)))))","v":""},{"$f":"IF(Schueler15Punkte!$D$1=0,\"\",IF(Schueler15Punkte!$M2=\"F\",\"f\",IF($F61=\"\",\"\",IF(AND(T61>0,Schueler15Punkte!$N2=\"\"),\"F\",IF(Schueler15Punkte!$N2=\"\",\"\",Schueler15Punkte!$N2)))))","v":""},{"$f":"IF(Schueler16Punkte!$D$1=0,\"\",IF(Schueler16Punkte!$M2=\"F\",\"f\",IF($F61=\"\",\"\",IF(AND(U61>0,Schueler16Punkte!$N2=\"\"),\"F\",IF(Schueler16Punkte!$N2=\"\",\"\",Schueler16Punkte!$N2)))))","v":""},{"$f":"IF(Schueler17Punkte!$D$1=0,\"\",IF(Schueler17Punkte!$M2=\"F\",\"f\",IF($F61=\"\",\"\",IF(AND(V61>0,Schueler17Punkte!$N2=\"\"),\"F\",IF(Schueler17Punkte!$N2=\"\",\"\",Schueler17Punkte!$N2)))))","v":""},{"$f":"IF(Schueler18Punkte!$D$1=0,\"\",IF(Schueler18Punkte!$M2=\"F\",\"f\",IF($F61=\"\",\"\",IF(AND(W61>0,Schueler18Punkte!$N2=\"\"),\"F\",IF(Schueler18Punkte!$N2=\"\",\"\",Schueler18Punkte!$N2)))))","v":""},{"$f":"IF(Schueler19Punkte!$D$1=0,\"\",IF(Schueler19Punkte!$M2=\"F\",\"f\",IF($F61=\"\",\"\",IF(AND(X61>0,Schueler19Punkte!$N2=\"\"),\"F\",IF(Schueler19Punkte!$N2=\"\",\"\",Schueler19Punkte!$N2)))))","v":""},{"$f":"IF(Schueler20Punkte!$D$1=0,\"\",IF(Schueler20Punkte!$M2=\"F\",\"f\",IF($F61=\"\",\"\",IF(AND(Y61>0,Schueler20Punkte!$N2=\"\"),\"F\",IF(Schueler20Punkte!$N2=\"\",\"\",Schueler20Punkte!$N2)))))","v":""},{"$f":"IF(Schueler21Punkte!$D$1=0,\"\",IF(Schueler21Punkte!$M2=\"F\",\"f\",IF($F61=\"\",\"\",IF(AND(Z61>0,Schueler21Punkte!$N2=\"\"),\"F\",IF(Schueler21Punkte!$N2=\"\",\"\",Schueler21Punkte!$N2)))))","v":""},{"$f":"IF(Schueler22Punkte!$D$1=0,\"\",IF(Schueler22Punkte!$M2=\"F\",\"f\",IF($F61=\"\",\"\",IF(AND(AA61>0,Schueler22Punkte!$N2=\"\"),\"F\",IF(Schueler22Punkte!$N2=\"\",\"\",Schueler22Punkte!$N2)))))","v":""},{"$f":"IF(Schueler23Punkte!$D$1=0,\"\",IF(Schueler23Punkte!$M2=\"F\",\"f\",IF($F61=\"\",\"\",IF(AND(AB61>0,Schueler23Punkte!$N2=\"\"),\"F\",IF(Schueler23Punkte!$N2=\"\",\"\",Schueler23Punkte!$N2)))))","v":""},{"$f":"IF(Schueler24Punkte!$D$1=0,\"\",IF(Schueler24Punkte!$M2=\"F\",\"f\",IF($F61=\"\",\"\",IF(AND(AC61>0,Schueler24Punkte!$N2=\"\"),\"F\",IF(Schueler24Punkte!$N2=\"\",\"\",Schueler24Punkte!$N2)))))","v":""},{"$f":"IF(Schueler25Punkte!$D$1=0,\"\",IF(Schueler25Punkte!$M2=\"F\",\"f\",IF($F61=\"\",\"\",IF(AND(AD61>0,Schueler25Punkte!$N2=\"\"),\"F\",IF(Schueler25Punkte!$N2=\"\",\"\",Schueler25Punkte!$N2)))))","v":""},{"$f":"IF(Schueler26Punkte!$D$1=0,\"\",IF(Schueler26Punkte!$M2=\"F\",\"f\",IF($F61=\"\",\"\",IF(AND(AE61>0,Schueler26Punkte!$N2=\"\"),\"F\",IF(Schueler26Punkte!$N2=\"\",\"\",Schueler26Punkte!$N2)))))","v":""},{"$f":"IF(Schueler27Punkte!$D$1=0,\"\",IF(Schueler27Punkte!$M2=\"F\",\"f\",IF($F61=\"\",\"\",IF(AND(AF61>0,Schueler27Punkte!$N2=\"\"),\"F\",IF(Schueler27Punkte!$N2=\"\",\"\",Schueler27Punkte!$N2)))))","v":""},{"$f":"IF(Schueler28Punkte!$D$1=0,\"\",IF(Schueler28Punkte!$M2=\"F\",\"f\",IF($F61=\"\",\"\",IF(AND(AG61>0,Schueler28Punkte!$N2=\"\"),\"F\",IF(Schueler28Punkte!$N2=\"\",\"\",Schueler28Punkte!$N2)))))","v":""},{"$f":"IF(Schueler29Punkte!$D$1=0,\"\",IF(Schueler29Punkte!$M2=\"F\",\"f\",IF($F61=\"\",\"\",IF(AND(AH61>0,Schueler29Punkte!$N2=\"\"),\"F\",IF(Schueler29Punkte!$N2=\"\",\"\",Schueler29Punkte!$N2)))))","v":""},{"$f":"IF(Schueler30Punkte!$D$1=0,\"\",IF(Schueler30Punkte!$M2=\"F\",\"f\",IF($F61=\"\",\"\",IF(AND(AI61>0,Schueler30Punkte!$N2=\"\"),\"F\",IF(Schueler30Punkte!$N2=\"\",\"\",Schueler30Punkte!$N2)))))","v":""},{"$f":"SUM(G61:AJ61)/((COUNTIF(G61:AJ61,0)+COUNTIF(G61:AJ61,1)+COUNTIF(G61:AJ61,2)+COUNTIF(G61:AJ61,3)+COUNTIF(G61:AJ61,4)+COUNTIF(G61:AJ61,5)+COUNTIF(G61:AJ61,6)+COUNTIF(G61:AJ61,7)+COUNTIF(G61:AJ61,8)+COUNTIF(G61:AJ61,9)+COUNTIF(G61:AJ61,10))*F61)","v":{"$error":"#DIV/0!"}}]
[2,"IT2",null,null,null,null,{"$f":"IF(Schueler1Punkte!$D$1=0,\"\",IF(Schueler1Punkte!$M3=\"F\",\"f\",IF($F62=\"\",\"\",IF(AND(F62>0,Schueler1Punkte!N3=\"\"),\"F\",IF(Schueler1Punkte!N3=\"\",\"\",Schueler1Punkte!N3)))))","v":""},{"$f":"IF(Schueler2Punkte!$D$1=0,\"\",IF(Schueler2Punkte!$M3=\"F\",\"f\",IF($F62=\"\",\"\",IF(AND(G62>0,Schueler2Punkte!$N3=\"\"),\"F\",IF(Schueler2Punkte!$N3=\"\",\"\",Schueler2Punkte!$N3)))))","v":""},{"$f":"IF(Schueler3Punkte!$D$1=0,\"\",IF(Schueler3Punkte!$M3=\"F\",\"f\",IF($F62=\"\",\"\",IF(AND(H62>0,Schueler3Punkte!$N3=\"\"),\"F\",IF(Schueler3Punkte!$N3=\"\",\"\",Schueler3Punkte!$N3)))))","v":""},{"$f":"IF(Schueler4Punkte!$D$1=0,\"\",IF(Schueler4Punkte!$M3=\"F\",\"f\",IF($F62=\"\",\"\",IF(AND(I62>0,Schueler4Punkte!$N3=\"\"),\"F\",IF(Schueler4Punkte!$N3=\"\",\"\",Schueler4Punkte!$N3)))))","v":""},{"$f":"IF(Schueler5Punkte!$D$1=0,\"\",IF(Schueler5Punkte!$M3=\"F\",\"f\",IF($F62=\"\",\"\",IF(AND(J62>0,Schueler5Punkte!$N3=\"\"),\"F\",IF(Schueler5Punkte!$N3=\"\",\"\",Schueler5Punkte!$N3)))))","v":""},{"$f":"IF(Schueler6Punkte!$D$1=0,\"\",IF(Schueler6Punkte!$M3=\"F\",\"f\",IF($F62=\"\",\"\",IF(AND(K62>0,Schueler6Punkte!$N3=\"\"),\"F\",IF(Schueler6Punkte!$N3=\"\",\"\",Schueler6Punkte!$N3)))))","v":""},{"$f":"IF(Schueler7Punkte!$D$1=0,\"\",IF(Schueler7Punkte!$M3=\"F\",\"f\",IF($F62=\"\",\"\",IF(AND(L62>0,Schueler7Punkte!$N3=\"\"),\"F\",IF(Schueler7Punkte!$N3=\"\",\"\",Schueler7Punkte!$N3)))))","v":""},{"$f":"IF(Schueler8Punkte!$D$1=0,\"\",IF(Schueler8Punkte!$M3=\"F\",\"f\",IF($F62=\"\",\"\",IF(AND(M62>0,Schueler8Punkte!$N3=\"\"),\"F\",IF(Schueler8Punkte!$N3=\"\",\"\",Schueler8Punkte!$N3)))))","v":""},{"$f":"IF(Schueler9Punkte!$D$1=0,\"\",IF(Schueler9Punkte!$M3=\"F\",\"f\",IF($F62=\"\",\"\",IF(AND(N62>0,Schueler9Punkte!$N3=\"\"),\"F\",IF(Schueler9Punkte!$N3=\"\",\"\",Schueler9Punkte!$N3)))))","v":""},{"$f":"IF(Schueler10Punkte!$D$1=0,\"\",IF(Schueler10Punkte!$M3=\"F\",\"f\",IF($F62=\"\",\"\",IF(AND(O62>0,Schueler10Punkte!$N3=\"\"),\"F\",IF(Schueler10Punkte!$N3=\"\",\"\",Schueler10Punkte!$N3)))))","v":""},{"$f":"IF(Schueler11Punkte!$D$1=0,\"\",IF(Schueler11Punkte!$M3=\"F\",\"f\",IF($F62=\"\",\"\",IF(AND(P62>0,Schueler11Punkte!$N3=\"\"),\"F\",IF(Schueler11Punkte!$N3=\"\",\"\",Schueler11Punkte!$N3)))))","v":""},{"$f":"IF(Schueler12Punkte!$D$1=0,\"\",IF(Schueler12Punkte!$M3=\"F\",\"f\",IF($F62=\"\",\"\",IF(AND(Q62>0,Schueler12Punkte!$N3=\"\"),\"F\",IF(Schueler12Punkte!$N3=\"\",\"\",Schueler12Punkte!$N3)))))","v":""},{"$f":"IF(Schueler13Punkte!$D$1=0,\"\",IF(Schueler13Punkte!$M3=\"F\",\"f\",IF($F62=\"\",\"\",IF(AND(R62>0,Schueler13Punkte!$N3=\"\"),\"F\",IF(Schueler13Punkte!$N3=\"\",\"\",Schueler13Punkte!$N3)))))","v":""},{"$f":"IF(Schueler14Punkte!$D$1=0,\"\",IF(Schueler14Punkte!$M3=\"F\",\"f\",IF($F62=\"\",\"\",IF(AND(S62>0,Schueler14Punkte!$N3=\"\"),\"F\",IF(Schueler14Punkte!$N3=\"\",\"\",Schueler14Punkte!$N3)))))","v":""},{"$f":"IF(Schueler15Punkte!$D$1=0,\"\",IF(Schueler15Punkte!$M3=\"F\",\"f\",IF($F62=\"\",\"\",IF(AND(T62>0,Schueler15Punkte!$N3=\"\"),\"F\",IF(Schueler15Punkte!$N3=\"\",\"\",Schueler15Punkte!$N3)))))","v":""},{"$f":"IF(Schueler16Punkte!$D$1=0,\"\",IF(Schueler16Punkte!$M3=\"F\",\"f\",IF($F62=\"\",\"\",IF(AND(U62>0,Schueler16Punkte!$N3=\"\"),\"F\",IF(Schueler16Punkte!$N3=\"\",\"\",Schueler16Punkte!$N3)))))","v":""},{"$f":"IF(Schueler17Punkte!$D$1=0,\"\",IF(Schueler17Punkte!$M3=\"F\",\"f\",IF($F62=\"\",\"\",IF(AND(V62>0,Schueler17Punkte!$N3=\"\"),\"F\",IF(Schueler17Punkte!$N3=\"\",\"\",Schueler17Punkte!$N3)))))","v":""},{"$f":"IF(Schueler18Punkte!$D$1=0,\"\",IF(Schueler18Punkte!$M3=\"F\",\"f\",IF($F62=\"\",\"\",IF(AND(W62>0,Schueler18Punkte!$N3=\"\"),\"F\",IF(Schueler18Punkte!$N3=\"\",\"\",Schueler18Punkte!$N3)))))","v":""},{"$f":"IF(Schueler19Punkte!$D$1=0,\"\",IF(Schueler19Punkte!$M3=\"F\",\"f\",IF($F62=\"\",\"\",IF(AND(X62>0,Schueler19Punkte!$N3=\"\"),\"F\",IF(Schueler19Punkte!$N3=\"\",\"\",Schueler19Punkte!$N3)))))","v":""},{"$f":"IF(Schueler20Punkte!$D$1=0,\"\",IF(Schueler20Punkte!$M3=\"F\",\"f\",IF($F62=\"\",\"\",IF(AND(Y62>0,Schueler20Punkte!$N3=\"\"),\"F\",IF(Schueler20Punkte!$N3=\"\",\"\",Schueler20Punkte!$N3)))))","v":""},{"$f":"IF(Schueler21Punkte!$D$1=0,\"\",IF(Schueler21Punkte!$M3=\"F\",\"f\",IF($F62=\"\",\"\",IF(AND(Z62>0,Schueler21Punkte!$N3=\"\"),\"F\",IF(Schueler21Punkte!$N3=\"\",\"\",Schueler21Punkte!$N3)))))","v":""},{"$f":"IF(Schueler22Punkte!$D$1=0,\"\",IF(Schueler22Punkte!$M3=\"F\",\"f\",IF($F62=\"\",\"\",IF(AND(AA62>0,Schueler22Punkte!$N3=\"\"),\"F\",IF(Schueler22Punkte!$N3=\"\",\"\",Schueler22Punkte!$N3)))))","v":""},{"$f":"IF(Schueler23Punkte!$D$1=0,\"\",IF(Schueler23Punkte!$M3=\"F\",\"f\",IF($F62=\"\",\"\",IF(AND(AB62>0,Schueler23Punkte!$N3=\"\"),\"F\",IF(Schueler23Punkte!$N3=\"\",\"\",Schueler23Punkte!$N3)))))","v":""},{"$f":"IF(Schueler24Punkte!$D$1=0,\"\",IF(Schueler24Punkte!$M3=\"F\",\"f\",IF($F62=\"\",\"\",IF(AND(AC62>0,Schueler24Punkte!$N3=\"\"),\"F\",IF(Schueler24Punkte!$N3=\"\",\"\",Schueler24Punkte!$N3)))))","v":""},{"$f":"IF(Schueler25Punkte!$D$1=0,\"\",IF(Schueler25Punkte!$M3=\"F\",\"f\",IF($F62=\"\",\"\",IF(AND(AD62>0,Schueler25Punkte!$N3=\"\"),\"F\",IF(Schueler25Punkte!$N3=\"\",\"\",Schueler25Punkte!$N3)))))","v":""},{"$f":"IF(Schueler26Punkte!$D$1=0,\"\",IF(Schueler26Punkte!$M3=\"F\",\"f\",IF($F62=\"\",\"\",IF(AND(AE62>0,Schueler26Punkte!$N3=\"\"),\"F\",IF(Schueler26Punkte!$N3=\"\",\"\",Schueler26Punkte!$N3)))))","v":""},{"$f":"IF(Schueler27Punkte!$D$1=0,\"\",IF(Schueler27Punkte!$M3=\"F\",\"f\",IF($F62=\"\",\"\",IF(AND(AF62>0,Schueler27Punkte!$N3=\"\"),\"F\",IF(Schueler27Punkte!$N3=\"\",\"\",Schueler27Punkte!$N3)))))","v":""},{"$f":"IF(Schueler28Punkte!$D$1=0,\"\",IF(Schueler28Punkte!$M3=\"F\",\"f\",IF($F62=\"\",\"\",IF(AND(AG62>0,Schueler28Punkte!$N3=\"\"),\"F\",IF(Schueler28Punkte!$N3=\"\",\"\",Schueler28Punkte!$N3)))))","v":""},{"$f":"IF(Schueler29Punkte!$D$1=0,\"\",IF(Schueler29Punkte!$M3=\"F\",\"f\",IF($F62=\"\",\"\",IF(AND(AH62>0,Schueler29Punkte!$N3=\"\"),\"F\",IF(Schueler29Punkte!$N3=\"\",\"\",Schueler29Punkte!$N3)))))","v":""},{"$f":"IF(Schueler30Punkte!$D$1=0,\"\",IF(Schueler30Punkte!$M3=\"F\",\"f\",IF($F62=\"\",\"\",IF(AND(AI62>0,Schueler30Punkte!$N3=\"\"),\"F\",IF(Schueler30Punkte!$N3=\"\",\"\",Schueler30Punkte!$N3)))))","v":""},{"$f":"SUM(G62:AJ62)/((COUNTIF(G62:AJ62,0)+COUNTIF(G62:AJ62,1)+COUNTIF(G62:AJ62,2)+COUNTIF(G62:AJ62,3)+COUNTIF(G62:AJ62,4)+COUNTIF(G62:AJ62,5)+COUNTIF(G62:AJ62,6)+COUNTIF(G62:AJ62,7)+COUNTIF(G62:AJ62,8)+COUNTIF(G62:AJ62,9)+COUNTIF(G62:AJ62,10))*F62)","v":{"$error":"#DIV/0!"}}]
[3,"IT3",null,null,null,null,{"$f":"IF(Schueler1Punkte!$D$1=0,\"\",IF(Schueler1Punkte!$M4=\"F\",\"f\",IF($F63=\"\",\"\",IF(AND(F63>0,Schueler1Punkte!N4=\"\"),\"F\",IF(Schueler1Punkte!N4=\"\",\"\",Schueler1Punkte!N4)))))","v":""},{"$f":"IF(Schueler2Punkte!$D$1=0,\"\",IF(Schueler2Punkte!$M4=\"F\",\"f\",IF($F63=\"\",\"\",IF(AND(G63>0,Schueler2Punkte!$N4=\"\"),\"F\",IF(Schueler2Punkte!$N4=\"\",\"\",Schueler2Punkte!$N4)))))","v":""},{"$f":"IF(Schueler3Punkte!$D$1=0,\"\",IF(Schueler3Punkte!$M4=\"F\",\"f\",IF($F63=\"\",\"\",IF(AND(H63>0,Schueler3Punkte!$N4=\"\"),\"F\",IF(Schueler3Punkte!$N4=\"\",\"\",Schueler3Punkte!$N4)))))","v":""},{"$f":"IF(Schueler4Punkte!$D$1=0,\"\",IF(Schueler4Punkte!$M4=\"F\",\"f\",IF($F63=\"\",\"\",IF(AND(I63>0,Schueler4Punkte!$N4=\"\"),\"F\",IF(Schueler4Punkte!$N4=\"\",\"\",Schueler4Punkte!$N4)))))","v":""},{"$f":"IF(Schueler5Punkte!$D$1=0,\"\",IF(Schueler5Punkte!$M4=\"F\",\"f\",IF($F63=\"\",\"\",IF(AND(J63>0,Schueler5Punkte!$N4=\"\"),\"F\",IF(Schueler5Punkte!$N4=\"\",\"\",Schueler5Punkte!$N4)))))","v":""},{"$f":"IF(Schueler6Punkte!$D$1=0,\"\",IF(Schueler6Punkte!$M4=\"F\",\"f\",IF($F63=\"\",\"\",IF(AND(K63>0,Schueler6Punkte!$N4=\"\"),\"F\",IF(Schueler6Punkte!$N4=\"\",\"\",Schueler6Punkte!$N4)))))","v":""},{"$f":"IF(Schueler7Punkte!$D$1=0,\"\",IF(Schueler7Punkte!$M4=\"F\",\"f\",IF($F63=\"\",\"\",IF(AND(L63>0,Schueler7Punkte!$N4=\"\"),\"F\",IF(Schueler7Punkte!$N4=\"\",\"\",Schueler7Punkte!$N4)))))","v":""},{"$f":"IF(Schueler8Punkte!$D$1=0,\"\",IF(Schueler8Punkte!$M4=\"F\",\"f\",IF($F63=\"\",\"\",IF(AND(M63>0,Schueler8Punkte!$N4=\"\"),\"F\",IF(Schueler8Punkte!$N4=\"\",\"\",Schueler8Punkte!$N4)))))","v":""},{"$f":"IF(Schueler9Punkte!$D$1=0,\"\",IF(Schueler9Punkte!$M4=\"F\",\"f\",IF($F63=\"\",\"\",IF(AND(N63>0,Schueler9Punkte!$N4=\"\"),\"F\",IF(Schueler9Punkte!$N4=\"\",\"\",Schueler9Punkte!$N4)))))","v":""},{"$f":"IF(Schueler10Punkte!$D$1=0,\"\",IF(Schueler10Punkte!$M4=\"F\",\"f\",IF($F63=\"\",\"\",IF(AND(O63>0,Schueler10Punkte!$N4=\"\"),\"F\",IF(Schueler10Punkte!$N4=\"\",\"\",Schueler10Punkte!$N4)))))","v":""},{"$f":"IF(Schueler11Punkte!$D$1=0,\"\",IF(Schueler11Punkte!$M4=\"F\",\"f\",IF($F63=\"\",\"\",IF(AND(P63>0,Schueler11Punkte!$N4=\"\"),\"F\",IF(Schueler11Punkte!$N4=\"\",\"\",Schueler11Punkte!$N4)))))","v":""},{"$f":"IF(Schueler12Punkte!$D$1=0,\"\",IF(Schueler12Punkte!$M4=\"F\",\"f\",IF($F63=\"\",\"\",IF(AND(Q63>0,Schueler12Punkte!$N4=\"\"),\"F\",IF(Schueler12Punkte!$N4=\"\",\"\",Schueler12Punkte!$N4)))))","v":""},{"$f":"IF(Schueler13Punkte!$D$1=0,\"\",IF(Schueler13Punkte!$M4=\"F\",\"f\",IF($F63=\"\",\"\",IF(AND(R63>0,Schueler13Punkte!$N4=\"\"),\"F\",IF(Schueler13Punkte!$N4=\"\",\"\",Schueler13Punkte!$N4)))))","v":""},{"$f":"IF(Schueler14Punkte!$D$1=0,\"\",IF(Schueler14Punkte!$M4=\"F\",\"f\",IF($F63=\"\",\"\",IF(AND(S63>0,Schueler14Punkte!$N4=\"\"),\"F\",IF(Schueler14Punkte!$N4=\"\",\"\",Schueler14Punkte!$N4)))))","v":""},{"$f":"IF(Schueler15Punkte!$D$1=0,\"\",IF(Schueler15Punkte!$M4=\"F\",\"f\",IF($F63=\"\",\"\",IF(AND(T63>0,Schueler15Punkte!$N4=\"\"),\"F\",IF(Schueler15Punkte!$N4=\"\",\"\",Schueler15Punkte!$N4)))))","v":""},{"$f":"IF(Schueler16Punkte!$D$1=0,\"\",IF(Schueler16Punkte!$M4=\"F\",\"f\",IF($F63=\"\",\"\",IF(AND(U63>0,Schueler16Punkte!$N4=\"\"),\"F\",IF(Schueler16Punkte!$N4=\"\",\"\",Schueler16Punkte!$N4)))))","v":""},{"$f":"IF(Schueler17Punkte!$D$1=0,\"\",IF(Schueler17Punkte!$M4=\"F\",\"f\",IF($F63=\"\",\"\",IF(AND(V63>0,Schueler17Punkte!$N4=\"\"),\"F\",IF(Schueler17Punkte!$N4=\"\",\"\",Schueler17Punkte!$N4)))))","v":""},{"$f":"IF(Schueler18Punkte!$D$1=0,\"\",IF(Schueler18Punkte!$M4=\"F\",\"f\",IF($F63=\"\",\"\",IF(AND(W63>0,Schueler18Punkte!$N4=\"\"),\"F\",IF(Schueler18Punkte!$N4=\"\",\"\",Schueler18Punkte!$N4)))))","v":""},{"$f":"IF(Schueler19Punkte!$D$1=0,\"\",IF(Schueler19Punkte!$M4=\"F\",\"f\",IF($F63=\"\",\"\",IF(AND(X63>0,Schueler19Punkte!$N4=\"\"),\"F\",IF(Schueler19Punkte!$N4=\"\",\"\",Schueler19Punkte!$N4)))))","v":""},{"$f":"IF(Schueler20Punkte!$D$1=0,\"\",IF(Schueler20Punkte!$M4=\"F\",\"f\",IF($F63=\"\",\"\",IF(AND(Y63>0,Schueler20Punkte!$N4=\"\"),\"F\",IF(Schueler20Punkte!$N4=\"\",\"\",Schueler20Punkte!$N4)))))","v":""},{"$f":"IF(Schueler21Punkte!$D$1=0,\"\",IF(Schueler21Punkte!$M4=\"F\",\"f\",IF($F63=\"\",\"\",IF(AND(Z63>0,Schueler21Punkte!$N4=\"\"),\"F\",IF(Schueler21Punkte!$N4=\"\",\"\",Schueler21Punkte!$N4)))))","v":""},{"$f":"IF(Schueler22Punkte!$D$1=0,\"\",IF(Schueler22Punkte!$M4=\"F\",\"f\",IF($F63=\"\",\"\",IF(AND(AA63>0,Schueler22Punkte!$N4=\"\"),\"F\",IF(Schueler22Punkte!$N4=\"\",\"\",Schueler22Punkte!$N4)))))","v":""},{"$f":"IF(Schueler23Punkte!$D$1=0,\"\",IF(Schueler23Punkte!$M4=\"F\",\"f\",IF($F63=\"\",\"\",IF(AND(AB63>0,Schueler23Punkte!$N4=\"\"),\"F\",IF(Schueler23Punkte!$N4=\"\",\"\",Schueler23Punkte!$N4)))))","v":""},{"$f":"IF(Schueler24Punkte!$D$1=0,\"\",IF(Schueler24Punkte!$M4=\"F\",\"f\",IF($F63=\"\",\"\",IF(AND(AC63>0,Schueler24Punkte!$N4=\"\"),\"F\",IF(Schueler24Punkte!$N4=\"\",\"\",Schueler24Punkte!$N4)))))","v":""},{"$f":"IF(Schueler25Punkte!$D$1=0,\"\",IF(Schueler25Punkte!$M4=\"F\",\"f\",IF($F63=\"\",\"\",IF(AND(AD63>0,Schueler25Punkte!$N4=\"\"),\"F\",IF(Schueler25Punkte!$N4=\"\",\"\",Schueler25Punkte!$N4)))))","v":""},{"$f":"IF(Schueler26Punkte!$D$1=0,\"\",IF(Schueler26Punkte!$M4=\"F\",\"f\",IF($F63=\"\",\"\",IF(AND(AE63>0,Schueler26Punkte!$N4=\"\"),\"F\",IF(Schueler26Punkte!$N4=\"\",\"\",Schueler26Punkte!$N4)))))","v":""},{"$f":"IF(Schueler27Punkte!$D$1=0,\"\",IF(Schueler27Punkte!$M4=\"F\",\"f\",IF($F63=\"\",\"\",IF(AND(AF63>0,Schueler27Punkte!$N4=\"\"),\"F\",IF(Schueler27Punkte!$N4=\"\",\"\",Schueler27Punkte!$N4)))))","v":""},{"$f":"IF(Schueler28Punkte!$D$1=0,\"\",IF(Schueler28Punkte!$M4=\"F\",\"f\",IF($F63=\"\",\"\",IF(AND(AG63>0,Schueler28Punkte!$N4=\"\"),\"F\",IF(Schueler28Punkte!$N4=\"\",\"\",Schueler28Punkte!$N4)))))","v":""},{"$f":"IF(Schueler29Punkte!$D$1=0,\"\",IF(Schueler29Punkte!$M4=\"F\",\"f\",IF($F63=\"\",\"\",IF(AND(AH63>0,Schueler29Punkte!$N4=\"\"),\"F\",IF(Schueler29Punkte!$N4=\"\",\"\",Schueler29Punkte!$N4)))))","v":""},{"$f":"IF(Schueler30Punkte!$D$1=0,\"\",IF(Schueler30Punkte!$M4=\"F\",\"f\",IF($F63=\"\",\"\",IF(AND(AI63>0,Schueler30Punkte!$N4=\"\"),\"F\",IF(Schueler30Punkte!$N4=\"\",\"\",Schueler30Punkte!$N4)))))","v":""},{"$error":"#DIV/0!"}]
[4,"IT4",null,null,null,null,{"$f":"IF(Schueler1Punkte!$D$1=0,\"\",IF(Schueler1Punkte!$M5=\"F\",\"f\",IF($F64=\"\",\"\",IF(AND(F64>0,Schueler1Punkte!N5=\"\"),\"F\",IF(Schueler1Punkte!N5=\"\",\"\",Schueler1Punkte!N5)))))","v":""},{"$f":"IF(Schueler2Punkte!$D$1=0,\"\",IF(Schueler2Punkte!$M5=\"F\",\"f\",IF($F64=\"\",\"\",IF(AND(G64>0,Schueler2Punkte!$N5=\"\"),\"F\",IF(Schueler2Punkte!$N5=\"\",\"\",Schueler2Punkte!$N5)))))","v":""},{"$f":"IF(Schueler3Punkte!$D$1=0,\"\",IF(Schueler3Punkte!$M5=\"F\",\"f\",IF($F64=\"\",\"\",IF(AND(H64>0,Schueler3Punkte!$N5=\"\"),\"F\",IF(Schueler3Punkte!$N5=\"\",\"\",Schueler3Punkte!$N5)))))","v":""},{"$f":"IF(Schueler4Punkte!$D$1=0,\"\",IF(Schueler4Punkte!$M5=\"F\",\"f\",IF($F64=\"\",\"\",IF(AND(I64>0,Schueler4Punkte!$N5=\"\"),\"F\",IF(Schueler4Punkte!$N5=\"\",\"\",Schueler4Punkte!$N5)))))","v":""},{"$f":"IF(Schueler5Punkte!$D$1=0,\"\",IF(Schueler5Punkte!$M5=\"F\",\"f\",IF($F64=\"\",\"\",IF(AND(J64>0,Schueler5Punkte!$N5=\"\"),\"F\",IF(Schueler5Punkte!$N5=\"\",\"\",Schueler5Punkte!$N5)))))","v":""},{"$f":"IF(Schueler6Punkte!$D$1=0,\"\",IF(Schueler6Punkte!$M5=\"F\",\"f\",IF($F64=\"\",\"\",IF(AND(K64>0,Schueler6Punkte!$N5=\"\"),\"F\",IF(Schueler6Punkte!$N5=\"\",\"\",Schueler6Punkte!$N5)))))","v":""},{"$f":"IF(Schueler7Punkte!$D$1=0,\"\",IF(Schueler7Punkte!$M5=\"F\",\"f\",IF($F64=\"\",\"\",IF(AND(L64>0,Schueler7Punkte!$N5=\"\"),\"F\",IF(Schueler7Punkte!$N5=\"\",\"\",Schueler7Punkte!$N5)))))","v":""},{"$f":"IF(Schueler8Punkte!$D$1=0,\"\",IF(Schueler8Punkte!$M5=\"F\",\"f\",IF($F64=\"\",\"\",IF(AND(M64>0,Schueler8Punkte!$N5=\"\"),\"F\",IF(Schueler8Punkte!$N5=\"\",\"\",Schueler8Punkte!$N5)))))","v":""},{"$f":"IF(Schueler9Punkte!$D$1=0,\"\",IF(Schueler9Punkte!$M5=\"F\",\"f\",IF($F64=\"\",\"\",IF(AND(N64>0,Schueler9Punkte!$N5=\"\"),\"F\",IF(Schueler9Punkte!$N5=\"\",\"\",Schueler9Punkte!$N5)))))","v":""},{"$f":"IF(Schueler10Punkte!$D$1=0,\"\",IF(Schueler10Punkte!$M5=\"F\",\"f\",IF($F64=\"\",\"\",IF(AND(O64>0,Schueler10Punkte!$N5=\"\"),\"F\",IF(Schueler10Punkte!$N5=\"\",\"\",Schueler10Punkte!$N5)))))","v":""},{"$f":"IF(Schueler11Punkte!$D$1=0,\"\",IF(Schueler11Punkte!$M5=\"F\",\"f\",IF($F64=\"\",\"\",IF(AND(P64>0,Schueler11Punkte!$N5=\"\"),\"F\",IF(Schueler11Punkte!$N5=\"\",\"\",Schueler11Punkte!$N5)))))","v":""},{"$f":"IF(Schueler12Punkte!$D$1=0,\"\",IF(Schueler12Punkte!$M5=\"F\",\"f\",IF($F64=\"\",\"\",IF(AND(Q64>0,Schueler12Punkte!$N5=\"\"),\"F\",IF(Schueler12Punkte!$N5=\"\",\"\",Schueler12Punkte!$N5)))))","v":""},{"$f":"IF(Schueler13Punkte!$D$1=0,\"\",IF(Schueler13Punkte!$M5=\"F\",\"f\",IF($F64=\"\",\"\",IF(AND(R64>0,Schueler13Punkte!$N5=\"\"),\"F\",IF(Schueler13Punkte!$N5=\"\",\"\",Schueler13Punkte!$N5)))))","v":""},{"$f":"IF(Schueler14Punkte!$D$1=0,\"\",IF(Schueler14Punkte!$M5=\"F\",\"f\",IF($F64=\"\",\"\",IF(AND(S64>0,Schueler14Punkte!$N5=\"\"),\"F\",IF(Schueler14Punkte!$N5=\"\",\"\",Schueler14Punkte!$N5)))))","v":""},{"$f":"IF(Schueler15Punkte!$D$1=0,\"\",IF(Schueler15Punkte!$M5=\"F\",\"f\",IF($F64=\"\",\"\",IF(AND(T64>0,Schueler15Punkte!$N5=\"\"),\"F\",IF(Schueler15Punkte!$N5=\"\",\"\",Schueler15Punkte!$N5)))))","v":""},{"$f":"IF(Schueler16Punkte!$D$1=0,\"\",IF(Schueler16Punkte!$M5=\"F\",\"f\",IF($F64=\"\",\"\",IF(AND(U64>0,Schueler16Punkte!$N5=\"\"),\"F\",IF(Schueler16Punkte!$N5=\"\",\"\",Schueler16Punkte!$N5)))))","v":""},{"$f":"IF(Schueler17Punkte!$D$1=0,\"\",IF(Schueler17Punkte!$M5=\"F\",\"f\",IF($F64=\"\",\"\",IF(AND(V64>0,Schueler17Punkte!$N5=\"\"),\"F\",IF(Schueler17Punkte!$N5=\"\",\"\",Schueler17Punkte!$N5)))))","v":""},{"$f":"IF(Schueler18Punkte!$D$1=0,\"\",IF(Schueler18Punkte!$M5=\"F\",\"f\",IF($F64=\"\",\"\",IF(AND(W64>0,Schueler18Punkte!$N5=\"\"),\"F\",IF(Schueler18Punkte!$N5=\"\",\"\",Schueler18Punkte!$N5)))))","v":""},{"$f":"IF(Schueler19Punkte!$D$1=0,\"\",IF(Schueler19Punkte!$M5=\"F\",\"f\",IF($F64=\"\",\"\",IF(AND(X64>0,Schueler19Punkte!$N5=\"\"),\"F\",IF(Schueler19Punkte!$N5=\"\",\"\",Schueler19Punkte!$N5)))))","v":""},{"$f":"IF(Schueler20Punkte!$D$1=0,\"\",IF(Schueler20Punkte!$M5=\"F\",\"f\",IF($F64=\"\",\"\",IF(AND(Y64>0,Schueler20Punkte!$N5=\"\"),\"F\",IF(Schueler20Punkte!$N5=\"\",\"\",Schueler20Punkte!$N5)))))","v":""},{"$f":"IF(Schueler21Punkte!$D$1=0,\"\",IF(Schueler21Punkte!$M5=\"F\",\"f\",IF($F64=\"\",\"\",IF(AND(Z64>0,Schueler21Punkte!$N5=\"\"),\"F\",IF(Schueler21Punkte!$N5=\"\",\"\",Schueler21Punkte!$N5)))))","v":""},{"$f":"IF(Schueler22Punkte!$D$1=0,\"\",IF(Schueler22Punkte!$M5=\"F\",\"f\",IF($F64=\"\",\"\",IF(AND(AA64>0,Schueler22Punkte!$N5=\"\"),\"F\",IF(Schueler22Punkte!$N5=\"\",\"\",Schueler22Punkte!$N5)))))","v":""},{"$f":"IF(Schueler23Punkte!$D$1=0,\"\",IF(Schueler23Punkte!$M5=\"F\",\"f\",IF($F64=\"\",\"\",IF(AND(AB64>0,Schueler23Punkte!$N5=\"\"),\"F\",IF(Schueler23Punkte!$N5=\"\",\"\",Schueler23Punkte!$N5)))))","v":""},{"$f":"IF(Schueler24Punkte!$D$1=0,\"\",IF(Schueler24Punkte!$M5=\"F\",\"f\",IF($F64=\"\",\"\",IF(AND(AC64>0,Schueler24Punkte!$N5=\"\"),\"F\",IF(Schueler24Punkte!$N5=\"\",\"\",Schueler24Punkte!$N5)))))","v":""},{"$f":"IF(Schueler25Punkte!$D$1=0,\"\",IF(Schueler25Punkte!$M5=\"F\",\"f\",IF($F64=\"\",\"\",IF(AND(AD64>0,Schueler25Punkte!$N5=\"\"),\"F\",IF(Schueler25Punkte!$N5=\"\",\"\",Schueler25Punkte!$N5)))))","v":""},{"$f":"IF(Schueler26Punkte!$D$1=0,\"\",IF(Schueler26Punkte!$M5=\"F\",\"f\",IF($F64=\"\",\"\",IF(AND(AE64>0,Schueler26Punkte!$N5=\"\"),\"F\",IF(Schueler26Punkte!$N5=\"\",\"\",Schueler26Punkte!$N5)))))","v":""},{"$f":"IF(Schueler27Punkte!$D$1=0,\"\",IF(Schueler27Punkte!$M5=\"F\",\"f\",IF($F64=\"\",\"\",IF(AND(AF64>0,Schueler27Punkte!$N5=\"\"),\"F\",IF(Schueler27Punkte!$N5=\"\",\"\",Schueler27Punkte!$N5)))))","v":""},{"$f":"IF(Schueler28Punkte!$D$1=0,\"\",IF(Schueler28Punkte!$M5=\"F\",\"f\",IF($F64=\"\",\"\",IF(AND(AG64>0,Schueler28Punkte!$N5=\"\"),\"F\",IF(Schueler28Punkte!$N5=\"\",\"\",Schueler28Punkte!$N5)))))","v":""},{"$f":"IF(Schueler29Punkte!$D$1=0,\"\",IF(Schueler29Punkte!$M5=\"F\",\"f\",IF($F64=\"\",\"\",IF(AND(AH64>0,Schueler29Punkte!$N5=\"\"),\"F\",IF(Schueler29Punkte!$N5=\"\",\"\",Schueler29Punkte!$N5)))))","v":""},{"$f":"IF(Schueler30Punkte!$D$1=0,\"\",IF(Schueler30Punkte!$M5=\"F\",\"f\",IF($F64=\"\",\"\",IF(AND(AI64>0,Schueler30Punkte!$N5=\"\"),\"F\",IF(Schueler30Punkte!$N5=\"\",\"\",Schueler30Punkte!$N5)))))","v":""},{"$error":"#DIV/0!"}]
[5,"IT5",null,null,null,null,{"$f":"IF(Schueler1Punkte!$D$1=0,\"\",IF(Schueler1Punkte!$M6=\"F\",\"f\",IF($F65=\"\",\"\",IF(AND(F65>0,Schueler1Punkte!N6=\"\"),\"F\",IF(Schueler1Punkte!N6=\"\",\"\",Schueler1Punkte!N6)))))","v":""},{"$f":"IF(Schueler2Punkte!$D$1=0,\"\",IF(Schueler2Punkte!$M6=\"F\",\"f\",IF($F65=\"\",\"\",IF(AND(G65>0,Schueler2Punkte!$N6=\"\"),\"F\",IF(Schueler2Punkte!$N6=\"\",\"\",Schueler2Punkte!$N6)))))","v":""},{"$f":"IF(Schueler3Punkte!$D$1=0,\"\",IF(Schueler3Punkte!$M6=\"F\",\"f\",IF($F65=\"\",\"\",IF(AND(H65>0,Schueler3Punkte!$N6=\"\"),\"F\",IF(Schueler3Punkte!$N6=\"\",\"\",Schueler3Punkte!$N6)))))","v":""},{"$f":"IF(Schueler4Punkte!$D$1=0,\"\",IF(Schueler4Punkte!$M6=\"F\",\"f\",IF($F65=\"\",\"\",IF(AND(I65>0,Schueler4Punkte!$N6=\"\"),\"F\",IF(Schueler4Punkte!$N6=\"\",\"\",Schueler4Punkte!$N6)))))","v":""},{"$f":"IF(Schueler5Punkte!$D$1=0,\"\",IF(Schueler5Punkte!$M6=\"F\",\"f\",IF($F65=\"\",\"\",IF(AND(J65>0,Schueler5Punkte!$N6=\"\"),\"F\",IF(Schueler5Punkte!$N6=\"\",\"\",Schueler5Punkte!$N6)))))","v":""},{"$f":"IF(Schueler6Punkte!$D$1=0,\"\",IF(Schueler6Punkte!$M6=\"F\",\"f\",IF($F65=\"\",\"\",IF(AND(K65>0,Schueler6Punkte!$N6=\"\"),\"F\",IF(Schueler6Punkte!$N6=\"\",\"\",Schueler6Punkte!$N6)))))","v":""},{"$f":"IF(Schueler7Punkte!$D$1=0,\"\",IF(Schueler7Punkte!$M6=\"F\",\"f\",IF($F65=\"\",\"\",IF(AND(L65>0,Schueler7Punkte!$N6=\"\"),\"F\",IF(Schueler7Punkte!$N6=\"\",\"\",Schueler7Punkte!$N6)))))","v":""},{"$f":"IF(Schueler8Punkte!$D$1=0,\"\",IF(Schueler8Punkte!$M6=\"F\",\"f\",IF($F65=\"\",\"\",IF(AND(M65>0,Schueler8Punkte!$N6=\"\"),\"F\",IF(Schueler8Punkte!$N6=\"\",\"\",Schueler8Punkte!$N6)))))","v":""},{"$f":"IF(Schueler9Punkte!$D$1=0,\"\",IF(Schueler9Punkte!$M6=\"F\",\"f\",IF($F65=\"\",\"\",IF(AND(N65>0,Schueler9Punkte!$N6=\"\"),\"F\",IF(Schueler9Punkte!$N6=\"\",\"\",Schueler9Punkte!$N6)))))","v":""},{"$f":"IF(Schueler10Punkte!$D$1=0,\"\",IF(Schueler10Punkte!$M6=\"F\",\"f\",IF($F65=\"\",\"\",IF(AND(O65>0,Schueler10Punkte!$N6=\"\"),\"F\",IF(Schueler10Punkte!$N6=\"\",\"\",Schueler10Punkte!$N6)))))","v":""},{"$f":"IF(Schueler11Punkte!$D$1=0,\"\",IF(Schueler11Punkte!$M6=\"F\",\"f\",IF($F65=\"\",\"\",IF(AND(P65>0,Schueler11Punkte!$N6=\"\"),\"F\",IF(Schueler11Punkte!$N6=\"\",\"\",Schueler11Punkte!$N6)))))","v":""},{"$f":"IF(Schueler12Punkte!$D$1=0,\"\",IF(Schueler12Punkte!$M6=\"F\",\"f\",IF($F65=\"\",\"\",IF(AND(Q65>0,Schueler12Punkte!$N6=\"\"),\"F\",IF(Schueler12Punkte!$N6=\"\",\"\",Schueler12Punkte!$N6)))))","v":""},{"$f":"IF(Schueler13Punkte!$D$1=0,\"\",IF(Schueler13Punkte!$M6=\"F\",\"f\",IF($F65=\"\",\"\",IF(AND(R65>0,Schueler13Punkte!$N6=\"\"),\"F\",IF(Schueler13Punkte!$N6=\"\",\"\",Schueler13Punkte!$N6)))))","v":""},{"$f":"IF(Schueler14Punkte!$D$1=0,\"\",IF(Schueler14Punkte!$M6=\"F\",\"f\",IF($F65=\"\",\"\",IF(AND(S65>0,Schueler14Punkte!$N6=\"\"),\"F\",IF(Schueler14Punkte!$N6=\"\",\"\",Schueler14Punkte!$N6)))))","v":""},{"$f":"IF(Schueler15Punkte!$D$1=0,\"\",IF(Schueler15Punkte!$M6=\"F\",\"f\",IF($F65=\"\",\"\",IF(AND(T65>0,Schueler15Punkte!$N6=\"\"),\"F\",IF(Schueler15Punkte!$N6=\"\",\"\",Schueler15Punkte!$N6)))))","v":""},{"$f":"IF(Schueler16Punkte!$D$1=0,\"\",IF(Schueler16Punkte!$M6=\"F\",\"f\",IF($F65=\"\",\"\",IF(AND(U65>0,Schueler16Punkte!$N6=\"\"),\"F\",IF(Schueler16Punkte!$N6=\"\",\"\",Schueler16Punkte!$N6)))))","v":""},{"$f":"IF(Schueler17Punkte!$D$1=0,\"\",IF(Schueler17Punkte!$M6=\"F\",\"f\",IF($F65=\"\",\"\",IF(AND(V65>0,Schueler17Punkte!$N6=\"\"),\"F\",IF(Schueler17Punkte!$N6=\"\",\"\",Schueler17Punkte!$N6)))))","v":""},{"$f":"IF(Schueler18Punkte!$D$1=0,\"\",IF(Schueler18Punkte!$M6=\"F\",\"f\",IF($F65=\"\",\"\",IF(AND(W65>0,Schueler18Punkte!$N6=\"\"),\"F\",IF(Schueler18Punkte!$N6=\"\",\"\",Schueler18Punkte!$N6)))))","v":""},{"$f":"IF(Schueler19Punkte!$D$1=0,\"\",IF(Schueler19Punkte!$M6=\"F\",\"f\",IF($F65=\"\",\"\",IF(AND(X65>0,Schueler19Punkte!$N6=\"\"),\"F\",IF(Schueler19Punkte!$N6=\"\",\"\",Schueler19Punkte!$N6)))))","v":""},{"$f":"IF(Schueler20Punkte!$D$1=0,\"\",IF(Schueler20Punkte!$M6=\"F\",\"f\",IF($F65=\"\",\"\",IF(AND(Y65>0,Schueler20Punkte!$N6=\"\"),\"F\",IF(Schueler20Punkte!$N6=\"\",\"\",Schueler20Punkte!$N6)))))","v":""},{"$f":"IF(Schueler21Punkte!$D$1=0,\"\",IF(Schueler21Punkte!$M6=\"F\",\"f\",IF($F65=\"\",\"\",IF(AND(Z65>0,Schueler21Punkte!$N6=\"\"),\"F\",IF(Schueler21Punkte!$N6=\"\",\"\",Schueler21Punkte!$N6)))))","v":""},{"$f":"IF(Schueler22Punkte!$D$1=0,\"\",IF(Schueler22Punkte!$M6=\"F\",\"f\",IF($F65=\"\",\"\",IF(AND(AA65>0,Schueler22Punkte!$N6=\"\"),\"F\",IF(Schueler22Punkte!$N6=\"\",\"\",Schueler22Punkte!$N6)))))","v":""},{"$f":"IF(Schueler23Punkte!$D$1=0,\"\",IF(Schueler23Punkte!$M6=\"F\",\"f\",IF($F65=\"\",\"\",IF(AND(AB65>0,Schueler23Punkte!$N6=\"\"),\"F\",IF(Schueler23Punkte!$N6=\"\",\"\",Schueler23Punkte!$N6)))))","v":""},{"$f":"IF(Schueler24Punkte!$D$1=0,\"\",IF(Schueler24Punkte!$M6=\"F\",\"f\",IF($F65=\"\",\"\",IF(AND(AC65>0,Schueler24Punkte!$N6=\"\"),\"F\",IF(Schueler24Punkte!$N6=\"\",\"\",Schueler24Punkte!$N6)))))","v":""},{"$f":"IF(Schueler25Punkte!$D$1=0,\"\",IF(Schueler25Punkte!$M6=\"F\",\"f\",IF($F65=\"\",\"\",IF(AND(AD65>0,Schueler25Punkte!$N6=\"\"),\"F\",IF(Schueler25Punkte!$N6=\"\",\"\",Schueler25Punkte!$N6)))))","v":""},{"$f":"IF(Schueler26Punkte!$D$1=0,\"\",IF(Schueler26Punkte!$M6=\"F\",\"f\",IF($F65=\"\",\"\",IF(AND(AE65>0,Schueler26Punkte!$N6=\"\"),\"F\",IF(Schueler26Punkte!$N6=\"\",\"\",Schueler26Punkte!$N6)))))","v":""},{"$f":"IF(Schueler27Punkte!$D$1=0,\"\",IF(Schueler27Punkte!$M6=\"F\",\"f\",IF($F65=\"\",\"\",IF(AND(AF65>0,Schueler27Punkte!$N6=\"\"),\"F\",IF(Schueler27Punkte!$N6=\"\",\"\",Schueler27Punkte!$N6)))))","v":""},{"$f":"IF(Schueler28Punkte!$D$1=0,\"\",IF(Schueler28Punkte!$M6=\"F\",\"f\",IF($F65=\"\",\"\",IF(AND(AG65>0,Schueler28Punkte!$N6=\"\"),\"F\",IF(Schueler28Punkte!$N6=\"\",\"\",Schueler28Punkte!$N6)))))","v":""},{"$f":"IF(Schueler29Punkte!$D$1=0,\"\",IF(Schueler29Punkte!$M6=\"F\",\"f\",IF($F65=\"\",\"\",IF(AND(AH65>0,Schueler29Punkte!$N6=\"\"),\"F\",IF(Schueler29Punkte!$N6=\"\",\"\",Schueler29Punkte!$N6)))))","v":""},{"$f":"IF(Schueler30Punkte!$D$1=0,\"\",IF(Schueler30Punkte!$M6=\"F\",\"f\",IF($F65=\"\",\"\",IF(AND(AI65>0,Schueler30Punkte!$N6=\"\"),\"F\",IF(Schueler30Punkte!$N6=\"\",\"\",Schueler30Punkte!$N6)))))","v":""},{"$error":"#DIV/0!"}]
[6,"IT6",null,null,null,null,{"$f":"IF(Schueler1Punkte!$D$1=0,\"\",IF(Schueler1Punkte!$M7=\"F\",\"f\",IF($F66=\"\",\"\",IF(AND(F66>0,Schueler1Punkte!N7=\"\"),\"F\",IF(Schueler1Punkte!N7=\"\",\"\",Schueler1Punkte!N7)))))","v":""},{"$f":"IF(Schueler2Punkte!$D$1=0,\"\",IF(Schueler2Punkte!$M7=\"F\",\"f\",IF($F66=\"\",\"\",IF(AND(G66>0,Schueler2Punkte!$N7=\"\"),\"F\",IF(Schueler2Punkte!$N7=\"\",\"\",Schueler2Punkte!$N7)))))","v":""},{"$f":"IF(Schueler3Punkte!$D$1=0,\"\",IF(Schueler3Punkte!$M7=\"F\",\"f\",IF($F66=\"\",\"\",IF(AND(H66>0,Schueler3Punkte!$N7=\"\"),\"F\",IF(Schueler3Punkte!$N7=\"\",\"\",Schueler3Punkte!$N7)))))","v":""},{"$f":"IF(Schueler4Punkte!$D$1=0,\"\",IF(Schueler4Punkte!$M7=\"F\",\"f\",IF($F66=\"\",\"\",IF(AND(I66>0,Schueler4Punkte!$N7=\"\"),\"F\",IF(Schueler4Punkte!$N7=\"\",\"\",Schueler4Punkte!$N7)))))","v":""},{"$f":"IF(Schueler5Punkte!$D$1=0,\"\",IF(Schueler5Punkte!$M7=\"F\",\"f\",IF($F66=\"\",\"\",IF(AND(J66>0,Schueler5Punkte!$N7=\"\"),\"F\",IF(Schueler5Punkte!$N7=\"\",\"\",Schueler5Punkte!$N7)))))","v":""},{"$f":"IF(Schueler6Punkte!$D$1=0,\"\",IF(Schueler6Punkte!$M7=\"F\",\"f\",IF($F66=\"\",\"\",IF(AND(K66>0,Schueler6Punkte!$N7=\"\"),\"F\",IF(Schueler6Punkte!$N7=\"\",\"\",Schueler6Punkte!$N7)))))","v":""},{"$f":"IF(Schueler7Punkte!$D$1=0,\"\",IF(Schueler7Punkte!$M7=\"F\",\"f\",IF($F66=\"\",\"\",IF(AND(L66>0,Schueler7Punkte!$N7=\"\"),\"F\",IF(Schueler7Punkte!$N7=\"\",\"\",Schueler7Punkte!$N7)))))","v":""},{"$f":"IF(Schueler8Punkte!$D$1=0,\"\",IF(Schueler8Punkte!$M7=\"F\",\"f\",IF($F66=\"\",\"\",IF(AND(M66>0,Schueler8Punkte!$N7=\"\"),\"F\",IF(Schueler8Punkte!$N7=\"\",\"\",Schueler8Punkte!$N7)))))","v":""},{"$f":"IF(Schueler9Punkte!$D$1=0,\"\",IF(Schueler9Punkte!$M7=\"F\",\"f\",IF($F66=\"\",\"\",IF(AND(N66>0,Schueler9Punkte!$N7=\"\"),\"F\",IF(Schueler9Punkte!$N7=\"\",\"\",Schueler9Punkte!$N7)))))","v":""},{"$f":"IF(Schueler10Punkte!$D$1=0,\"\",IF(Schueler10Punkte!$M7=\"F\",\"f\",IF($F66=\"\",\"\",IF(AND(O66>0,Schueler10Punkte!$N7=\"\"),\"F\",IF(Schueler10Punkte!$N7=\"\",\"\",Schueler10Punkte!$N7)))))","v":""},{"$f":"IF(Schueler11Punkte!$D$1=0,\"\",IF(Schueler11Punkte!$M7=\"F\",\"f\",IF($F66=\"\",\"\",IF(AND(P66>0,Schueler11Punkte!$N7=\"\"),\"F\",IF(Schueler11Punkte!$N7=\"\",\"\",Schueler11Punkte!$N7)))))","v":""},{"$f":"IF(Schueler12Punkte!$D$1=0,\"\",IF(Schueler12Punkte!$M7=\"F\",\"f\",IF($F66=\"\",\"\",IF(AND(Q66>0,Schueler12Punkte!$N7=\"\"),\"F\",IF(Schueler12Punkte!$N7=\"\",\"\",Schueler12Punkte!$N7)))))","v":""},{"$f":"IF(Schueler13Punkte!$D$1=0,\"\",IF(Schueler13Punkte!$M7=\"F\",\"f\",IF($F66=\"\",\"\",IF(AND(R66>0,Schueler13Punkte!$N7=\"\"),\"F\",IF(Schueler13Punkte!$N7=\"\",\"\",Schueler13Punkte!$N7)))))","v":""},{"$f":"IF(Schueler14Punkte!$D$1=0,\"\",IF(Schueler14Punkte!$M7=\"F\",\"f\",IF($F66=\"\",\"\",IF(AND(S66>0,Schueler14Punkte!$N7=\"\"),\"F\",IF(Schueler14Punkte!$N7=\"\",\"\",Schueler14Punkte!$N7)))))","v":""},{"$f":"IF(Schueler15Punkte!$D$1=0,\"\",IF(Schueler15Punkte!$M7=\"F\",\"f\",IF($F66=\"\",\"\",IF(AND(T66>0,Schueler15Punkte!$N7=\"\"),\"F\",IF(Schueler15Punkte!$N7=\"\",\"\",Schueler15Punkte!$N7)))))","v":""},{"$f":"IF(Schueler16Punkte!$D$1=0,\"\",IF(Schueler16Punkte!$M7=\"F\",\"f\",IF($F66=\"\",\"\",IF(AND(U66>0,Schueler16Punkte!$N7=\"\"),\"F\",IF(Schueler16Punkte!$N7=\"\",\"\",Schueler16Punkte!$N7)))))","v":""},{"$f":"IF(Schueler17Punkte!$D$1=0,\"\",IF(Schueler17Punkte!$M7=\"F\",\"f\",IF($F66=\"\",\"\",IF(AND(V66>0,Schueler17Punkte!$N7=\"\"),\"F\",IF(Schueler17Punkte!$N7=\"\",\"\",Schueler17Punkte!$N7)))))","v":""},{"$f":"IF(Schueler18Punkte!$D$1=0,\"\",IF(Schueler18Punkte!$M7=\"F\",\"f\",IF($F66=\"\",\"\",IF(AND(W66>0,Schueler18Punkte!$N7=\"\"),\"F\",IF(Schueler18Punkte!$N7=\"\",\"\",Schueler18Punkte!$N7)))))","v":""},{"$f":"IF(Schueler19Punkte!$D$1=0,\"\",IF(Schueler19Punkte!$M7=\"F\",\"f\",IF($F66=\"\",\"\",IF(AND(X66>0,Schueler19Punkte!$N7=\"\"),\"F\",IF(Schueler19Punkte!$N7=\"\",\"\",Schueler19Punkte!$N7)))))","v":""},{"$f":"IF(Schueler20Punkte!$D$1=0,\"\",IF(Schueler20Punkte!$M7=\"F\",\"f\",IF($F66=\"\",\"\",IF(AND(Y66>0,Schueler20Punkte!$N7=\"\"),\"F\",IF(Schueler20Punkte!$N7=\"\",\"\",Schueler20Punkte!$N7)))))","v":""},{"$f":"IF(Schueler21Punkte!$D$1=0,\"\",IF(Schueler21Punkte!$M7=\"F\",\"f\",IF($F66=\"\",\"\",IF(AND(Z66>0,Schueler21Punkte!$N7=\"\"),\"F\",IF(Schueler21Punkte!$N7=\"\",\"\",Schueler21Punkte!$N7)))))","v":""},{"$f":"IF(Schueler22Punkte!$D$1=0,\"\",IF(Schueler22Punkte!$M7=\"F\",\"f\",IF($F66=\"\",\"\",IF(AND(AA66>0,Schueler22Punkte!$N7=\"\"),\"F\",IF(Schueler22Punkte!$N7=\"\",\"\",Schueler22Punkte!$N7)))))","v":""},{"$f":"IF(Schueler23Punkte!$D$1=0,\"\",IF(Schueler23Punkte!$M7=\"F\",\"f\",IF($F66=\"\",\"\",IF(AND(AB66>0,Schueler23Punkte!$N7=\"\"),\"F\",IF(Schueler23Punkte!$N7=\"\",\"\",Schueler23Punkte!$N7)))))","v":""},{"$f":"IF(Schueler24Punkte!$D$1=0,\"\",IF(Schueler24Punkte!$M7=\"F\",\"f\",IF($F66=\"\",\"\",IF(AND(AC66>0,Schueler24Punkte!$N7=\"\"),\"F\",IF(Schueler24Punkte!$N7=\"\",\"\",Schueler24Punkte!$N7)))))","v":""},{"$f":"IF(Schueler25Punkte!$D$1=0,\"\",IF(Schueler25Punkte!$M7=\"F\",\"f\",IF($F66=\"\",\"\",IF(AND(AD66>0,Schueler25Punkte!$N7=\"\"),\"F\",IF(Schueler25Punkte!$N7=\"\",\"\",Schueler25Punkte!$N7)))))","v":""},{"$f":"IF(Schueler26Punkte!$D$1=0,\"\",IF(Schueler26Punkte!$M7=\"F\",\"f\",IF($F66=\"\",\"\",IF(AND(AE66>0,Schueler26Punkte!$N7=\"\"),\"F\",IF(Schueler26Punkte!$N7=\"\",\"\",Schueler26Punkte!$N7)))))","v":""},{"$f":"IF(Schueler27Punkte!$D$1=0,\"\",IF(Schueler27Punkte!$M7=\"F\",\"f\",IF($F66=\"\",\"\",IF(AND(AF66>0,Schueler27Punkte!$N7=\"\"),\"F\",IF(Schueler27Punkte!$N7=\"\",\"\",Schueler27Punkte!$N7)))))","v":""},{"$f":"IF(Schueler28Punkte!$D$1=0,\"\",IF(Schueler28Punkte!$M7=\"F\",\"f\",IF($F66=\"\",\"\",IF(AND(AG66>0,Schueler28Punkte!$N7=\"\"),\"F\",IF(Schueler28Punkte!$N7=\"\",\"\",Schueler28Punkte!$N7)))))","v":""},{"$f":"IF(Schueler29Punkte!$D$1=0,\"\",IF(Schueler29Punkte!$M7=\"F\",\"f\",IF($F66=\"\",\"\",IF(AND(AH66>0,Schueler29Punkte!$N7=\"\"),\"F\",IF(Schueler29Punkte!$N7=\"\",\"\",Schueler29Punkte!$N7)))))","v":""},{"$f":"IF(Schueler30Punkte!$D$1=0,\"\",IF(Schueler30Punkte!$M7=\"F\",\"f\",IF($F66=\"\",\"\",IF(AND(AI66>0,Schueler30Punkte!$N7=\"\"),\"F\",IF(Schueler30Punkte!$N7=\"\",\"\",Schueler30Punkte!$N7)))))","v":""},{"$error":"#DIV/0!"}]
[7,"IT7",null,null,null,null,{"$f":"IF(Schueler1Punkte!$D$1=0,\"\",IF(Schueler1Punkte!$M8=\"F\",\"f\",IF($F67=\"\",\"\",IF(AND(F67>0,Schueler1Punkte!N8=\"\"),\"F\",IF(Schueler1Punkte!N8=\"\",\"\",Schueler1Punkte!N8)))))","v":""},{"$f":"IF(Schueler2Punkte!$D$1=0,\"\",IF(Schueler2Punkte!$M8=\"F\",\"f\",IF($F67=\"\",\"\",IF(AND(G67>0,Schueler2Punkte!$N8=\"\"),\"F\",IF(Schueler2Punkte!$N8=\"\",\"\",Schueler2Punkte!$N8)))))","v":""},{"$f":"IF(Schueler3Punkte!$D$1=0,\"\",IF(Schueler3Punkte!$M8=\"F\",\"f\",IF($F67=\"\",\"\",IF(AND(H67>0,Schueler3Punkte!$N8=\"\"),\"F\",IF(Schueler3Punkte!$N8=\"\",\"\",Schueler3Punkte!$N8)))))","v":""},{"$f":"IF(Schueler4Punkte!$D$1=0,\"\",IF(Schueler4Punkte!$M8=\"F\",\"f\",IF($F67=\"\",\"\",IF(AND(I67>0,Schueler4Punkte!$N8=\"\"),\"F\",IF(Schueler4Punkte!$N8=\"\",\"\",Schueler4Punkte!$N8)))))","v":""},{"$f":"IF(Schueler5Punkte!$D$1=0,\"\",IF(Schueler5Punkte!$M8=\"F\",\"f\",IF($F67=\"\",\"\",IF(AND(J67>0,Schueler5Punkte!$N8=\"\"),\"F\",IF(Schueler5Punkte!$N8=\"\",\"\",Schueler5Punkte!$N8)))))","v":""},{"$f":"IF(Schueler6Punkte!$D$1=0,\"\",IF(Schueler6Punkte!$M8=\"F\",\"f\",IF($F67=\"\",\"\",IF(AND(K67>0,Schueler6Punkte!$N8=\"\"),\"F\",IF(Schueler6Punkte!$N8=\"\",\"\",Schueler6Punkte!$N8)))))","v":""},{"$f":"IF(Schueler7Punkte!$D$1=0,\"\",IF(Schueler7Punkte!$M8=\"F\",\"f\",IF($F67=\"\",\"\",IF(AND(L67>0,Schueler7Punkte!$N8=\"\"),\"F\",IF(Schueler7Punkte!$N8=\"\",\"\",Schueler7Punkte!$N8)))))","v":""},{"$f":"IF(Schueler8Punkte!$D$1=0,\"\",IF(Schueler8Punkte!$M8=\"F\",\"f\",IF($F67=\"\",\"\",IF(AND(M67>0,Schueler8Punkte!$N8=\"\"),\"F\",IF(Schueler8Punkte!$N8=\"\",\"\",Schueler8Punkte!$N8)))))","v":""},{"$f":"IF(Schueler9Punkte!$D$1=0,\"\",IF(Schueler9Punkte!$M8=\"F\",\"f\",IF($F67=\"\",\"\",IF(AND(N67>0,Schueler9Punkte!$N8=\"\"),\"F\",IF(Schueler9Punkte!$N8=\"\",\"\",Schueler9Punkte!$N8)))))","v":""},{"$f":"IF(Schueler10Punkte!$D$1=0,\"\",IF(Schueler10Punkte!$M8=\"F\",\"f\",IF($F67=\"\",\"\",IF(AND(O67>0,Schueler10Punkte!$N8=\"\"),\"F\",IF(Schueler10Punkte!$N8=\"\",\"\",Schueler10Punkte!$N8)))))","v":""},{"$f":"IF(Schueler11Punkte!$D$1=0,\"\",IF(Schueler11Punkte!$M8=\"F\",\"f\",IF($F67=\"\",\"\",IF(AND(P67>0,Schueler11Punkte!$N8=\"\"),\"F\",IF(Schueler11Punkte!$N8=\"\",\"\",Schueler11Punkte!$N8)))))","v":""},{"$f":"IF(Schueler12Punkte!$D$1=0,\"\",IF(Schueler12Punkte!$M8=\"F\",\"f\",IF($F67=\"\",\"\",IF(AND(Q67>0,Schueler12Punkte!$N8=\"\"),\"F\",IF(Schueler12Punkte!$N8=\"\",\"\",Schueler12Punkte!$N8)))))","v":""},{"$f":"IF(Schueler13Punkte!$D$1=0,\"\",IF(Schueler13Punkte!$M8=\"F\",\"f\",IF($F67=\"\",\"\",IF(AND(R67>0,Schueler13Punkte!$N8=\"\"),\"F\",IF(Schueler13Punkte!$N8=\"\",\"\",Schueler13Punkte!$N8)))))","v":""},{"$f":"IF(Schueler14Punkte!$D$1=0,\"\",IF(Schueler14Punkte!$M8=\"F\",\"f\",IF($F67=\"\",\"\",IF(AND(S67>0,Schueler14Punkte!$N8=\"\"),\"F\",IF(Schueler14Punkte!$N8=\"\",\"\",Schueler14Punkte!$N8)))))","v":""},{"$f":"IF(Schueler15Punkte!$D$1=0,\"\",IF(Schueler15Punkte!$M8=\"F\",\"f\",IF($F67=\"\",\"\",IF(AND(T67>0,Schueler15Punkte!$N8=\"\"),\"F\",IF(Schueler15Punkte!$N8=\"\",\"\",Schueler15Punkte!$N8)))))","v":""},{"$f":"IF(Schueler16Punkte!$D$1=0,\"\",IF(Schueler16Punkte!$M8=\"F\",\"f\",IF($F67=\"\",\"\",IF(AND(U67>0,Schueler16Punkte!$N8=\"\"),\"F\",IF(Schueler16Punkte!$N8=\"\",\"\",Schueler16Punkte!$N8)))))","v":""},{"$f":"IF(Schueler17Punkte!$D$1=0,\"\",IF(Schueler17Punkte!$M8=\"F\",\"f\",IF($F67=\"\",\"\",IF(AND(V67>0,Schueler17Punkte!$N8=\"\"),\"F\",IF(Schueler17Punkte!$N8=\"\",\"\",Schueler17Punkte!$N8)))))","v":""},{"$f":"IF(Schueler18Punkte!$D$1=0,\"\",IF(Schueler18Punkte!$M8=\"F\",\"f\",IF($F67=\"\",\"\",IF(AND(W67>0,Schueler18Punkte!$N8=\"\"),\"F\",IF(Schueler18Punkte!$N8=\"\",\"\",Schueler18Punkte!$N8)))))","v":""},{"$f":"IF(Schueler19Punkte!$D$1=0,\"\",IF(Schueler19Punkte!$M8=\"F\",\"f\",IF($F67=\"\",\"\",IF(AND(X67>0,Schueler19Punkte!$N8=\"\"),\"F\",IF(Schueler19Punkte!$N8=\"\",\"\",Schueler19Punkte!$N8)))))","v":""},{"$f":"IF(Schueler20Punkte!$D$1=0,\"\",IF(Schueler20Punkte!$M8=\"F\",\"f\",IF($F67=\"\",\"\",IF(AND(Y67>0,Schueler20Punkte!$N8=\"\"),\"F\",IF(Schueler20Punkte!$N8=\"\",\"\",Schueler20Punkte!$N8)))))","v":""},{"$f":"IF(Schueler21Punkte!$D$1=0,\"\",IF(Schueler21Punkte!$M8=\"F\",\"f\",IF($F67=\"\",\"\",IF(AND(Z67>0,Schueler21Punkte!$N8=\"\"),\"F\",IF(Schueler21Punkte!$N8=\"\",\"\",Schueler21Punkte!$N8)))))","v":""},{"$f":"IF(Schueler22Punkte!$D$1=0,\"\",IF(Schueler22Punkte!$M8=\"F\",\"f\",IF($F67=\"\",\"\",IF(AND(AA67>0,Schueler22Punkte!$N8=\"\"),\"F\",IF(Schueler22Punkte!$N8=\"\",\"\",Schueler22Punkte!$N8)))))","v":""},{"$f":"IF(Schueler23Punkte!$D$1=0,\"\",IF(Schueler23Punkte!$M8=\"F\",\"f\",IF($F67=\"\",\"\",IF(AND(AB67>0,Schueler23Punkte!$N8=\"\"),\"F\",IF(Schueler23Punkte!$N8=\"\",\"\",Schueler23Punkte!$N8)))))","v":""},{"$f":"IF(Schueler24Punkte!$D$1=0,\"\",IF(Schueler24Punkte!$M8=\"F\",\"f\",IF($F67=\"\",\"\",IF(AND(AC67>0,Schueler24Punkte!$N8=\"\"),\"F\",IF(Schueler24Punkte!$N8=\"\",\"\",Schueler24Punkte!$N8)))))","v":""},{"$f":"IF(Schueler25Punkte!$D$1=0,\"\",IF(Schueler25Punkte!$M8=\"F\",\"f\",IF($F67=\"\",\"\",IF(AND(AD67>0,Schueler25Punkte!$N8=\"\"),\"F\",IF(Schueler25Punkte!$N8=\"\",\"\",Schueler25Punkte!$N8)))))","v":""},{"$f":"IF(Schueler26Punkte!$D$1=0,\"\",IF(Schueler26Punkte!$M8=\"F\",\"f\",IF($F67=\"\",\"\",IF(AND(AE67>0,Schueler26Punkte!$N8=\"\"),\"F\",IF(Schueler26Punkte!$N8=\"\",\"\",Schueler26Punkte!$N8)))))","v":""},{"$f":"IF(Schueler27Punkte!$D$1=0,\"\",IF(Schueler27Punkte!$M8=\"F\",\"f\",IF($F67=\"\",\"\",IF(AND(AF67>0,Schueler27Punkte!$N8=\"\"),\"F\",IF(Schueler27Punkte!$N8=\"\",\"\",Schueler27Punkte!$N8)))))","v":""},{"$f":"IF(Schueler28Punkte!$D$1=0,\"\",IF(Schueler28Punkte!$M8=\"F\",\"f\",IF($F67=\"\",\"\",IF(AND(AG67>0,Schueler28Punkte!$N8=\"\"),\"F\",IF(Schueler28Punkte!$N8=\"\",\"\",Schueler28Punkte!$N8)))))","v":""},{"$f":"IF(Schueler29Punkte!$D$1=0,\"\",IF(Schueler29Punkte!$M8=\"F\",\"f\",IF($F67=\"\",\"\",IF(AND(AH67>0,Schueler29Punkte!$N8=\"\"),\"F\",IF(Schueler29Punkte!$N8=\"\",\"\",Schueler29Punkte!$N8)))))","v":""},{"$f":"IF(Schueler30Punkte!$D$1=0,\"\",IF(Schueler30Punkte!$M8=\"F\",\"f\",IF($F67=\"\",\"\",IF(AND(AI67>0,Schueler30Punkte!$N8=\"\"),\"F\",IF(Schueler30Punkte!$N8=\"\",\"\",Schueler30Punkte!$N8)))))","v":""},{"$error":"#DIV/0!"}]
[8,"IT8",null,null,null,null,{"$f":"IF(Schueler1Punkte!$D$1=0,\"\",IF(Schueler1Punkte!$M9=\"F\",\"f\",IF($F68=\"\",\"\",IF(AND(F68>0,Schueler1Punkte!N9=\"\"),\"F\",IF(Schueler1Punkte!N9=\"\",\"\",Schueler1Punkte!N9)))))","v":""},{"$f":"IF(Schueler2Punkte!$D$1=0,\"\",IF(Schueler2Punkte!$M9=\"F\",\"f\",IF($F68=\"\",\"\",IF(AND(G68>0,Schueler2Punkte!$N9=\"\"),\"F\",IF(Schueler2Punkte!$N9=\"\",\"\",Schueler2Punkte!$N9)))))","v":""},{"$f":"IF(Schueler3Punkte!$D$1=0,\"\",IF(Schueler3Punkte!$M9=\"F\",\"f\",IF($F68=\"\",\"\",IF(AND(H68>0,Schueler3Punkte!$N9=\"\"),\"F\",IF(Schueler3Punkte!$N9=\"\",\"\",Schueler3Punkte!$N9)))))","v":""},{"$f":"IF(Schueler4Punkte!$D$1=0,\"\",IF(Schueler4Punkte!$M9=\"F\",\"f\",IF($F68=\"\",\"\",IF(AND(I68>0,Schueler4Punkte!$N9=\"\"),\"F\",IF(Schueler4Punkte!$N9=\"\",\"\",Schueler4Punkte!$N9)))))","v":""},{"$f":"IF(Schueler5Punkte!$D$1=0,\"\",IF(Schueler5Punkte!$M9=\"F\",\"f\",IF($F68=\"\",\"\",IF(AND(J68>0,Schueler5Punkte!$N9=\"\"),\"F\",IF(Schueler5Punkte!$N9=\"\",\"\",Schueler5Punkte!$N9)))))","v":""},{"$f":"IF(Schueler6Punkte!$D$1=0,\"\",IF(Schueler6Punkte!$M9=\"F\",\"f\",IF($F68=\"\",\"\",IF(AND(K68>0,Schueler6Punkte!$N9=\"\"),\"F\",IF(Schueler6Punkte!$N9=\"\",\"\",Schueler6Punkte!$N9)))))","v":""},{"$f":"IF(Schueler7Punkte!$D$1=0,\"\",IF(Schueler7Punkte!$M9=\"F\",\"f\",IF($F68=\"\",\"\",IF(AND(L68>0,Schueler7Punkte!$N9=\"\"),\"F\",IF(Schueler7Punkte!$N9=\"\",\"\",Schueler7Punkte!$N9)))))","v":""},{"$f":"IF(Schueler8Punkte!$D$1=0,\"\",IF(Schueler8Punkte!$M9=\"F\",\"f\",IF($F68=\"\",\"\",IF(AND(M68>0,Schueler8Punkte!$N9=\"\"),\"F\",IF(Schueler8Punkte!$N9=\"\",\"\",Schueler8Punkte!$N9)))))","v":""},{"$f":"IF(Schueler9Punkte!$D$1=0,\"\",IF(Schueler9Punkte!$M9=\"F\",\"f\",IF($F68=\"\",\"\",IF(AND(N68>0,Schueler9Punkte!$N9=\"\"),\"F\",IF(Schueler9Punkte!$N9=\"\",\"\",Schueler9Punkte!$N9)))))","v":""},{"$f":"IF(Schueler10Punkte!$D$1=0,\"\",IF(Schueler10Punkte!$M9=\"F\",\"f\",IF($F68=\"\",\"\",IF(AND(O68>0,Schueler10Punkte!$N9=\"\"),\"F\",IF(Schueler10Punkte!$N9=\"\",\"\",Schueler10Punkte!$N9)))))","v":""},{"$f":"IF(Schueler11Punkte!$D$1=0,\"\",IF(Schueler11Punkte!$M9=\"F\",\"f\",IF($F68=\"\",\"\",IF(AND(P68>0,Schueler11Punkte!$N9=\"\"),\"F\",IF(Schueler11Punkte!$N9=\"\",\"\",Schueler11Punkte!$N9)))))","v":""},{"$f":"IF(Schueler12Punkte!$D$1=0,\"\",IF(Schueler12Punkte!$M9=\"F\",\"f\",IF($F68=\"\",\"\",IF(AND(Q68>0,Schueler12Punkte!$N9=\"\"),\"F\",IF(Schueler12Punkte!$N9=\"\",\"\",Schueler12Punkte!$N9)))))","v":""},{"$f":"IF(Schueler13Punkte!$D$1=0,\"\",IF(Schueler13Punkte!$M9=\"F\",\"f\",IF($F68=\"\",\"\",IF(AND(R68>0,Schueler13Punkte!$N9=\"\"),\"F\",IF(Schueler13Punkte!$N9=\"\",\"\",Schueler13Punkte!$N9)))))","v":""},{"$f":"IF(Schueler14Punkte!$D$1=0,\"\",IF(Schueler14Punkte!$M9=\"F\",\"f\",IF($F68=\"\",\"\",IF(AND(S68>0,Schueler14Punkte!$N9=\"\"),\"F\",IF(Schueler14Punkte!$N9=\"\",\"\",Schueler14Punkte!$N9)))))","v":""},{"$f":"IF(Schueler15Punkte!$D$1=0,\"\",IF(Schueler15Punkte!$M9=\"F\",\"f\",IF($F68=\"\",\"\",IF(AND(T68>0,Schueler15Punkte!$N9=\"\"),\"F\",IF(Schueler15Punkte!$N9=\"\",\"\",Schueler15Punkte!$N9)))))","v":""},{"$f":"IF(Schueler16Punkte!$D$1=0,\"\",IF(Schueler16Punkte!$M9=\"F\",\"f\",IF($F68=\"\",\"\",IF(AND(U68>0,Schueler16Punkte!$N9=\"\"),\"F\",IF(Schueler16Punkte!$N9=\"\",\"\",Schueler16Punkte!$N9)))))","v":""},{"$f":"IF(Schueler17Punkte!$D$1=0,\"\",IF(Schueler17Punkte!$M9=\"F\",\"f\",IF($F68=\"\",\"\",IF(AND(V68>0,Schueler17Punkte!$N9=\"\"),\"F\",IF(Schueler17Punkte!$N9=\"\",\"\",Schueler17Punkte!$N9)))))","v":""},{"$f":"IF(Schueler18Punkte!$D$1=0,\"\",IF(Schueler18Punkte!$M9=\"F\",\"f\",IF($F68=\"\",\"\",IF(AND(W68>0,Schueler18Punkte!$N9=\"\"),\"F\",IF(Schueler18Punkte!$N9=\"\",\"\",Schueler18Punkte!$N9)))))","v":""},{"$f":"IF(Schueler19Punkte!$D$1=0,\"\",IF(Schueler19Punkte!$M9=\"F\",\"f\",IF($F68=\"\",\"\",IF(AND(X68>0,Schueler19Punkte!$N9=\"\"),\"F\",IF(Schueler19Punkte!$N9=\"\",\"\",Schueler19Punkte!$N9)))))","v":""},{"$f":"IF(Schueler20Punkte!$D$1=0,\"\",IF(Schueler20Punkte!$M9=\"F\",\"f\",IF($F68=\"\",\"\",IF(AND(Y68>0,Schueler20Punkte!$N9=\"\"),\"F\",IF(Schueler20Punkte!$N9=\"\",\"\",Schueler20Punkte!$N9)))))","v":""},{"$f":"IF(Schueler21Punkte!$D$1=0,\"\",IF(Schueler21Punkte!$M9=\"F\",\"f\",IF($F68=\"\",\"\",IF(AND(Z68>0,Schueler21Punkte!$N9=\"\"),\"F\",IF(Schueler21Punkte!$N9=\"\",\"\",Schueler21Punkte!$N9)))))","v":""},{"$f":"IF(Schueler22Punkte!$D$1=0,\"\",IF(Schueler22Punkte!$M9=\"F\",\"f\",IF($F68=\"\",\"\",IF(AND(AA68>0,Schueler22Punkte!$N9=\"\"),\"F\",IF(Schueler22Punkte!$N9=\"\",\"\",Schueler22Punkte!$N9)))))","v":""},{"$f":"IF(Schueler23Punkte!$D$1=0,\"\",IF(Schueler23Punkte!$M9=\"F\",\"f\",IF($F68=\"\",\"\",IF(AND(AB68>0,Schueler23Punkte!$N9=\"\"),\"F\",IF(Schueler23Punkte!$N9=\"\",\"\",Schueler23Punkte!$N9)))))","v":""},{"$f":"IF(Schueler24Punkte!$D$1=0,\"\",IF(Schueler24Punkte!$M9=\"F\",\"f\",IF($F68=\"\",\"\",IF(AND(AC68>0,Schueler24Punkte!$N9=\"\"),\"F\",IF(Schueler24Punkte!$N9=\"\",\"\",Schueler24Punkte!$N9)))))","v":""},{"$f":"IF(Schueler25Punkte!$D$1=0,\"\",IF(Schueler25Punkte!$M9=\"F\",\"f\",IF($F68=\"\",\"\",IF(AND(AD68>0,Schueler25Punkte!$N9=\"\"),\"F\",IF(Schueler25Punkte!$N9=\"\",\"\",Schueler25Punkte!$N9)))))","v":""},{"$f":"IF(Schueler26Punkte!$D$1=0,\"\",IF(Schueler26Punkte!$M9=\"F\",\"f\",IF($F68=\"\",\"\",IF(AND(AE68>0,Schueler26Punkte!$N9=\"\"),\"F\",IF(Schueler26Punkte!$N9=\"\",\"\",Schueler26Punkte!$N9)))))","v":""},{"$f":"IF(Schueler27Punkte!$D$1=0,\"\",IF(Schueler27Punkte!$M9=\"F\",\"f\",IF($F68=\"\",\"\",IF(AND(AF68>0,Schueler27Punkte!$N9=\"\"),\"F\",IF(Schueler27Punkte!$N9=\"\",\"\",Schueler27Punkte!$N9)))))","v":""},{"$f":"IF(Schueler28Punkte!$D$1=0,\"\",IF(Schueler28Punkte!$M9=\"F\",\"f\",IF($F68=\"\",\"\",IF(AND(AG68>0,Schueler28Punkte!$N9=\"\"),\"F\",IF(Schueler28Punkte!$N9=\"\",\"\",Schueler28Punkte!$N9)))))","v":""},{"$f":"IF(Schueler29Punkte!$D$1=0,\"\",IF(Schueler29Punkte!$M9=\"F\",\"f\",IF($F68=\"\",\"\",IF(AND(AH68>0,Schueler29Punkte!$N9=\"\"),\"F\",IF(Schueler29Punkte!$N9=\"\",\"\",Schueler29Punkte!$N9)))))","v":""},{"$f":"IF(Schueler30Punkte!$D$1=0,\"\",IF(Schueler30Punkte!$M9=\"F\",\"f\",IF($F68=\"\",\"\",IF(AND(AI68>0,Schueler30Punkte!$N9=\"\"),\"F\",IF(Schueler30Punkte!$N9=\"\",\"\",Schueler30Punkte!$N9)))))","v":""},{"$error":"#DIV/0!"}]
[]
[]
[null,null,null,"Note",null,"Punkte"]
[null,null,"Copyright Walter Kuchling","Sehr gut",null,"60 - 53",53,null,{"$f":"COUNTIF($G$3:$AJ$3,1)","v":0}]
[null,null,null,"Gut",null,"52 - 45",45,null,{"$f":"COUNTIF($G$3:$AJ$3,2)","v":0}]
[null,null,{"$f":"IF(I76>I77/2,\"Achtung Schularbeit wiederholen\",\"\")","v":""},"Befriedigend",null,"44 - 37",37,null,{"$f":"COUNTIF($G$3:$AJ$3,3)","v":0}]
[null,null,null,"Genügend",null,"36 - 30",30,null,{"$f":"COUNTIF($G$3:$AJ$3,4)","v":0}]
[null,null,null,"Nicht genügend",null,"29 - 00",null,null,{"$f":"COUNTIF($G$3:$AJ$3,5)","v":0}]
[null,null,null,null,null,null,null,null,{"$f":"SUM(I72+I73+I74+I75+I76)","v":0}]
[null,null,null,"Notenschnitt",null,{"$f":"SUM(I72*1+I73*2+I74*3+I75*4+I76*5)/I77","v":{"$error":"#DIV/0!"}}]
[null,null,null,null,"Eigener Notenkommentar:","Ja","Nein"]
[null,null,null,null,null,"x"]

{"sheet":"Ausdruck","index":2,"n_rows":55,"n_cols":37,"rows_kept":55,"cut":false,"hidden":false,"merged":[[31,34,31,35],[46,0,46,1]]}
[null,{"$f":"EingabeAngabe!C1","v":"Phrase"},null,{"$f":"EingabeAngabe!G1","v":""},{"$f":"EingabeAngabe!H1","v":""},{"$f":"EingabeAngabe!I1","v":""},{"$f":"EingabeAngabe!J1","v":""},{"$f":"EingabeAngabe!K1","v":""},{"$f":"EingabeAngabe!L1","v":""},{"$f":"EingabeAngabe!M1","v":""},{"$f":"EingabeAngabe!N1","v":""},{"$f":"EingabeAngabe!O1","v":""},{"$f":"EingabeAngabe!P1","v":""},{"$f":"EingabeAngabe!Q1","v":""},{"$f":"EingabeAngabe!R1","v":""},{"$f":"EingabeAngabe!S1","v":""},{"$f":"EingabeAngabe!T1","v":""},{"$f":"EingabeAngabe!U1","v":""},{"$f":"EingabeAngabe!V1","v":""},{"$f":"EingabeAngabe!W1","v":""},{"$f":"EingabeAngabe!X1","v":""},{"$f":"EingabeAngabe!Y1","v":""},{"$f":"EingabeAngabe!Z1","v":""},{"$f":"EingabeAngabe!AA1","v":""},{"$f":"EingabeAngabe!AB1","v":""},{"$f":"EingabeAngabe!AC1","v":""},{"$f":"EingabeAngabe!AD1","v":""},{"$f":"EingabeAngabe!AE1","v":""},{"$f":"EingabeAngabe!AF1","v":""},{"$f":"EingabeAngabe!AG1","v":""},{"$f":"EingabeAngabe!AH1","v":""},{"$f":"EingabeAngabe!AI1","v":""},{"$f":"EingabeAngabe!AJ1","v":""}]
[null,{"$f":"EingabeAngabe!C2","v":"GESAMT"},{"$f":"EingabeAngabe!F2","v":60},{"$f":"EingabeAngabe!G2","v":""},{"$f":"EingabeAngabe!H2","v":""},{"$f":"EingabeAngabe!I2","v":""},{"$f":"EingabeAngabe!J2","v":""},{"$f":"EingabeAngabe!K2","v":""},{"$f":"EingabeAngabe!L2","v":""},{"$f":"EingabeAngabe!M2","v":""},{"$f":"EingabeAngabe!N2","v":""},{"$f":"EingabeAngabe!O2","v":""},{"$f":"EingabeAngabe!P2","v":""},{"$f":"EingabeAngabe!Q2","v":""},{"$f":"EingabeAngabe!R2","v":""},{"$f":"EingabeAngabe!S2","v":""},{"$f":"EingabeAngabe!T2","v":""},{"$f":"EingabeAngabe!U2","v":""},{"$f":"EingabeAngabe!V2","v":""},{"$f":"EingabeAngabe!W2","v":""},{"$f":"EingabeAngabe!X2","v":""},{"$f":"EingabeAngabe!Y2","v":""},{"$f":"EingabeAngabe!Z2","v":""},{"$f":"EingabeAngabe!AA2","v":""},{"$f":"EingabeAngabe!AB2","v":""},{"$f":"EingabeAngabe!AC2","v":""},{"$f":"EingabeAngabe!AD2","v":""},{"$f":"EingabeAngabe!AE2","v":""},{"$f":"EingabeAngabe!AF2","v":""},{"$f":"EingabeAngabe!AG2","v":""},{"$f":"EingabeAngabe!AH2","v":""},{"$f":"EingabeAngabe!AI2","v":""},{"$f":"EingabeAngabe!AJ2","v":""}]
[null,{"$f":"EingabeAngabe!C3","v":"NOTE"},null,{"$f":"EingabeAngabe!G3","v":""},{"$f":"EingabeAngabe!H3","v":""},{"$f":"EingabeAngabe!I3","v":""},{"$f":"EingabeAngabe!J3","v":""},{"$f":"EingabeAngabe!K3","v":""},{"$f":"EingabeAngabe!L3","v":""},{"$f":"EingabeAngabe!M3","v":""},{"$f":"EingabeAngabe!N3","v":""},{"$f":"EingabeAngabe!O3","v":""},{"$f":"EingabeAngabe!P3","v":""},{"$f":"EingabeAngabe!Q3","v":""},{"$f":"EingabeAngabe!R3","v":""},{"$f":"EingabeAngabe!S3","v":""},{"$f":"EingabeAngabe!T3","v":""},{"$f":"EingabeAngabe!U3","v":""},{"$f":"EingabeAngabe!V3","v":""},{"$f":"EingabeAngabe!W3","v":""},{"$f":"EingabeAngabe!X3","v":""},{"$f":"EingabeAngabe!Y3","v":""},{"$f":"EingabeAngabe!Z3","v":""},{"$f":"EingabeAngabe!AA3","v":""},{"$f":"EingabeAngabe!AB3","v":""},{"$f":"EingabeAngabe!AC3","v":""},{"$f":"EingabeAngabe!AD3","v":""},{"$f":"EingabeAngabe!AE3","v":""},{"$f":"EingabeAngabe!AF3","v":""},{"$f":"EingabeAngabe!AG3","v":""},{"$f":"EingabeAngabe!AH3","v":""},{"$f":"EingabeAngabe!AI3","v":""},{"$f":"EingabeAngabe!AJ3","v":""}]
[{"$f":"EingabeAngabe!B5","v":0},{"$f":"EingabeAngabe!C5","v":"TEXTSINN"},{"$f":"EingabeAngabe!F5","v":12},{"$f":"EingabeAngabe!G5","v":""},{"$f":"EingabeAngabe!H5","v":""},{"$f":"EingabeAngabe!I5","v":""},{"$f":"EingabeAngabe!J5","v":""},{"$f":"EingabeAngabe!K5","v":""},{"$f":"EingabeAngabe!L5","v":""},{"$f":"EingabeAngabe!M5","v":""},{"$f":"EingabeAngabe!N5","v":""},{"$f":"EingabeAngabe!O5","v":""},{"$f":"EingabeAngabe!P5","v":""},{"$f":"EingabeAngabe!Q5","v":""},{"$f":"EingabeAngabe!R5","v":""},{"$f":"EingabeAngabe!S5","v":""},{"$f":"EingabeAngabe!T5","v":""},{"$f":"EingabeAngabe!U5","v":""},{"$f":"EingabeAngabe!V5","v":""},{"$f":"EingabeAngabe!W5","v":""},{"$f":"EingabeAngabe!X5","v":""},{"$f":"EingabeAngabe!Y5","v":""},{"$f":"EingabeAngabe!Z5","v":""},{"$f":"EingabeAngabe!AA5","v":""},{"$f":"EingabeAngabe!AB5","v":""},{"$f":"EingabeAngabe!AC5","v":""},{"$f":"EingabeAngabe!AD5","v":""},{"$f":"EingabeAngabe!AE5","v":""},{"$f":"EingabeAngabe!AF5","v":""},{"$f":"EingabeAngabe!AG5","v":""},{"$f":"EingabeAngabe!AH5","v":""},{"$f":"EingabeAngabe!AI5","v":""},{"$f":"EingabeAngabe!AJ5","v":""}]
[{"$f":"EingabeAngabe!B6","v":"SE1"},{"$f":"IF(EingabeAngabe!C6=\"\",\"\",EingabeAngabe!C6)","v":""},{"$f":"EingabeAngabe!F6","v":1},{"$f":"EingabeAngabe!G6","v":""},{"$f":"EingabeAngabe!H6","v":""},{"$f":"EingabeAngabe!I6","v":""},{"$f":"EingabeAngabe!J6","v":""},{"$f":"EingabeAngabe!K6","v":""},{"$f":"EingabeAngabe!L6","v":""},{"$f":"EingabeAngabe!M6","v":""},{"$f":"EingabeAngabe!N6","v":""},{"$f":"EingabeAngabe!O6","v":""},{"$f":"EingabeAngabe!P6","v":""},{"$f":"EingabeAngabe!Q6","v":""},{"$f":"EingabeAngabe!R6","v":""},{"$f":"EingabeAngabe!S6","v":""},{"$f":"EingabeAngabe!T6","v":""},{"$f":"EingabeAngabe!U6","v":""},{"$f":"EingabeAngabe!V6","v":""},{"$f":"EingabeAngabe!W6","v":""},{"$f":"EingabeAngabe!X6","v":""},{"$f":"EingabeAngabe!Y6","v":""},{"$f":"EingabeAngabe!Z6","v":""},{"$f":"EingabeAngabe!AA6","v":""},{"$f":"EingabeAngabe!AB6","v":""},{"$f":"EingabeAngabe!AC6","v":""},{"$f":"EingabeAngabe!AD6","v":""},{"$f":"EingabeAngabe!AE6","v":""},{"$f":"EingabeAngabe!AF6","v":""},{"$f":"EingabeAngabe!AG6","v":""},{"$f":"EingabeAngabe!AH6","v":""},{"$f":"EingabeAngabe!AI6","v":""},{"$f":"EingabeAngabe!AJ6","v":""}]
[{"$f":"EingabeAngabe!B8","v":"SE2"},{"$f":"IF(EingabeAngabe!C8=\"\",\"\",EingabeAngabe!C8)","v":""},{"$f":"EingabeAngabe!F8","v":1},{"$f":"EingabeAngabe!G8","v":""},{"$f":"EingabeAngabe!H8","v":""},{"$f":"EingabeAngabe!I8","v":""},{"$f":"EingabeAngabe!J8","v":""},{"$f":"EingabeAngabe!K8","v":""},{"$f":"EingabeAngabe!L8","v":""},{"$f":"EingabeAngabe!M8","v":""},{"$f":"EingabeAngabe!N8","v":""},{"$f":"EingabeAngabe!O8","v":""},{"$f":"EingabeAngabe!P8","v":""},{"$f":"EingabeAngabe!Q8","v":""},{"$f":"EingabeAngabe!R8","v":""},{"$f":"EingabeAngabe!S8","v":""},{"$f":"EingabeAngabe!T8","v":""},{"$f":"EingabeAngabe!U8","v":""},{"$f":"EingabeAngabe!V8","v":""},{"$f":"EingabeAngabe!W8","v":""},{"$f":"EingabeAngabe!X8","v":""},{"$f":"EingabeAngabe!Y8","v":""},{"$f":"EingabeAngabe!Z8","v":""},{"$f":"EingabeAngabe!AA8","v":""},{"$f":"EingabeAngabe!AB8","v":""},{"$f":"EingabeAngabe!AC8","v":""},{"$f":"EingabeAngabe!AD8","v":""},{"$f":"EingabeAngabe!AE8","v":""},{"$f":"EingabeAngabe!AF8","v":""},{"$f":"EingabeAngabe!AG8","v":""},{"$f":"EingabeAngabe!AH8","v":""},{"$f":"EingabeAngabe!AI8","v":""},{"$f":"EingabeAngabe!AJ8","v":""}]
[{"$f":"EingabeAngabe!B10","v":"SE3"},{"$f":"IF(EingabeAngabe!C10=\"\",\"\",EingabeAngabe!C10)","v":""},{"$f":"EingabeAngabe!F10","v":1},{"$f":"EingabeAngabe!G10","v":""},{"$f":"EingabeAngabe!H10","v":""},{"$f":"EingabeAngabe!I10","v":""},{"$f":"EingabeAngabe!J10","v":""},{"$f":"EingabeAngabe!K10","v":""},{"$f":"EingabeAngabe!L10","v":""},{"$f":"EingabeAngabe!M10","v":""},{"$f":"EingabeAngabe!N10","v":""},{"$f":"EingabeAngabe!O10","v":""},{"$f":"EingabeAngabe!P10","v":""},{"$f":"EingabeAngabe!Q10","v":""},{"$f":"EingabeAngabe!R10","v":""},{"$f":"EingabeAngabe!S10","v":""},{"$f":"EingabeAngabe!T10","v":""},{"$f":"EingabeAngabe!U10","v":""},{"$f":"EingabeAngabe!V10","v":""},{"$f":"EingabeAngabe!W10","v":""},{"$f":"EingabeAngabe!X10","v":""},{"$f":"EingabeAngabe!Y10","v":""},{"$f":"EingabeAngabe!Z10","v":""},{"$f":"EingabeAngabe!AA10","v":""},{"$f":"EingabeAngabe!AB10","v":""},{"$f":"EingabeAngabe!AC10","v":""},{"$f":"EingabeAngabe!AD10","v":""},{"$f":"EingabeAngabe!AE10","v":""},{"$f":"EingabeAngabe!AF10","v":""},{"$f":"EingabeAngabe!AG10","v":""},{"$f":"EingabeAngabe!AH10","v":""},{"$f":"EingabeAngabe!AI10","v":""},{"$f":"EingabeAngabe!AJ10","v":""}]
[{"$f":"EingabeAngabe!B12","v":"SE4"},{"$f":"IF(EingabeAngabe!C12=\"\",\"\",EingabeAngabe!C12)","v":""},{"$f":"EingabeAngabe!F12","v":1},{"$f":"EingabeAngabe!G12","v":""},{"$f":"EingabeAngabe!H12","v":""},{"$f":"EingabeAngabe!I12","v":""},{"$f":"EingabeAngabe!J12","v":""},{"$f":"EingabeAngabe!K12","v":""},{"$f":"EingabeAngabe!L12","v":""},{"$f":"EingabeAngabe!M12","v":""},{"$f":"EingabeAngabe!N12","v":""},{"$f":"EingabeAngabe!O12","v":""},{"$f":"EingabeAngabe!P12","v":""},{"$f":"EingabeAngabe!Q12","v":""},{"$f":"EingabeAngabe!R12","v":""},{"$f":"EingabeAngabe!S12","v":""},{"$f":"EingabeAngabe!T12","v":""},{"$f":"EingabeAngabe!U12","v":""},{"$f":"EingabeAngabe!V12","v":""},{"$f":"EingabeAngabe!W12","v":""},{"$f":"EingabeAngabe!X12","v":""},{"$f":"EingabeAngabe!Y12","v":""},{"$f":"EingabeAngabe!Z12","v":""},{"$f":"EingabeAngabe!AA12","v":""},{"$f":"EingabeAngabe!AB12","v":""},{"$f":"EingabeAngabe!AC12","v":""},{"$f":"EingabeAngabe!AD12","v":""},{"$f":"EingabeAngabe!AE12","v":""},{"$f":"EingabeAngabe!AF12","v":""},{"$f":"EingabeAngabe!AG12","v":""},{"$f":"EingabeAngabe!AH12","v":""},{"$f":"EingabeAngabe!AI12","v":""},{"$f":"EingabeAngabe!AJ12","v":""}]
[{"$f":"EingabeAngabe!B14","v":"SE5"},{"$f":"IF(EingabeAngabe!C14=\"\",\"\",EingabeAngabe!C14)","v":""},{"$f":"EingabeAngabe!F14","v":1},{"$f":"EingabeAngabe!G14","v":""},{"$f":"EingabeAngabe!H14","v":""},{"$f":"EingabeAngabe!I14","v":""},{"$f":"EingabeAngabe!J14","v":""},{"$f":"EingabeAngabe!K14","v":""},{"$f":"EingabeAngabe!L14","v":""},{"$f":"EingabeAngabe!M14","v":""},{"$f":"EingabeAngabe!N14","v":""},{"$f":"EingabeAngabe!O14","v":""},{"$f":"EingabeAngabe!P14","v":""},{"$f":"EingabeAngabe!Q14","v":""},{"$f":"EingabeAngabe!R14","v":""},{"$f":"EingabeAngabe!S14","v":""},{"$f":"EingabeAngabe!T14","v":""},{"$f":"EingabeAngabe!U14","v":""},{"$f":"EingabeAngabe!V14","v":""},{"$f":"EingabeAngabe!W14","v":""},{"$f":"EingabeAngabe!X14","v":""},{"$f":"EingabeAngabe!Y14","v":""},{"$f":"EingabeAngabe!Z14","v":""},{"$f":"EingabeAngabe!AA14","v":""},{"$f":"EingabeAngabe!AB14","v":""},{"$f":"EingabeAngabe!AC14","v":""},{"$f":"EingabeAngabe!AD14","v":""},{"$f":"EingabeAngabe!AE14","v":""},{"$f":"EingabeAngabe!AF14","v":""},{"$f":"EingabeAngabe!AG14","v":""},{"$f":"EingabeAngabe!AH14","v":""},{"$f":"EingabeAngabe!AI14","v":""},{"$f":"EingabeAngabe!AJ14","v":""}]
[{"$f":"EingabeAngabe!B16","v":"SE6"},{"$f":"IF(EingabeAngabe!C16=\"\",\"\",EingabeAngabe!C16)","v":""},{"$f":"EingabeAngabe!F16","v":1},{"$f":"EingabeAngabe!G16","v":""},{"$f":"EingabeAngabe!H16","v":""},{"$f":"EingabeAngabe!I16","v":""},{"$f":"EingabeAngabe!J16","v":""},{"$f":"EingabeAngabe!K16","v":""},{"$f":"EingabeAngabe!L16","v":""},{"$f":"EingabeAngabe!M16","v":""},{"$f":"EingabeAngabe!N16","v":""},{"$f":"EingabeAngabe!O16","v":""},{"$f":"EingabeAngabe!P16","v":""},{"$f":"EingabeAngabe!Q16","v":""},{"$f":"EingabeAngabe!R16","v":""},{"$f":"EingabeAngabe!S16","v":""},{"$f":"EingabeAngabe!T16","v":""},{"$f":"EingabeAngabe!U16","v":""},{"$f":"EingabeAngabe!V16","v":""},{"$f":"EingabeAngabe!W16","v":""},{"$f":"EingabeAngabe!X16","v":""},{"$f":"EingabeAngabe!Y16","v":""},{"$f":"EingabeAngabe!Z16","v":""},{"$f":"EingabeAngabe!AA16","v":""},{"$f":"EingabeAngabe!AB16","v":""},{"$f":"EingabeAngabe!AC16","v":""},{"$f":"EingabeAngabe!AD16","v":""},{"$f":"EingabeAngabe!AE16","v":""},{"$f":"EingabeAngabe!AF16","v":""},{"$f":"EingabeAngabe!AG16","v":""},{"$f":"EingabeAngabe!AH16","v":""},{"$f":"EingabeAngabe!AI16","v":""},{"$f":"EingabeAngabe!AJ16","v":""}]
[{"$f":"EingabeAngabe!B18","v":"SE7"},{"$f":"IF(EingabeAngabe!C18=\"\",\"\",EingabeAngabe!C18)","v":""},{"$f":"EingabeAngabe!F18","v":1},{"$f":"EingabeAngabe!G18","v":""},{"$f":"EingabeAngabe!H18","v":""},{"$f":"EingabeAngabe!I18","v":""},{"$f":"EingabeAngabe!J18","v":""},{"$f":"EingabeAngabe!K18","v":""},{"$f":"EingabeAngabe!L18","v":""},{"$f":"EingabeAngabe!M18","v":""},{"$f":"EingabeAngabe!N18","v":""},{"$f":"EingabeAngabe!O18","v":""},{"$f":"EingabeAngabe!P18","v":""},{"$f":"EingabeAngabe!Q18","v":""},{"$f":"EingabeAngabe!R18","v":""},{"$f":"EingabeAngabe!S18","v":""},{"$f":"EingabeAngabe!T18","v":""},{"$f":"EingabeAngabe!U18","v":""},{"$f":"EingabeAngabe!V18","v":""},{"$f":"EingabeAngabe!W18","v":""},{"$f":"EingabeAngabe!X18","v":""},{"$f":"EingabeAngabe!Y18","v":""},{"$f":"EingabeAngabe!Z18","v":""},{"$f":"EingabeAngabe!AA18","v":""},{"$f":"EingabeAngabe!AB18","v":""},{"$f":"EingabeAngabe!AC18","v":""},{"$f":"EingabeAngabe!AD18","v":""},{"$f":"EingabeAngabe!AE18","v":""},{"$f":"EingabeAngabe!AF18","v":""},{"$f":"EingabeAngabe!AG18","v":""},{"$f":"EingabeAngabe!AH18","v":""},{"$f":"EingabeAngabe!AI18","v":""},{"$f":"EingabeAngabe!AJ18","v":""}]
[{"$f":"EingabeAngabe!B20","v":"SE8"},{"$f":"IF(EingabeAngabe!C20=\"\",\"\",EingabeAngabe!C20)","v":""},{"$f":"EingabeAngabe!F20","v":1},{"$f":"EingabeAngabe!G20","v":""},{"$f":"EingabeAngabe!H20","v":""},{"$f":"EingabeAngabe!I20","v":""},{"$f":"EingabeAngabe!J20","v":""},{"$f":"EingabeAngabe!K20","v":""},{"$f":"EingabeAngabe!L20","v":""},{"$f":"EingabeAngabe!M20","v":""},{"$f":"EingabeAngabe!N20","v":""},{"$f":"EingabeAngabe!O20","v":""},{"$f":"EingabeAngabe!P20","v":""},{"$f":"EingabeAngabe!Q20","v":""},{"$f":"EingabeAngabe!R20","v":""},{"$f":"EingabeAngabe!S20","v":""},{"$f":"EingabeAngabe!T20","v":""},{"$f":"EingabeAngabe!U20","v":""},{"$f":"EingabeAngabe!V20","v":""},{"$f":"EingabeAngabe!W20","v":""},{"$f":"EingabeAngabe!X20","v":""},{"$f":"EingabeAngabe!Y20","v":""},{"$f":"EingabeAngabe!Z20","v":""},{"$f":"EingabeAngabe!AA20","v":""},{"$f":"EingabeAngabe!AB20","v":""},{"$f":"EingabeAngabe!AC20","v":""},{"$f":"EingabeAngabe!AD20","v":""},{"$f":"EingabeAngabe!AE20","v":""},{"$f":"EingabeAngabe!AF20","v":""},{"$f":"EingabeAngabe!AG20","v":""},{"$f":"EingabeAngabe!AH20","v":""},{"$f":"EingabeAngabe!AI20","v":""},{"$f":"EingabeAngabe!AJ20","v":""}]
[{"$f":"EingabeAngabe!B22","v":"SE9"},{"$f":"IF(EingabeAngabe!C22=\"\",\"\",EingabeAngabe!C22)","v":""},{"$f":"EingabeAngabe!F22","v":1},{"$f":"EingabeAngabe!G22","v":""},{"$f":"EingabeAngabe!H22","v":""},{"$f":"EingabeAngabe!I22","v":""},{"$f":"EingabeAngabe!J22","v":""},{"$f":"EingabeAngabe!K22","v":""},{"$f":"EingabeAngabe!L22","v":""},{"$f":"EingabeAngabe!M22","v":""},{"$f":"EingabeAngabe!N22","v":""},{"$f":"EingabeAngabe!O22","v":""},{"$f":"EingabeAngabe!P22","v":""},{"$f":"EingabeAngabe!Q22","v":""},{"$f":"EingabeAngabe!R22","v":""},{"$f":"EingabeAngabe!S22","v":""},{"$f":"EingabeAngabe!T22","v":""},{"$f":"EingabeAngabe!U22","v":""},{"$f":"EingabeAngabe!V22","v":""},{"$f":"EingabeAngabe!W22","v":""},{"$f":"EingabeAngabe!X22","v":""},{"$f":"EingabeAngabe!Y22","v":""},{"$f":"EingabeAngabe!Z22","v":""},{"$f":"EingabeAngabe!AA22","v":""},{"$f":"EingabeAngabe!AB22","v":""},{"$f":"EingabeAngabe!AC22","v":""},{"$f":"EingabeAngabe!AD22","v":""},{"$f":"EingabeAngabe!AE22","v":""},{"$f":"EingabeAngabe!AF22","v":""},{"$f":"EingabeAngabe!AG22","v":""},{"$f":"EingabeAngabe!AH22","v":""},{"$f":"EingabeAngabe!AI22","v":""},{"$f":"EingabeAngabe!AJ22","v":""}]
[{"$f":"EingabeAngabe!B24","v":"SE10"},{"$f":"IF(EingabeAngabe!C24=\"\",\"\",EingabeAngabe!C24)","v":""},{"$f":"EingabeAngabe!F24","v":1},{"$f":"EingabeAngabe!G24","v":""},{"$f":"EingabeAngabe!H24","v":""},{"$f":"EingabeAngabe!I24","v":""},{"$f":"EingabeAngabe!J24","v":""},{"$f":"EingabeAngabe!K24","v":""},{"$f":"EingabeAngabe!L24","v":""},{"$f":"EingabeAngabe!M24","v":""},{"$f":"EingabeAngabe!N24","v":""},{"$f":"EingabeAngabe!O24","v":""},{"$f":"EingabeAngabe!P24","v":""},{"$f":"EingabeAngabe!Q24","v":""},{"$f":"EingabeAngabe!R24","v":""},{"$f":"EingabeAngabe!S24","v":""},{"$f":"EingabeAngabe!T24","v":""},{"$f":"EingabeAngabe!U24","v":""},{"$f":"EingabeAngabe!V24","v":""},{"$f":"EingabeAngabe!W24","v":""},{"$f":"EingabeAngabe!X24","v":""},{"$f":"EingabeAngabe!Y24","v":""},{"$f":"EingabeAngabe!Z24","v":""},{"$f":"EingabeAngabe!AA24","v":""},{"$f":"EingabeAngabe!AB24","v":""},{"$f":"EingabeAngabe!AC24","v":""},{"$f":"EingabeAngabe!AD24","v":""},{"$f":"EingabeAngabe!AE24","v":""},{"$f":"EingabeAngabe!AF24","v":""},{"$f":"EingabeAngabe!AG24","v":""},{"$f":"EingabeAngabe!AH24","v":""},{"$f":"EingabeAngabe!AI24","v":""},{"$f":"EingabeAngabe!AJ24","v":""}]
[{"$f":"EingabeAngabe!B26","v":"SE11"},{"$f":"IF(EingabeAngabe!C26=\"\",\"\",EingabeAngabe!C26)","v":""},{"$f":"EingabeAngabe!F26","v":1},{"$f":"EingabeAngabe!G26","v":""},{"$f":"EingabeAngabe!H26","v":""},{"$f":"EingabeAngabe!I26","v":""},{"$f":"EingabeAngabe!J26","v":""},{"$f":"EingabeAngabe!K26","v":""},{"$f":"EingabeAngabe!L26","v":""},{"$f":"EingabeAngabe!M26","v":""},{"$f":"EingabeAngabe!N26","v":""},{"$f":"EingabeAngabe!O26","v":""},{"$f":"EingabeAngabe!P26","v":""},{"$f":"EingabeAngabe!Q26","v":""},{"$f":"EingabeAngabe!R26","v":""},{"$f":"EingabeAngabe!S26","v":""},{"$f":"EingabeAngabe!T26","v":""},{"$f":"EingabeAngabe!U26","v":""},{"$f":"EingabeAngabe!V26","v":""},{"$f":"EingabeAngabe!W26","v":""},{"$f":"EingabeAngabe!X26","v":""},{"$f":"EingabeAngabe!Y26","v":""},{"$f":"EingabeAngabe!Z26","v":""},{"$f":"EingabeAngabe!AA26","v":""},{"$f":"EingabeAngabe!AB26","v":""},{"$f":"EingabeAngabe!AC26","v":""},{"$f":"EingabeAngabe!AD26","v":""},{"$f":"EingabeAngabe!AE26","v":""},{"$f":"EingabeAngabe!AF26","v":""},{"$f":"EingabeAngabe!AG26","v":""},{"$f":"EingabeAngabe!AH26","v":""},{"$f":"EingabeAngabe!AI26","v":""},{"$f":"EingabeAngabe!AJ26","v":""}]
[{"$f":"EingabeAngabe!B28","v":"SE12"},{"$f":"IF(EingabeAngabe!C28=\"\",\"\",EingabeAngabe!C28)","v":""},{"$f":"EingabeAngabe!F28","v":1},{"$f":"EingabeAngabe!G28","v":""},{"$f":"EingabeAngabe!H28","v":""},{"$f":"EingabeAngabe!I28","v":""},{"$f":"EingabeAngabe!J28","v":""},{"$f":"EingabeAngabe!K28","v":""},{"$f":"EingabeAngabe!L28","v":""},{"$f":"EingabeAngabe!M28","v":""},{"$f":"EingabeAngabe!N28","v":""},{"$f":"EingabeAngabe!O28","v":""},{"$f":"EingabeAngabe!P28","v":""},{"$f":"EingabeAngabe!Q28","v":""},{"$f":"EingabeAngabe!R28","v":""},{"$f":"EingabeAngabe!S28","v":""},{"$f":"EingabeAngabe!T28","v":""},{"$f":"EingabeAngabe!U28","v":""},{"$f":"EingabeAngabe!V28","v":""},{"$f":"EingabeAngabe!W28","v":""},{"$f":"EingabeAngabe!X28","v":""},{"$f":"EingabeAngabe!Y28","v":""},{"$f":"EingabeAngabe!Z28","v":""},{"$f":"EingabeAngabe!AA28","v":""},{"$f":"EingabeAngabe!AB28","v":""},{"$f":"EingabeAngabe!AC28","v":""},{"$f":"EingabeAngabe!AD28","v":""},{"$f":"EingabeAngabe!AE28","v":""},{"$f":"EingabeAngabe!AF28","v":""},{"$f":"EingabeAngabe!AG28","v":""},{"$f":"EingabeAngabe!AH28","v":""},{"$f":"EingabeAngabe!AI28","v":""},{"$f":"EingabeAngabe!AJ28","v":""}]
[{"$f":"EingabeAngabe!B30","v":0},{"$f":"EingabeAngabe!C30","v":"LEXIK"},{"$f":"EingabeAngabe!F30","v":8},{"$f":"EingabeAngabe!G30","v":""},{"$f":"EingabeAngabe!H30","v":""},{"$f":"EingabeAngabe!I30","v":""},{"$f":"EingabeAngabe!J30","v":""},{"$f":"EingabeAngabe!K30","v":""},{"$f":"EingabeAngabe!L30","v":""},{"$f":"EingabeAngabe!M30","v":""},{"$f":"EingabeAngabe!N30","v":""},{"$f":"EingabeAngabe!O30","v":""},{"$f":"EingabeAngabe!P30","v":""},{"$f":"EingabeAngabe!Q30","v":""},{"$f":"EingabeAngabe!R30","v":""},{"$f":"EingabeAngabe!S30","v":""},{"$f":"EingabeAngabe!T30","v":""},{"$f":"EingabeAngabe!U30","v":""},{"$f":"EingabeAngabe!V30","v":""},{"$f":"EingabeAngabe!W30","v":""},{"$f":"EingabeAngabe!X30","v":""},{"$f":"EingabeAngabe!Y30","v":""},{"$f":"EingabeAngabe!Z30","v":""},{"$f":"EingabeAngabe!AA30","v":""},{"$f":"EingabeAngabe!AB30","v":""},{"$f":"EingabeAngabe!AC30","v":""},{"$f":"EingabeAngabe!AD30","v":""},{"$f":"EingabeAngabe!AE30","v":""},{"$f":"EingabeAngabe!AF30","v":""},{"$f":"EingabeAngabe!AG30","v":""},{"$f":"EingabeAngabe!AH30","v":""},{"$f":"EingabeAngabe!AI30","v":""},{"$f":"EingabeAngabe!AJ30","v":""}]
[{"$f":"EingabeAngabe!B31","v":"LE13"},{"$f":"IF(EingabeAngabe!C31=\"\",\"\",EingabeAngabe!C31)","v":""},{"$f":"EingabeAngabe!F31","v":1},{"$f":"EingabeAngabe!G31","v":""},{"$f":"EingabeAngabe!H31","v":""},{"$f":"EingabeAngabe!I31","v":""},{"$f":"EingabeAngabe!J31","v":""},{"$f":"EingabeAngabe!K31","v":""},{"$f":"EingabeAngabe!L31","v":""},{"$f":"EingabeAngabe!M31","v":""},{"$f":"EingabeAngabe!N31","v":""},{"$f":"EingabeAngabe!O31","v":""},{"$f":"EingabeAngabe!P31","v":""},{"$f":"EingabeAngabe!Q31","v":""},{"$f":"EingabeAngabe!R31","v":""},{"$f":"EingabeAngabe!S31","v":""},{"$f":"EingabeAngabe!T31","v":""},{"$f":"EingabeAngabe!U31","v":""},{"$f":"EingabeAngabe!V31","v":""},{"$f":"EingabeAngabe!W31","v":""},{"$f":"EingabeAngabe!X31","v":""},{"$f":"EingabeAngabe!Y31","v":""},{"$f":"EingabeAngabe!Z31","v":""},{"$f":"EingabeAngabe!AA31","v":""},{"$f":"EingabeAngabe!AB31","v":""},{"$f":"EingabeAngabe!AC31","v":""},{"$f":"EingabeAngabe!AD31","v":""},{"$f":"EingabeAngabe!AE31","v":""},{"$f":"EingabeAngabe!AF31","v":""},{"$f":"EingabeAngabe!AG31","v":""},{"$f":"EingabeAngabe!AH31","v":""},{"$f":"EingabeAngabe!AI31","v":""},{"$f":"EingabeAngabe!AJ31","v":""}]
[{"$f":"EingabeAngabe!B32","v":"LE14"},{"$f":"IF(EingabeAngabe!C32=\"\",\"\",EingabeAngabe!C32)","v":""},{"$f":"EingabeAngabe!F32","v":1},{"$f":"EingabeAngabe!G32","v":""},{"$f":"EingabeAngabe!H32","v":""},{"$f":"EingabeAngabe!I32","v":""},{"$f":"EingabeAngabe!J32","v":""},{"$f":"EingabeAngabe!K32","v":""},{"$f":"EingabeAngabe!L32","v":""},{"$f":"EingabeAngabe!M32","v":""},{"$f":"EingabeAngabe!N32","v":""},{"$f":"EingabeAngabe!O32","v":""},{"$f":"EingabeAngabe!P32","v":""},{"$f":"EingabeAngabe!Q32","v":""},{"$f":"EingabeAngabe!R32","v":""},{"$f":"EingabeAngabe!S32","v":""},{"$f":"EingabeAngabe!T32","v":""},{"$f":"EingabeAngabe!U32","v":""},{"$f":"EingabeAngabe!V32","v":""},{"$f":"EingabeAngabe!W32","v":""},{"$f":"EingabeAngabe!X32","v":""},{"$f":"EingabeAngabe!Y32","v":""},{"$f":"EingabeAngabe!Z32","v":""},{"$f":"EingabeAngabe!AA32","v":""},{"$f":"EingabeAngabe!AB32","v":""},{"$f":"EingabeAngabe!AC32","v":""},{"$f":"EingabeAngabe!AD32","v":""},{"$f":"EingabeAngabe!AE32","v":""},{"$f":"EingabeAngabe!AF32","v":""},{"$f":"EingabeAngabe!AG32","v":""},{"$f":"EingabeAngabe!AH32","v":""},{"$f":"EingabeAngabe!AI32","v":""},{"$f":"EingabeAngabe!AJ32","v":""}]
[{"$f":"EingabeAngabe!B33","v":"LE15"},{"$f":"IF(EingabeAngabe!C33=\"\",\"\",EingabeAngabe!C33)","v":""},{"$f":"EingabeAngabe!F33","v":1},{"$f":"EingabeAngabe!G33","v":""},{"$f":"EingabeAngabe!H33","v":""},{"$f":"EingabeAngabe!I33","v":""},{"$f":"EingabeAngabe!J33","v":""},{"$f":"EingabeAngabe!K33","v":""},{"$f":"EingabeAngabe!L33","v":""},{"$f":"EingabeAngabe!M33","v":""},{"$f":"EingabeAngabe!N33","v":""},{"$f":"EingabeAngabe!O33","v":""},{"$f":"EingabeAngabe!P33","v":""},{"$f":"EingabeAngabe!Q33","v":""},{"$f":"EingabeAngabe!R33","v":""},{"$f":"EingabeAngabe!S33","v":""},{"$f":"EingabeAngabe!T33","v":""},{"$f":"EingabeAngabe!U33","v":""},{"$f":"EingabeAngabe!V33","v":""},{"$f":"EingabeAngabe!W33","v":""},{"$f":"EingabeAngabe!X33","v":""},{"$f":"EingabeAngabe!Y33","v":""},{"$f":"EingabeAngabe!Z33","v":""},{"$f":"EingabeAngabe!AA33","v":""},{"$f":"EingabeAngabe!AB33","v":""},{"$f":"EingabeAngabe!AC33","v":""},{"$f":"EingabeAngabe!AD33","v":""},{"$f":"EingabeAngabe!AE33","v":""},{"$f":"EingabeAngabe!AF33","v":""},{"$f":"EingabeAngabe!AG33","v":""},{"$f":"EingabeAngabe!AH33","v":""},{"$f":"EingabeAngabe!AI33","v":""},{"$f":"EingabeAngabe!AJ33","v":""}]
[{"$f":"EingabeAngabe!B34","v":"LE16"},{"$f":"IF(EingabeAngabe!C34=\"\",\"\",EingabeAngabe!C34)","v":""},{"$f":"EingabeAngabe!F34","v":1},{"$f":"EingabeAngabe!G34","v":""},{"$f":"EingabeAngabe!H34","v":""},{"$f":"EingabeAngabe!I34","v":""},{"$f":"EingabeAngabe!J34","v":""},{"$f":"EingabeAngabe!K34","v":""},{"$f":"EingabeAngabe!L34","v":""},{"$f":"EingabeAngabe!M34","v":""},{"$f":"EingabeAngabe!N34","v":""},{"$f":"EingabeAngabe!O34","v":""},{"$f":"EingabeAngabe!P34","v":""},{"$f":"EingabeAngabe!Q34","v":""},{"$f":"EingabeAngabe!R34","v":""},{"$f":"EingabeAngabe!S34","v":""},{"$f":"EingabeAngabe!T34","v":""},{"$f":"EingabeAngabe!U34","v":""},{"$f":"EingabeAngabe!V34","v":""},{"$f":"EingabeAngabe!W34","v":""},{"$f":"EingabeAngabe!X34","v":""},{"$f":"EingabeAngabe!Y34","v":""},{"$f":"EingabeAngabe!Z34","v":""},{"$f":"EingabeAngabe!AA34","v":""},{"$f":"EingabeAngabe!AB34","v":""},{"$f":"EingabeAngabe!AC34","v":""},{"$f":"EingabeAngabe!AD34","v":""},{"$f":"EingabeAngabe!AE34","v":""},{"$f":"EingabeAngabe!AF34","v":""},{"$f":"EingabeAngabe!AG34","v":""},{"$f":"EingabeAngabe!AH34","v":""},{"$f":"EingabeAngabe!AI34","v":""},{"$f":"EingabeAngabe!AJ34","v":""}]
[{"$f":"EingabeAngabe!B35","v":"LE17"},{"$f":"IF(EingabeAngabe!C35=\"\",\"\",EingabeAngabe!C35)","v":""},{"$f":"EingabeAngabe!F35","v":1},{"$f":"EingabeAngabe!G35","v":""},{"$f":"EingabeAngabe!H35","v":""},{"$f":"EingabeAngabe!I35","v":""},{"$f":"EingabeAngabe!J35","v":""},{"$f":"EingabeAngabe!K35","v":""},{"$f":"EingabeAngabe!L35","v":""},{"$f":"EingabeAngabe!M35","v":""},{"$f":"EingabeAngabe!N35","v":""},{"$f":"EingabeAngabe!O35","v":""},{"$f":"EingabeAngabe!P35","v":""},{"$f":"EingabeAngabe!Q35","v":""},{"$f":"EingabeAngabe!R35","v":""},{"$f":"EingabeAngabe!S35","v":""},{"$f":"EingabeAngabe!T35","v":""},{"$f":"EingabeAngabe!U35","v":""},{"$f":"EingabeAngabe!V35","v":""},{"$f":"EingabeAngabe!W35","v":""},{"$f":"EingabeAngabe!X35","v":""},{"$f":"EingabeAngabe!Y35","v":""},{"$f":"EingabeAngabe!Z35","v":""},{"$f":"EingabeAngabe!AA35","v":""},{"$f":"EingabeAngabe!AB35","v":""},{"$f":"EingabeAngabe!AC35","v":""},{"$f":"EingabeAngabe!AD35","v":""},{"$f":"EingabeAngabe!AE35","v":""},{"$f":"EingabeAngabe!AF35","v":""},{"$f":"EingabeAngabe!AG35","v":""},{"$f":"EingabeAngabe!AH35","v":""},{"$f":"EingabeAngabe!AI35","v":""},{"$f":"EingabeAngabe!AJ35","v":""}]
[{"$f":"EingabeAngabe!B36","v":"LE18"},{"$f":"IF(EingabeAngabe!C36=\"\",\"\",EingabeAngabe!C36)","v":""},{"$f":"EingabeAngabe!F36","v":1},{"$f":"EingabeAngabe!G36","v":""},{"$f":"EingabeAngabe!H36","v":""},{"$f":"EingabeAngabe!I36","v":""},{"$f":"EingabeAngabe!J36","v":""},{"$f":"EingabeAngabe!K36","v":""},{"$f":"EingabeAngabe!L36","v":""},{"$f":"EingabeAngabe!M36","v":""},{"$f":"EingabeAngabe!N36","v":""},{"$f":"EingabeAngabe!O36","v":""},{"$f":"EingabeAngabe!P36","v":""},{"$f":"EingabeAngabe!Q36","v":""},{"$f":"EingabeAngabe!R36","v":""},{"$f":"EingabeAngabe!S36","v":""},{"$f":"EingabeAngabe!T36","v":""},{"$f":"EingabeAngabe!U36","v":""},{"$f":"EingabeAngabe!V36","v":""},{"$f":"EingabeAngabe!W36","v":""},{"$f":"EingabeAngabe!X36","v":""},{"$f":"EingabeAngabe!Y36","v":""},{"$f":"EingabeAngabe!Z36","v":""},{"$f":"EingabeAngabe!AA36","v":""},{"$f":"EingabeAngabe!AB36","v":""},{"$f":"EingabeAngabe!AC36","v":""},{"$f":"EingabeAngabe!AD36","v":""},{"$f":"EingabeAngabe!AE36","v":""},{"$f":"EingabeAngabe!AF36","v":""},{"$f":"EingabeAngabe!AG36","v":""},{"$f":"EingabeAngabe!AH36","v":""},{"$f":"EingabeAngabe!AI36","v":""},{"$f":"EingabeAngabe!AJ36","v":""}]
[{"$f":"EingabeAngabe!B37","v":"LE19"},{"$f":"IF(EingabeAngabe!C37=\"\",\"\",EingabeAngabe!C37)","v":""},{"$f":"EingabeAngabe!F37","v":1},{"$f":"EingabeAngabe!G37","v":""},{"$f":"EingabeAngabe!H37","v":""},{"$f":"EingabeAngabe!I37","v":""},{"$f":"EingabeAngabe!J37","v":""},{"$f":"EingabeAngabe!K37","v":""},{"$f":"EingabeAngabe!L37","v":""},{"$f":"EingabeAngabe!M37","v":""},{"$f":"EingabeAngabe!N37","v":""},{"$f":"EingabeAngabe!O37","v":""},{"$f":"EingabeAngabe!P37","v":""},{"$f":"EingabeAngabe!Q37","v":""},{"$f":"EingabeAngabe!R37","v":""},{"$f":"EingabeAngabe!S37","v":""},{"$f":"EingabeAngabe!T37","v":""},{"$f":"EingabeAngabe!U37","v":""},{"$f":"EingabeAngabe!V37","v":""},{"$f":"EingabeAngabe!W37","v":""},{"$f":"EingabeAngabe!X37","v":""},{"$f":"EingabeAngabe!Y37","v":""},{"$f":"EingabeAngabe!Z37","v":""},{"$f":"EingabeAngabe!AA37","v":""},{"$f":"EingabeAngabe!AB37","v":""},{"$f":"EingabeAngabe!AC37","v":""},{"$f":"EingabeAngabe!AD37","v":""},{"$f":"EingabeAngabe!AE37","v":""},{"$f":"EingabeAngabe!AF37","v":""},{"$f":"EingabeAngabe!AG37","v":""},{"$f":"EingabeAngabe!AH37","v":""},{"$f":"EingabeAngabe!AI37","v":""},{"$f":"EingabeAngabe!AJ37","v":""}]
[{"$f":"EingabeAngabe!B38","v":"LE20"},{"$f":"IF(EingabeAngabe!C38=\"\",\"\",EingabeAngabe!C38)","v":""},{"$f":"EingabeAngabe!F38","v":1},{"$f":"EingabeAngabe!G38","v":""},{"$f":"EingabeAngabe!H38","v":""},{"$f":"EingabeAngabe!I38","v":""},{"$f":"EingabeAngabe!J38","v":""},{"$f":"EingabeAngabe!K38","v":""},{"$f":"EingabeAngabe!L38","v":""},{"$f":"EingabeAngabe!M38","v":""},{"$f":"EingabeAngabe!N38","v":""},{"$f":"EingabeAngabe!O38","v":""},{"$f":"EingabeAngabe!P38","v":""},{"$f":"EingabeAngabe!Q38","v":""},{"$f":"EingabeAngabe!R38","v":""},{"$f":"EingabeAngabe!S38","v":""},{"$f":"EingabeAngabe!T38","v":""},{"$f":"EingabeAngabe!U38","v":""},{"$f":"EingabeAngabe!V38","v":""},{"$f":"EingabeAngabe!W38","v":""},{"$f":"EingabeAngabe!X38","v":""},{"$f":"EingabeAngabe!Y38","v":""},{"$f":"EingabeAngabe!Z38","v":""},{"$f":"EingabeAngabe!AA38","v":""},{"$f":"EingabeAngabe!AB38","v":""},{"$f":"EingabeAngabe!AC38","v":""},{"$f":"EingabeAngabe!AD38","v":""},{"$f":"EingabeAngabe!AE38","v":""},{"$f":"EingabeAngabe!AF38","v":""},{"$f":"EingabeAngabe!AG38","v":""},{"$f":"EingabeAngabe!AH38","v":""},{"$f":"EingabeAngabe!AI38","v":""},{"$f":"EingabeAngabe!AJ38","v":""}]
[{"$f":"EingabeAngabe!B39","v":0},{"$f":"EingabeAngabe!C39","v":"MORPHOLOGIE"},{"$f":"EingabeAngabe!F39","v":8},{"$f":"EingabeAngabe!G39","v":""},{"$f":"EingabeAngabe!H39","v":""},{"$f":"EingabeAngabe!I39","v":""},{"$f":"EingabeAngabe!J39","v":""},{"$f":"EingabeAngabe!K39","v":""},{"$f":"EingabeAngabe!L39","v":""},{"$f":"EingabeAngabe!M39","v":""},{"$f":"EingabeAngabe!N39","v":""},{"$f":"EingabeAngabe!O39","v":""},{"$f":"EingabeAngabe!P39","v":""},{"$f":"EingabeAngabe!Q39","v":""},{"$f":"EingabeAngabe!R39","v":""},{"$f":"EingabeAngabe!S39","v":""},{"$f":"EingabeAngabe!T39","v":""},{"$f":"EingabeAngabe!U39","v":""},{"$f":"EingabeAngabe!V39","v":""},{"$f":"EingabeAngabe!W39","v":""},{"$f":"EingabeAngabe!X39","v":""},{"$f":"EingabeAngabe!Y39","v":""},{"$f":"EingabeAngabe!Z39","v":""},{"$f":"EingabeAngabe!AA39","v":""},{"$f":"EingabeAngabe!AB39","v":""},{"$f":"EingabeAngabe!AC39","v":""},{"$f":"EingabeAngabe!AD39","v":""},{"$f":"EingabeAngabe!AE39","v":""},{"$f":"EingabeAngabe!AF39","v":""},{"$f":"EingabeAngabe!AG39","v":""},{"$f":"EingabeAngabe!AH39","v":""},{"$f":"EingabeAngabe!AI39","v":""},{"$f":"EingabeAngabe!AJ39","v":""},{"$f":"EingabeAngabe!D72","v":"Sehr gut"},{"$f":"EingabeAngabe!F72","v":"60 - 53"},null,{"$f":"EingabeAngabe!I72","v":0}]
[{"$f":"EingabeAngabe!B40","v":"MO21"},{"$f":"IF(EingabeAngabe!C40=\"\",\"\",EingabeAngabe!C40)","v":""},{"$f":"EingabeAngabe!F40","v":1},{"$f":"EingabeAngabe!G40","v":""},{"$f":"EingabeAngabe!H40","v":""},{"$f":"EingabeAngabe!I40","v":""},{"$f":"EingabeAngabe!J40","v":""},{"$f":"EingabeAngabe!K40","v":""},{"$f":"EingabeAngabe!L40","v":""},{"$f":"EingabeAngabe!M40","v":""},{"$f":"EingabeAngabe!N40","v":""},{"$f":"EingabeAngabe!O40","v":""},{"$f":"EingabeAngabe!P40","v":""},{"$f":"EingabeAngabe!Q40","v":""},{"$f":"EingabeAngabe!R40","v":""},{"$f":"EingabeAngabe!S40","v":""},{"$f":"EingabeAngabe!T40","v":""},{"$f":"EingabeAngabe!U40","v":""},{"$f":"EingabeAngabe!V40","v":""},{"$f":"EingabeAngabe!W40","v":""},{"$f":"EingabeAngabe!X40","v":""},{"$f":"EingabeAngabe!Y40","v":""},{"$f":"EingabeAngabe!Z40","v":""},{"$f":"EingabeAngabe!AA40","v":""},{"$f":"EingabeAngabe!AB40","v":""},{"$f":"EingabeAngabe!AC40","v":""},{"$f":"EingabeAngabe!AD40","v":""},{"$f":"EingabeAngabe!AE40","v":""},{"$f":"EingabeAngabe!AF40","v":""},{"$f":"EingabeAngabe!AG40","v":""},{"$f":"EingabeAngabe!AH40","v":""},{"$f":"EingabeAngabe!AI40","v":""},{"$f":"EingabeAngabe!AJ40","v":""},{"$f":"EingabeAngabe!D73","v":"Gut"},{"$f":"EingabeAngabe!F73","v":"52 - 45"},null,{"$f":"EingabeAngabe!I73","v":0}]
[{"$f":"EingabeAngabe!B41","v":"MO22"},{"$f":"IF(EingabeAngabe!C41=\"\",\"\",EingabeAngabe!C41)","v":""},{"$f":"EingabeAngabe!F41","v":1},{"$f":"EingabeAngabe!G41","v":""},{"$f":"EingabeAngabe!H41","v":""},{"$f":"EingabeAngabe!I41","v":""},{"$f":"EingabeAngabe!J41","v":""},{"$f":"EingabeAngabe!K41","v":""},{"$f":"EingabeAngabe!L41","v":""},{"$f":"EingabeAngabe!M41","v":""},{"$f":"EingabeAngabe!N41","v":""},{"$f":"EingabeAngabe!O41","v":""},{"$f":"EingabeAngabe!P41","v":""},{"$f":"EingabeAngabe!Q41","v":""},{"$f":"EingabeAngabe!R41","v":""},{"$f":"EingabeAngabe!S41","v":""},{"$f":"EingabeAngabe!T41","v":""},{"$f":"EingabeAngabe!U41","v":""},{"$f":"EingabeAngabe!V41","v":""},{"$f":"EingabeAngabe!W41","v":""},{"$f":"EingabeAngabe!X41","v":""},{"$f":"EingabeAngabe!Y41","v":""},{"$f":"EingabeAngabe!Z41","v":""},{"$f":"EingabeAngabe!AA41","v":""},{"$f":"EingabeAngabe!AB41","v":""},{"$f":"EingabeAngabe!AC41","v":""},{"$f":"EingabeAngabe!AD41","v":""},{"$f":"EingabeAngabe!AE41","v":""},{"$f":"EingabeAngabe!AF41","v":""},{"$f":"EingabeAngabe!AG41","v":""},{"$f":"EingabeAngabe!AH41","v":""},{"$f":"EingabeAngabe!AI41","v":""},{"$f":"EingabeAngabe!AJ41","v":""},{"$f":"EingabeAngabe!D74","v":"Befriedigend"},{"$f":"EingabeAngabe!F74","v":"44 - 37"},null,{"$f":"EingabeAngabe!I74","v":0}]
[{"$f":"EingabeAngabe!B42","v":"MO23"},{"$f":"IF(EingabeAngabe!C42=\"\",\"\",EingabeAngabe!C42)","v":""},{"$f":"EingabeAngabe!F42","v":1},{"$f":"EingabeAngabe!G42","v":""},{"$f":"EingabeAngabe!H42","v":""},{"$f":"EingabeAngabe!I42","v":""},{"$f":"EingabeAngabe!J42","v":""},{"$f":"EingabeAngabe!K42","v":""},{"$f":"EingabeAngabe!L42","v":""},{"$f":"EingabeAngabe!M42","v":""},{"$f":"EingabeAngabe!N42","v":""},{"$f":"EingabeAngabe!O42","v":""},{"$f":"EingabeAngabe!P42","v":""},{"$f":"EingabeAngabe!Q42","v":""},{"$f":"EingabeAngabe!R42","v":""},{"$f":"EingabeAngabe!S42","v":""},{"$f":"EingabeAngabe!T42","v":""},{"$f":"EingabeAngabe!U42","v":""},{"$f":"EingabeAngabe!V42","v":""},{"$f":"EingabeAngabe!W42","v":""},{"$f":"EingabeAngabe!X42","v":""},{"$f":"EingabeAngabe!Y42","v":""},{"$f":"EingabeAngabe!Z42","v":""},{"$f":"EingabeAngabe!AA42","v":""},{"$f":"EingabeAngabe!AB42","v":""},{"$f":"EingabeAngabe!AC42","v":""},{"$f":"EingabeAngabe!AD42","v":""},{"$f":"EingabeAngabe!AE42","v":""},{"$f":"EingabeAngabe!AF42","v":""},{"$f":"EingabeAngabe!AG42","v":""},{"$f":"EingabeAngabe!AH42","v":""},{"$f":"EingabeAngabe!AI42","v":""},{"$f":"EingabeAngabe!AJ42","v":""},{"$f":"EingabeAngabe!D75","v":"Genügend"},{"$f":"EingabeAngabe!F75","v":"36 - 30"},null,{"$f":"EingabeAngabe!I75","v":0}]
[{"$f":"EingabeAngabe!B43","v":"MO24"},{"$f":"IF(EingabeAngabe!C43=\"\",\"\",EingabeAngabe!C43)","v":""},{"$f":"EingabeAngabe!F43","v":1},{"$f":"EingabeAngabe!G43","v":""},{"$f":"EingabeAngabe!H43","v":""},{"$f":"EingabeAngabe!I43","v":""},{"$f":"EingabeAngabe!J43","v":""},{"$f":"EingabeAngabe!K43","v":""},{"$f":"EingabeAngabe!L43","v":""},{"$f":"EingabeAngabe!M43","v":""},{"$f":"EingabeAngabe!N43","v":""},{"$f":"EingabeAngabe!O43","v":""},{"$f":"EingabeAngabe!P43","v":""},{"$f":"EingabeAngabe!Q43","v":""},{"$f":"EingabeAngabe!R43","v":""},{"$f":"EingabeAngabe!S43","v":""},{"$f":"EingabeAngabe!T43","v":""},{"$f":"EingabeAngabe!U43","v":""},{"$f":"EingabeAngabe!V43","v":""},{"$f":"EingabeAngabe!W43","v":""},{"$f":"EingabeAngabe!X43","v":""},{"$f":"EingabeAngabe!Y43","v":""},{"$f":"EingabeAngabe!Z43","v":""},{"$f":"EingabeAngabe!AA43","v":""},{"$f":"EingabeAngabe!AB43","v":""},{"$f":"EingabeAngabe!AC43","v":""},{"$f":"EingabeAngabe!AD43","v":""},{"$f":"EingabeAngabe!AE43","v":""},{"$f":"EingabeAngabe!AF43","v":""},{"$f":"EingabeAngabe!AG43","v":""},{"$f":"EingabeAngabe!AH43","v":""},{"$f":"EingabeAngabe!AI43","v":""},{"$f":"EingabeAngabe!AJ43","v":""},{"$f":"EingabeAngabe!D76","v":"Nicht genügend"},{"$f":"EingabeAngabe!F76","v":"29 - 00"},null,{"$f":"EingabeAngabe!I76","v":0}]
[{"$f":"EingabeAngabe!B44","v":"MO25"},{"$f":"IF(EingabeAngabe!C44=\"\",\"\",EingabeAngabe!C44)","v":""},{"$f":"EingabeAngabe!F44","v":1},{"$f":"EingabeAngabe!G44","v":""},{"$f":"EingabeAngabe!H44","v":""},{"$f":"EingabeAngabe!I44","v":""},{"$f":"EingabeAngabe!J44","v":""},{"$f":"EingabeAngabe!K44","v":""},{"$f":"EingabeAngabe!L44","v":""},{"$f":"EingabeAngabe!M44","v":""},{"$f":"EingabeAngabe!N44","v":""},{"$f":"EingabeAngabe!O44","v":""},{"$f":"EingabeAngabe!P44","v":""},{"$f":"EingabeAngabe!Q44","v":""},{"$f":"EingabeAngabe!R44","v":""},{"$f":"EingabeAngabe!S44","v":""},{"$f":"EingabeAngabe!T44","v":""},{"$f":"EingabeAngabe!U44","v":""},{"$f":"EingabeAngabe!V44","v":""},{"$f":"EingabeAngabe!W44","v":""},{"$f":"EingabeAngabe!X44","v":""},{"$f":"EingabeAngabe!Y44","v":""},{"$f":"EingabeAngabe!Z44","v":""},{"$f":"EingabeAngabe!AA44","v":""},{"$f":"EingabeAngabe!AB44","v":""},{"$f":"EingabeAngabe!AC44","v":""},{"$f":"EingabeAngabe!AD44","v":""},{"$f":"EingabeAngabe!AE44","v":""},{"$f":"EingabeAngabe!AF44","v":""},{"$f":"EingabeAngabe!AG44","v":""},{"$f":"EingabeAngabe!AH44","v":""},{"$f":"EingabeAngabe!AI44","v":""},{"$f":"EingabeAngabe!AJ44","v":""},null,null,null,{"$f":"EingabeAngabe!I77","v":0}]
[{"$f":"EingabeAngabe!B45","v":"MO26"},{"$f":"IF(EingabeAngabe!C45=\"\",\"\",EingabeAngabe!C45)","v":""},{"$f":"EingabeAngabe!F45","v":1},{"$f":"EingabeAngabe!G45","v":""},{"$f":"EingabeAngabe!H45","v":""},{"$f":"EingabeAngabe!I45","v":""},{"$f":"EingabeAngabe!J45","v":""},{"$f":"EingabeAngabe!K45","v":""},{"$f":"EingabeAngabe!L45","v":""},{"$f":"EingabeAngabe!M45","v":""},{"$f":"EingabeAngabe!N45","v":""},{"$f":"EingabeAngabe!O45","v":""},{"$f":"EingabeAngabe!P45","v":""},{"$f":"EingabeAngabe!Q45","v":""},{"$f":"EingabeAngabe!R45","v":""},{"$f":"EingabeAngabe!S45","v":""},{"$f":"EingabeAngabe!T45","v":""},{"$f":"EingabeAngabe!U45","v":""},{"$f":"EingabeAngabe!V45","v":""},{"$f":"EingabeAngabe!W45","v":""},{"$f":"EingabeAngabe!X45","v":""},{"$f":"EingabeAngabe!Y45","v":""},{"$f":"EingabeAngabe!Z45","v":""},{"$f":"EingabeAngabe!AA45","v":""},{"$f":"EingabeAngabe!AB45","v":""},{"$f":"EingabeAngabe!AC45","v":""},{"$f":"EingabeAngabe!AD45","v":""},{"$f":"EingabeAngabe!AE45","v":""},{"$f":"EingabeAngabe!AF45","v":""},{"$f":"EingabeAngabe!AG45","v":""},{"$f":"EingabeAngabe!AH45","v":""},{"$f":"EingabeAngabe!AI45","v":""},{"$f":"EingabeAngabe!AJ45","v":""},{"$f":"EingabeAngabe!D78","v":"Notenschnitt"},{"$f":"EingabeAngabe!F78","v":{"$error":"#DIV/0!"}}]
[{"$f":"EingabeAngabe!B46","v":"MO27"},{"$f":"IF(EingabeAngabe!C46=\"\",\"\",EingabeAngabe!C46)","v":""},{"$f":"EingabeAngabe!F46","v":1},{"$f":"EingabeAngabe!G46","v":""},{"$f":"EingabeAngabe!H46","v":""},{"$f":"EingabeAngabe!I46","v":""},{"$f":"EingabeAngabe!J46","v":""},{"$f":"EingabeAngabe!K46","v":""},{"$f":"EingabeAngabe!L46","v":""},{"$f":"EingabeAngabe!M46","v":""},{"$f":"EingabeAngabe!N46","v":""},{"$f":"EingabeAngabe!O46","v":""},{"$f":"EingabeAngabe!P46","v":""},{"$f":"EingabeAngabe!Q46","v":""},{"$f":"EingabeAngabe!R46","v":""},{"$f":"EingabeAngabe!S46","v":""},{"$f":"EingabeAngabe!T46","v":""},{"$f":"EingabeAngabe!U46","v":""},{"$f":"EingabeAngabe!V46","v":""},{"$f":"EingabeAngabe!W46","v":""},{"$f":"EingabeAngabe!X46","v":""},{"$f":"EingabeAngabe!Y46","v":""},{"$f":"EingabeAngabe!Z46","v":""},{"$f":"EingabeAngabe!AA46","v":""},{"$f":"EingabeAngabe!AB46","v":""},{"$f":"EingabeAngabe!AC46","v":""},{"$f":"EingabeAngabe!AD46","v":""},{"$f":"EingabeAngabe!AE46","v":""},{"$f":"EingabeAngabe!AF46","v":""},{"$f":"EingabeAngabe!AG46","v":""},{"$f":"EingabeAngabe!AH46","v":""},{"$f":"EingabeAngabe!AI46","v":""},{"$f":"EingabeAngabe!AJ46","v":""}]
[{"$f":"EingabeAngabe!B47","v":"MO28"},{"$f":"IF(EingabeAngabe!C47=\"\",\"\",EingabeAngabe!C47)","v":""},{"$f":"EingabeAngabe!F47","v":1},{"$f":"EingabeAngabe!G47","v":""},{"$f":"EingabeAngabe!H47","v":""},{"$f":"EingabeAngabe!I47","v":""},{"$f":"EingabeAngabe!J47","v":""},{"$f":"EingabeAngabe!K47","v":""},{"$f":"EingabeAngabe!L47","v":""},{"$f":"EingabeAngabe!M47","v":""},{"$f":"EingabeAngabe!N47","v":""},{"$f":"EingabeAngabe!O47","v":""},{"$f":"EingabeAngabe!P47","v":""},{"$f":"EingabeAngabe!Q47","v":""},{"$f":"EingabeAngabe!R47","v":""},{"$f":"EingabeAngabe!S47","v":""},{"$f":"EingabeAngabe!T47","v":""},{"$f":"EingabeAngabe!U47","v":""},{"$f":"EingabeAngabe!V47","v":""},{"$f":"EingabeAngabe!W47","v":""},{"$f":"EingabeAngabe!X47","v":""},{"$f":"EingabeAngabe!Y47","v":""},{"$f":"EingabeAngabe!Z47","v":""},{"$f":"EingabeAngabe!AA47","v":""},{"$f":"EingabeAngabe!AB47","v":""},{"$f":"EingabeAngabe!AC47","v":""},{"$f":"EingabeAngabe!AD47","v":""},{"$f":"EingabeAngabe!AE47","v":""},{"$f":"EingabeAngabe!AF47","v":""},{"$f":"EingabeAngabe!AG47","v":""},{"$f":"EingabeAngabe!AH47","v":""},{"$f":"EingabeAngabe!AI47","v":""},{"$f":"EingabeAngabe!AJ47","v":""}]
[{"$f":"EingabeAngabe!B48","v":0},{"$f":"EingabeAngabe!C48","v":"SYNTAX"},{"$f":"EingabeAngabe!F48","v":8},{"$f":"EingabeAngabe!G48","v":""},{"$f":"EingabeAngabe!H48","v":""},{"$f":"EingabeAngabe!I48","v":""},{"$f":"EingabeAngabe!J48","v":""},{"$f":"EingabeAngabe!K48","v":""},{"$f":"EingabeAngabe!L48","v":""},{"$f":"EingabeAngabe!M48","v":""},{"$f":"EingabeAngabe!N48","v":""},{"$f":"EingabeAngabe!O48","v":""},{"$f":"EingabeAngabe!P48","v":""},{"$f":"EingabeAngabe!Q48","v":""},{"$f":"EingabeAngabe!R48","v":""},{"$f":"EingabeAngabe!S48","v":""},{"$f":"EingabeAngabe!T48","v":""},{"$f":"EingabeAngabe!U48","v":""},{"$f":"EingabeAngabe!V48","v":""},{"$f":"EingabeAngabe!W48","v":""},{"$f":"EingabeAngabe!X48","v":""},{"$f":"EingabeAngabe!Y48","v":""},{"$f":"EingabeAngabe!Z48","v":""},{"$f":"EingabeAngabe!AA48","v":""},{"$f":"EingabeAngabe!AB48","v":""},{"$f":"EingabeAngabe!AC48","v":""},{"$f":"EingabeAngabe!AD48","v":""},{"$f":"EingabeAngabe!AE48","v":""},{"$f":"EingabeAngabe!AF48","v":""},{"$f":"EingabeAngabe!AG48","v":""},{"$f":"EingabeAngabe!AH48","v":""},{"$f":"EingabeAngabe!AI48","v":""},{"$f":"EingabeAngabe!AJ48","v":""}]
[{"$f":"EingabeAngabe!B49","v":"SY29"},{"$f":"IF(EingabeAngabe!C49=\"\",\"\",EingabeAngabe!C49)","v":""},{"$f":"EingabeAngabe!F49","v":1},{"$f":"EingabeAngabe!G49","v":""},{"$f":"EingabeAngabe!H49","v":""},{"$f":"EingabeAngabe!I49","v":""},{"$f":"EingabeAngabe!J49","v":""},{"$f":"EingabeAngabe!K49","v":""},{"$f":"EingabeAngabe!L49","v":""},{"$f":"EingabeAngabe!M49","v":""},{"$f":"EingabeAngabe!N49","v":""},{"$f":"EingabeAngabe!O49","v":""},{"$f":"EingabeAngabe!P49","v":""},{"$f":"EingabeAngabe!Q49","v":""},{"$f":"EingabeAngabe!R49","v":""},{"$f":"EingabeAngabe!S49","v":""},{"$f":"EingabeAngabe!T49","v":""},{"$f":"EingabeAngabe!U49","v":""},{"$f":"EingabeAngabe!V49","v":""},{"$f":"EingabeAngabe!W49","v":""},{"$f":"EingabeAngabe!X49","v":""},{"$f":"EingabeAngabe!Y49","v":""},{"$f":"EingabeAngabe!Z49","v":""},{"$f":"EingabeAngabe!AA49","v":""},{"$f":"EingabeAngabe!AB49","v":""},{"$f":"EingabeAngabe!AC49","v":""},{"$f":"EingabeAngabe!AD49","v":""},{"$f":"EingabeAngabe!AE49","v":""},{"$f":"EingabeAngabe!AF49","v":""},{"$f":"EingabeAngabe!AG49","v":""},{"$f":"EingabeAngabe!AH49","v":""},{"$f":"EingabeAngabe!AI49","v":""},{"$f":"EingabeAngabe!AJ49","v":""}]
[{"$f":"EingabeAngabe!B50","v":"SY30"},{"$f":"IF(EingabeAngabe!C50=\"\",\"\",EingabeAngabe!C50)","v":""},{"$f":"EingabeAngabe!F50","v":1},{"$f":"EingabeAngabe!G50","v":""},{"$f":"EingabeAngabe!H50","v":""},{"$f":"EingabeAngabe!I50","v":""},{"$f":"EingabeAngabe!J50","v":""},{"$f":"EingabeAngabe!K50","v":""},{"$f":"EingabeAngabe!L50","v":""},{"$f":"EingabeAngabe!M50","v":""},{"$f":"EingabeAngabe!N50","v":""},{"$f":"EingabeAngabe!O50","v":""},{"$f":"EingabeAngabe!P50","v":""},{"$f":"EingabeAngabe!Q50","v":""},{"$f":"EingabeAngabe!R50","v":""},{"$f":"EingabeAngabe!S50","v":""},{"$f":"EingabeAngabe!T50","v":""},{"$f":"EingabeAngabe!U50","v":""},{"$f":"EingabeAngabe!V50","v":""},{"$f":"EingabeAngabe!W50","v":""},{"$f":"EingabeAngabe!X50","v":""},{"$f":"EingabeAngabe!Y50","v":""},{"$f":"EingabeAngabe!Z50","v":""},{"$f":"EingabeAngabe!AA50","v":""},{"$f":"EingabeAngabe!AB50","v":""},{"$f":"EingabeAngabe!AC50","v":""},{"$f":"EingabeAngabe!AD50","v":""},{"$f":"EingabeAngabe!AE50","v":""},{"$f":"EingabeAngabe!AF50","v":""},{"$f":"EingabeAngabe!AG50","v":""},{"$f":"EingabeAngabe!AH50","v":""},{"$f":"EingabeAngabe!AI50","v":""},{"$f":"EingabeAngabe!AJ50","v":""}]
[{"$f":"EingabeAngabe!B51","v":"SY31"},{"$f":"IF(EingabeAngabe!C51=\"\",\"\",EingabeAngabe!C51)","v":""},{"$f":"EingabeAngabe!F51","v":1},{"$f":"EingabeAngabe!G51","v":""},{"$f":"EingabeAngabe!H51","v":""},{"$f":"EingabeAngabe!I51","v":""},{"$f":"EingabeAngabe!J51","v":""},{"$f":"EingabeAngabe!K51","v":""},{"$f":"EingabeAngabe!L51","v":""},{"$f":"EingabeAngabe!M51","v":""},{"$f":"EingabeAngabe!N51","v":""},{"$f":"EingabeAngabe!O51","v":""},{"$f":"EingabeAngabe!P51","v":""},{"$f":"EingabeAngabe!Q51","v":""},{"$f":"EingabeAngabe!R51","v":""},{"$f":"EingabeAngabe!S51","v":""},{"$f":"EingabeAngabe!T51","v":""},{"$f":"EingabeAngabe!U51","v":""},{"$f":"EingabeAngabe!V51","v":""},{"$f":"EingabeAngabe!W51","v":""},{"$f":"EingabeAngabe!X51","v":""},{"$f":"EingabeAngabe!Y51","v":""},{"$f":"EingabeAngabe!Z51","v":""},{"$f":"EingabeAngabe!AA51","v":""},{"$f":"EingabeAngabe!AB51","v":""},{"$f":"EingabeAngabe!AC51","v":""},{"$f":"EingabeAngabe!AD51","v":""},{"$f":"EingabeAngabe!AE51","v":""},{"$f":"EingabeAngabe!AF51","v":""},{"$f":"EingabeAngabe!AG51","v":""},{"$f":"EingabeAngabe!AH51","v":""},{"$f":"EingabeAngabe!AI51","v":""},{"$f":"EingabeAngabe!AJ51","v":""}]
[{"$f":"EingabeAngabe!B52","v":"SY32"},{"$f":"IF(EingabeAngabe!C52=\"\",\"\",EingabeAngabe!C52)","v":""},{"$f":"EingabeAngabe!F52","v":1},{"$f":"EingabeAngabe!G52","v":""},{"$f":"EingabeAngabe!H52","v":""},{"$f":"EingabeAngabe!I52","v":""},{"$f":"EingabeAngabe!J52","v":""},{"$f":"EingabeAngabe!K52","v":""},{"$f":"EingabeAngabe!L52","v":""},{"$f":"EingabeAngabe!M52","v":""},{"$f":"EingabeAngabe!N52","v":""},{"$f":"EingabeAngabe!O52","v":""},{"$f":"EingabeAngabe!P52","v":""},{"$f":"EingabeAngabe!Q52","v":""},{"$f":"EingabeAngabe!R52","v":""},{"$f":"EingabeAngabe!S52","v":""},{"$f":"EingabeAngabe!T52","v":""},{"$f":"EingabeAngabe!U52","v":""},{"$f":"EingabeAngabe!V52","v":""},{"$f":"EingabeAngabe!W52","v":""},{"$f":"EingabeAngabe!X52","v":""},{"$f":"EingabeAngabe!Y52","v":""},{"$f":"EingabeAngabe!Z52","v":""},{"$f":"EingabeAngabe!AA52","v":""},{"$f":"EingabeAngabe!AB52","v":""},{"$f":"EingabeAngabe!AC52","v":""},{"$f":"EingabeAngabe!AD52","v":""},{"$f":"EingabeAngabe!AE52","v":""},{"$f":"EingabeAngabe!AF52","v":""},{"$f":"EingabeAngabe!AG52","v":""},{"$f":"EingabeAngabe!AH52","v":""},{"$f":"EingabeAngabe!AI52","v":""},{"$f":"EingabeAngabe!AJ52","v":""}]
[{"$f":"EingabeAngabe!B53","v":"SY33"},{"$f":"IF(EingabeAngabe!C53=\"\",\"\",EingabeAngabe!C53)","v":""},{"$f":"EingabeAngabe!F53","v":1},{"$f":"EingabeAngabe!G53","v":""},{"$f":"EingabeAngabe!H53","v":""},{"$f":"EingabeAngabe!I53","v":""},{"$f":"EingabeAngabe!J53","v":""},{"$f":"EingabeAngabe!K53","v":""},{"$f":"EingabeAngabe!L53","v":""},{"$f":"EingabeAngabe!M53","v":""},{"$f":"EingabeAngabe!N53","v":""},{"$f":"EingabeAngabe!O53","v":""},{"$f":"EingabeAngabe!P53","v":""},{"$f":"EingabeAngabe!Q53","v":""},{"$f":"EingabeAngabe!R53","v":""},{"$f":"EingabeAngabe!S53","v":""},{"$f":"EingabeAngabe!T53","v":""},{"$f":"EingabeAngabe!U53","v":""},{"$f":"EingabeAngabe!V53","v":""},{"$f":"EingabeAngabe!W53","v":""},{"$f":"EingabeAngabe!X53","v":""},{"$f":"EingabeAngabe!Y53","v":""},{"$f":"EingabeAngabe!Z53","v":""},{"$f":"EingabeAngabe!AA53","v":""},{"$f":"EingabeAngabe!AB53","v":""},{"$f":"EingabeAngabe!AC53","v":""},{"$f":"EingabeAngabe!AD53","v":""},{"$f":"EingabeAngabe!AE53","v":""},{"$f":"EingabeAngabe!AF53","v":""},{"$f":"EingabeAngabe!AG53","v":""},{"$f":"EingabeAngabe!AH53","v":""},{"$f":"EingabeAngabe!AI53","v":""},{"$f":"EingabeAngabe!AJ53","v":""}]
[{"$f":"EingabeAngabe!B54","v":"SY34"},{"$f":"IF(EingabeAngabe!C54=\"\",\"\",EingabeAngabe!C54)","v":""},{"$f":"EingabeAngabe!F54","v":1},{"$f":"EingabeAngabe!G54","v":""},{"$f":"EingabeAngabe!H54","v":""},{"$f":"EingabeAngabe!I54","v":""},{"$f":"EingabeAngabe!J54","v":""},{"$f":"EingabeAngabe!K54","v":""},{"$f":"EingabeAngabe!L54","v":""},{"$f":"EingabeAngabe!M54","v":""},{"$f":"EingabeAngabe!N54","v":""},{"$f":"EingabeAngabe!O54","v":""},{"$f":"EingabeAngabe!P54","v":""},{"$f":"EingabeAngabe!Q54","v":""},{"$f":"EingabeAngabe!R54","v":""},{"$f":"EingabeAngabe!S54","v":""},{"$f":"EingabeAngabe!T54","v":""},{"$f":"EingabeAngabe!U54","v":""},{"$f":"EingabeAngabe!V54","v":""},{"$f":"EingabeAngabe!W54","v":""},{"$f":"EingabeAngabe!X54","v":""},{"$f":"EingabeAngabe!Y54","v":""},{"$f":"EingabeAngabe!Z54","v":""},{"$f":"EingabeAngabe!AA54","v":""},{"$f":"EingabeAngabe!AB54","v":""},{"$f":"EingabeAngabe!AC54","v":""},{"$f":"EingabeAngabe!AD54","v":""},{"$f":"EingabeAngabe!AE54","v":""},{"$f":"EingabeAngabe!AF54","v":""},{"$f":"EingabeAngabe!AG54","v":""},{"$f":"EingabeAngabe!AH54","v":""},{"$f":"EingabeAngabe!AI54","v":""},{"$f":"EingabeAngabe!AJ54","v":""}]
[{"$f":"EingabeAngabe!B55","v":"SY35"},{"$f":"IF(EingabeAngabe!C55=\"\",\"\",EingabeAngabe!C55)","v":""},{"$f":"EingabeAngabe!F55","v":1},{"$f":"EingabeAngabe!G55","v":""},{"$f":"EingabeAngabe!H55","v":""},{"$f":"EingabeAngabe!I55","v":""},{"$f":"EingabeAngabe!J55","v":""},{"$f":"EingabeAngabe!K55","v":""},{"$f":"EingabeAngabe!L55","v":""},{"$f":"EingabeAngabe!M55","v":""},{"$f":"EingabeAngabe!N55","v":""},{"$f":"EingabeAngabe!O55","v":""},{"$f":"EingabeAngabe!P55","v":""},{"$f":"EingabeAngabe!Q55","v":""},{"$f":"EingabeAngabe!R55","v":""},{"$f":"EingabeAngabe!S55","v":""},{"$f":"EingabeAngabe!T55","v":""},{"$f":"EingabeAngabe!U55","v":""},{"$f":"EingabeAngabe!V55","v":""},{"$f":"EingabeAngabe!W55","v":""},{"$f":"EingabeAngabe!X55","v":""},{"$f":"EingabeAngabe!Y55","v":""},{"$f":"EingabeAngabe!Z55","v":""},{"$f":"EingabeAngabe!AA55","v":""},{"$f":"EingabeAngabe!AB55","v":""},{"$f":"EingabeAngabe!AC55","v":""},{"$f":"EingabeAngabe!AD55","v":""},{"$f":"EingabeAngabe!AE55","v":""},{"$f":"EingabeAngabe!AF55","v":""},{"$f":"EingabeAngabe!AG55","v":""},{"$f":"EingabeAngabe!AH55","v":""},{"$f":"EingabeAngabe!AI55","v":""},{"$f":"EingabeAngabe!AJ55","v":""}]
[{"$f":"EingabeAngabe!B56","v":"SY36"},{"$f":"IF(EingabeAngabe!C56=\"\",\"\",EingabeAngabe!C56)","v":""},{"$f":"EingabeAngabe!F56","v":1},{"$f":"EingabeAngabe!G56","v":""},{"$f":"EingabeAngabe!H56","v":""},{"$f":"EingabeAngabe!I56","v":""},{"$f":"EingabeAngabe!J56","v":""},{"$f":"EingabeAngabe!K56","v":""},{"$f":"EingabeAngabe!L56","v":""},{"$f":"EingabeAngabe!M56","v":""},{"$f":"EingabeAngabe!N56","v":""},{"$f":"EingabeAngabe!O56","v":""},{"$f":"EingabeAngabe!P56","v":""},{"$f":"EingabeAngabe!Q56","v":""},{"$f":"EingabeAngabe!R56","v":""},{"$f":"EingabeAngabe!S56","v":""},{"$f":"EingabeAngabe!T56","v":""},{"$f":"EingabeAngabe!U56","v":""},{"$f":"EingabeAngabe!V56","v":""},{"$f":"EingabeAngabe!W56","v":""},{"$f":"EingabeAngabe!X56","v":""},{"$f":"EingabeAngabe!Y56","v":""},{"$f":"EingabeAngabe!Z56","v":""},{"$f":"EingabeAngabe!AA56","v":""},{"$f":"EingabeAngabe!AB56","v":""},{"$f":"EingabeAngabe!AC56","v":""},{"$f":"EingabeAngabe!AD56","v":""},{"$f":"EingabeAngabe!AE56","v":""},{"$f":"EingabeAngabe!AF56","v":""},{"$f":"EingabeAngabe!AG56","v":""},{"$f":"EingabeAngabe!AH56","v":""},{"$f":"EingabeAngabe!AI56","v":""},{"$f":"EingabeAngabe!AJ56","v":""}]
[{"$f":"EingabeAngabe!B57","v":0},{"$f":"EingabeAngabe!C57","v":"SPRACHLICHE QUALITÄT IN DER ZIELSPRACHE"}]
[{"$f":"EingabeAngabe!B58","v":0},null,null,{"$f":"EingabeAngabe!G58","v":""},{"$f":"EingabeAngabe!H58","v":""},{"$f":"EingabeAngabe!I58","v":""},{"$f":"EingabeAngabe!J58","v":""},{"$f":"EingabeAngabe!K58","v":""},{"$f":"EingabeAngabe!L58","v":""},{"$f":"EingabeAngabe!M58","v":0},{"$f":"EingabeAngabe!N58","v":""},{"$f":"EingabeAngabe!O58","v":""},{"$f":"EingabeAngabe!P58","v":""},{"$f":"EingabeAngabe!Q58","v":""},{"$f":"EingabeAngabe!R58","v":""},{"$f":"EingabeAngabe!S58","v":""},{"$f":"EingabeAngabe!T58","v":""},{"$f":"EingabeAngabe!U58","v":""},{"$f":"EingabeAngabe!V58","v":""},{"$f":"EingabeAngabe!W58","v":""},{"$f":"EingabeAngabe!X58","v":""},{"$f":"EingabeAngabe!Y58","v":""},{"$f":"EingabeAngabe!Z58","v":""},{"$f":"EingabeAngabe!AA58","v":""},{"$f":"EingabeAngabe!AB58","v":""},{"$f":"EingabeAngabe!AC58","v":""},{"$f":"EingabeAngabe!AD58","v":""},{"$f":"EingabeAngabe!AE58","v":""},{"$f":"EingabeAngabe!AF58","v":""},{"$f":"EingabeAngabe!AG58","v":""},{"$f":"EingabeAngabe!AH58","v":""},{"$f":"EingabeAngabe!AI58","v":""},{"$f":"EingabeAngabe!AJ58","v":""}]
[null,"Summe",null,{"$f":"EingabeAngabe!G59","v":""},{"$f":"EingabeAngabe!H59","v":""},{"$f":"EingabeAngabe!I59","v":""},{"$f":"EingabeAngabe!J59","v":""},{"$f":"EingabeAngabe!K59","v":""},{"$f":"EingabeAngabe!L59","v":""},{"$f":"EingabeAngabe!M59","v":""},{"$f":"EingabeAngabe!N59","v":""},{"$f":"EingabeAngabe!O59","v":""},{"$f":"EingabeAngabe!P59","v":""},{"$f":"EingabeAngabe!Q59","v":""},{"$f":"EingabeAngabe!R59","v":""},{"$f":"EingabeAngabe!S59","v":""},{"$f":"EingabeAngabe!T59","v":""},{"$f":"EingabeAngabe!U59","v":""},{"$f":"EingabeAngabe!V59","v":""},{"$f":"EingabeAngabe!W59","v":""},{"$f":"EingabeAngabe!X59","v":""},{"$f":"EingabeAngabe!Y59","v":""},{"$f":"EingabeAngabe!Z59","v":""},{"$f":"EingabeAngabe!AA59","v":""},{"$f":"EingabeAngabe!AB59","v":""},{"$f":"EingabeAngabe!AC59","v":""},{"$f":"EingabeAngabe!AD59","v":""},{"$f":"EingabeAngabe!AE59","v":""},{"$f":"EingabeAngabe!AF59","v":""},{"$f":"EingabeAngabe!AG59","v":""},{"$f":"EingabeAngabe!AH59","v":""},{"$f":"EingabeAngabe!AI59","v":""},{"$f":"EingabeAngabe!AJ59","v":""}]
[{"$f":"EingabeAngabe!B60","v":0},null,{"$f":"EingabeAngabe!F60","v":18},{"$f":"EingabeAngabe!G60","v":""},{"$f":"EingabeAngabe!H60","v":""},{"$f":"EingabeAngabe!I60","v":""},{"$f":"EingabeAngabe!J60","v":""},{"$f":"EingabeAngabe!K60","v":""},{"$f":"EingabeAngabe!L60","v":""},{"$f":"EingabeAngabe!M60","v":""},{"$f":"EingabeAngabe!N60","v":""},{"$f":"EingabeAngabe!O60","v":""},{"$f":"EingabeAngabe!P60","v":""},{"$f":"EingabeAngabe!Q60","v":""},{"$f":"EingabeAngabe!R60","v":""},{"$f":"EingabeAngabe!S60","v":""},{"$f":"EingabeAngabe!T60","v":""},{"$f":"EingabeAngabe!U60","v":""},{"$f":"EingabeAngabe!V60","v":""},{"$f":"EingabeAngabe!W60","v":""},{"$f":"EingabeAngabe!X60","v":""},{"$f":"EingabeAngabe!Y60","v":""},{"$f":"EingabeAngabe!Z60","v":""},{"$f":"EingabeAngabe!AA60","v":""},{"$f":"EingabeAngabe!AB60","v":""},{"$f":"EingabeAngabe!AC60","v":""},{"$f":"EingabeAngabe!AD60","v":""},{"$f":"EingabeAngabe!AE60","v":""},{"$f":"EingabeAngabe!AF60","v":""},{"$f":"EingabeAngabe!AG60","v":""},{"$f":"EingabeAngabe!AH60","v":""},{"$f":"EingabeAngabe!AI60","v":""},{"$f":"EingabeAngabe!AJ60","v":""}]
[{"$f":"EingabeAngabe!B61","v":"IT1"},{"$f":"IF(EingabeAngabe!C61=\"\",\"\",EingabeAngabe!C61)","v":""},{"$f":"EingabeAngabe!F61","v":0},{"$f":"EingabeAngabe!G61","v":""},{"$f":"EingabeAngabe!H61","v":""},{"$f":"EingabeAngabe!I61","v":""},{"$f":"EingabeAngabe!J61","v":""},{"$f":"EingabeAngabe!K61","v":""},{"$f":"EingabeAngabe!L61","v":""},{"$f":"EingabeAngabe!M61","v":""},{"$f":"EingabeAngabe!N61","v":""},{"$f":"EingabeAngabe!O61","v":""},{"$f":"EingabeAngabe!P61","v":""},{"$f":"EingabeAngabe!Q61","v":""},{"$f":"EingabeAngabe!R61","v":""},{"$f":"EingabeAngabe!S61","v":""},{"$f":"EingabeAngabe!T61","v":""},{"$f":"EingabeAngabe!U61","v":""},{"$f":"EingabeAngabe!V61","v":""},{"$f":"EingabeAngabe!W61","v":""},{"$f":"EingabeAngabe!X61","v":""},{"$f":"EingabeAngabe!Y61","v":""},{"$f":"EingabeAngabe!Z61","v":""},{"$f":"EingabeAngabe!AA61","v":""},{"$f":"EingabeAngabe!AB61","v":""},{"$f":"EingabeAngabe!AC61","v":""},{"$f":"EingabeAngabe!AD61","v":""},{"$f":"EingabeAngabe!AE61","v":""},{"$f":"EingabeAngabe!AF61","v":""},{"$f":"EingabeAngabe!AG61","v":""},{"$f":"EingabeAngabe!AH61","v":""},{"$f":"EingabeAngabe!AI61","v":""},{"$f":"EingabeAngabe!AJ61","v":""}]
[{"$f":"EingabeAngabe!B62","v":"IT2"},{"$f":"IF(EingabeAngabe!C62=\"\",\"\",EingabeAngabe!C62)","v":""},{"$f":"EingabeAngabe!F62","v":0},{"$f":"EingabeAngabe!G62","v":""},{"$f":"EingabeAngabe!H62","v":""},{"$f":"EingabeAngabe!I62","v":""},{"$f":"EingabeAngabe!J62","v":""},{"$f":"EingabeAngabe!K62","v":""},{"$f":"EingabeAngabe!L62","v":""},{"$f":"EingabeAngabe!M62","v":""},{"$f":"EingabeAngabe!N62","v":""},{"$f":"EingabeAngabe!O62","v":""},{"$f":"EingabeAngabe!P62","v":""},{"$f":"EingabeAngabe!Q62","v":""},{"$f":"EingabeAngabe!R62","v":""},{"$f":"EingabeAngabe!S62","v":""},{"$f":"EingabeAngabe!T62","v":""},{"$f":"EingabeAngabe!U62","v":""},{"$f":"EingabeAngabe!V62","v":""},{"$f":"EingabeAngabe!W62","v":""},{"$f":"EingabeAngabe!X62","v":""},{"$f":"EingabeAngabe!Y62","v":""},{"$f":"EingabeAngabe!Z62","v":""},{"$f":"EingabeAngabe!AA62","v":""},{"$f":"EingabeAngabe!AB62","v":""},{"$f":"EingabeAngabe!AC62","v":""},{"$f":"EingabeAngabe!AD62","v":""},{"$f":"EingabeAngabe!AE62","v":""},{"$f":"EingabeAngabe!AF62","v":""},{"$f":"EingabeAngabe!AG62","v":""},{"$f":"EingabeAngabe!AH62","v":""},{"$f":"EingabeAngabe!AI62","v":""},{"$f":"EingabeAngabe!AJ62","v":""}]
[{"$f":"EingabeAngabe!B63","v":"IT3"},{"$f":"IF(EingabeAngabe!C63=\"\",\"\",EingabeAngabe!C63)","v":""},{"$f":"EingabeAngabe!F63","v":0},{"$f":"EingabeAngabe!G63","v":""},{"$f":"EingabeAngabe!H63","v":""},{"$f":"EingabeAngabe!I63","v":""},{"$f":"EingabeAngabe!J63","v":""},{"$f":"EingabeAngabe!K63","v":""},{"$f":"EingabeAngabe!L63","v":""},{"$f":"EingabeAngabe!M63","v":""},{"$f":"EingabeAngabe!N63","v":""},{"$f":"EingabeAngabe!O63","v":""},{"$f":"EingabeAngabe!P63","v":""},{"$f":"EingabeAngabe!Q63","v":""},{"$f":"EingabeAngabe!R63","v":""},{"$f":"EingabeAngabe!S63","v":""},{"$f":"EingabeAngabe!T63","v":""},{"$f":"EingabeAngabe!U63","v":""},{"$f":"EingabeAngabe!V63","v":""},{"$f":"EingabeAngabe!W63","v":""},{"$f":"EingabeAngabe!X63","v":""},{"$f":"EingabeAngabe!Y63","v":""},{"$f":"EingabeAngabe!Z63","v":""},{"$f":"EingabeAngabe!AA63","v":""},{"$f":"EingabeAngabe!AB63","v":""},{"$f":"EingabeAngabe!AC63","v":""},{"$f":"EingabeAngabe!AD63","v":""},{"$f":"EingabeAngabe!AE63","v":""},{"$f":"EingabeAngabe!AF63","v":""},{"$f":"EingabeAngabe!AG63","v":""},{"$f":"EingabeAngabe!AH63","v":""},{"$f":"EingabeAngabe!AI63","v":""},{"$f":"EingabeAngabe!AJ63","v":""}]
[{"$f":"EingabeAngabe!B64","v":"IT4"},{"$f":"IF(EingabeAngabe!C64=\"\",\"\",EingabeAngabe!C64)","v":""},{"$f":"EingabeAngabe!F64","v":0},{"$f":"EingabeAngabe!G64","v":""},{"$f":"EingabeAngabe!H64","v":""},{"$f":"EingabeAngabe!I64","v":""},{"$f":"EingabeAngabe!J64","v":""},{"$f":"EingabeAngabe!K64","v":""},{"$f":"EingabeAngabe!L64","v":""},{"$f":"EingabeAngabe!M64","v":""},{"$f":"EingabeAngabe!N64","v":""},{"$f":"EingabeAngabe!O64","v":""},{"$f":"EingabeAngabe!P64","v":""},{"$f":"EingabeAngabe!Q64","v":""},{"$f":"EingabeAngabe!R64","v":""},{"$f":"EingabeAngabe!S64","v":""},{"$f":"EingabeAngabe!T64","v":""},{"$f":"EingabeAngabe!U64","v":""},{"$f":"EingabeAngabe!V64","v":""},{"$f":"EingabeAngabe!W64","v":""},{"$f":"EingabeAngabe!X64","v":""},{"$f":"EingabeAngabe!Y64","v":""},{"$f":"EingabeAngabe!Z64","v":""},{"$f":"EingabeAngabe!AA64","v":""},{"$f":"EingabeAngabe!AB64","v":""},{"$f":"EingabeAngabe!AC64","v":""},{"$f":"EingabeAngabe!AD64","v":""},{"$f":"EingabeAngabe!AE64","v":""},{"$f":"EingabeAngabe!AF64","v":""},{"$f":"EingabeAngabe!AG64","v":""},{"$f":"EingabeAngabe!AH64","v":""},{"$f":"EingabeAngabe!AI64","v":""},{"$f":"EingabeAngabe!AJ64","v":""}]
[{"$f":"EingabeAngabe!B65","v":"IT5"},{"$f":"IF(EingabeAngabe!C65=\"\",\"\",EingabeAngabe!C65)","v":""},{"$f":"EingabeAngabe!F65","v":0},{"$f":"EingabeAngabe!G65","v":""},{"$f":"EingabeAngabe!H65","v":""},{"$f":"EingabeAngabe!I65","v":""},{"$f":"EingabeAngabe!J65","v":""},{"$f":"EingabeAngabe!K65","v":""},{"$f":"EingabeAngabe!L65","v":""},{"$f":"EingabeAngabe!M65","v":""},{"$f":"EingabeAngabe!N65","v":""},{"$f":"EingabeAngabe!O65","v":""},{"$f":"EingabeAngabe!P65","v":""},{"$f":"EingabeAngabe!Q65","v":""},{"$f":"EingabeAngabe!R65","v":""},{"$f":"EingabeAngabe!S65","v":""},{"$f":"EingabeAngabe!T65","v":""},{"$f":"EingabeAngabe!U65","v":""},{"$f":"EingabeAngabe!V65","v":""},{"$f":"EingabeAngabe!W65","v":""},{"$f":"EingabeAngabe!X65","v":""},{"$f":"EingabeAngabe!Y65","v":""},{"$f":"EingabeAngabe!Z65","v":""},{"$f":"EingabeAngabe!AA65","v":""},{"$f":"EingabeAngabe!AB65","v":""},{"$f":"EingabeAngabe!AC65","v":""},{"$f":"EingabeAngabe!AD65","v":""},{"$f":"EingabeAngabe!AE65","v":""},{"$f":"EingabeAngabe!AF65","v":""},{"$f":"EingabeAngabe!AG65","v":""},{"$f":"EingabeAngabe!AH65","v":""},{"$f":"EingabeAngabe!AI65","v":""},{"$f":"EingabeAngabe!AJ65","v":""}]
[{"$f":"EingabeAngabe!B66","v":"IT6"},{"$f":"IF(EingabeAngabe!C66=\"\",\"\",EingabeAngabe!C66)","v":""},{"$f":"EingabeAngabe!F66","v":0},{"$f":"EingabeAngabe!G66","v":""},{"$f":"EingabeAngabe!H66","v":""},{"$f":"EingabeAngabe!I66","v":""},{"$f":"EingabeAngabe!J66","v":""},{"$f":"EingabeAngabe!K66","v":""},{"$f":"EingabeAngabe!L66","v":""},{"$f":"EingabeAngabe!M66","v":""},{"$f":"EingabeAngabe!N66","v":""},{"$f":"EingabeAngabe!O66","v":""},{"$f":"EingabeAngabe!P66","v":""},{"$f":"EingabeAngabe!Q66","v":""},{"$f":"EingabeAngabe!R66","v":""},{"$f":"EingabeAngabe!S66","v":""},{"$f":"EingabeAngabe!T66","v":""},{"$f":"EingabeAngabe!U66","v":""},{"$f":"EingabeAngabe!V66","v":""},{"$f":"EingabeAngabe!W66","v":""},{"$f":"EingabeAngabe!X66","v":""},{"$f":"EingabeAngabe!Y66","v":""},{"$f":"EingabeAngabe!Z66","v":""},{"$f":"EingabeAngabe!AA66","v":""},{"$f":"EingabeAngabe!AB66","v":""},{"$f":"EingabeAngabe!AC66","v":""},{"$f":"EingabeAngabe!AD66","v":""},{"$f":"EingabeAngabe!AE66","v":""},{"$f":"EingabeAngabe!AF66","v":""},{"$f":"EingabeAngabe!AG66","v":""},{"$f":"EingabeAngabe!AH66","v":""},{"$f":"EingabeAngabe!AI66","v":""},{"$f":"EingabeAngabe!AJ66","v":""}]
[{"$f":"EingabeAngabe!B67","v":"IT7"},{"$f":"IF(EingabeAngabe!C67=\"\",\"\",EingabeAngabe!C67)","v":""},{"$f":"EingabeAngabe!F67","v":0},{"$f":"EingabeAngabe!G67","v":""},{"$f":"EingabeAngabe!H67","v":""},{"$f":"EingabeAngabe!I67","v":""},{"$f":"EingabeAngabe!J67","v":""},{"$f":"EingabeAngabe!K67","v":""},{"$f":"EingabeAngabe!L67","v":""},{"$f":"EingabeAngabe!M67","v":""},{"$f":"EingabeAngabe!N67","v":""},{"$f":"EingabeAngabe!O67","v":""},{"$f":"EingabeAngabe!P67","v":""},{"$f":"EingabeAngabe!Q67","v":""},{"$f":"EingabeAngabe!R67","v":""},{"$f":"EingabeAngabe!S67","v":""},{"$f":"EingabeAngabe!T67","v":""},{"$f":"EingabeAngabe!U67","v":""},{"$f":"EingabeAngabe!V67","v":""},{"$f":"EingabeAngabe!W67","v":""},{"$f":"EingabeAngabe!X67","v":""},{"$f":"EingabeAngabe!Y67","v":""},{"$f":"EingabeAngabe!Z67","v":""},{"$f":"EingabeAngabe!AA67","v":""},{"$f":"EingabeAngabe!AB67","v":""},{"$f":"EingabeAngabe!AC67","v":""},{"$f":"EingabeAngabe!AD67","v":""},{"$f":"EingabeAngabe!AE67","v":""},{"$f":"EingabeAngabe!AF67","v":""},{"$f":"EingabeAngabe!AG67","v":""},{"$f":"EingabeAngabe!AH67","v":""},{"$f":"EingabeAngabe!AI67","v":""},{"$f":"EingabeAngabe!AJ67","v":""}]
[{"$f":"EingabeAngabe!B68","v":"IT8"},{"$f":"IF(EingabeAngabe!C68=\"\",\"\",EingabeAngabe!C68)","v":""},{"$f":"EingabeAngabe!F68","v":0},{"$f":"EingabeAngabe!G68","v":""},{"$f":"EingabeAngabe!H68","v":""},{"$f":"EingabeAngabe!I68","v":""},{"$f":"EingabeAngabe!J68","v":""},{"$f":"EingabeAngabe!K68","v":""},{"$f":"EingabeAngabe!L68","v":""},{"$f":"EingabeAngabe!M68","v":""},{"$f":"EingabeAngabe!N68","v":""},{"$f":"EingabeAngabe!O68","v":""},{"$f":"EingabeAngabe!P68","v":""},{"$f":"EingabeAngabe!Q68","v":""},{"$f":"EingabeAngabe!R68","v":""},{"$f":"EingabeAngabe!S68","v":""},{"$f":"EingabeAngabe!T68","v":""},{"$f":"EingabeAngabe!U68","v":""},{"$f":"EingabeAngabe!V68","v":""},{"$f":"EingabeAngabe!W68","v":""},{"$f":"EingabeAngabe!X68","v":""},{"$f":"EingabeAngabe!Y68","v":""},{"$f":"EingabeAngabe!Z68","v":""},{"$f":"EingabeAngabe!AA68","v":""},{"$f":"EingabeAngabe!AB68","v":""},{"$f":"EingabeAngabe!AC68","v":""},{"$f":"EingabeAngabe!AD68","v":""},{"$f":"EingabeAngabe!AE68","v":""},{"$f":"EingabeAngabe!AF68","v":""},{"$f":"EingabeAngabe!AG68","v":""},{"$f":"EingabeAngabe!AH68","v":""},{"$f":"EingabeAngabe!AI68","v":""},{"$f":"EingabeAngabe!AJ68","v":""}]

{"sheet":"AusdruckHochformat","index":3,"n_rows":55,"n_cols":37,"rows_kept":55,"cut":false,"hidden":false,"merged":[[31,34,31,35],[46,0,46,1]]}
[null,{"$f":"EingabeAngabe!C1","v":"Phrase"},null,{"$f":"EingabeAngabe!G1","v":""},{"$f":"EingabeAngabe!H1","v":""},{"$f":"EingabeAngabe!I1","v":""},{"$f":"EingabeAngabe!J1","v":""},{"$f":"EingabeAngabe!K1","v":""},{"$f":"EingabeAngabe!L1","v":""},{"$f":"EingabeAngabe!M1","v":""},{"$f":"EingabeAngabe!N1","v":""},{"$f":"EingabeAngabe!O1","v":""},{"$f":"EingabeAngabe!P1","v":""},{"$f":"EingabeAngabe!Q1","v":""},{"$f":"EingabeAngabe!R1","v":""},{"$f":"EingabeAngabe!S1","v":""},{"$f":"EingabeAngabe!T1","v":""},{"$f":"EingabeAngabe!U1","v":""},{"$f":"EingabeAngabe!V1","v":""},{"$f":"EingabeAngabe!W1","v":""},{"$f":"EingabeAngabe!X1","v":""},{"$f":"EingabeAngabe!Y1","v":""},{"$f":"EingabeAngabe!Z1","v":""},{"$f":"EingabeAngabe!AA1","v":""},{"$f":"EingabeAngabe!AB1","v":""},{"$f":"EingabeAngabe!AC1","v":""},{"$f":"EingabeAngabe!AD1","v":""},{"$f":"EingabeAngabe!AE1","v":""},{"$f":"EingabeAngabe!AF1","v":""},{"$f":"EingabeAngabe!AG1","v":""},{"$f":"EingabeAngabe!AH1","v":""},{"$f":"EingabeAngabe!AI1","v":""},{"$f":"EingabeAngabe!AJ1","v":""}]
[null,{"$f":"EingabeAngabe!C2","v":"GESAMT"},{"$f":"EingabeAngabe!F2","v":60},{"$f":"EingabeAngabe!G2","v":""},{"$f":"EingabeAngabe!H2","v":""},{"$f":"EingabeAngabe!I2","v":""},{"$f":"EingabeAngabe!J2","v":""},{"$f":"EingabeAngabe!K2","v":""},{"$f":"EingabeAngabe!L2","v":""},{"$f":"EingabeAngabe!M2","v":""},{"$f":"EingabeAngabe!N2","v":""},{"$f":"EingabeAngabe!O2","v":""},{"$f":"EingabeAngabe!P2","v":""},{"$f":"EingabeAngabe!Q2","v":""},{"$f":"EingabeAngabe!R2","v":""},{"$f":"EingabeAngabe!S2","v":""},{"$f":"EingabeAngabe!T2","v":""},{"$f":"EingabeAngabe!U2","v":""},{"$f":"EingabeAngabe!V2","v":""},{"$f":"EingabeAngabe!W2","v":""},{"$f":"EingabeAngabe!X2","v":""},{"$f":"EingabeAngabe!Y2","v":""},{"$f":"EingabeAngabe!Z2","v":""},{"$f":"EingabeAngabe!AA2","v":""},{"$f":"EingabeAngabe!AB2","v":""},{"$f":"EingabeAngabe!AC2","v":""},{"$f":"EingabeAngabe!AD2","v":""},{"$f":"EingabeAngabe!AE2","v":""},{"$f":"EingabeAngabe!AF2","v":""},{"$f":"EingabeAngabe!AG2","v":""},{"$f":"EingabeAngabe!AH2","v":""},{"$f":"EingabeAngabe!AI2","v":""},{"$f":"EingabeAngabe!AJ2","v":""}]
[null,{"$f":"EingabeAngabe!C3","v":"NOTE"},null,{"$f":"EingabeAngabe!G3","v":""},{"$f":"EingabeAngabe!H3","v":""},{"$f":"EingabeAngabe!I3","v":""},{"$f":"EingabeAngabe!J3","v":""},{"$f":"EingabeAngabe!K3","v":""},{"$f":"EingabeAngabe!L3","v":""},{"$f":"EingabeAngabe!M3","v":""},{"$f":"EingabeAngabe!N3","v":""},{"$f":"EingabeAngabe!O3","v":""},{"$f":"EingabeAngabe!P3","v":""},{"$f":"EingabeAngabe!Q3","v":""},{"$f":"EingabeAngabe!R3","v":""},{"$f":"EingabeAngabe!S3","v":""},{"$f":"EingabeAngabe!T3","v":""},{"$f":"EingabeAngabe!U3","v":""},{"$f":"EingabeAngabe!V3","v":""},{"$f":"EingabeAngabe!W3","v":""},{"$f":"EingabeAngabe!X3","v":""},{"$f":"EingabeAngabe!Y3","v":""},{"$f":"EingabeAngabe!Z3","v":""},{"$f":"EingabeAngabe!AA3","v":""},{"$f":"EingabeAngabe!AB3","v":""},{"$f":"EingabeAngabe!AC3","v":""},{"$f":"EingabeAngabe!AD3","v":""},{"$f":"EingabeAngabe!AE3","v":""},{"$f":"EingabeAngabe!AF3","v":""},{"$f":"EingabeAngabe!AG3","v":""},{"$f":"EingabeAngabe!AH3","v":""},{"$f":"EingabeAngabe!AI3","v":""},{"$f":"EingabeAngabe!AJ3","v":""}]
[{"$f":"EingabeAngabe!B5","v":0},{"$f":"EingabeAngabe!C5","v":"TEXTSINN"},{"$f":"EingabeAngabe!F5","v":12},{"$f":"EingabeAngabe!G5","v":""},{"$f":"EingabeAngabe!H5","v":""},{"$f":"EingabeAngabe!I5","v":""},{"$f":"EingabeAngabe!J5","v":""},{"$f":"EingabeAngabe!K5","v":""},{"$f":"EingabeAngabe!L5","v":""},{"$f":"EingabeAngabe!M5","v":""},{"$f":"EingabeAngabe!N5","v":""},{"$f":"EingabeAngabe!O5","v":""},{"$f":"EingabeAngabe!P5","v":""},{"$f":"EingabeAngabe!Q5","v":""},{"$f":"EingabeAngabe!R5","v":""},{"$f":"EingabeAngabe!S5","v":""},{"$f":"EingabeAngabe!T5","v":""},{"$f":"EingabeAngabe!U5","v":""},{"$f":"EingabeAngabe!V5","v":""},{"$f":"EingabeAngabe!W5","v":""},{"$f":"EingabeAngabe!X5","v":""},{"$f":"EingabeAngabe!Y5","v":""},{"$f":"EingabeAngabe!Z5","v":""},{"$f":"EingabeAngabe!AA5","v":""},{"$f":"EingabeAngabe!AB5","v":""},{"$f":"EingabeAngabe!AC5","v":""},{"$f":"EingabeAngabe!AD5","v":""},{"$f":"EingabeAngabe!AE5","v":""},{"$f":"EingabeAngabe!AF5","v":""},{"$f":"EingabeAngabe!AG5","v":""},{"$f":"EingabeAngabe!AH5","v":""},{"$f":"EingabeAngabe!AI5","v":""},{"$f":"EingabeAngabe!AJ5","v":""}]
[{"$f":"EingabeAngabe!B6","v":"SE1"},{"$f":"IF(EingabeAngabe!C6=\"\",\"\",EingabeAngabe!C6)","v":""},{"$f":"EingabeAngabe!F6","v":1},{"$f":"EingabeAngabe!G6","v":""},{"$f":"EingabeAngabe!H6","v":""},{"$f":"EingabeAngabe!I6","v":""},{"$f":"EingabeAngabe!J6","v":""},{"$f":"EingabeAngabe!K6","v":""},{"$f":"EingabeAngabe!L6","v":""},{"$f":"EingabeAngabe!M6","v":""},{"$f":"EingabeAngabe!N6","v":""},{"$f":"EingabeAngabe!O6","v":""},{"$f":"EingabeAngabe!P6","v":""},{"$f":"EingabeAngabe!Q6","v":""},{"$f":"EingabeAngabe!R6","v":""},{"$f":"EingabeAngabe!S6","v":""},{"$f":"EingabeAngabe!T6","v":""},{"$f":"EingabeAngabe!U6","v":""},{"$f":"EingabeAngabe!V6","v":""},{"$f":"EingabeAngabe!W6","v":""},{"$f":"EingabeAngabe!X6","v":""},{"$f":"EingabeAngabe!Y6","v":""},{"$f":"EingabeAngabe!Z6","v":""},{"$f":"EingabeAngabe!AA6","v":""},{"$f":"EingabeAngabe!AB6","v":""},{"$f":"EingabeAngabe!AC6","v":""},{"$f":"EingabeAngabe!AD6","v":""},{"$f":"EingabeAngabe!AE6","v":""},{"$f":"EingabeAngabe!AF6","v":""},{"$f":"EingabeAngabe!AG6","v":""},{"$f":"EingabeAngabe!AH6","v":""},{"$f":"EingabeAngabe!AI6","v":""},{"$f":"EingabeAngabe!AJ6","v":""}]
[{"$f":"EingabeAngabe!B8","v":"SE2"},{"$f":"IF(EingabeAngabe!C8=\"\",\"\",EingabeAngabe!C8)","v":""},{"$f":"EingabeAngabe!F8","v":1},{"$f":"EingabeAngabe!G8","v":""},{"$f":"EingabeAngabe!H8","v":""},{"$f":"EingabeAngabe!I8","v":""},{"$f":"EingabeAngabe!J8","v":""},{"$f":"EingabeAngabe!K8","v":""},{"$f":"EingabeAngabe!L8","v":""},{"$f":"EingabeAngabe!M8","v":""},{"$f":"EingabeAngabe!N8","v":""},{"$f":"EingabeAngabe!O8","v":""},{"$f":"EingabeAngabe!P8","v":""},{"$f":"EingabeAngabe!Q8","v":""},{"$f":"EingabeAngabe!R8","v":""},{"$f":"EingabeAngabe!S8","v":""},{"$f":"EingabeAngabe!T8","v":""},{"$f":"EingabeAngabe!U8","v":""},{"$f":"EingabeAngabe!V8","v":""},{"$f":"EingabeAngabe!W8","v":""},{"$f":"EingabeAngabe!X8","v":""},{"$f":"EingabeAngabe!Y8","v":""},{"$f":"EingabeAngabe!Z8","v":""},{"$f":"EingabeAngabe!AA8","v":""},{"$f":"EingabeAngabe!AB8","v":""},{"$f":"EingabeAngabe!AC8","v":""},{"$f":"EingabeAngabe!AD8","v":""},{"$f":"EingabeAngabe!AE8","v":""},{"$f":"EingabeAngabe!AF8","v":""},{"$f":"EingabeAngabe!AG8","v":""},{"$f":"EingabeAngabe!AH8","v":""},{"$f":"EingabeAngabe!AI8","v":""},{"$f":"EingabeAngabe!AJ8","v":""}]
[{"$f":"EingabeAngabe!B10","v":"SE3"},{"$f":"IF(EingabeAngabe!C10=\"\",\"\",EingabeAngabe!C10)","v":""},{"$f":"EingabeAngabe!F10","v":1},{"$f":"EingabeAngabe!G10","v":""},{"$f":"EingabeAngabe!H10","v":""},{"$f":"EingabeAngabe!I10","v":""},{"$f":"EingabeAngabe!J10","v":""},{"$f":"EingabeAngabe!K10","v":""},{"$f":"EingabeAngabe!L10","v":""},{"$f":"EingabeAngabe!M10","v":""},{"$f":"EingabeAngabe!N10","v":""},{"$f":"EingabeAngabe!O10","v":""},{"$f":"EingabeAngabe!P10","v":""},{"$f":"EingabeAngabe!Q10","v":""},{"$f":"EingabeAngabe!R10","v":""},{"$f":"EingabeAngabe!S10","v":""},{"$f":"EingabeAngabe!T10","v":""},{"$f":"EingabeAngabe!U10","v":""},{"$f":"EingabeAngabe!V10","v":""},{"$f":"EingabeAngabe!W10","v":""},{"$f":"EingabeAngabe!X10","v":""},{"$f":"EingabeAngabe!Y10","v":""},{"$f":"EingabeAngabe!Z10","v":""},{"$f":"EingabeAngabe!AA10","v":""},{"$f":"EingabeAngabe!AB10","v":""},{"$f":"EingabeAngabe!AC10","v":""},{"$f":"EingabeAngabe!AD10","v":""},{"$f":"EingabeAngabe!AE10","v":""},{"$f":"EingabeAngabe!AF10","v":""},{"$f":"EingabeAngabe!AG10","v":""},{"$f":"EingabeAngabe!AH10","v":""},{"$f":"EingabeAngabe!AI10","v":""},{"$f":"EingabeAngabe!AJ10","v":""}]
[{"$f":"EingabeAngabe!B12","v":"SE4"},{"$f":"IF(EingabeAngabe!C12=\"\",\"\",EingabeAngabe!C12)","v":""},{"$f":"EingabeAngabe!F12","v":1},{"$f":"EingabeAngabe!G12","v":""},{"$f":"EingabeAngabe!H12","v":""},{"$f":"EingabeAngabe!I12","v":""},{"$f":"EingabeAngabe!J12","v":""},{"$f":"EingabeAngabe!K12","v":""},{"$f":"EingabeAngabe!L12","v":""},{"$f":"EingabeAngabe!M12","v":""},{"$f":"EingabeAngabe!N12","v":""},{"$f":"EingabeAngabe!O12","v":""},{"$f":"EingabeAngabe!P12","v":""},{"$f":"EingabeAngabe!Q12","v":""},{"$f":"EingabeAngabe!R12","v":""},{"$f":"EingabeAngabe!S12","v":""},{"$f":"EingabeAngabe!T12","v":""},{"$f":"EingabeAngabe!U12","v":""},{"$f":"EingabeAngabe!V12","v":""},{"$f":"EingabeAngabe!W12","v":""},{"$f":"EingabeAngabe!X12","v":""},{"$f":"EingabeAngabe!Y12","v":""},{"$f":"EingabeAngabe!Z12","v":""},{"$f":"EingabeAngabe!AA12","v":""},{"$f":"EingabeAngabe!AB12","v":""},{"$f":"EingabeAngabe!AC12","v":""},{"$f":"EingabeAngabe!AD12","v":""},{"$f":"EingabeAngabe!AE12","v":""},{"$f":"EingabeAngabe!AF12","v":""},{"$f":"EingabeAngabe!AG12","v":""},{"$f":"EingabeAngabe!AH12","v":""},{"$f":"EingabeAngabe!AI12","v":""},{"$f":"EingabeAngabe!AJ12","v":""}]
[{"$f":"EingabeAngabe!B14","v":"SE5"},{"$f":"IF(EingabeAngabe!C14=\"\",\"\",EingabeAngabe!C14)","v":""},{"$f":"EingabeAngabe!F14","v":1},{"$f":"EingabeAngabe!G14","v":""},{"$f":"EingabeAngabe!H14","v":""},{"$f":"EingabeAngabe!I14","v":""},{"$f":"EingabeAngabe!J14","v":""},{"$f":"EingabeAngabe!K14","v":""},{"$f":"EingabeAngabe!L14","v":""},{"$f":"EingabeAngabe!M14","v":""},{"$f":"EingabeAngabe!N14","v":""},{"$f":"EingabeAngabe!O14","v":""},{"$f":"EingabeAngabe!P14","v":""},{"$f":"EingabeAngabe!Q14","v":""},{"$f":"EingabeAngabe!R14","v":""},{"$f":"EingabeAngabe!S14","v":""},{"$f":"EingabeAngabe!T14","v":""},{"$f":"EingabeAngabe!U14","v":""},{"$f":"EingabeAngabe!V14","v":""},{"$f":"EingabeAngabe!W14","v":""},{"$f":"EingabeAngabe!X14","v":""},{"$f":"EingabeAngabe!Y14","v":""},{"$f":"EingabeAngabe!Z14","v":""},{"$f":"EingabeAngabe!AA14","v":""},{"$f":"EingabeAngabe!AB14","v":""},{"$f":"EingabeAngabe!AC14","v":""},{"$f":"EingabeAngabe!AD14","v":""},{"$f":"EingabeAngabe!AE14","v":""},{"$f":"EingabeAngabe!AF14","v":""},{"$f":"EingabeAngabe!AG14","v":""},{"$f":"EingabeAngabe!AH14","v":""},{"$f":"EingabeAngabe!AI14","v":""},{"$f":"EingabeAngabe!AJ14","v":""}]
[{"$f":"EingabeAngabe!B16","v":"SE6"},{"$f":"IF(EingabeAngabe!C16=\"\",\"\",EingabeAngabe!C16)","v":""},{"$f":"EingabeAngabe!F16","v":1},{"$f":"EingabeAngabe!G16","v":""},{"$f":"EingabeAngabe!H16","v":""},{"$f":"EingabeAngabe!I16","v":""},{"$f":"EingabeAngabe!J16","v":""},{"$f":"EingabeAngabe!K16","v":""},{"$f":"EingabeAngabe!L16","v":""},{"$f":"EingabeAngabe!M16","v":""},{"$f":"EingabeAngabe!N16","v":""},{"$f":"EingabeAngabe!O16","v":""},{"$f":"EingabeAngabe!P16","v":""},{"$f":"EingabeAngabe!Q16","v":""},{"$f":"EingabeAngabe!R16","v":""},{"$f":"EingabeAngabe!S16","v":""},{"$f":"EingabeAngabe!T16","v":""},{"$f":"EingabeAngabe!U16","v":""},{"$f":"EingabeAngabe!V16","v":""},{"$f":"EingabeAngabe!W16","v":""},{"$f":"EingabeAngabe!X16","v":""},{"$f":"EingabeAngabe!Y16","v":""},{"$f":"EingabeAngabe!Z16","v":""},{"$f":"EingabeAngabe!AA16","v":""},{"$f":"EingabeAngabe!AB16","v":""},{"$f":"EingabeAngabe!AC16","v":""},{"$f":"EingabeAngabe!AD16","v":""},{"$f":"EingabeAngabe!AE16","v":""},{"$f":"EingabeAngabe!AF16","v":""},{"$f":"EingabeAngabe!AG16","v":""},{"$f":"EingabeAngabe!AH16","v":""},{"$f":"EingabeAngabe!AI16","v":""},{"$f":"EingabeAngabe!AJ16","v":""}]
[{"$f":"EingabeAngabe!B18","v":"SE7"},{"$f":"IF(EingabeAngabe!C18=\"\",\"\",EingabeAngabe!C18)","v":""},{"$f":"EingabeAngabe!F18","v":1},{"$f":"EingabeAngabe!G18","v":""},{"$f":"EingabeAngabe!H18","v":""},{"$f":"EingabeAngabe!I18","v":""},{"$f":"EingabeAngabe!J18","v":""},{"$f":"EingabeAngabe!K18","v":""},{"$f":"EingabeAngabe!L18","v":""},{"$f":"EingabeAngabe!M18","v":""},{"$f":"EingabeAngabe!N18","v":""},{"$f":"EingabeAngabe!O18","v":""},{"$f":"EingabeAngabe!P18","v":""},{"$f":"EingabeAngabe!Q18","v":""},{"$f":"EingabeAngabe!R18","v":""},{"$f":"EingabeAngabe!S18","v":""},{"$f":"EingabeAngabe!T18","v":""},{"$f":"EingabeAngabe!U18","v":""},{"$f":"EingabeAngabe!V18","v":""},{"$f":"EingabeAngabe!W18","v":""},{"$f":"EingabeAngabe!X18","v":""},{"$f":"EingabeAngabe!Y18","v":""},{"$f":"EingabeAngabe!Z18","v":""},{"$f":"EingabeAngabe!AA18","v":""},{"$f":"EingabeAngabe!AB18","v":""},{"$f":"EingabeAngabe!AC18","v":""},{"$f":"EingabeAngabe!AD18","v":""},{"$f":"EingabeAngabe!AE18","v":""},{"$f":"EingabeAngabe!AF18","v":""},{"$f":"EingabeAngabe!AG18","v":""},{"$f":"EingabeAngabe!AH18","v":""},{"$f":"EingabeAngabe!AI18","v":""},{"$f":"EingabeAngabe!AJ18","v":""}]
[{"$f":"EingabeAngabe!B20","v":"SE8"},{"$f":"IF(EingabeAngabe!C20=\"\",\"\",EingabeAngabe!C20)","v":""},{"$f":"EingabeAngabe!F20","v":1},{"$f":"EingabeAngabe!G20","v":""},{"$f":"EingabeAngabe!H20","v":""},{"$f":"EingabeAngabe!I20","v":""},{"$f":"EingabeAngabe!J20","v":""},{"$f":"EingabeAngabe!K20","v":""},{"$f":"EingabeAngabe!L20","v":""},{"$f":"EingabeAngabe!M20","v":""},{"$f":"EingabeAngabe!N20","v":""},{"$f":"EingabeAngabe!O20","v":""},{"$f":"EingabeAngabe!P20","v":""},{"$f":"EingabeAngabe!Q20","v":""},{"$f":"EingabeAngabe!R20","v":""},{"$f":"EingabeAngabe!S20","v":""},{"$f":"EingabeAngabe!T20","v":""},{"$f":"EingabeAngabe!U20","v":""},{"$f":"EingabeAngabe!V20","v":""},{"$f":"EingabeAngabe!W20","v":""},{"$f":"EingabeAngabe!X20","v":""},{"$f":"EingabeAngabe!Y20","v":""},{"$f":"EingabeAngabe!Z20","v":""},{"$f":"EingabeAngabe!AA20","v":""},{"$f":"EingabeAngabe!AB20","v":""},{"$f":"EingabeAngabe!AC20","v":""},{"$f":"EingabeAngabe!AD20","v":""},{"$f":"EingabeAngabe!AE20","v":""},{"$f":"EingabeAngabe!AF20","v":""},{"$f":"EingabeAngabe!AG20","v":""},{"$f":"EingabeAngabe!AH20","v":""},{"$f":"EingabeAngabe!AI20","v":""},{"$f":"EingabeAngabe!AJ20","v":""}]
[{"$f":"EingabeAngabe!B22","v":"SE9"},{"$f":"IF(EingabeAngabe!C22=\"\",\"\",EingabeAngabe!C22)","v":""},{"$f":"EingabeAngabe!F22","v":1},{"$f":"EingabeAngabe!G22","v":""},{"$f":"EingabeAngabe!H22","v":""},{"$f":"EingabeAngabe!I22","v":""},{"$f":"EingabeAngabe!J22","v":""},{"$f":"EingabeAngabe!K22","v":""},{"$f":"EingabeAngabe!L22","v":""},{"$f":"EingabeAngabe!M22","v":""},{"$f":"EingabeAngabe!N22","v":""},{"$f":"EingabeAngabe!O22","v":""},{"$f":"EingabeAngabe!P22","v":""},{"$f":"EingabeAngabe!Q22","v":""},{"$f":"EingabeAngabe!R22","v":""},{"$f":"EingabeAngabe!S22","v":""},{"$f":"EingabeAngabe!T22","v":""},{"$f":"EingabeAngabe!U22","v":""},{"$f":"EingabeAngabe!V22","v":""},{"$f":"EingabeAngabe!W22","v":""},{"$f":"EingabeAngabe!X22","v":""},{"$f":"EingabeAngabe!Y22","v":""},{"$f":"EingabeAngabe!Z22","v":""},{"$f":"EingabeAngabe!AA22","v":""},{"$f":"EingabeAngabe!AB22","v":""},{"$f":"EingabeAngabe!AC22","v":""},{"$f":"EingabeAngabe!AD22","v":""},{"$f":"EingabeAngabe!AE22","v":""},{"$f":"EingabeAngabe!AF22","v":""},{"$f":"EingabeAngabe!AG22","v":""},{"$f":"EingabeAngabe!AH22","v":""},{"$f":"EingabeAngabe!AI22","v":""},{"$f":"EingabeAngabe!AJ22","v":""}]
[{"$f":"EingabeAngabe!B24","v":"SE10"},{"$f":"IF(EingabeAngabe!C24=\"\",\"\",EingabeAngabe!C24)","v":""},{"$f":"EingabeAngabe!F24","v":1},{"$f":"EingabeAngabe!G24","v":""},{"$f":"EingabeAngabe!H24","v":""},{"$f":"EingabeAngabe!I24","v":""},{"$f":"EingabeAngabe!J24","v":""},{"$f":"EingabeAngabe!K24","v":""},{"$f":"EingabeAngabe!L24","v":""},{"$f":"EingabeAngabe!M24","v":""},{"$f":"EingabeAngabe!N24","v":""},{"$f":"EingabeAngabe!O24","v":""},{"$f":"EingabeAngabe!P24","v":""},{"$f":"EingabeAngabe!Q24","v":""},{"$f":"EingabeAngabe!R24","v":""},{"$f":"EingabeAngabe!S24","v":""},{"$f":"EingabeAngabe!T24","v":""},{"$f":"EingabeAngabe!U24","v":""},{"$f":"EingabeAngabe!V24","v":""},{"$f":"EingabeAngabe!W24","v":""},{"$f":"EingabeAngabe!X24","v":""},{"$f":"EingabeAngabe!Y24","v":""},{"$f":"EingabeAngabe!Z24","v":""},{"$f":"EingabeAngabe!AA24","v":""},{"$f":"EingabeAngabe!AB24","v":""},{"$f":"EingabeAngabe!AC24","v":""},{"$f":"EingabeAngabe!AD24","v":""},{"$f":"EingabeAngabe!AE24","v":""},{"$f":"EingabeAngabe!AF24","v":""},{"$f":"EingabeAngabe!AG24","v":""},{"$f":"EingabeAngabe!AH24","v":""},{"$f":"EingabeAngabe!AI24","v":""},{"$f":"EingabeAngabe!AJ24","v":""}]
[{"$f":"EingabeAngabe!B26","v":"SE11"},{"$f":"IF(EingabeAngabe!C26=\"\",\"\",EingabeAngabe!C26)","v":""},{"$f":"EingabeAngabe!F26","v":1},{"$f":"EingabeAngabe!G26","v":""},{"$f":"EingabeAngabe!H26","v":""},{"$f":"EingabeAngabe!I26","v":""},{"$f":"EingabeAngabe!J26","v":""},{"$f":"EingabeAngabe!K26","v":""},{"$f":"EingabeAngabe!L26","v":""},{"$f":"EingabeAngabe!M26","v":""},{"$f":"EingabeAngabe!N26","v":""},{"$f":"EingabeAngabe!O26","v":""},{"$f":"EingabeAngabe!P26","v":""},{"$f":"EingabeAngabe!Q26","v":""},{"$f":"EingabeAngabe!R26","v":""},{"$f":"EingabeAngabe!S26","v":""},{"$f":"EingabeAngabe!T26","v":""},{"$f":"EingabeAngabe!U26","v":""},{"$f":"EingabeAngabe!V26","v":""},{"$f":"EingabeAngabe!W26","v":""},{"$f":"EingabeAngabe!X26","v":""},{"$f":"EingabeAngabe!Y26","v":""},{"$f":"EingabeAngabe!Z26","v":""},{"$f":"EingabeAngabe!AA26","v":""},{"$f":"EingabeAngabe!AB26","v":""},{"$f":"EingabeAngabe!AC26","v":""},{"$f":"EingabeAngabe!AD26","v":""},{"$f":"EingabeAngabe!AE26","v":""},{"$f":"EingabeAngabe!AF26","v":""},{"$f":"EingabeAngabe!AG26","v":""},{"$f":"EingabeAngabe!AH26","v":""},{"$f":"EingabeAngabe!AI26","v":""},{"$f":"EingabeAngabe!AJ26","v":""}]
[{"$f":"EingabeAngabe!B28","v":"SE12"},{"$f":"IF(EingabeAngabe!C28=\"\",\"\",EingabeAngabe!C28)","v":""},{"$f":"EingabeAngabe!F28","v":1},{"$f":"EingabeAngabe!G28","v":""},{"$f":"EingabeAngabe!H28","v":""},{"$f":"EingabeAngabe!I28","v":""},{"$f":"EingabeAngabe!J28","v":""},{"$f":"EingabeAngabe!K28","v":""},{"$f":"EingabeAngabe!L28","v":""},{"$f":"EingabeAngabe!M28","v":""},{"$f":"EingabeAngabe!N28","v":""},{"$f":"EingabeAngabe!O28","v":""},{"$f":"EingabeAngabe!P28","v":""},{"$f":"EingabeAngabe!Q28","v":""},{"$f":"EingabeAngabe!R28","v":""},{"$f":"EingabeAngabe!S28","v":""},{"$f":"EingabeAngabe!T28","v":""},{"$f":"EingabeAngabe!U28","v":""},{"$f":"EingabeAngabe!V28","v":""},{"$f":"EingabeAngabe!W28","v":""},{"$f":"EingabeAngabe!X28","v":""},{"$f":"EingabeAngabe!Y28","v":""},{"$f":"EingabeAngabe!Z28","v":""},{"$f":"EingabeAngabe!AA28","v":""},{"$f":"EingabeAngabe!AB28","v":""},{"$f":"EingabeAngabe!AC28","v":""},{"$f":"EingabeAngabe!AD28","v":""},{"$f":"EingabeAngabe!AE28","v":""},{"$f":"EingabeAngabe!AF28","v":""},{"$f":"EingabeAngabe!AG28","v":""},{"$f":"EingabeAngabe!AH28","v":""},{"$f":"EingabeAngabe!AI28","v":""},{"$f":"EingabeAngabe!AJ28","v":""}]
[{"$f":"EingabeAngabe!B30","v":0},{"$f":"EingabeAngabe!C30","v":"LEXIK"},{"$f":"EingabeAngabe!F30","v":8},{"$f":"EingabeAngabe!G30","v":""},{"$f":"EingabeAngabe!H30","v":""},{"$f":"EingabeAngabe!I30","v":""},{"$f":"EingabeAngabe!J30","v":""},{"$f":"EingabeAngabe!K30","v":""},{"$f":"EingabeAngabe!L30","v":""},{"$f":"EingabeAngabe!M30","v":""},{"$f":"EingabeAngabe!N30","v":""},{"$f":"EingabeAngabe!O30","v":""},{"$f":"EingabeAngabe!P30","v":""},{"$f":"EingabeAngabe!Q30","v":""},{"$f":"EingabeAngabe!R30","v":""},{"$f":"EingabeAngabe!S30","v":""},{"$f":"EingabeAngabe!T30","v":""},{"$f":"EingabeAngabe!U30","v":""},{"$f":"EingabeAngabe!V30","v":""},{"$f":"EingabeAngabe!W30","v":""},{"$f":"EingabeAngabe!X30","v":""},{"$f":"EingabeAngabe!Y30","v":""},{"$f":"EingabeAngabe!Z30","v":""},{"$f":"EingabeAngabe!AA30","v":""},{"$f":"EingabeAngabe!AB30","v":""},{"$f":"EingabeAngabe!AC30","v":""},{"$f":"EingabeAngabe!AD30","v":""},{"$f":"EingabeAngabe!AE30","v":""},{"$f":"EingabeAngabe!AF30","v":""},{"$f":"EingabeAngabe!AG30","v":""},{"$f":"EingabeAngabe!AH30","v":""},{"$f":"EingabeAngabe!AI30","v":""},{"$f":"EingabeAngabe!AJ30","v":""}]
[{"$f":"EingabeAngabe!B31","v":"LE13"},{"$f":"IF(EingabeAngabe!C31=\"\",\"\",EingabeAngabe!C31)","v":""},{"$f":"EingabeAngabe!F31","v":1},{"$f":"EingabeAngabe!G31","v":""},{"$f":"EingabeAngabe!H31","v":""},{"$f":"EingabeAngabe!I31","v":""},{"$f":"EingabeAngabe!J31","v":""},{"$f":"EingabeAngabe!K31","v":""},{"$f":"EingabeAngabe!L31","v":""},{"$f":"EingabeAngabe!M31","v":""},{"$f":"EingabeAngabe!N31","v":""},{"$f":"EingabeAngabe!O31","v":""},{"$f":"EingabeAngabe!P31","v":""},{"$f":"EingabeAngabe!Q31","v":""},{"$f":"EingabeAngabe!R31","v":""},{"$f":"EingabeAngabe!S31","v":""},{"$f":"EingabeAngabe!T31","v":""},{"$f":"EingabeAngabe!U31","v":""},{"$f":"EingabeAngabe!V31","v":""},{"$f":"EingabeAngabe!W31","v":""},{"$f":"EingabeAngabe!X31","v":""},{"$f":"EingabeAngabe!Y31","v":""},{"$f":"EingabeAngabe!Z31","v":""},{"$f":"EingabeAngabe!AA31","v":""},{"$f":"EingabeAngabe!AB31","v":""},{"$f":"EingabeAngabe!AC31","v":""},{"$f":"EingabeAngabe!AD31","v":""},{"$f":"EingabeAngabe!AE31","v":""},{"$f":"EingabeAngabe!AF31","v":""},{"$f":"EingabeAngabe!AG31","v":""},{"$f":"EingabeAngabe!AH31","v":""},{"$f":"EingabeAngabe!AI31","v":""},{"$f":"EingabeAngabe!AJ31","v":""}]
[{"$f":"EingabeAngabe!B32","v":"LE14"},{"$f":"IF(EingabeAngabe!C32=\"\",\"\",EingabeAngabe!C32)","v":""},{"$f":"EingabeAngabe!F32","v":1},{"$f":"EingabeAngabe!G32","v":""},{"$f":"EingabeAngabe!H32","v":""},{"$f":"EingabeAngabe!I32","v":""},{"$f":"EingabeAngabe!J32","v":""},{"$f":"EingabeAngabe!K32","v":""},{"$f":"EingabeAngabe!L32","v":""},{"$f":"EingabeAngabe!M32","v":""},{"$f":"EingabeAngabe!N32","v":""},{"$f":"EingabeAngabe!O32","v":""},{"$f":"EingabeAngabe!P32","v":""},{"$f":"EingabeAngabe!Q32","v":""},{"$f":"EingabeAngabe!R32","v":""},{"$f":"EingabeAngabe!S32","v":""},{"$f":"EingabeAngabe!T32","v":""},{"$f":"EingabeAngabe!U32","v":""},{"$f":"EingabeAngabe!V32","v":""},{"$f":"EingabeAngabe!W32","v":""},{"$f":"EingabeAngabe!X32","v":""},{"$f":"EingabeAngabe!Y32","v":""},{"$f":"EingabeAngabe!Z32","v":""},{"$f":"EingabeAngabe!AA32","v":""},{"$f":"EingabeAngabe!AB32","v":""},{"$f":"EingabeAngabe!AC32","v":""},{"$f":"EingabeAngabe!AD32","v":""},{"$f":"EingabeAngabe!AE32","v":""},{"$f":"EingabeAngabe!AF32","v":""},{"$f":"EingabeAngabe!AG32","v":""},{"$f":"EingabeAngabe!AH32","v":""},{"$f":"EingabeAngabe!AI32","v":""},{"$f":"EingabeAngabe!AJ32","v":""}]
[{"$f":"EingabeAngabe!B33","v":"LE15"},{"$f":"IF(EingabeAngabe!C33=\"\",\"\",EingabeAngabe!C33)","v":""},{"$f":"EingabeAngabe!F33","v":1},{"$f":"EingabeAngabe!G33","v":""},{"$f":"EingabeAngabe!H33","v":""},{"$f":"EingabeAngabe!I33","v":""},{"$f":"EingabeAngabe!J33","v":""},{"$f":"EingabeAngabe!K33","v":""},{"$f":"EingabeAngabe!L33","v":""},{"$f":"EingabeAngabe!M33","v":""},{"$f":"EingabeAngabe!N33","v":""},{"$f":"EingabeAngabe!O33","v":""},{"$f":"EingabeAngabe!P33","v":""},{"$f":"EingabeAngabe!Q33","v":""},{"$f":"EingabeAngabe!R33","v":""},{"$f":"EingabeAngabe!S33","v":""},{"$f":"EingabeAngabe!T33","v":""},{"$f":"EingabeAngabe!U33","v":""},{"$f":"EingabeAngabe!V33","v":""},{"$f":"EingabeAngabe!W33","v":""},{"$f":"EingabeAngabe!X33","v":""},{"$f":"EingabeAngabe!Y33","v":""},{"$f":"EingabeAngabe!Z33","v":""},{"$f":"EingabeAngabe!AA33","v":""},{"$f":"EingabeAngabe!AB33","v":""},{"$f":"EingabeAngabe!AC33","v":""},{"$f":"EingabeAngabe!AD33","v":""},{"$f":"EingabeAngabe!AE33","v":""},{"$f":"EingabeAngabe!AF33","v":""},{"$f":"EingabeAngabe!AG33","v":""},{"$f":"EingabeAngabe!AH33","v":""},{"$f":"EingabeAngabe!AI33","v":""},{"$f":"EingabeAngabe!AJ33","v":""}]
[{"$f":"EingabeAngabe!B34","v":"LE16"},{"$f":"IF(EingabeAngabe!C34=\"\",\"\",EingabeAngabe!C34)","v":""},{"$f":"EingabeAngabe!F34","v":1},{"$f":"EingabeAngabe!G34","v":""},{"$f":"EingabeAngabe!H34","v":""},{"$f":"EingabeAngabe!I34","v":""},{"$f":"EingabeAngabe!J34","v":""},{"$f":"EingabeAngabe!K34","v":""},{"$f":"EingabeAngabe!L34","v":""},{"$f":"EingabeAngabe!M34","v":""},{"$f":"EingabeAngabe!N34","v":""},{"$f":"EingabeAngabe!O34","v":""},{"$f":"EingabeAngabe!P34","v":""},{"$f":"EingabeAngabe!Q34","v":""},{"$f":"EingabeAngabe!R34","v":""},{"$f":"EingabeAngabe!S34","v":""},{"$f":"EingabeAngabe!T34","v":""},{"$f":"EingabeAngabe!U34","v":""},{"$f":"EingabeAngabe!V34","v":""},{"$f":"EingabeAngabe!W34","v":""},{"$f":"EingabeAngabe!X34","v":""},{"$f":"EingabeAngabe!Y34","v":""},{"$f":"EingabeAngabe!Z34","v":""},{"$f":"EingabeAngabe!AA34","v":""},{"$f":"EingabeAngabe!AB34","v":""},{"$f":"EingabeAngabe!AC34","v":""},{"$f":"EingabeAngabe!AD34","v":""},{"$f":"EingabeAngabe!AE34","v":""},{"$f":"EingabeAngabe!AF34","v":""},{"$f":"EingabeAngabe!AG34","v":""},{"$f":"EingabeAngabe!AH34","v":""},{"$f":"EingabeAngabe!AI34","v":""},{"$f":"EingabeAngabe!AJ34","v":""}]
[{"$f":"EingabeAngabe!B35","v":"LE17"},{"$f":"IF(EingabeAngabe!C35=\"\",\"\",EingabeAngabe!C35)","v":""},{"$f":"EingabeAngabe!F35","v":1},{"$f":"EingabeAngabe!G35","v":""},{"$f":"EingabeAngabe!H35","v":""},{"$f":"EingabeAngabe!I35","v":""},{"$f":"EingabeAngabe!J35","v":""},{"$f":"EingabeAngabe!K35","v":""},{"$f":"EingabeAngabe!L35","v":""},{"$f":"EingabeAngabe!M35","v":""},{"$f":"EingabeAngabe!N35","v":""},{"$f":"EingabeAngabe!O35","v":""},{"$f":"EingabeAngabe!P35","v":""},{"$f":"EingabeAngabe!Q35","v":""},{"$f":"EingabeAngabe!R35","v":""},{"$f":"EingabeAngabe!S35","v":""},{"$f":"EingabeAngabe!T35","v":""},{"$f":"EingabeAngabe!U35","v":""},{"$f":"EingabeAngabe!V35","v":""},{"$f":"EingabeAngabe!W35","v":""},{"$f":"EingabeAngabe!X35","v":""},{"$f":"EingabeAngabe!Y35","v":""},{"$f":"EingabeAngabe!Z35","v":""},{"$f":"EingabeAngabe!AA35","v":""},{"$f":"EingabeAngabe!AB35","v":""},{"$f":"EingabeAngabe!AC35","v":""},{"$f":"EingabeAngabe!AD35","v":""},{"$f":"EingabeAngabe!AE35","v":""},{"$f":"EingabeAngabe!AF35","v":""},{"$f":"EingabeAngabe!AG35","v":""},{"$f":"EingabeAngabe!AH35","v":""},{"$f":"EingabeAngabe!AI35","v":""},{"$f":"EingabeAngabe!AJ35","v":""}]
[{"$f":"EingabeAngabe!B36","v":"LE18"},{"$f":"IF(EingabeAngabe!C36=\"\",\"\",EingabeAngabe!C36)","v":""},{"$f":"EingabeAngabe!F36","v":1},{"$f":"EingabeAngabe!G36","v":""},{"$f":"EingabeAngabe!H36","v":""},{"$f":"EingabeAngabe!I36","v":""},{"$f":"EingabeAngabe!J36","v":""},{"$f":"EingabeAngabe!K36","v":""},{"$f":"EingabeAngabe!L36","v":""},{"$f":"EingabeAngabe!M36","v":""},{"$f":"EingabeAngabe!N36","v":""},{"$f":"EingabeAngabe!O36","v":""},{"$f":"EingabeAngabe!P36","v":""},{"$f":"EingabeAngabe!Q36","v":""},{"$f":"EingabeAngabe!R36","v":""},{"$f":"EingabeAngabe!S36","v":""},{"$f":"EingabeAngabe!T36","v":""},{"$f":"EingabeAngabe!U36","v":""},{"$f":"EingabeAngabe!V36","v":""},{"$f":"EingabeAngabe!W36","v":""},{"$f":"EingabeAngabe!X36","v":""},{"$f":"EingabeAngabe!Y36","v":""},{"$f":"EingabeAngabe!Z36","v":""},{"$f":"EingabeAngabe!AA36","v":""},{"$f":"EingabeAngabe!AB36","v":""},{"$f":"EingabeAngabe!AC36","v":""},{"$f":"EingabeAngabe!AD36","v":""},{"$f":"EingabeAngabe!AE36","v":""},{"$f":"EingabeAngabe!AF36","v":""},{"$f":"EingabeAngabe!AG36","v":""},{"$f":"EingabeAngabe!AH36","v":""},{"$f":"EingabeAngabe!AI36","v":""},{"$f":"EingabeAngabe!AJ36","v":""}]
[{"$f":"EingabeAngabe!B37","v":"LE19"},{"$f":"IF(EingabeAngabe!C37=\"\",\"\",EingabeAngabe!C37)","v":""},{"$f":"EingabeAngabe!F37","v":1},{"$f":"EingabeAngabe!G37","v":""},{"$f":"EingabeAngabe!H37","v":""},{"$f":"EingabeAngabe!I37","v":""},{"$f":"EingabeAngabe!J37","v":""},{"$f":"EingabeAngabe!K37","v":""},{"$f":"EingabeAngabe!L37","v":""},{"$f":"EingabeAngabe!M37","v":""},{"$f":"EingabeAngabe!N37","v":""},{"$f":"EingabeAngabe!O37","v":""},{"$f":"EingabeAngabe!P37","v":""},{"$f":"EingabeAngabe!Q37","v":""},{"$f":"EingabeAngabe!R37","v":""},{"$f":"EingabeAngabe!S37","v":""},{"$f":"EingabeAngabe!T37","v":""},{"$f":"EingabeAngabe!U37","v":""},{"$f":"EingabeAngabe!V37","v":""},{"$f":"EingabeAngabe!W37","v":""},{"$f":"EingabeAngabe!X37","v":""},{"$f":"EingabeAngabe!Y37","v":""},{"$f":"EingabeAngabe!Z37","v":""},{"$f":"EingabeAngabe!AA37","v":""},{"$f":"EingabeAngabe!AB37","v":""},{"$f":"EingabeAngabe!AC37","v":""},{"$f":"EingabeAngabe!AD37","v":""},{"$f":"EingabeAngabe!AE37","v":""},{"$f":"EingabeAngabe!AF37","v":""},{"$f":"EingabeAngabe!AG37","v":""},{"$f":"EingabeAngabe!AH37","v":""},{"$f":"EingabeAngabe!AI37","v":""},{"$f":"EingabeAngabe!AJ37","v":""}]
[{"$f":"EingabeAngabe!B38","v":"LE20"},{"$f":"IF(EingabeAngabe!C38=\"\",\"\",EingabeAngabe!C38)","v":""},{"$f":"EingabeAngabe!F38","v":1},{"$f":"EingabeAngabe!G38","v":""},{"$f":"EingabeAngabe!H38","v":""},{"$f":"EingabeAngabe!I38","v":""},{"$f":"EingabeAngabe!J38","v":""},{"$f":"EingabeAngabe!K38","v":""},{"$f":"EingabeAngabe!L38","v":""},{"$f":"EingabeAngabe!M38","v":""},{"$f":"EingabeAngabe!N38","v":""},{"$f":"EingabeAngabe!O38","v":""},{"$f":"EingabeAngabe!P38","v":""},{"$f":"EingabeAngabe!Q38","v":""},{"$f":"EingabeAngabe!R38","v":""},{"$f":"EingabeAngabe!S38","v":""},{"$f":"EingabeAngabe!T38","v":""},{"$f":"EingabeAngabe!U38","v":""},{"$f":"EingabeAngabe!V38","v":""},{"$f":"EingabeAngabe!W38","v":""},{"$f":"EingabeAngabe!X38","v":""},{"$f":"EingabeAngabe!Y38","v":""},{"$f":"EingabeAngabe!Z38","v":""},{"$f":"EingabeAngabe!AA38","v":""},{"$f":"EingabeAngabe!AB38","v":""},{"$f":"EingabeAngabe!AC38","v":""},{"$f":"EingabeAngabe!AD38","v":""},{"$f":"EingabeAngabe!AE38","v":""},{"$f":"EingabeAngabe!AF38","v":""},{"$f":"EingabeAngabe!AG38","v":""},{"$f":"EingabeAngabe!AH38","v":""},{"$f":"EingabeAngabe!AI38","v":""},{"$f":"EingabeAngabe!AJ38","v":""}]
[{"$f":"EingabeAngabe!B39","v":0},{"$f":"EingabeAngabe!C39","v":"MORPHOLOGIE"},{"$f":"EingabeAngabe!F39","v":8},{"$f":"EingabeAngabe!G39","v":""},{"$f":"EingabeAngabe!H39","v":""},{"$f":"EingabeAngabe!I39","v":""},{"$f":"EingabeAngabe!J39","v":""},{"$f":"EingabeAngabe!K39","v":""},{"$f":"EingabeAngabe!L39","v":""},{"$f":"EingabeAngabe!M39","v":""},{"$f":"EingabeAngabe!N39","v":""},{"$f":"EingabeAngabe!O39","v":""},{"$f":"EingabeAngabe!P39","v":""},{"$f":"EingabeAngabe!Q39","v":""},{"$f":"EingabeAngabe!R39","v":""},{"$f":"EingabeAngabe!S39","v":""},{"$f":"EingabeAngabe!T39","v":""},{"$f":"EingabeAngabe!U39","v":""},{"$f":"EingabeAngabe!V39","v":""},{"$f":"EingabeAngabe!W39","v":""},{"$f":"EingabeAngabe!X39","v":""},{"$f":"EingabeAngabe!Y39","v":""},{"$f":"EingabeAngabe!Z39","v":""},{"$f":"EingabeAngabe!AA39","v":""},{"$f":"EingabeAngabe!AB39","v":""},{"$f":"EingabeAngabe!AC39","v":""},{"$f":"EingabeAngabe!AD39","v":""},{"$f":"EingabeAngabe!AE39","v":""},{"$f":"EingabeAngabe!AF39","v":""},{"$f":"EingabeAngabe!AG39","v":""},{"$f":"EingabeAngabe!AH39","v":""},{"$f":"EingabeAngabe!AI39","v":""},{"$f":"EingabeAngabe!AJ39","v":""},{"$f":"EingabeAngabe!D72","v":"Sehr gut"},{"$f":"EingabeAngabe!F72","v":"60 - 53"},null,{"$f":"EingabeAngabe!I72","v":0}]
[{"$f":"EingabeAngabe!B40","v":"MO21"},{"$f":"IF(EingabeAngabe!C40=\"\",\"\",EingabeAngabe!C40)","v":""},{"$f":"EingabeAngabe!F40","v":1},{"$f":"EingabeAngabe!G40","v":""},{"$f":"EingabeAngabe!H40","v":""},{"$f":"EingabeAngabe!I40","v":""},{"$f":"EingabeAngabe!J40","v":""},{"$f":"EingabeAngabe!K40","v":""},{"$f":"EingabeAngabe!L40","v":""},{"$f":"EingabeAngabe!M40","v":""},{"$f":"EingabeAngabe!N40","v":""},{"$f":"EingabeAngabe!O40","v":""},{"$f":"EingabeAngabe!P40","v":""},{"$f":"EingabeAngabe!Q40","v":""},{"$f":"EingabeAngabe!R40","v":""},{"$f":"EingabeAngabe!S40","v":""},{"$f":"EingabeAngabe!T40","v":""},{"$f":"EingabeAngabe!U40","v":""},{"$f":"EingabeAngabe!V40","v":""},{"$f":"EingabeAngabe!W40","v":""},{"$f":"EingabeAngabe!X40","v":""},{"$f":"EingabeAngabe!Y40","v":""},{"$f":"EingabeAngabe!Z40","v":""},{"$f":"EingabeAngabe!AA40","v":""},{"$f":"EingabeAngabe!AB40","v":""},{"$f":"EingabeAngabe!AC40","v":""},{"$f":"EingabeAngabe!AD40","v":""},{"$f":"EingabeAngabe!AE40","v":""},{"$f":"EingabeAngabe!AF40","v":""},{"$f":"EingabeAngabe!AG40","v":""},{"$f":"EingabeAngabe!AH40","v":""},{"$f":"EingabeAngabe!AI40","v":""},{"$f":"EingabeAngabe!AJ40","v":""},{"$f":"EingabeAngabe!D73","v":"Gut"},{"$f":"EingabeAngabe!F73","v":"52 - 45"},null,{"$f":"EingabeAngabe!I73","v":0}]
[{"$f":"EingabeAngabe!B41","v":"MO22"},{"$f":"IF(EingabeAngabe!C41=\"\",\"\",EingabeAngabe!C41)","v":""},{"$f":"EingabeAngabe!F41","v":1},{"$f":"EingabeAngabe!G41","v":""},{"$f":"EingabeAngabe!H41","v":""},{"$f":"EingabeAngabe!I41","v":""},{"$f":"EingabeAngabe!J41","v":""},{"$f":"EingabeAngabe!K41","v":""},{"$f":"EingabeAngabe!L41","v":""},{"$f":"EingabeAngabe!M41","v":""},{"$f":"EingabeAngabe!N41","v":""},{"$f":"EingabeAngabe!O41","v":""},{"$f":"EingabeAngabe!P41","v":""},{"$f":"EingabeAngabe!Q41","v":""},{"$f":"EingabeAngabe!R41","v":""},{"$f":"EingabeAngabe!S41","v":""},{"$f":"EingabeAngabe!T41","v":""},{"$f":"EingabeAngabe!U41","v":""},{"$f":"EingabeAngabe!V41","v":""},{"$f":"EingabeAngabe!W41","v":""},{"$f":"EingabeAngabe!X41","v":""},{"$f":"EingabeAngabe!Y41","v":""},{"$f":"EingabeAngabe!Z41","v":""},{"$f":"EingabeAngabe!AA41","v":""},{"$f":"EingabeAngabe!AB41","v":""},{"$f":"EingabeAngabe!AC41","v":""},{"$f":"EingabeAngabe!AD41","v":""},{"$f":"EingabeAngabe!AE41","v":""},{"$f":"EingabeAngabe!AF41","v":""},{"$f":"EingabeAngabe!AG41","v":""},{"$f":"EingabeAngabe!AH41","v":""},{"$f":"EingabeAngabe!AI41","v":""},{"$f":"EingabeAngabe!AJ41","v":""},{"$f":"EingabeAngabe!D74","v":"Befriedigend"},{"$f":"EingabeAngabe!F74","v":"44 - 37"},null,{"$f":"EingabeAngabe!I74","v":0}]
[{"$f":"EingabeAngabe!B42","v":"MO23"},{"$f":"IF(EingabeAngabe!C42=\"\",\"\",EingabeAngabe!C42)","v":""},{"$f":"EingabeAngabe!F42","v":1},{"$f":"EingabeAngabe!G42","v":""},{"$f":"EingabeAngabe!H42","v":""},{"$f":"EingabeAngabe!I42","v":""},{"$f":"EingabeAngabe!J42","v":""},{"$f":"EingabeAngabe!K42","v":""},{"$f":"EingabeAngabe!L42","v":""},{"$f":"EingabeAngabe!M42","v":""},{"$f":"EingabeAngabe!N42","v":""},{"$f":"EingabeAngabe!O42","v":""},{"$f":"EingabeAngabe!P42","v":""},{"$f":"EingabeAngabe!Q42","v":""},{"$f":"EingabeAngabe!R42","v":""},{"$f":"EingabeAngabe!S42","v":""},{"$f":"EingabeAngabe!T42","v":""},{"$f":"EingabeAngabe!U42","v":""},{"$f":"EingabeAngabe!V42","v":""},{"$f":"EingabeAngabe!W42","v":""},{"$f":"EingabeAngabe!X42","v":""},{"$f":"EingabeAngabe!Y42","v":""},{"$f":"EingabeAngabe!Z42","v":""},{"$f":"EingabeAngabe!AA42","v":""},{"$f":"EingabeAngabe!AB42","v":""},{"$f":"EingabeAngabe!AC42","v":""},{"$f":"EingabeAngabe!AD42","v":""},{"$f":"EingabeAngabe!AE42","v":""},{"$f":"EingabeAngabe!AF42","v":""},{"$f":"EingabeAngabe!AG42","v":""},{"$f":"EingabeAngabe!AH42","v":""},{"$f":"EingabeAngabe!AI42","v":""},{"$f":"EingabeAngabe!AJ42","v":""},{"$f":"EingabeAngabe!D75","v":"Genügend"},{"$f":"EingabeAngabe!F75","v":"36 - 30"},null,{"$f":"EingabeAngabe!I75","v":0}]
[{"$f":"EingabeAngabe!B43","v":"MO24"},{"$f":"IF(EingabeAngabe!C43=\"\",\"\",EingabeAngabe!C43)","v":""},{"$f":"EingabeAngabe!F43","v":1},{"$f":"EingabeAngabe!G43","v":""},{"$f":"EingabeAngabe!H43","v":""},{"$f":"EingabeAngabe!I43","v":""},{"$f":"EingabeAngabe!J43","v":""},{"$f":"EingabeAngabe!K43","v":""},{"$f":"EingabeAngabe!L43","v":""},{"$f":"EingabeAngabe!M43","v":""},{"$f":"EingabeAngabe!N43","v":""},{"$f":"EingabeAngabe!O43","v":""},{"$f":"EingabeAngabe!P43","v":""},{"$f":"EingabeAngabe!Q43","v":""},{"$f":"EingabeAngabe!R43","v":""},{"$f":"EingabeAngabe!S43","v":""},{"$f":"EingabeAngabe!T43","v":""},{"$f":"EingabeAngabe!U43","v":""},{"$f":"EingabeAngabe!V43","v":""},{"$f":"EingabeAngabe!W43","v":""},{"$f":"EingabeAngabe!X43","v":""},{"$f":"EingabeAngabe!Y43","v":""},{"$f":"EingabeAngabe!Z43","v":""},{"$f":"EingabeAngabe!AA43","v":""},{"$f":"EingabeAngabe!AB43","v":""},{"$f":"EingabeAngabe!AC43","v":""},{"$f":"EingabeAngabe!AD43","v":""},{"$f":"EingabeAngabe!AE43","v":""},{"$f":"EingabeAngabe!AF43","v":""},{"$f":"EingabeAngabe!AG43","v":""},{"$f":"EingabeAngabe!AH43","v":""},{"$f":"EingabeAngabe!AI43","v":""},{"$f":"EingabeAngabe!AJ43","v":""},{"$f":"EingabeAngabe!D76","v":"Nicht genügend"},{"$f":"EingabeAngabe!F76","v":"29 - 00"},null,{"$f":"EingabeAngabe!I76","v":0}]
[{"$f":"EingabeAngabe!B44","v":"MO25"},{"$f":"IF(EingabeAngabe!C44=\"\",\"\",EingabeAngabe!C44)","v":""},{"$f":"EingabeAngabe!F44","v":1},{"$f":"EingabeAngabe!G44","v":""},{"$f":"EingabeAngabe!H44","v":""},{"$f":"EingabeAngabe!I44","v":""},{"$f":"EingabeAngabe!J44","v":""},{"$f":"EingabeAngabe!K44","v":""},{"$f":"EingabeAngabe!L44","v":""},{"$f":"EingabeAngabe!M44","v":""},{"$f":"EingabeAngabe!N44","v":""},{"$f":"EingabeAngabe!O44","v":""},{"$f":"EingabeAngabe!P44","v":""},{"$f":"EingabeAngabe!Q44","v":""},{"$f":"EingabeAngabe!R44","v":""},{"$f":"EingabeAngabe!S44","v":""},{"$f":"EingabeAngabe!T44","v":""},{"$f":"EingabeAngabe!U44","v":""},{"$f":"EingabeAngabe!V44","v":""},{"$f":"EingabeAngabe!W44","v":""},{"$f":"EingabeAngabe!X44","v":""},{"$f":"EingabeAngabe!Y44","v":""},{"$f":"EingabeAngabe!Z44","v":""},{"$f":"EingabeAngabe!AA44","v":""},{"$f":"EingabeAngabe!AB44","v":""},{"$f":"EingabeAngabe!AC44","v":""},{"$f":"EingabeAngabe!AD44","v":""},{"$f":"EingabeAngabe!AE44","v":""},{"$f":"EingabeAngabe!AF44","v":""},{"$f":"EingabeAngabe!AG44","v":""},{"$f":"EingabeAngabe!AH44","v":""},{"$f":"EingabeAngabe!AI44","v":""},{"$f":"EingabeAngabe!AJ44","v":""},null,null,null,{"$f":"EingabeAngabe!I77","v":0}]
[{"$f":"EingabeAngabe!B45","v":"MO26"},{"$f":"IF(EingabeAngabe!C45=\"\",\"\",EingabeAngabe!C45)","v":""},{"$f":"EingabeAngabe!F45","v":1},{"$f":"EingabeAngabe!G45","v":""},{"$f":"EingabeAngabe!H45","v":""},{"$f":"EingabeAngabe!I45","v":""},{"$f":"EingabeAngabe!J45","v":""},{"$f":"EingabeAngabe!K45","v":""},{"$f":"EingabeAngabe!L45","v":""},{"$f":"EingabeAngabe!M45","v":""},{"$f":"EingabeAngabe!N45","v":""},{"$f":"EingabeAngabe!O45","v":""},{"$f":"EingabeAngabe!P45","v":""},{"$f":"EingabeAngabe!Q45","v":""},{"$f":"EingabeAngabe!R45","v":""},{"$f":"EingabeAngabe!S45","v":""},{"$f":"EingabeAngabe!T45","v":""},{"$f":"EingabeAngabe!U45","v":""},{"$f":"EingabeAngabe!V45","v":""},{"$f":"EingabeAngabe!W45","v":""},{"$f":"EingabeAngabe!X45","v":""},{"$f":"EingabeAngabe!Y45","v":""},{"$f":"EingabeAngabe!Z45","v":""},{"$f":"EingabeAngabe!AA45","v":""},{"$f":"EingabeAngabe!AB45","v":""},{"$f":"EingabeAngabe!AC45","v":""},{"$f":"EingabeAngabe!AD45","v":""},{"$f":"EingabeAngabe!AE45","v":""},{"$f":"EingabeAngabe!AF45","v":""},{"$f":"EingabeAngabe!AG45","v":""},{"$f":"EingabeAngabe!AH45","v":""},{"$f":"EingabeAngabe!AI45","v":""},{"$f":"EingabeAngabe!AJ45","v":""},{"$f":"EingabeAngabe!D78","v":"Notenschnitt"},{"$f":"EingabeAngabe!F78","v":{"$error":"#DIV/0!"}}]
[{"$f":"EingabeAngabe!B46","v":"MO27"},{"$f":"IF(EingabeAngabe!C46=\"\",\"\",EingabeAngabe!C46)","v":""},{"$f":"EingabeAngabe!F46","v":1},{"$f":"EingabeAngabe!G46","v":""},{"$f":"EingabeAngabe!H46","v":""},{"$f":"EingabeAngabe!I46","v":""},{"$f":"EingabeAngabe!J46","v":""},{"$f":"EingabeAngabe!K46","v":""},{"$f":"EingabeAngabe!L46","v":""},{"$f":"EingabeAngabe!M46","v":""},{"$f":"EingabeAngabe!N46","v":""},{"$f":"EingabeAngabe!O46","v":""},{"$f":"EingabeAngabe!P46","v":""},{"$f":"EingabeAngabe!Q46","v":""},{"$f":"EingabeAngabe!R46","v":""},{"$f":"EingabeAngabe!S46","v":""},{"$f":"EingabeAngabe!T46","v":""},{"$f":"EingabeAngabe!U46","v":""},{"$f":"EingabeAngabe!V46","v":""},{"$f":"EingabeAngabe!W46","v":""},{"$f":"EingabeAngabe!X46","v":""},{"$f":"EingabeAngabe!Y46","v":""},{"$f":"EingabeAngabe!Z46","v":""},{"$f":"EingabeAngabe!AA46","v":""},{"$f":"EingabeAngabe!AB46","v":""},{"$f":"EingabeAngabe!AC46","v":""},{"$f":"EingabeAngabe!AD46","v":""},{"$f":"EingabeAngabe!AE46","v":""},{"$f":"EingabeAngabe!AF46","v":""},{"$f":"EingabeAngabe!AG46","v":""},{"$f":"EingabeAngabe!AH46","v":""},{"$f":"EingabeAngabe!AI46","v":""},{"$f":"EingabeAngabe!AJ46","v":""}]
[{"$f":"EingabeAngabe!B47","v":"MO28"},{"$f":"IF(EingabeAngabe!C47=\"\",\"\",EingabeAngabe!C47)","v":""},{"$f":"EingabeAngabe!F47","v":1},{"$f":"EingabeAngabe!G47","v":""},{"$f":"EingabeAngabe!H47","v":""},{"$f":"EingabeAngabe!I47","v":""},{"$f":"EingabeAngabe!J47","v":""},{"$f":"EingabeAngabe!K47","v":""},{"$f":"EingabeAngabe!L47","v":""},{"$f":"EingabeAngabe!M47","v":""},{"$f":"EingabeAngabe!N47","v":""},{"$f":"EingabeAngabe!O47","v":""},{"$f":"EingabeAngabe!P47","v":""},{"$f":"EingabeAngabe!Q47","v":""},{"$f":"EingabeAngabe!R47","v":""},{"$f":"EingabeAngabe!S47","v":""},{"$f":"EingabeAngabe!T47","v":""},{"$f":"EingabeAngabe!U47","v":""},{"$f":"EingabeAngabe!V47","v":""},{"$f":"EingabeAngabe!W47","v":""},{"$f":"EingabeAngabe!X47","v":""},{"$f":"EingabeAngabe!Y47","v":""},{"$f":"EingabeAngabe!Z47","v":""},{"$f":"EingabeAngabe!AA47","v":""},{"$f":"EingabeAngabe!AB47","v":""},{"$f":"EingabeAngabe!AC47","v":""},{"$f":"EingabeAngabe!AD47","v":""},{"$f":"EingabeAngabe!AE47","v":""},{"$f":"EingabeAngabe!AF47","v":""},{"$f":"EingabeAngabe!AG47","v":""},{"$f":"EingabeAngabe!AH47","v":""},{"$f":"EingabeAngabe!AI47","v":""},{"$f":"EingabeAngabe!AJ47","v":""}]
[{"$f":"EingabeAngabe!B48","v":0},{"$f":"EingabeAngabe!C48","v":"SYNTAX"},{"$f":"EingabeAngabe!F48","v":8},{"$f":"EingabeAngabe!G48","v":""},{"$f":"EingabeAngabe!H48","v":""},{"$f":"EingabeAngabe!I48","v":""},{"$f":"EingabeAngabe!J48","v":""},{"$f":"EingabeAngabe!K48","v":""},{"$f":"EingabeAngabe!L48","v":""},{"$f":"EingabeAngabe!M48","v":""},{"$f":"EingabeAngabe!N48","v":""},{"$f":"EingabeAngabe!O48","v":""},{"$f":"EingabeAngabe!P48","v":""},{"$f":"EingabeAngabe!Q48","v":""},{"$f":"EingabeAngabe!R48","v":""},{"$f":"EingabeAngabe!S48","v":""},{"$f":"EingabeAngabe!T48","v":""},{"$f":"EingabeAngabe!U48","v":""},{"$f":"EingabeAngabe!V48","v":""},{"$f":"EingabeAngabe!W48","v":""},{"$f":"EingabeAngabe!X48","v":""},{"$f":"EingabeAngabe!Y48","v":""},{"$f":"EingabeAngabe!Z48","v":""},{"$f":"EingabeAngabe!AA48","v":""},{"$f":"EingabeAngabe!AB48","v":""},{"$f":"EingabeAngabe!AC48","v":""},{"$f":"EingabeAngabe!AD48","v":""},{"$f":"EingabeAngabe!AE48","v":""},{"$f":"EingabeAngabe!AF48","v":""},{"$f":"EingabeAngabe!AG48","v":""},{"$f":"EingabeAngabe!AH48","v":""},{"$f":"EingabeAngabe!AI48","v":""},{"$f":"EingabeAngabe!AJ48","v":""}]
[{"$f":"EingabeAngabe!B49","v":"SY29"},{"$f":"IF(EingabeAngabe!C49=\"\",\"\",EingabeAngabe!C49)","v":""},{"$f":"EingabeAngabe!F49","v":1},{"$f":"EingabeAngabe!G49","v":""},{"$f":"EingabeAngabe!H49","v":""},{"$f":"EingabeAngabe!I49","v":""},{"$f":"EingabeAngabe!J49","v":""},{"$f":"EingabeAngabe!K49","v":""},{"$f":"EingabeAngabe!L49","v":""},{"$f":"EingabeAngabe!M49","v":""},{"$f":"EingabeAngabe!N49","v":""},{"$f":"EingabeAngabe!O49","v":""},{"$f":"EingabeAngabe!P49","v":""},{"$f":"EingabeAngabe!Q49","v":""},{"$f":"EingabeAngabe!R49","v":""},{"$f":"EingabeAngabe!S49","v":""},{"$f":"EingabeAngabe!T49","v":""},{"$f":"EingabeAngabe!U49","v":""},{"$f":"EingabeAngabe!V49","v":""},{"$f":"EingabeAngabe!W49","v":""},{"$f":"EingabeAngabe!X49","v":""},{"$f":"EingabeAngabe!Y49","v":""},{"$f":"EingabeAngabe!Z49","v":""},{"$f":"EingabeAngabe!AA49","v":""},{"$f":"EingabeAngabe!AB49","v":""},{"$f":"EingabeAngabe!AC49","v":""},{"$f":"EingabeAngabe!AD49","v":""},{"$f":"EingabeAngabe!AE49","v":""},{"$f":"EingabeAngabe!AF49","v":""},{"$f":"EingabeAngabe!AG49","v":""},{"$f":"EingabeAngabe!AH49","v":""},{"$f":"EingabeAngabe!AI49","v":""},{"$f":"EingabeAngabe!AJ49","v":""}]
[{"$f":"EingabeAngabe!B50","v":"SY30"},{"$f":"IF(EingabeAngabe!C50=\"\",\"\",EingabeAngabe!C50)","v":""},{"$f":"EingabeAngabe!F50","v":1},{"$f":"EingabeAngabe!G50","v":""},{"$f":"EingabeAngabe!H50","v":""},{"$f":"EingabeAngabe!I50","v":""},{"$f":"EingabeAngabe!J50","v":""},{"$f":"EingabeAngabe!K50","v":""},{"$f":"EingabeAngabe!L50","v":""},{"$f":"EingabeAngabe!M50","v":""},{"$f":"EingabeAngabe!N50","v":""},{"$f":"EingabeAngabe!O50","v":""},{"$f":"EingabeAngabe!P50","v":""},{"$f":"EingabeAngabe!Q50","v":""},{"$f":"EingabeAngabe!R50","v":""},{"$f":"EingabeAngabe!S50","v":""},{"$f":"EingabeAngabe!T50","v":""},{"$f":"EingabeAngabe!U50","v":""},{"$f":"EingabeAngabe!V50","v":""},{"$f":"EingabeAngabe!W50","v":""},{"$f":"EingabeAngabe!X50","v":""},{"$f":"EingabeAngabe!Y50","v":""},{"$f":"EingabeAngabe!Z50","v":""},{"$f":"EingabeAngabe!AA50","v":""},{"$f":"EingabeAngabe!AB50","v":""},{"$f":"EingabeAngabe!AC50","v":""},{"$f":"EingabeAngabe!AD50","v":""},{"$f":"EingabeAngabe!AE50","v":""},{"$f":"EingabeAngabe!AF50","v":""},{"$f":"EingabeAngabe!AG50","v":""},{"$f":"EingabeAngabe!AH50","v":""},{"$f":"EingabeAngabe!AI50","v":""},{"$f":"EingabeAngabe!AJ50","v":""}]
[{"$f":"EingabeAngabe!B51","v":"SY31"},{"$f":"IF(EingabeAngabe!C51=\"\",\"\",EingabeAngabe!C51)","v":""},{"$f":"EingabeAngabe!F51","v":1},{"$f":"EingabeAngabe!G51","v":""},{"$f":"EingabeAngabe!H51","v":""},{"$f":"EingabeAngabe!I51","v":""},{"$f":"EingabeAngabe!J51","v":""},{"$f":"EingabeAngabe!K51","v":""},{"$f":"EingabeAngabe!L51","v":""},{"$f":"EingabeAngabe!M51","v":""},{"$f":"EingabeAngabe!N51","v":""},{"$f":"EingabeAngabe!O51","v":""},{"$f":"EingabeAngabe!P51","v":""},{"$f":"EingabeAngabe!Q51","v":""},{"$f":"EingabeAngabe!R51","v":""},{"$f":"EingabeAngabe!S51","v":""},{"$f":"EingabeAngabe!T51","v":""},{"$f":"EingabeAngabe!U51","v":""},{"$f":"EingabeAngabe!V51","v":""},{"$f":"EingabeAngabe!W51","v":""},{"$f":"EingabeAngabe!X51","v":""},{"$f":"EingabeAngabe!Y51","v":""},{"$f":"EingabeAngabe!Z51","v":""},{"$f":"EingabeAngabe!AA51","v":""},{"$f":"EingabeAngabe!AB51","v":""},{"$f":"EingabeAngabe!AC51","v":""},{"$f":"EingabeAngabe!AD51","v":""},{"$f":"EingabeAngabe!AE51","v":""},{"$f":"EingabeAngabe!AF51","v":""},{"$f":"EingabeAngabe!AG51","v":""},{"$f":"EingabeAngabe!AH51","v":""},{"$f":"EingabeAngabe!AI51","v":""},{"$f":"EingabeAngabe!AJ51","v":""}]
[{"$f":"EingabeAngabe!B52","v":"SY32"},{"$f":"IF(EingabeAngabe!C52=\"\",\"\",EingabeAngabe!C52)","v":""},{"$f":"EingabeAngabe!F52","v":1},{"$f":"EingabeAngabe!G52","v":""},{"$f":"EingabeAngabe!H52","v":""},{"$f":"EingabeAngabe!I52","v":""},{"$f":"EingabeAngabe!J52","v":""},{"$f":"EingabeAngabe!K52","v":""},{"$f":"EingabeAngabe!L52","v":""},{"$f":"EingabeAngabe!M52","v":""},{"$f":"EingabeAngabe!N52","v":""},{"$f":"EingabeAngabe!O52","v":""},{"$f":"EingabeAngabe!P52","v":""},{"$f":"EingabeAngabe!Q52","v":""},{"$f":"EingabeAngabe!R52","v":""},{"$f":"EingabeAngabe!S52","v":""},{"$f":"EingabeAngabe!T52","v":""},{"$f":"EingabeAngabe!U52","v":""},{"$f":"EingabeAngabe!V52","v":""},{"$f":"EingabeAngabe!W52","v":""},{"$f":"EingabeAngabe!X52","v":""},{"$f":"EingabeAngabe!Y52","v":""},{"$f":"EingabeAngabe!Z52","v":""},{"$f":"EingabeAngabe!AA52","v":""},{"$f":"EingabeAngabe!AB52","v":""},{"$f":"EingabeAngabe!AC52","v":""},{"$f":"EingabeAngabe!AD52","v":""},{"$f":"EingabeAngabe!AE52","v":""},{"$f":"EingabeAngabe!AF52","v":""},{"$f":"EingabeAngabe!AG52","v":""},{"$f":"EingabeAngabe!AH52","v":""},{"$f":"EingabeAngabe!AI52","v":""},{"$f":"EingabeAngabe!AJ52","v":""}]
[{"$f":"EingabeAngabe!B53","v":"SY33"},{"$f":"IF(EingabeAngabe!C53=\"\",\"\",EingabeAngabe!C53)","v":""},{"$f":"EingabeAngabe!F53","v":1},{"$f":"EingabeAngabe!G53","v":""},{"$f":"EingabeAngabe!H53","v":""},{"$f":"EingabeAngabe!I53","v":""},{"$f":"EingabeAngabe!J53","v":""},{"$f":"EingabeAngabe!K53","v":""},{"$f":"EingabeAngabe!L53","v":""},{"$f":"EingabeAngabe!M53","v":""},{"$f":"EingabeAngabe!N53","v":""},{"$f":"EingabeAngabe!O53","v":""},{"$f":"EingabeAngabe!P53","v":""},{"$f":"EingabeAngabe!Q53","v":""},{"$f":"EingabeAngabe!R53","v":""},{"$f":"EingabeAngabe!S53","v":""},{"$f":"EingabeAngabe!T53","v":""},{"$f":"EingabeAngabe!U53","v":""},{"$f":"EingabeAngabe!V53","v":""},{"$f":"EingabeAngabe!W53","v":""},{"$f":"EingabeAngabe!X53","v":""},{"$f":"EingabeAngabe!Y53","v":""},{"$f":"EingabeAngabe!Z53","v":""},{"$f":"EingabeAngabe!AA53","v":""},{"$f":"EingabeAngabe!AB53","v":""},{"$f":"EingabeAngabe!AC53","v":""},{"$f":"EingabeAngabe!AD53","v":""},{"$f":"EingabeAngabe!AE53","v":""},{"$f":"EingabeAngabe!AF53","v":""},{"$f":"EingabeAngabe!AG53","v":""},{"$f":"EingabeAngabe!AH53","v":""},{"$f":"EingabeAngabe!AI53","v":""},{"$f":"EingabeAngabe!AJ53","v":""}]
[{"$f":"EingabeAngabe!B54","v":"SY34"},{"$f":"IF(EingabeAngabe!C54=\"\",\"\",EingabeAngabe!C54)","v":""},{"$f":"EingabeAngabe!F54","v":1},{"$f":"EingabeAngabe!G54","v":""},{"$f":"EingabeAngabe!H54","v":""},{"$f":"EingabeAngabe!I54","v":""},{"$f":"EingabeAngabe!J54","v":""},{"$f":"EingabeAngabe!K54","v":""},{"$f":"EingabeAngabe!L54","v":""},{"$f":"EingabeAngabe!M54","v":""},{"$f":"EingabeAngabe!N54","v":""},{"$f":"EingabeAngabe!O54","v":""},{"$f":"EingabeAngabe!P54","v":""},{"$f":"EingabeAngabe!Q54","v":""},{"$f":"EingabeAngabe!R54","v":""},{"$f":"EingabeAngabe!S54","v":""},{"$f":"EingabeAngabe!T54","v":""},{"$f":"EingabeAngabe!U54","v":""},{"$f":"EingabeAngabe!V54","v":""},{"$f":"EingabeAngabe!W54","v":""},{"$f":"EingabeAngabe!X54","v":""},{"$f":"EingabeAngabe!Y54","v":""},{"$f":"EingabeAngabe!Z54","v":""},{"$f":"EingabeAngabe!AA54","v":""},{"$f":"EingabeAngabe!AB54","v":""},{"$f":"EingabeAngabe!AC54","v":""},{"$f":"EingabeAngabe!AD54","v":""},{"$f":"EingabeAngabe!AE54","v":""},{"$f":"EingabeAngabe!AF54","v":""},{"$f":"EingabeAngabe!AG54","v":""},{"$f":"EingabeAngabe!AH54","v":""},{"$f":"EingabeAngabe!AI54","v":""},{"$f":"EingabeAngabe!AJ54","v":""}]
[{"$f":"EingabeAngabe!B55","v":"SY35"},{"$f":"IF(EingabeAngabe!C55=\"\",\"\",EingabeAngabe!C55)","v":""},{"$f":"EingabeAngabe!F55","v":1},{"$f":"EingabeAngabe!G55","v":""},{"$f":"EingabeAngabe!H55","v":""},{"$f":"EingabeAngabe!I55","v":""},{"$f":"EingabeAngabe!J55","v":""},{"$f":"EingabeAngabe!K55","v":""},{"$f":"EingabeAngabe!L55","v":""},{"$f":"EingabeAngabe!M55","v":""},{"$f":"EingabeAngabe!N55","v":""},{"$f":"EingabeAngabe!O55","v":""},{"$f":"EingabeAngabe!P55","v":""},{"$f":"EingabeAngabe!Q55","v":""},{"$f":"EingabeAngabe!R55","v":""},{"$f":"EingabeAngabe!S55","v":""},{"$f":"EingabeAngabe!T55","v":""},{"$f":"EingabeAngabe!U55","v":""},{"$f":"EingabeAngabe!V55","v":""},{"$f":"EingabeAngabe!W55","v":""},{"$f":"EingabeAngabe!X55","v":""},{"$f":"EingabeAngabe!Y55","v":""},{"$f":"EingabeAngabe!Z55","v":""},{"$f":"EingabeAngabe!AA55","v":""},{"$f":"EingabeAngabe!AB55","v":""},{"$f":"EingabeAngabe!AC55","v":""},{"$f":"EingabeAngabe!AD55","v":""},{"$f":"EingabeAngabe!AE55","v":""},{"$f":"EingabeAngabe!AF55","v":""},{"$f":"EingabeAngabe!AG55","v":""},{"$f":"EingabeAngabe!AH55","v":""},{"$f":"EingabeAngabe!AI55","v":""},{"$f":"EingabeAngabe!AJ55","v":""}]
[{"$f":"EingabeAngabe!B56","v":"SY36"},{"$f":"IF(EingabeAngabe!C56=\"\",\"\",EingabeAngabe!C56)","v":""},{"$f":"EingabeAngabe!F56","v":1},{"$f":"EingabeAngabe!G56","v":""},{"$f":"EingabeAngabe!H56","v":""},{"$f":"EingabeAngabe!I56","v":""},{"$f":"EingabeAngabe!J56","v":""},{"$f":"EingabeAngabe!K56","v":""},{"$f":"EingabeAngabe!L56","v":""},{"$f":"EingabeAngabe!M56","v":""},{"$f":"EingabeAngabe!N56","v":""},{"$f":"EingabeAngabe!O56","v":""},{"$f":"EingabeAngabe!P56","v":""},{"$f":"EingabeAngabe!Q56","v":""},{"$f":"EingabeAngabe!R56","v":""},{"$f":"EingabeAngabe!S56","v":""},{"$f":"EingabeAngabe!T56","v":""},{"$f":"EingabeAngabe!U56","v":""},{"$f":"EingabeAngabe!V56","v":""},{"$f":"EingabeAngabe!W56","v":""},{"$f":"EingabeAngabe!X56","v":""},{"$f":"EingabeAngabe!Y56","v":""},{"$f":"EingabeAngabe!Z56","v":""},{"$f":"EingabeAngabe!AA56","v":""},{"$f":"EingabeAngabe!AB56","v":""},{"$f":"EingabeAngabe!AC56","v":""},{"$f":"EingabeAngabe!AD56","v":""},{"$f":"EingabeAngabe!AE56","v":""},{"$f":"EingabeAngabe!AF56","v":""},{"$f":"EingabeAngabe!AG56","v":""},{"$f":"EingabeAngabe!AH56","v":""},{"$f":"EingabeAngabe!AI56","v":""},{"$f":"EingabeAngabe!AJ56","v":""}]
[{"$f":"EingabeAngabe!B57","v":0},{"$f":"EingabeAngabe!C57","v":"SPRACHLICHE QUALITÄT IN DER ZIELSPRACHE"}]
[{"$f":"EingabeAngabe!B58","v":0},null,null,{"$f":"EingabeAngabe!G58","v":""},{"$f":"EingabeAngabe!H58","v":""},{"$f":"EingabeAngabe!I58","v":""},{"$f":"EingabeAngabe!J58","v":""},{"$f":"EingabeAngabe!K58","v":""},{"$f":"EingabeAngabe!L58","v":""},{"$f":"EingabeAngabe!M58","v":0},{"$f":"EingabeAngabe!N58","v":""},{"$f":"EingabeAngabe!O58","v":""},{"$f":"EingabeAngabe!P58","v":""},{"$f":"EingabeAngabe!Q58","v":""},{"$f":"EingabeAngabe!R58","v":""},{"$f":"EingabeAngabe!S58","v":""},{"$f":"EingabeAngabe!T58","v":""},{"$f":"EingabeAngabe!U58","v":""},{"$f":"EingabeAngabe!V58","v":""},{"$f":"EingabeAngabe!W58","v":""},{"$f":"EingabeAngabe!X58","v":""},{"$f":"EingabeAngabe!Y58","v":""},{"$f":"EingabeAngabe!Z58","v":""},{"$f":"EingabeAngabe!AA58","v":""},{"$f":"EingabeAngabe!AB58","v":""},{"$f":"EingabeAngabe!AC58","v":""},{"$f":"EingabeAngabe!AD58","v":""},{"$f":"EingabeAngabe!AE58","v":""},{"$f":"EingabeAngabe!AF58","v":""},{"$f":"EingabeAngabe!AG58","v":""},{"$f":"EingabeAngabe!AH58","v":""},{"$f":"EingabeAngabe!AI58","v":""},{"$f":"EingabeAngabe!AJ58","v":""}]
[null,"Summe",null,{"$f":"EingabeAngabe!G59","v":""},{"$f":"EingabeAngabe!H59","v":""},{"$f":"EingabeAngabe!I59","v":""},{"$f":"EingabeAngabe!J59","v":""},{"$f":"EingabeAngabe!K59","v":""},{"$f":"EingabeAngabe!L59","v":""},{"$f":"EingabeAngabe!M59","v":""},{"$f":"EingabeAngabe!N59","v":""},{"$f":"EingabeAngabe!O59","v":""},{"$f":"EingabeAngabe!P59","v":""},{"$f":"EingabeAngabe!Q59","v":""},{"$f":"EingabeAngabe!R59","v":""},{"$f":"EingabeAngabe!S59","v":""},{"$f":"EingabeAngabe!T59","v":""},{"$f":"EingabeAngabe!U59","v":""},{"$f":"EingabeAngabe!V59","v":""},{"$f":"EingabeAngabe!W59","v":""},{"$f":"EingabeAngabe!X59","v":""},{"$f":"EingabeAngabe!Y59","v":""},{"$f":"EingabeAngabe!Z59","v":""},{"$f":"EingabeAngabe!AA59","v":""},{"$f":"EingabeAngabe!AB59","v":""},{"$f":"EingabeAngabe!AC59","v":""},{"$f":"EingabeAngabe!AD59","v":""},{"$f":"EingabeAngabe!AE59","v":""},{"$f":"EingabeAngabe!AF59","v":""},{"$f":"EingabeAngabe!AG59","v":""},{"$f":"EingabeAngabe!AH59","v":""},{"$f":"EingabeAngabe!AI59","v":""},{"$f":"EingabeAngabe!AJ59","v":""}]
[{"$f":"EingabeAngabe!B60","v":0},null,{"$f":"EingabeAngabe!F60","v":18},{"$f":"EingabeAngabe!G60","v":""},{"$f":"EingabeAngabe!H60","v":""},{"$f":"EingabeAngabe!I60","v":""},{"$f":"EingabeAngabe!J60","v":""},{"$f":"EingabeAngabe!K60","v":""},{"$f":"EingabeAngabe!L60","v":""},{"$f":"EingabeAngabe!M60","v":""},{"$f":"EingabeAngabe!N60","v":""},{"$f":"EingabeAngabe!O60","v":""},{"$f":"EingabeAngabe!P60","v":""},{"$f":"EingabeAngabe!Q60","v":""},{"$f":"EingabeAngabe!R60","v":""},{"$f":"EingabeAngabe!S60","v":""},{"$f":"EingabeAngabe!T60","v":""},{"$f":"EingabeAngabe!U60","v":""},{"$f":"EingabeAngabe!V60","v":""},{"$f":"EingabeAngabe!W60","v":""},{"$f":"EingabeAngabe!X60","v":""},{"$f":"EingabeAngabe!Y60","v":""},{"$f":"EingabeAngabe!Z60","v":""},{"$f":"EingabeAngabe!AA60","v":""},{"$f":"EingabeAngabe!AB60","v":""},{"$f":"EingabeAngabe!AC60","v":""},{"$f":"EingabeAngabe!AD60","v":""},{"$f":"EingabeAngabe!AE60","v":""},{"$f":"EingabeAngabe!AF60","v":""},{"$f":"EingabeAngabe!AG60","v":""},{"$f":"EingabeAngabe!AH60","v":""},{"$f":"EingabeAngabe!AI60","v":""},{"$f":"EingabeAngabe!AJ60","v":""}]
[{"$f":"EingabeAngabe!B61","v":"IT1"},{"$f":"IF(EingabeAngabe!C61=\"\",\"\",EingabeAngabe!C61)","v":""},{"$f":"EingabeAngabe!F61","v":0},{"$f":"EingabeAngabe!G61","v":""},{"$f":"EingabeAngabe!H61","v":""},{"$f":"EingabeAngabe!I61","v":""},{"$f":"EingabeAngabe!J61","v":""},{"$f":"EingabeAngabe!K61","v":""},{"$f":"EingabeAngabe!L61","v":""},{"$f":"EingabeAngabe!M61","v":""},{"$f":"EingabeAngabe!N61","v":""},{"$f":"EingabeAngabe!O61","v":""},{"$f":"EingabeAngabe!P61","v":""},{"$f":"EingabeAngabe!Q61","v":""},{"$f":"EingabeAngabe!R61","v":""},{"$f":"EingabeAngabe!S61","v":""},{"$f":"EingabeAngabe!T61","v":""},{"$f":"EingabeAngabe!U61","v":""},{"$f":"EingabeAngabe!V61","v":""},{"$f":"EingabeAngabe!W61","v":""},{"$f":"EingabeAngabe!X61","v":""},{"$f":"EingabeAngabe!Y61","v":""},{"$f":"EingabeAngabe!Z61","v":""},{"$f":"EingabeAngabe!AA61","v":""},{"$f":"EingabeAngabe!AB61","v":""},{"$f":"EingabeAngabe!AC61","v":""},{"$f":"EingabeAngabe!AD61","v":""},{"$f":"EingabeAngabe!AE61","v":""},{"$f":"EingabeAngabe!AF61","v":""},{"$f":"EingabeAngabe!AG61","v":""},{"$f":"EingabeAngabe!AH61","v":""},{"$f":"EingabeAngabe!AI61","v":""},{"$f":"EingabeAngabe!AJ61","v":""}]
[{"$f":"EingabeAngabe!B62","v":"IT2"},{"$f":"IF(EingabeAngabe!C62=\"\",\"\",EingabeAngabe!C62)","v":""},{"$f":"EingabeAngabe!F62","v":0},{"$f":"EingabeAngabe!G62","v":""},{"$f":"EingabeAngabe!H62","v":""},{"$f":"EingabeAngabe!I62","v":""},{"$f":"EingabeAngabe!J62","v":""},{"$f":"EingabeAngabe!K62","v":""},{"$f":"EingabeAngabe!L62","v":""},{"$f":"EingabeAngabe!M62","v":""},{"$f":"EingabeAngabe!N62","v":""},{"$f":"EingabeAngabe!O62","v":""},{"$f":"EingabeAngabe!P62","v":""},{"$f":"EingabeAngabe!Q62","v":""},{"$f":"EingabeAngabe!R62","v":""},{"$f":"EingabeAngabe!S62","v":""},{"$f":"EingabeAngabe!T62","v":""},{"$f":"EingabeAngabe!U62","v":""},{"$f":"EingabeAngabe!V62","v":""},{"$f":"EingabeAngabe!W62","v":""},{"$f":"EingabeAngabe!X62","v":""},{"$f":"EingabeAngabe!Y62","v":""},{"$f":"EingabeAngabe!Z62","v":""},{"$f":"EingabeAngabe!AA62","v":""},{"$f":"EingabeAngabe!AB62","v":""},{"$f":"EingabeAngabe!AC62","v":""},{"$f":"EingabeAngabe!AD62","v":""},{"$f":"EingabeAngabe!AE62","v":""},{"$f":"EingabeAngabe!AF62","v":""},{"$f":"EingabeAngabe!AG62","v":""},{"$f":"EingabeAngabe!AH62","v":""},{"$f":"EingabeAngabe!AI62","v":""},{"$f":"EingabeAngabe!AJ62","v":""}]
[{"$f":"EingabeAngabe!B63","v":"IT3"},{"$f":"IF(EingabeAngabe!C63=\"\",\"\",EingabeAngabe!C63)","v":""},{"$f":"EingabeAngabe!F63","v":0},{"$f":"EingabeAngabe!G63","v":""},{"$f":"EingabeAngabe!H63","v":""},{"$f":"EingabeAngabe!I63","v":""},{"$f":"EingabeAngabe!J63","v":""},{"$f":"EingabeAngabe!K63","v":""},{"$f":"EingabeAngabe!L63","v":""},{"$f":"EingabeAngabe!M63","v":""},{"$f":"EingabeAngabe!N63","v":""},{"$f":"EingabeAngabe!O63","v":""},{"$f":"EingabeAngabe!P63","v":""},{"$f":"EingabeAngabe!Q63","v":""},{"$f":"EingabeAngabe!R63","v":""},{"$f":"EingabeAngabe!S63","v":""},{"$f":"EingabeAngabe!T63","v":""},{"$f":"EingabeAngabe!U63","v":""},{"$f":"EingabeAngabe!V63","v":""},{"$f":"EingabeAngabe!W63","v":""},{"$f":"EingabeAngabe!X63","v":""},{"$f":"EingabeAngabe!Y63","v":""},{"$f":"EingabeAngabe!Z63","v":""},{"$f":"EingabeAngabe!AA63","v":""},{"$f":"EingabeAngabe!AB63","v":""},{"$f":"EingabeAngabe!AC63","v":""},{"$f":"EingabeAngabe!AD63","v":""},{"$f":"EingabeAngabe!AE63","v":""},{"$f":"EingabeAngabe!AF63","v":""},{"$f":"EingabeAngabe!AG63","v":""},{"$f":"EingabeAngabe!AH63","v":""},{"$f":"EingabeAngabe!AI63","v":""},{"$f":"EingabeAngabe!AJ63","v":""}]
[{"$f":"EingabeAngabe!B64","v":"IT4"},{"$f":"IF(EingabeAngabe!C64=\"\",\"\",EingabeAngabe!C64)","v":""},{"$f":"EingabeAngabe!F64","v":0},{"$f":"EingabeAngabe!G64","v":""},{"$f":"EingabeAngabe!H64","v":""},{"$f":"EingabeAngabe!I64","v":""},{"$f":"EingabeAngabe!J64","v":""},{"$f":"EingabeAngabe!K64","v":""},{"$f":"EingabeAngabe!L64","v":""},{"$f":"EingabeAngabe!M64","v":""},{"$f":"EingabeAngabe!N64","v":""},{"$f":"EingabeAngabe!O64","v":""},{"$f":"EingabeAngabe!P64","v":""},{"$f":"EingabeAngabe!Q64","v":""},{"$f":"EingabeAngabe!R64","v":""},{"$f":"EingabeAngabe!S64","v":""},{"$f":"EingabeAngabe!T64","v":""},{"$f":"EingabeAngabe!U64","v":""},{"$f":"EingabeAngabe!V64","v":""},{"$f":"EingabeAngabe!W64","v":""},{"$f":"EingabeAngabe!X64","v":""},{"$f":"EingabeAngabe!Y64","v":""},{"$f":"EingabeAngabe!Z64","v":""},{"$f":"EingabeAngabe!AA64","v":""},{"$f":"EingabeAngabe!AB64","v":""},{"$f":"EingabeAngabe!AC64","v":""},{"$f":"EingabeAngabe!AD64","v":""},{"$f":"EingabeAngabe!AE64","v":""},{"$f":"EingabeAngabe!AF64","v":""},{"$f":"EingabeAngabe!AG64","v":""},{"$f":"EingabeAngabe!AH64","v":""},{"$f":"EingabeAngabe!AI64","v":""},{"$f":"EingabeAngabe!AJ64","v":""}]
[{"$f":"EingabeAngabe!B65","v":"IT5"},{"$f":"IF(EingabeAngabe!C65=\"\",\"\",EingabeAngabe!C65)","v":""},{"$f":"EingabeAngabe!F65","v":0},{"$f":"EingabeAngabe!G65","v":""},{"$f":"EingabeAngabe!H65","v":""},{"$f":"EingabeAngabe!I65","v":""},{"$f":"EingabeAngabe!J65","v":""},{"$f":"EingabeAngabe!K65","v":""},{"$f":"EingabeAngabe!L65","v":""},{"$f":"EingabeAngabe!M65","v":""},{"$f":"EingabeAngabe!N65","v":""},{"$f":"EingabeAngabe!O65","v":""},{"$f":"EingabeAngabe!P65","v":""},{"$f":"EingabeAngabe!Q65","v":""},{"$f":"EingabeAngabe!R65","v":""},{"$f":"EingabeAngabe!S65","v":""},{"$f":"EingabeAngabe!T65","v":""},{"$f":"EingabeAngabe!U65","v":""},{"$f":"EingabeAngabe!V65","v":""},{"$f":"EingabeAngabe!W65","v":""},{"$f":"EingabeAngabe!X65","v":""},{"$f":"EingabeAngabe!Y65","v":""},{"$f":"EingabeAngabe!Z65","v":""},{"$f":"EingabeAngabe!AA65","v":""},{"$f":"EingabeAngabe!AB65","v":""},{"$f":"EingabeAngabe!AC65","v":""},{"$f":"EingabeAngabe!AD65","v":""},{"$f":"EingabeAngabe!AE65","v":""},{"$f":"EingabeAngabe!AF65","v":""},{"$f":"EingabeAngabe!AG65","v":""},{"$f":"EingabeAngabe!AH65","v":""},{"$f":"EingabeAngabe!AI65","v":""},{"$f":"EingabeAngabe!AJ65","v":""}]
[{"$f":"EingabeAngabe!B66","v":"IT6"},{"$f":"IF(EingabeAngabe!C66=\"\",\"\",EingabeAngabe!C66)","v":""},{"$f":"EingabeAngabe!F66","v":0},{"$f":"EingabeAngabe!G66","v":""},{"$f":"EingabeAngabe!H66","v":""},{"$f":"EingabeAngabe!I66","v":""},{"$f":"EingabeAngabe!J66","v":""},{"$f":"EingabeAngabe!K66","v":""},{"$f":"EingabeAngabe!L66","v":""},{"$f":"EingabeAngabe!M66","v":""},{"$f":"EingabeAngabe!N66","v":""},{"$f":"EingabeAngabe!O66","v":""},{"$f":"EingabeAngabe!P66","v":""},{"$f":"EingabeAngabe!Q66","v":""},{"$f":"EingabeAngabe!R66","v":""},{"$f":"EingabeAngabe!S66","v":""},{"$f":"EingabeAngabe!T66","v":""},{"$f":"EingabeAngabe!U66","v":""},{"$f":"EingabeAngabe!V66","v":""},{"$f":"EingabeAngabe!W66","v":""},{"$f":"EingabeAngabe!X66","v":""},{"$f":"EingabeAngabe!Y66","v":""},{"$f":"EingabeAngabe!Z66","v":""},{"$f":"EingabeAngabe!AA66","v":""},{"$f":"EingabeAngabe!AB66","v":""},{"$f":"EingabeAngabe!AC66","v":""},{"$f":"EingabeAngabe!AD66","v":""},{"$f":"EingabeAngabe!AE66","v":""},{"$f":"EingabeAngabe!AF66","v":""},{"$f":"EingabeAngabe!AG66","v":""},{"$f":"EingabeAngabe!AH66","v":""},{"$f":"EingabeAngabe!AI66","v":""},{"$f":"EingabeAngabe!AJ66","v":""}]
[{"$f":"EingabeAngabe!B67","v":"IT7"},{"$f":"IF(EingabeAngabe!C67=\"\",\"\",EingabeAngabe!C67)","v":""},{"$f":"EingabeAngabe!F67","v":0},{"$f":"EingabeAngabe!G67","v":""},{"$f":"EingabeAngabe!H67","v":""},{"$f":"EingabeAngabe!I67","v":""},{"$f":"EingabeAngabe!J67","v":""},{"$f":"EingabeAngabe!K67","v":""},{"$f":"EingabeAngabe!L67","v":""},{"$f":"EingabeAngabe!M67","v":""},{"$f":"EingabeAngabe!N67","v":""},{"$f":"EingabeAngabe!O67","v":""},{"$f":"EingabeAngabe!P67","v":""},{"$f":"EingabeAngabe!Q67","v":""},{"$f":"EingabeAngabe!R67","v":""},{"$f":"EingabeAngabe!S67","v":""},{"$f":"EingabeAngabe!T67","v":""},{"$f":"EingabeAngabe!U67","v":""},{"$f":"EingabeAngabe!V67","v":""},{"$f":"EingabeAngabe!W67","v":""},{"$f":"EingabeAngabe!X67","v":""},{"$f":"EingabeAngabe!Y67","v":""},{"$f":"EingabeAngabe!Z67","v":""},{"$f":"EingabeAngabe!AA67","v":""},{"$f":"EingabeAngabe!AB67","v":""},{"$f":"EingabeAngabe!AC67","v":""},{"$f":"EingabeAngabe!AD67","v":""},{"$f":"EingabeAngabe!AE67","v":""},{"$f":"EingabeAngabe!AF67","v":""},{"$f":"EingabeAngabe!AG67","v":""},{"$f":"EingabeAngabe!AH67","v":""},{"$f":"EingabeAngabe!AI67","v":""},{"$f":"EingabeAngabe!AJ67","v":""}]
[{"$f":"EingabeAngabe!B68","v":"IT8"},{"$f":"IF(EingabeAngabe!C68=\"\",\"\",EingabeAngabe!C68)","v":""},{"$f":"EingabeAngabe!F68","v":0},{"$f":"EingabeAngabe!G68","v":""},{"$f":"EingabeAngabe!H68","v":""},{"$f":"EingabeAngabe!I68","v":""},{"$f":"EingabeAngabe!J68","v":""},{"$f":"EingabeAngabe!K68","v":""},{"$f":"EingabeAngabe!L68","v":""},{"$f":"EingabeAngabe!M68","v":""},{"$f":"EingabeAngabe!N68","v":""},{"$f":"EingabeAngabe!O68","v":""},{"$f":"EingabeAngabe!P68","v":""},{"$f":"EingabeAngabe!Q68","v":""},{"$f":"EingabeAngabe!R68","v":""},{"$f":"EingabeAngabe!S68","v":""},{"$f":"EingabeAngabe!T68","v":""},{"$f":"EingabeAngabe!U68","v":""},{"$f":"EingabeAngabe!V68","v":""},{"$f":"EingabeAngabe!W68","v":""},{"$f":"EingabeAngabe!X68","v":""},{"$f":"EingabeAngabe!Y68","v":""},{"$f":"EingabeAngabe!Z68","v":""},{"$f":"EingabeAngabe!AA68","v":""},{"$f":"EingabeAngabe!AB68","v":""},{"$f":"EingabeAngabe!AC68","v":""},{"$f":"EingabeAngabe!AD68","v":""},{"$f":"EingabeAngabe!AE68","v":""},{"$f":"EingabeAngabe!AF68","v":""},{"$f":"EingabeAngabe!AG68","v":""},{"$f":"EingabeAngabe!AH68","v":""},{"$f":"EingabeAngabe!AI68","v":""},{"$f":"EingabeAngabe!AJ68","v":""}]

{"sheet":"Schueler1Punkte","index":4,"n_rows":50,"n_cols":13,"rows_kept":50,"cut":false,"hidden":false,"merged":[[23,0,24,0],[11,0,12,0],[13,0,14,0],[15,0,16,0],[17,0,18,0],[19,0,20,0],[21,0,22,0],[7,0,8,0],[9,0,10,0],[1,8,1,11],[2,8,2,11],[3,8,3,11],[4,8,4,11],[9,5,10,5],[9,6,10,6],[10,1,10,4],[3,6,4,6],[44,1,44,2],[44,3,44,4],[45,1,45,2],[45,3,45,4],[46,1,46,2],[46,3,46,4],[48,1,48,2],[48,3,48,4],[49,1,49,4],[39,1,39,2],[39,3,39,4],[40,1,40,2],[40,3,40,4],[41,1,41,2],[47,1,47,2],[47,3,47,4],[33,1,33,2],[33,3,33,4],[41,3,41,4],[34,1,34,2],[34,3,34,4],[37,1,37,2],[37,3,37,4],[38,1,38,2],[38,3,38,4],[35,1,35,2],[23,5,24,5],[23,6,24,6],[24,1,24,4],[23,1,23,4],[25,1,25,2],[26,1,26,2],[27,1,27,2],[30,1,30,2],[28,1,28,2],[29,1,29,2],[31,1,31,2],[32,1,32,2],[11,5,12,5],[19,1,19,4],[19,5,20,5],[19,6,20,6],[20,1,20,4],[21,5,22,5],[21,6,22,6],[22,1,22,4],[21,1,21,4],[15,1,15,4],[15,5,16,5],[15,6,16,6],[16,1,16,4],[17,1,17,4],[17,5,18,5],[17,6,18,6],[18,1,18,4],[11,6,12,6],[12,1,12,4],[3,5,4,5],[9,1,9,4],[4,1,4,4],[6,1,6,4],[7,1,7,4],[7,5,8,5],[7,6,8,6],[8,1,8,4],[0,7,0,11],[5,1,5,4],[5,5,6,5],[0,0,0,1],[1,1,1,4],[3,1,3,4],[5,8,5,11],[1,0,2,0],[3,0,4,0],[5,0,6,0],[0,3,0,4],[5,6,6,6],[13,1,13,4],[13,5,14,5],[13,6,14,6],[14,1,14,4],[1,5,2,5],[1,6,2,6],[2,1,2,4],[11,1,11,4],[15,7,15,13],[12,7,12,10],[13,7,13,10],[14,7,14,10],[16,7,24,13],[6,8,6,11],[7,8,7,11],[8,8,8,11],[49,7,49,9],[46,7,46,11],[47,7,47,11],[48,7,48,11],[47,12,47,13],[48,12,48,13],[46,12,46,13],[49,10,49,13],[35,3,35,4],[36,1,36,2],[36,3,36,4],[42,1,42,2],[43,1,43,2],[42,3,42,4],[43,3,43,4],[27,7,44,13],[26,7,26,13],[9,7,9,13],[10,7,10,10],[10,11,10,13],[11,7,11,10],[11,11,11,13],[12,11,12,13],[13,11,13,13],[14,11,14,13]]}
["Übersetzungstext",null,"Schülername",{"$f":"SchuelernamenEingabe!B2","v":0},null,null,null,"Arbeitsaufgaben/ Interpretation"]
[{"$f":"EingabeAngabe!B6","v":"SE1"},{"$f":"IF(EingabeAngabe!C6=\"\",\"\",EingabeAngabe!C6)","v":""},null,null,null,{"$f":"IF(OR(G2=\"\",G2>EingabeAngabe!F6),\"F\",EingabeAngabe!B6)","v":"F"},null,{"$f":"EingabeAngabe!B61","v":"IT1"},{"$f":"IF(EingabeAngabe!C61=\"\",\"\",EingabeAngabe!C61)","v":""},null,null,null,{"$f":"IF(N2>EingabeAngabe!F61,\"F\",IF(EingabeAngabe!F61=\"\",\"\",EingabeAngabe!F61))","v":""}]
[null,{"$f":"IF(EingabeAngabe!C7=\"\",\"\",EingabeAngabe!C7)","v":""},null,null,null,null,null,{"$f":"EingabeAngabe!B62","v":"IT2"},{"$f":"IF(EingabeAngabe!C62=\"\",\"\",EingabeAngabe!C62)","v":""},null,null,null,{"$f":"IF(N3>EingabeAngabe!F62,\"F\",IF(EingabeAngabe!F62=\"\",\"\",EingabeAngabe!F62))","v":""}]
[{"$f":"EingabeAngabe!B8","v":"SE2"},{"$f":"IF(EingabeAngabe!C8=\"\",\"\",EingabeAngabe!C8)","v":""},null,null,null,{"$f":"IF(OR(G4=\"\",G4>EingabeAngabe!F8),\"F\",EingabeAngabe!B8)","v":"F"},null,{"$f":"EingabeAngabe!B63","v":"IT3"},{"$f":"IF(EingabeAngabe!C63=\"\",\"\",EingabeAngabe!C63)","v":""},null,null,null,{"$f":"IF(N4>EingabeAngabe!F63,\"F\",IF(EingabeAngabe!F63=\"\",\"\",EingabeAngabe!F63))","v":""}]
[null,{"$f":"IF(EingabeAngabe!C9=\"\",\"\",EingabeAngabe!C9)","v":""},null,null,null,null,null,{"$f":"EingabeAngabe!B64","v":"IT4"},{"$f":"IF(EingabeAngabe!C64=\"\",\"\",EingabeAngabe!C64)","v":""},null,null,null,{"$f":"IF(N5>EingabeAngabe!F64,\"F\",IF(EingabeAngabe!F64=\"\",\"\",EingabeAngabe!F64))","v":""}]
[{"$f":"EingabeAngabe!B10","v":"SE3"},{"$f":"IF(EingabeAngabe!C10=\"\",\"\",EingabeAngabe!C10)","v":""},null,null,null,{"$f":"IF(OR(G6=\"\",G6>EingabeAngabe!F10),\"F\",EingabeAngabe!B10)","v":"F"},null,{"$f":"EingabeAngabe!B65","v":"IT5"},{"$f":"IF(EingabeAngabe!C65=\"\",\"\",EingabeAngabe!C65)","v":""},null,null,null,{"$f":"IF(N6>EingabeAngabe!F65,\"F\",IF(EingabeAngabe!F65=\"\",\"\",EingabeAngabe!F65))","v":""}]
[null,{"$f":"IF(EingabeAngabe!C11=\"\",\"\",EingabeAngabe!C11)","v":""},null,null,null,null,null,{"$f":"EingabeAngabe!B66","v":"IT6"},{"$f":"IF(EingabeAngabe!C66=\"\",\"\",EingabeAngabe!C66)","v":""},null,null,null,{"$f":"IF(N7>EingabeAngabe!F66,\"F\",IF(EingabeAngabe!F66=\"\",\"\",EingabeAngabe!F66))","v":""}]
[{"$f":"EingabeAngabe!B12","v":"SE4"},{"$f":"IF(EingabeAngabe!C12=\"\",\"\",EingabeAngabe!C12)","v":""},null,null,null,{"$f":"IF(OR(G8=\"\",G8>EingabeAngabe!F12),\"F\",EingabeAngabe!B12)","v":"F"},null,{"$f":"EingabeAngabe!B67","v":"IT7"},{"$f":"IF(EingabeAngabe!C67=\"\",\"\",EingabeAngabe!C67)","v":""},null,null,null,{"$f":"IF(N8>EingabeAngabe!F67,\"F\",IF(EingabeAngabe!F67=\"\",\"\",EingabeAngabe!F67))","v":""}]
[null,{"$f":"IF(EingabeAngabe!C13=\"\",\"\",EingabeAngabe!C13)","v":""},null,null,null,null,null,{"$f":"EingabeAngabe!B68","v":"IT8"},{"$f":"IF(EingabeAngabe!C68=\"\",\"\",EingabeAngabe!C68)","v":""},null,null,null,{"$f":"IF(N9>EingabeAngabe!F68,\"F\",IF(EingabeAngabe!F68=\"\",\"\",EingabeAngabe!F68))","v":""}]
[{"$f":"EingabeAngabe!B14","v":"SE5"},{"$f":"IF(EingabeAngabe!C14=\"\",\"\",EingabeAngabe!C14)","v":""},null,null,null,{"$f":"IF(OR(G10=\"\",G10>EingabeAngabe!F14),\"F\",EingabeAngabe!B14)","v":"F"},null,"Notenschlüssel:"]
[null,{"$f":"IF(EingabeAngabe!C15=\"\",\"\",EingabeAngabe!C15)","v":""},null,null,null,null,null,"Sehr gut",null,null,null,{"$f":"EingabeAngabe!F72","v":"60 - 53"}]
[{"$f":"EingabeAngabe!B16","v":"SE6"},{"$f":"IF(EingabeAngabe!C16=\"\",\"\",EingabeAngabe!C16)","v":""},null,null,null,{"$f":"IF(OR(G12=\"\",G12>EingabeAngabe!F16),\"F\",EingabeAngabe!B16)","v":"F"},null,"Gut",null,null,null,{"$f":"EingabeAngabe!F73","v":"52 - 45"}]
[null,{"$f":"IF(EingabeAngabe!C17=\"\",\"\",EingabeAngabe!C17)","v":""},null,null,null,null,null,"Befriedigend",null,null,null,{"$f":"EingabeAngabe!F74","v":"44 - 37"}]
[{"$f":"EingabeAngabe!B18","v":"SE7"},{"$f":"IF(EingabeAngabe!C18=\"\",\"\",EingabeAngabe!C18)","v":""},null,null,null,{"$f":"IF(OR(G14=\"\",G14>EingabeAngabe!F18),\"F\",EingabeAngabe!B18)","v":"F"},null,"Genügend",null,null,null,{"$f":"EingabeAngabe!F75","v":"36 - 30"}]
[null,{"$f":"IF(EingabeAngabe!C19=\"\",\"\",EingabeAngabe!C19)","v":""},null,null,null,null,null,"Nicht genügend",null,null,null,{"$f":"EingabeAngabe!F76","v":"29 - 00"}]
[{"$f":"EingabeAngabe!B20","v":"SE8"},{"$f":"IF(EingabeAngabe!C20=\"\",\"\",EingabeAngabe!C20)","v":""},null,null,null,{"$f":"IF(OR(G16=\"\",G16>EingabeAngabe!F20),\"F\",EingabeAngabe!B20)","v":"F"},null,{"$f":"CONCATENATE(\"Notendefinition laut LBVO$14:\",\"            \",K50)","v":"Notendefinition laut LBVO$14:            "}]
[null,{"$f":"IF(EingabeAngabe!C21=\"\",\"\",EingabeAngabe!C21)","v":""},null,null,null,null,null,{"$f":"VLOOKUP(K50,SchuelernamenEingabe!D2:'SchuelernamenEingabe'!E40,2,FALSE)","v":{"$error":"#N/A"}}]
[{"$f":"EingabeAngabe!B22","v":"SE9"},{"$f":"IF(EingabeAngabe!C22=\"\",\"\",EingabeAngabe!C22)","v":""},null,null,null,{"$f":"IF(OR(G18=\"\",G18>EingabeAngabe!F22),\"F\",EingabeAngabe!B22)","v":"F"}]
[null,{"$f":"IF(EingabeAngabe!C23=\"\",\"\",EingabeAngabe!C23)","v":""}]
[{"$f":"EingabeAngabe!B24","v":"SE10"},{"$f":"IF(EingabeAngabe!C24=\"\",\"\",EingabeAngabe!C24)","v":""},null,null,null,{"$f":"IF(OR(G20=\"\",G20>EingabeAngabe!F24),\"F\",EingabeAngabe!B24)","v":"F"}]
[null,{"$f":"IF(EingabeAngabe!C25=\"\",\"\",EingabeAngabe!C25)","v":""}]
[{"$f":"EingabeAngabe!B26","v":"SE11"},{"$f":"IF(EingabeAngabe!C26=\"\",\"\",EingabeAngabe!C26)","v":""},null,null,null,{"$f":"IF(OR(G22=\"\",G22>EingabeAngabe!F26),\"F\",EingabeAngabe!B26)","v":"F"}]
[null,{"$f":"IF(EingabeAngabe!C27=\"\",\"\",EingabeAngabe!C27)","v":""}]
[{"$f":"EingabeAngabe!B28","v":"SE12"},{"$f":"IF(EingabeAngabe!C28=\"\",\"\",EingabeAngabe!C28)","v":""},null,null,null,{"$f":"IF(OR(G24=\"\",G24>EingabeAngabe!F28),\"F\",EingabeAngabe!B28)","v":"F"}]
[null,{"$f":"IF(EingabeAngabe!C29=\"\",\"\",EingabeAngabe!C29)","v":""}]
[{"$f":"EingabeAngabe!B31","v":"LE13"},{"$f":"IF(EingabeAngabe!C31=\"\",\"\",EingabeAngabe!C31)","v":""},null,{"$f":"IF(EingabeAngabe!D31=\"\",\"\",EingabeAngabe!D31)","v":""},{"$f":"IF(EingabeAngabe!E31=\"\",\"\",EingabeAngabe!E31)","v":""},{"$f":"IF(OR(G26=\"\",G26>EingabeAngabe!F31),\"F\",EingabeAngabe!B31)","v":"F"}]
[{"$f":"EingabeAngabe!B32","v":"LE14"},{"$f":"IF(EingabeAngabe!C32=\"\",\"\",EingabeAngabe!C32)","v":""},null,{"$f":"IF(EingabeAngabe!D32=\"\",\"\",EingabeAngabe!D32)","v":""},{"$f":"IF(EingabeAngabe!E32=\"\",\"\",EingabeAngabe!E32)","v":""},{"$f":"IF(OR(G27=\"\",G27>EingabeAngabe!F32),\"F\",EingabeAngabe!B32)","v":"F"},null,{"$f":"IF(EingabeAngabe!F80>\"\",EingabeAngabe!E79,\"\")","v":"Eigener Notenkommentar:"}]
[{"$f":"EingabeAngabe!B33","v":"LE15"},{"$f":"IF(EingabeAngabe!C33=\"\",\"\",EingabeAngabe!C33)","v":""},null,{"$f":"IF(EingabeAngabe!D33=\"\",\"\",EingabeAngabe!D33)","v":""},{"$f":"IF(EingabeAngabe!E33=\"\",\"\",EingabeAngabe!E33)","v":""},{"$f":"IF(OR(G28=\"\",G28>EingabeAngabe!F33),\"F\",EingabeAngabe!B33)","v":"F"}]
["LE16",{"$f":"IF(EingabeAngabe!C34=\"\",\"\",EingabeAngabe!C34)","v":""},null,{"$f":"IF(EingabeAngabe!D34=\"\",\"\",EingabeAngabe!D34)","v":""},{"$f":"IF(EingabeAngabe!E34=\"\",\"\",EingabeAngabe!E34)","v":""},{"$f":"IF(OR(G29=\"\",G29>EingabeAngabe!F34),\"F\",EingabeAngabe!B34)","v":"F"}]
["LE17",{"$f":"IF(EingabeAngabe!C35=\"\",\"\",EingabeAngabe!C35)","v":""},null,{"$f":"IF(EingabeAngabe!D35=\"\",\"\",EingabeAngabe!D35)","v":""},{"$f":"IF(EingabeAngabe!E35=\"\",\"\",EingabeAngabe!E35)","v":""},{"$f":"IF(OR(G30=\"\",G30>EingabeAngabe!F35),\"F\",EingabeAngabe!B35)","v":"F"}]
["LE18",{"$f":"IF(EingabeAngabe!C36=\"\",\"\",EingabeAngabe!C36)","v":""},null,{"$f":"IF(EingabeAngabe!D36=\"\",\"\",EingabeAngabe!D36)","v":""},{"$f":"IF(EingabeAngabe!E36=\"\",\"\",EingabeAngabe!E36)","v":""},{"$f":"IF(OR(G31=\"\",G31>EingabeAngabe!F36),\"F\",EingabeAngabe!B36)","v":"F"}]
["LE19",{"$f":"IF(EingabeAngabe!C37=\"\",\"\",EingabeAngabe!C37)","v":""},null,{"$f":"IF(EingabeAngabe!D37=\"\",\"\",EingabeAngabe!D37)","v":""},{"$f":"IF(EingabeAngabe!E37=\"\",\"\",EingabeAngabe!E37)","v":""},{"$f":"IF(OR(G32=\"\",G32>EingabeAngabe!F37),\"F\",EingabeAngabe!B37)","v":"F"}]
[{"$f":"EingabeAngabe!B38","v":"LE20"},{"$f":"IF(EingabeAngabe!C38=\"\",\"\",EingabeAngabe!C38)","v":""},null,{"$f":"IF(EingabeAngabe!D38=\"\",\"\",EingabeAngabe!D38)","v":""},{"$f":"IF(EingabeAngabe!E38=\"\",\"\",EingabeAngabe!E38)","v":""},{"$f":"IF(OR(G33=\"\",G33>EingabeAngabe!F38),\"F\",EingabeAngabe!B38)","v":"F"}]
[{"$f":"EingabeAngabe!B40","v":"MO21"},{"$f":"IF(EingabeAngabe!C40=\"\",\"\",EingabeAngabe!C40)","v":""},null,{"$f":"IF(EingabeAngabe!D40=\"\",\"\",EingabeAngabe!D40)","v":""},null,{"$f":"IF(OR(G34=\"\",G34>EingabeAngabe!F39),\"F\",EingabeAngabe!B40)","v":"F"}]
[{"$f":"EingabeAngabe!B41","v":"MO22"},{"$f":"IF(EingabeAngabe!C41=\"\",\"\",EingabeAngabe!C41)","v":""},null,{"$f":"IF(EingabeAngabe!D41=\"\",\"\",EingabeAngabe!D41)","v":""},null,{"$f":"IF(OR(G35=\"\",G35>EingabeAngabe!F40),\"F\",EingabeAngabe!B41)","v":"F"}]
["MO23",{"$f":"IF(EingabeAngabe!C42=\"\",\"\",EingabeAngabe!C42)","v":""},null,{"$f":"IF(EingabeAngabe!D42=\"\",\"\",EingabeAngabe!D42)","v":""},null,{"$f":"IF(OR(G36=\"\",G36>EingabeAngabe!F41),\"F\",EingabeAngabe!B42)","v":"F"}]
["MO24",{"$f":"IF(EingabeAngabe!C43=\"\",\"\",EingabeAngabe!C43)","v":""},null,{"$f":"IF(EingabeAngabe!D43=\"\",\"\",EingabeAngabe!D43)","v":""},null,{"$f":"IF(OR(G37=\"\",G37>EingabeAngabe!F42),\"F\",EingabeAngabe!B43)","v":"F"}]
["MO25",{"$f":"IF(EingabeAngabe!C44=\"\",\"\",EingabeAngabe!C44)","v":""},null,{"$f":"IF(EingabeAngabe!D44=\"\",\"\",EingabeAngabe!D44)","v":""},null,{"$f":"IF(OR(G38=\"\",G38>EingabeAngabe!F41),\"F\",EingabeAngabe!B42)","v":"F"}]
[{"$f":"EingabeAngabe!B45","v":"MO26"},{"$f":"IF(EingabeAngabe!C45=\"\",\"\",EingabeAngabe!C45)","v":""},null,{"$f":"IF(EingabeAngabe!D45=\"\",\"\",EingabeAngabe!D45)","v":""},null,{"$f":"IF(OR(G39=\"\",G39>EingabeAngabe!F42),\"F\",EingabeAngabe!B45)","v":"F"}]
[{"$f":"EingabeAngabe!B46","v":"MO27"},{"$f":"IF(EingabeAngabe!C46=\"\",\"\",EingabeAngabe!C46)","v":""},null,{"$f":"IF(EingabeAngabe!D46=\"\",\"\",EingabeAngabe!D46)","v":""},null,{"$f":"IF(OR(G40=\"\",G40>EingabeAngabe!F45),\"F\",EingabeAngabe!B46)","v":"F"}]
[{"$f":"EingabeAngabe!B47","v":"MO28"},{"$f":"IF(EingabeAngabe!C47=\"\",\"\",EingabeAngabe!C47)","v":""},null,{"$f":"IF(EingabeAngabe!D47=\"\",\"\",EingabeAngabe!D47)","v":""},null,{"$f":"IF(OR(G41=\"\",G41>EingabeAngabe!F46),\"F\",EingabeAngabe!B47)","v":"F"}]
[{"$f":"EingabeAngabe!B49","v":"SY29"},{"$f":"IF(EingabeAngabe!C49=\"\",\"\",EingabeAngabe!C49)","v":""},null,{"$f":"IF(EingabeAngabe!D49=\"\",\"\",EingabeAngabe!D49)","v":""},null,{"$f":"IF(OR(G42=\"\",G42>EingabeAngabe!F47),\"F\",EingabeAngabe!B49)","v":"F"}]
["SY30",{"$f":"IF(EingabeAngabe!C50=\"\",\"\",EingabeAngabe!C50)","v":""},null,{"$f":"IF(EingabeAngabe!D50=\"\",\"\",EingabeAngabe!D50)","v":""},null,{"$f":"IF(OR(G43=\"\",G43>EingabeAngabe!F48),\"F\",EingabeAngabe!B50)","v":"F"}]
["SY31",{"$f":"IF(EingabeAngabe!C51=\"\",\"\",EingabeAngabe!C51)","v":""},null,{"$f":"IF(EingabeAngabe!D51=\"\",\"\",EingabeAngabe!D51)","v":""},null,{"$f":"IF(OR(G44=\"\",G44>EingabeAngabe!F49),\"F\",EingabeAngabe!B51)","v":"F"}]
["SY32",{"$f":"IF(EingabeAngabe!C52=\"\",\"\",EingabeAngabe!C52)","v":""},null,{"$f":"IF(EingabeAngabe!D52=\"\",\"\",EingabeAngabe!D52)","v":""},null,{"$f":"IF(OR(G45=\"\",G45>EingabeAngabe!F50),\"F\",EingabeAngabe!B52)","v":"F"}]
["SY33",{"$f":"IF(EingabeAngabe!C53=\"\",\"\",EingabeAngabe!C53)","v":""},null,{"$f":"IF(EingabeAngabe!D53=\"\",\"\",EingabeAngabe!D53)","v":""},null,{"$f":"IF(OR(G46=\"\",G46>EingabeAngabe!F51),\"F\",EingabeAngabe!B53)","v":"F"}]
["SY34",{"$f":"IF(EingabeAngabe!C54=\"\",\"\",EingabeAngabe!C54)","v":""},null,{"$f":"IF(EingabeAngabe!D54=\"\",\"\",EingabeAngabe!D54)","v":""},null,{"$f":"IF(OR(G47=\"\",G47>EingabeAngabe!F52),\"F\",EingabeAngabe!B54)","v":"F"},null,"Summe Übersetzungstext",null,null,null,null,{"$f":"EingabeAngabe!G59","v":""}]
[{"$f":"EingabeAngabe!B55","v":"SY35"},{"$f":"IF(EingabeAngabe!C55=\"\",\"\",EingabeAngabe!C55)","v":""},null,{"$f":"IF(EingabeAngabe!D55=\"\",\"\",EingabeAngabe!D55)","v":""},null,{"$f":"IF(OR(G48=\"\",G48>EingabeAngabe!F53),\"F\",EingabeAngabe!B55)","v":"F"},null,"Summe Arbeitsaufgaben und Interpretation",null,null,null,null,{"$f":"EingabeAngabe!G60","v":""}]
[{"$f":"EingabeAngabe!B56","v":"SY36"},{"$f":"IF(EingabeAngabe!C56=\"\",\"\",EingabeAngabe!C56)","v":""},null,{"$f":"IF(EingabeAngabe!D56=\"\",\"\",EingabeAngabe!D56)","v":""},null,{"$f":"IF(OR(G49=\"\",G49>EingabeAngabe!F54),\"F\",EingabeAngabe!B56)","v":"F"},null,"Gesamtsumme",null,null,null,null,{"$f":"EingabeAngabe!G2","v":""}]
[null,{"$f":"EingabeAngabe!C57","v":"SPRACHLICHE QUALITÄT IN DER ZIELSPRACHE"},null,null,null,{"$f":"IF(OR(G50=1,G50=3,G50=5,G50>6),\"F\",\"6/4/2/0\")","v":"6/4/2/0"},null,"NOTE",null,null,{"$f":"IF(EingabeAngabe!G3=1,\"Sehr gut\",IF(EingabeAngabe!G3=2,\"Gut\",IF(EingabeAngabe!G3=3,\"Befriedigend\",IF(EingabeAngabe!G3=4,\"Genügend\",IF(EingabeAngabe!G3=5,\"Nicht genügend\",\"\")))))","v":""}]

{"sheet":"Schueler2Punkte","index":5,"n_rows":50,"n_cols":13,"rows_kept":50,"cut":false,"hidden":false,"merged":[[0,0,0,1],[0,3,0,4],[0,7,0,11],[1,0,2,0],[1,1,1,4],[1,5,2,5],[1,6,2,6],[1,8,1,11],[2,1,2,4],[2,8,2,11],[3,0,4,0],[3,1,3,4],[3,5,4,5],[3,6,4,6],[3,8,3,11],[4,1,4,4],[4,8,4,11],[5,0,6,0],[5,1,5,4],[5,5,6,5],[5,6,6,6],[5,8,5,11],[6,1,6,4],[6,8,6,11],[7,0,8,0],[7,1,7,4],[7,5,8,5],[7,6,8,6],[7,8,7,11],[8,1,8,4],[8,8,8,11],[9,0,10,0],[9,1,9,4],[9,5,10,5],[9,6,10,6],[9,7,9,13],[10,1,10,4],[10,7,10,10],[10,11,10,13],[11,0,12,0],[11,1,11,4],[11,5,12,5],[11,6,12,6],[11,7,11,10],[11,11,11,13],[12,1,12,4],[12,7,12,10],[12,11,12,13],[13,0,14,0],[13,1,13,4],[13,5,14,5],[13,6,14,6],[13,7,13,10],[13,11,13,13],[14,1,14,4],[14,7,14,10],[14,11,14,13],[15,0,16,0],[15,1,15,4],[15,5,16,5],[15,6,16,6],[15,7,15,13],[16,1,16,4],[16,7,24,13],[17,0,18,0],[17,1,17,4],[17,5,18,5],[17,6,18,6],[18,1,18,4],[19,0,20,0],[19,1,19,4],[19,5,20,5],[19,6,20,6],[20,1,20,4],[21,0,22,0],[21,1,21,4],[21,5,22,5],[21,6,22,6],[22,1,22,4],[23,0,24,0],[23,1,23,4],[23,5,24,5],[23,6,24,6],[24,1,24,4],[25,1,25,2],[26,1,26,2],[26,7,26,13],[27,1,27,2],[27,7,44,13],[28,1,28,2],[29,1,29,2],[30,1,30,2],[31,1,31,2],[32,1,32,2],[33,1,33,2],[33,3,33,4],[34,1,34,2],[34,3,34,4],[35,1,35,2],[35,3,35,4],[36,1,36,2],[36,3,36,4],[37,1,37,2],[37,3,37,4],[38,1,38,2],[38,3,38,4],[39,1,39,2],[39,3,39,4],[40,1,40,2],[40,3,40,4],[41,1,41,2],[41,3,41,4],[42,1,42,2],[42,3,42,4],[43,1,43,2],[43,3,43,4],[44,1,44,2],[44,3,44,4],[48,12,48,13],[45,1,45,2],[45,3,45,4],[46,1,46,2],[46,3,46,4],[46,7,46,11],[46,12,46,13],[49,1,49,4],[49,7,49,9],[49,10,49,13],[47,1,47,2],[47,3,47,4],[47,7,47,11],[47,12,47,13],[48,1,48,2],[48,3,48,4],[48,7,48,11]]}
["Übersetzungstext",null,"Schülername",{"$f":"SchuelernamenEingabe!B3","v":0},null,null,null,"Arbeitsaufgaben/ Interpretation"]
[{"$f":"EingabeAngabe!B6","v":"SE1"},{"$f":"IF(EingabeAngabe!C6=\"\",\"\",EingabeAngabe!C6)","v":""},null,null,null,{"$f":"IF(OR(G2=\"\",G2>EingabeAngabe!F6),\"F\",EingabeAngabe!B6)","v":"F"},null,{"$f":"EingabeAngabe!B61","v":"IT1"},{"$f":"IF(EingabeAngabe!C61=\"\",\"\",EingabeAngabe!C61)","v":""},null,null,null,{"$f":"IF(N2>EingabeAngabe!F61,\"F\",IF(EingabeAngabe!F61=\"\",\"\",EingabeAngabe!F61))","v":""}]
[null,{"$f":"IF(EingabeAngabe!C7=\"\",\"\",EingabeAngabe!C7)","v":""},null,null,null,null,null,{"$f":"EingabeAngabe!B62","v":"IT2"},{"$f":"IF(EingabeAngabe!C62=\"\",\"\",EingabeAngabe!C62)","v":""},null,null,null,{"$f":"IF(N3>EingabeAngabe!F62,\"F\",IF(EingabeAngabe!F62=\"\",\"\",EingabeAngabe!F62))","v":""}]
[{"$f":"EingabeAngabe!B8","v":"SE2"},{"$f":"IF(EingabeAngabe!C8=\"\",\"\",EingabeAngabe!C8)","v":""},null,null,null,{"$f":"IF(OR(G4=\"\",G4>EingabeAngabe!F8),\"F\",EingabeAngabe!B8)","v":"F"},null,{"$f":"EingabeAngabe!B63","v":"IT3"},{"$f":"IF(EingabeAngabe!C63=\"\",\"\",EingabeAngabe!C63)","v":""},null,null,null,{"$f":"IF(N4>EingabeAngabe!F63,\"F\",IF(EingabeAngabe!F63=\"\",\"\",EingabeAngabe!F63))","v":""}]
[null,{"$f":"IF(EingabeAngabe!C9=\"\",\"\",EingabeAngabe!C9)","v":""},null,null,null,null,null,{"$f":"EingabeAngabe!B64","v":"IT4"},{"$f":"IF(EingabeAngabe!C64=\"\",\"\",EingabeAngabe!C64)","v":""},null,null,null,{"$f":"IF(N5>EingabeAngabe!F64,\"F\",IF(EingabeAngabe!F64=\"\",\"\",EingabeAngabe!F64))","v":""}]
[{"$f":"EingabeAngabe!B10","v":"SE3"},{"$f":"IF(EingabeAngabe!C10=\"\",\"\",EingabeAngabe!C10)","v":""},null,null,null,{"$f":"IF(OR(G6=\"\",G6>EingabeAngabe!F10),\"F\",EingabeAngabe!B10)","v":"F"},null,{"$f":"EingabeAngabe!B65","v":"IT5"},{"$f":"IF(EingabeAngabe!C65=\"\",\"\",EingabeAngabe!C65)","v":""},null,null,null,{"$f":"IF(N6>EingabeAngabe!F65,\"F\",IF(EingabeAngabe!F65=\"\",\"\",EingabeAngabe!F65))","v":""}]
[null,{"$f":"IF(EingabeAngabe!C11=\"\",\"\",EingabeAngabe!C11)","v":""},null,null,null,null,null,{"$f":"EingabeAngabe!B66","v":"IT6"},{"$f":"IF(EingabeAngabe!C66=\"\",\"\",EingabeAngabe!C66)","v":""},null,null,null,{"$f":"IF(N7>EingabeAngabe!F66,\"F\",IF(EingabeAngabe!F66=\"\",\"\",EingabeAngabe!F66))","v":""}]
[{"$f":"EingabeAngabe!B12","v":"SE4"},{"$f":"IF(EingabeAngabe!C12=\"\",\"\",EingabeAngabe!C12)","v":""},null,null,null,{"$f":"IF(OR(G8=\"\",G8>EingabeAngabe!F12),\"F\",EingabeAngabe!B12)","v":"F"},null,{"$f":"EingabeAngabe!B67","v":"IT7"},{"$f":"IF(EingabeAngabe!C67=\"\",\"\",EingabeAngabe!C67)","v":""},null,null,null,{"$f":"IF(N8>EingabeAngabe!F67,\"F\",IF(EingabeAngabe!F67=\"\",\"\",EingabeAngabe!F67))","v":""}]
[null,{"$f":"IF(EingabeAngabe!C13=\"\",\"\",EingabeAngabe!C13)","v":""},null,null,null,null,null,{"$f":"EingabeAngabe!B68","v":"IT8"},{"$f":"IF(EingabeAngabe!C68=\"\",\"\",EingabeAngabe!C68)","v":""},null,null,null,{"$f":"IF(N9>EingabeAngabe!F68,\"F\",IF(EingabeAngabe!F68=\"\",\"\",EingabeAngabe!F68))","v":""}]
[{"$f":"EingabeAngabe!B14","v":"SE5"},{"$f":"IF(EingabeAngabe!C14=\"\",\"\",EingabeAngabe!C14)","v":""},null,null,null,{"$f":"IF(OR(G10=\"\",G10>EingabeAngabe!F14),\"F\",EingabeAngabe!B14)","v":"F"},null,"Notenschlüssel:"]
[null,{"$f":"IF(EingabeAngabe!C15=\"\",\"\",EingabeAngabe!C15)","v":""},null,null,null,null,null,"Sehr gut",null,null,null,{"$f":"EingabeAngabe!F72","v":"60 - 53"}]
[{"$f":"EingabeAngabe!B16","v":"SE6"},{"$f":"IF(EingabeAngabe!C16=\"\",\"\",EingabeAngabe!C16)","v":""},null,null,null,{"$f":"IF(OR(G12=\"\",G12>EingabeAngabe!F16),\"F\",EingabeAngabe!B16)","v":"F"},null,"Gut",null,null,null,{"$f":"EingabeAngabe!F73","v":"52 - 45"}]
[null,{"$f":"IF(EingabeAngabe!C17=\"\",\"\",EingabeAngabe!C17)","v":""},null,null,null,null,null,"Befriedigend",null,null,null,{"$f":"EingabeAngabe!F74","v":"44 - 37"}]
[{"$f":"EingabeAngabe!B18","v":"SE7"},{"$f":"IF(EingabeAngabe!C18=\"\",\"\",EingabeAngabe!C18)","v":""},null,null,null,{"$f":"IF(OR(G14=\"\",G14>EingabeAngabe!F18),\"F\",EingabeAngabe!B18)","v":"F"},null,"Genügend",null,null,null,{"$f":"EingabeAngabe!F75","v":"36 - 30"}]
[null,{"$f":"IF(EingabeAngabe!C19=\"\",\"\",EingabeAngabe!C19)","v":""},null,null,null,null,null,"Nicht genügend",null,null,null,{"$f":"EingabeAngabe!F76","v":"29 - 00"}]
[{"$f":"EingabeAngabe!B20","v":"SE8"},{"$f":"IF(EingabeAngabe!C20=\"\",\"\",EingabeAngabe!C20)","v":""},null,null,null,{"$f":"IF(OR(G16=\"\",G16>EingabeAngabe!F20),\"F\",EingabeAngabe!B20)","v":"F"},null,{"$f":"CONCATENATE(\"Notendefinition laut LBVO$14:\",\"            \",K50)","v":"Notendefinition laut LBVO$14:            "}]
[null,{"$f":"IF(EingabeAngabe!C21=\"\",\"\",EingabeAngabe!C21)","v":""},null,null,null,null,null,{"$f":"VLOOKUP(K50,SchuelernamenEingabe!D2:'SchuelernamenEingabe'!E40,2,FALSE)","v":{"$error":"#N/A"}}]
[{"$f":"EingabeAngabe!B22","v":"SE9"},{"$f":"IF(EingabeAngabe!C22=\"\",\"\",EingabeAngabe!C22)","v":""},null,null,null,{"$f":"IF(OR(G18=\"\",G18>EingabeAngabe!F22),\"F\",EingabeAngabe!B22)","v":"F"}]
[null,{"$f":"IF(EingabeAngabe!C23=\"\",\"\",EingabeAngabe!C23)","v":""}]
[{"$f":"EingabeAngabe!B24","v":"SE10"},{"$f":"IF(EingabeAngabe!C24=\"\",\"\",EingabeAngabe!C24)","v":""},null,null,null,{"$f":"IF(OR(G20=\"\",G20>EingabeAngabe!F24),\"F\",EingabeAngabe!B24)","v":"F"}]
[null,{"$f":"IF(EingabeAngabe!C25=\"\",\"\",EingabeAngabe!C25)","v":""}]
[{"$f":"EingabeAngabe!B26","v":"SE11"},{"$f":"IF(EingabeAngabe!C26=\"\",\"\",EingabeAngabe!C26)","v":""},null,null,null,{"$f":"IF(OR(G22=\"\",G22>EingabeAngabe!F26),\"F\",EingabeAngabe!B26)","v":"F"}]
[null,{"$f":"IF(EingabeAngabe!C27=\"\",\"\",EingabeAngabe!C27)","v":""}]
[{"$f":"EingabeAngabe!B28","v":"SE12"},{"$f":"IF(EingabeAngabe!C28=\"\",\"\",EingabeAngabe!C28)","v":""},null,null,null,{"$f":"IF(OR(G24=\"\",G24>EingabeAngabe!F28),\"F\",EingabeAngabe!B28)","v":"F"}]
[null,{"$f":"IF(EingabeAngabe!C29=\"\",\"\",EingabeAngabe!C29)","v":""}]
[{"$f":"EingabeAngabe!B31","v":"LE13"},{"$f":"IF(EingabeAngabe!C31=\"\",\"\",EingabeAngabe!C31)","v":""},null,{"$f":"IF(EingabeAngabe!D31=\"\",\"\",EingabeAngabe!D31)","v":""},{"$f":"IF(EingabeAngabe!E31=\"\",\"\",EingabeAngabe!E31)","v":""},{"$f":"IF(OR(G26=\"\",G26>EingabeAngabe!F31),\"F\",EingabeAngabe!B31)","v":"F"}]
[{"$f":"EingabeAngabe!B32","v":"LE14"},{"$f":"IF(EingabeAngabe!C32=\"\",\"\",EingabeAngabe!C32)","v":""},null,{"$f":"IF(EingabeAngabe!D32=\"\",\"\",EingabeAngabe!D32)","v":""},{"$f":"IF(EingabeAngabe!E32=\"\",\"\",EingabeAngabe!E32)","v":""},{"$f":"IF(OR(G27=\"\",G27>EingabeAngabe!F32),\"F\",EingabeAngabe!B32)","v":"F"},null,{"$f":"IF(EingabeAngabe!F80>\"\",EingabeAngabe!E79,\"\")","v":"Eigener Notenkommentar:"}]
[{"$f":"EingabeAngabe!B33","v":"LE15"},{"$f":"IF(EingabeAngabe!C33=\"\",\"\",EingabeAngabe!C33)","v":""},null,{"$f":"IF(EingabeAngabe!D33=\"\",\"\",EingabeAngabe!D33)","v":""},{"$f":"IF(EingabeAngabe!E33=\"\",\"\",EingabeAngabe!E33)","v":""},{"$f":"IF(OR(G28=\"\",G28>EingabeAngabe!F33),\"F\",EingabeAngabe!B33)","v":"F"}]
["LE16",{"$f":"IF(EingabeAngabe!C34=\"\",\"\",EingabeAngabe!C34)","v":""},null,{"$f":"IF(EingabeAngabe!D34=\"\",\"\",EingabeAngabe!D34)","v":""},{"$f":"IF(EingabeAngabe!E34=\"\",\"\",EingabeAngabe!E34)","v":""},{"$f":"IF(OR(G29=\"\",G29>EingabeAngabe!F34),\"F\",EingabeAngabe!B34)","v":"F"}]
["LE17",{"$f":"IF(EingabeAngabe!C35=\"\",\"\",EingabeAngabe!C35)","v":""},null,{"$f":"IF(EingabeAngabe!D35=\"\",\"\",EingabeAngabe!D35)","v":""},{"$f":"IF(EingabeAngabe!E35=\"\",\"\",EingabeAngabe!E35)","v":""},{"$f":"IF(OR(G30=\"\",G30>EingabeAngabe!F35),\"F\",EingabeAngabe!B35)","v":"F"}]
["LE18",{"$f":"IF(EingabeAngabe!C36=\"\",\"\",EingabeAngabe!C36)","v":""},null,{"$f":"IF(EingabeAngabe!D36=\"\",\"\",EingabeAngabe!D36)","v":""},{"$f":"IF(EingabeAngabe!E36=\"\",\"\",EingabeAngabe!E36)","v":""},{"$f":"IF(OR(G31=\"\",G31>EingabeAngabe!F36),\"F\",EingabeAngabe!B36)","v":"F"}]
["LE19",{"$f":"IF(EingabeAngabe!C37=\"\",\"\",EingabeAngabe!C37)","v":""},null,{"$f":"IF(EingabeAngabe!D37=\"\",\"\",EingabeAngabe!D37)","v":""},{"$f":"IF(EingabeAngabe!E37=\"\",\"\",EingabeAngabe!E37)","v":""},{"$f":"IF(OR(G32=\"\",G32>EingabeAngabe!F37),\"F\",EingabeAngabe!B37)","v":"F"}]
[{"$f":"EingabeAngabe!B38","v":"LE20"},{"$f":"IF(EingabeAngabe!C38=\"\",\"\",EingabeAngabe!C38)","v":""},null,{"$f":"IF(EingabeAngabe!D38=\"\",\"\",EingabeAngabe!D38)","v":""},{"$f":"IF(EingabeAngabe!E38=\"\",\"\",EingabeAngabe!E38)","v":""},{"$f":"IF(OR(G33=\"\",G33>EingabeAngabe!F38),\"F\",EingabeAngabe!B38)","v":"F"}]
[{"$f":"EingabeAngabe!B40","v":"MO21"},{"$f":"IF(EingabeAngabe!C40=\"\",\"\",EingabeAngabe!C40)","v":""},null,{"$f":"IF(EingabeAngabe!D40=\"\",\"\",EingabeAngabe!D40)","v":""},null,{"$f":"IF(OR(G34=\"\",G34>EingabeAngabe!F39),\"F\",EingabeAngabe!B40)","v":"F"}]
[{"$f":"EingabeAngabe!B41","v":"MO22"},{"$f":"IF(EingabeAngabe!C41=\"\",\"\",EingabeAngabe!C41)","v":""},null,{"$f":"IF(EingabeAngabe!D41=\"\",\"\",EingabeAngabe!D41)","v":""},null,{"$f":"IF(OR(G35=\"\",G35>EingabeAngabe!F40),\"F\",EingabeAngabe!B41)","v":"F"}]
["MO23",{"$f":"IF(EingabeAngabe!C42=\"\",\"\",EingabeAngabe!C42)","v":""},null,{"$f":"IF(EingabeAngabe!D42=\"\",\"\",EingabeAngabe!D42)","v":""},null,{"$f":"IF(OR(G36=\"\",G36>EingabeAngabe!F41),\"F\",EingabeAngabe!B42)","v":"F"}]
["MO24",{"$f":"IF(EingabeAngabe!C43=\"\",\"\",EingabeAngabe!C43)","v":""},null,{"$f":"IF(EingabeAngabe!D43=\"\",\"\",EingabeAngabe!D43)","v":""},null,{"$f":"IF(OR(G37=\"\",G37>EingabeAngabe!F42),\"F\",EingabeAngabe!B43)","v":"F"}]
["MO25",{"$f":"IF(EingabeAngabe!C44=\"\",\"\",EingabeAngabe!C44)","v":""},null,{"$f":"IF(EingabeAngabe!D44=\"\",\"\",EingabeAngabe!D44)","v":""},null,{"$f":"IF(OR(G38=\"\",G38>EingabeAngabe!F41),\"F\",EingabeAngabe!B42)","v":"F"}]
[{"$f":"EingabeAngabe!B45","v":"MO26"},{"$f":"IF(EingabeAngabe!C45=\"\",\"\",EingabeAngabe!C45)","v":""},null,{"$f":"IF(EingabeAngabe!D45=\"\",\"\",EingabeAngabe!D45)","v":""},null,{"$f":"IF(OR(G39=\"\",G39>EingabeAngabe!F42),\"F\",EingabeAngabe!B45)","v":"F"}]
[{"$f":"EingabeAngabe!B46","v":"MO27"},{"$f":"IF(EingabeAngabe!C46=\"\",\"\",EingabeAngabe!C46)","v":""},null,{"$f":"IF(EingabeAngabe!D46=\"\",\"\",EingabeAngabe!D46)","v":""},null,{"$f":"IF(OR(G40=\"\",G40>EingabeAngabe!F45),\"F\",EingabeAngabe!B46)","v":"F"}]
[{"$f":"EingabeAngabe!B47","v":"MO28"},{"$f":"IF(EingabeAngabe!C47=\"\",\"\",EingabeAngabe!C47)","v":""},null,{"$f":"IF(EingabeAngabe!D47=\"\",\"\",EingabeAngabe!D47)","v":""},null,{"$f":"IF(OR(G41=\"\",G41>EingabeAngabe!F46),\"F\",EingabeAngabe!B47)","v":"F"}]
[{"$f":"EingabeAngabe!B49","v":"SY29"},{"$f":"IF(EingabeAngabe!C49=\"\",\"\",EingabeAngabe!C49)","v":""},null,{"$f":"IF(EingabeAngabe!D49=\"\",\"\",EingabeAngabe!D49)","v":""},null,{"$f":"IF(OR(G42=\"\",G42>EingabeAngabe!F47),\"F\",EingabeAngabe!B49)","v":"F"}]
["SY30",{"$f":"IF(EingabeAngabe!C50=\"\",\"\",EingabeAngabe!C50)","v":""},null,{"$f":"IF(EingabeAngabe!D50=\"\",\"\",EingabeAngabe!D50)","v":""},null,{"$f":"IF(OR(G43=\"\",G43>EingabeAngabe!F48),\"F\",EingabeAngabe!B50)","v":"F"}]
["SY31",{"$f":"IF(EingabeAngabe!C51=\"\",\"\",EingabeAngabe!C51)","v":""},null,{"$f":"IF(EingabeAngabe!D51=\"\",\"\",EingabeAngabe!D51)","v":""},null,{"$f":"IF(OR(G44=\"\",G44>EingabeAngabe!F49),\"F\",EingabeAngabe!B51)","v":"F"}]
["SY32",{"$f":"IF(EingabeAngabe!C52=\"\",\"\",EingabeAngabe!C52)","v":""},null,{"$f":"IF(EingabeAngabe!D52=\"\",\"\",EingabeAngabe!D52)","v":""},null,{"$f":"IF(OR(G45=\"\",G45>EingabeAngabe!F50),\"F\",EingabeAngabe!B52)","v":"F"}]
["SY33",{"$f":"IF(EingabeAngabe!C53=\"\",\"\",EingabeAngabe!C53)","v":""},null,{"$f":"IF(EingabeAngabe!D53=\"\",\"\",EingabeAngabe!D53)","v":""},null,{"$f":"IF(OR(G46=\"\",G46>EingabeAngabe!F51),\"F\",EingabeAngabe!B53)","v":"F"}]
["SY34",{"$f":"IF(EingabeAngabe!C54=\"\",\"\",EingabeAngabe!C54)","v":""},null,{"$f":"IF(EingabeAngabe!D54=\"\",\"\",EingabeAngabe!D54)","v":""},null,{"$f":"IF(OR(G47=\"\",G47>EingabeAngabe!F52),\"F\",EingabeAngabe!B54)","v":"F"},null,"Summe Übersetzungstext",null,null,null,null,{"$f":"EingabeAngabe!H59","v":""}]
[{"$f":"EingabeAngabe!B55","v":"SY35"},{"$f":"IF(EingabeAngabe!C55=\"\",\"\",EingabeAngabe!C55)","v":""},null,{"$f":"IF(EingabeAngabe!D55=\"\",\"\",EingabeAngabe!D55)","v":""},null,{"$f":"IF(OR(G48=\"\",G48>EingabeAngabe!F53),\"F\",EingabeAngabe!B55)","v":"F"},null,"Summe Arbeitsaufgaben und Interpretation",null,null,null,null,{"$f":"EingabeAngabe!H60","v":""}]
[{"$f":"EingabeAngabe!B56","v":"SY36"},{"$f":"IF(EingabeAngabe!C56=\"\",\"\",EingabeAngabe!C56)","v":""},null,{"$f":"IF(EingabeAngabe!D56=\"\",\"\",EingabeAngabe!D56)","v":""},null,{"$f":"IF(OR(G49=\"\",G49>EingabeAngabe!F54),\"F\",EingabeAngabe!B56)","v":"F"},null,"Gesamtsumme",null,null,null,null,{"$f":"EingabeAngabe!H2","v":""}]
[null,{"$f":"EingabeAngabe!C57","v":"SPRACHLICHE QUALITÄT IN DER ZIELSPRACHE"},null,null,null,{"$f":"IF(OR(G50=1,G50=3,G50=5,G50>6),\"F\",\"6/4/2/0\")","v":"6/4/2/0"},null,"NOTE",null,null,{"$f":"IF(EingabeAngabe!H3=1,\"Sehr gut\",IF(EingabeAngabe!H3=2,\"Gut\",IF(EingabeAngabe!H3=3,\"Befriedigend\",IF(EingabeAngabe!H3=4,\"Genügend\",IF(EingabeAngabe!H3=5,\"Nicht genügend\",\"\")))))","v":""}]

{"sheet":"Schueler3Punkte","index":6,"n_rows":50,"n_cols":13,"rows_kept":50,"cut":false,"hidden":false,"merged":[[0,0,0,1],[0,3,0,4],[0,7,0,11],[1,0,2,0],[1,1,1,4],[1,5,2,5],[1,6,2,6],[1,8,1,11],[2,1,2,4],[2,8,2,11],[3,0,4,0],[3,1,3,4],[3,5,4,5],[3,6,4,6],[3,8,3,11],[4,1,4,4],[4,8,4,11],[5,0,6,0],[5,1,5,4],[5,5,6,5],[5,6,6,6],[5,8,5,11],[6,1,6,4],[6,8,6,11],[7,0,8,0],[7,1,7,4],[7,5,8,5],[7,6,8,6],[7,8,7,11],[8,1,8,4],[8,8,8,11],[9,0,10,0],[9,1,9,4],[9,5,10,5],[9,6,10,6],[9,7,9,13],[10,1,10,4],[10,7,10,10],[10,11,10,13],[11,0,12,0],[11,1,11,4],[11,5,12,5],[11,6,12,6],[11,7,11,10],[11,11,11,13],[12,1,12,4],[12,7,12,10],[12,11,12,13],[13,0,14,0],[13,1,13,4],[13,5,14,5],[13,6,14,6],[13,7,13,10],[13,11,13,13],[14,1,14,4],[14,7,14,10],[14,11,14,13],[15,0,16,0],[15,1,15,4],[15,5,16,5],[15,6,16,6],[15,7,15,13],[16,1,16,4],[16,7,24,13],[17,0,18,0],[17,1,17,4],[17,5,18,5],[17,6,18,6],[18,1,18,4],[19,0,20,0],[19,1,19,4],[19,5,20,5],[19,6,20,6],[20,1,20,4],[21,0,22,0],[21,1,21,4],[21,5,22,5],[21,6,22,6],[22,1,22,4],[23,0,24,0],[23,1,23,4],[23,5,24,5],[23,6,24,6],[24,1,24,4],[25,1,25,2],[26,1,26,2],[26,7,26,13],[27,1,27,2],[27,7,44,13],[28,1,28,2],[29,1,29,2],[30,1,30,2],[31,1,31,2],[32,1,32,2],[33,1,33,2],[33,3,33,4],[34,1,34,2],[34,3,34,4],[35,1,35,2],[35,3,35,4],[36,1,36,2],[36,3,36,4],[37,1,37,2],[37,3,37,4],[38,1,38,2],[38,3,38,4],[39,1,39,2],[39,3,39,4],[40,1,40,2],[40,3,40,4],[41,1,41,2],[41,3,41,4],[42,1,42,2],[42,3,42,4],[43,1,43,2],[43,3,43,4],[44,1,44,2],[44,3,44,4],[48,12,48,13],[45,1,45,2],[45,3,45,4],[46,1,46,2],[46,3,46,4],[46,7,46,11],[46,12,46,13],[49,1,49,4],[49,7,49,9],[49,10,49,13],[47,1,47,2],[47,3,47,4],[47,7,47,11],[47,12,47,13],[48,1,48,2],[48,3,48,4],[48,7,48,11]]}
["Übersetzungstext",null,"Schülername",{"$f":"SchuelernamenEingabe!B4","v":0},null,null,null,"Arbeitsaufgaben/ Interpretation"]
[{"$f":"EingabeAngabe!B6","v":"SE1"},{"$f":"IF(EingabeAngabe!C6=\"\",\"\",EingabeAngabe!C6)","v":""},null,null,null,{"$f":"IF(OR(G2=\"\",G2>EingabeAngabe!F6),\"F\",EingabeAngabe!B6)","v":"F"},null,{"$f":"EingabeAngabe!B61","v":"IT1"},{"$f":"IF(EingabeAngabe!C61=\"\",\"\",EingabeAngabe!C61)","v":""},null,null,null,{"$f":"IF(N2>EingabeAngabe!F61,\"F\",IF(EingabeAngabe!F61=\"\",\"\",EingabeAngabe!F61))","v":""}]
[null,{"$f":"IF(EingabeAngabe!C7=\"\",\"\",EingabeAngabe!C7)","v":""},null,null,null,null,null,{"$f":"EingabeAngabe!B62","v":"IT2"},{"$f":"IF(EingabeAngabe!C62=\"\",\"\",EingabeAngabe!C62)","v":""},null,null,null,{"$f":"IF(N3>EingabeAngabe!F62,\"F\",IF(EingabeAngabe!F62=\"\",\"\",EingabeAngabe!F62))","v":""}]
[{"$f":"EingabeAngabe!B8","v":"SE2"},{"$f":"IF(EingabeAngabe!C8=\"\",\"\",EingabeAngabe!C8)","v":""},null,null,null,{"$f":"IF(OR(G4=\"\",G4>EingabeAngabe!F8),\"F\",EingabeAngabe!B8)","v":"F"},null,{"$f":"EingabeAngabe!B63","v":"IT3"},{"$f":"IF(EingabeAngabe!C63=\"\",\"\",EingabeAngabe!C63)","v":""},null,null,null,{"$f":"IF(N4>EingabeAngabe!F63,\"F\",IF(EingabeAngabe!F63=\"\",\"\",EingabeAngabe!F63))","v":""}]
[null,{"$f":"IF(EingabeAngabe!C9=\"\",\"\",EingabeAngabe!C9)","v":""},null,null,null,null,null,{"$f":"EingabeAngabe!B64","v":"IT4"},{"$f":"IF(EingabeAngabe!C64=\"\",\"\",EingabeAngabe!C64)","v":""},null,null,null,{"$f":"IF(N5>EingabeAngabe!F64,\"F\",IF(EingabeAngabe!F64=\"\",\"\",EingabeAngabe!F64))","v":""}]
[{"$f":"EingabeAngabe!B10","v":"SE3"},{"$f":"IF(EingabeAngabe!C10=\"\",\"\",EingabeAngabe!C10)","v":""},null,null,null,{"$f":"IF(OR(G6=\"\",G6>EingabeAngabe!F10),\"F\",EingabeAngabe!B10)","v":"F"},null,{"$f":"EingabeAngabe!B65","v":"IT5"},{"$f":"IF(EingabeAngabe!C65=\"\",\"\",EingabeAngabe!C65)","v":""},null,null,null,{"$f":"IF(N6>EingabeAngabe!F65,\"F\",IF(EingabeAngabe!F65=\"\",\"\",EingabeAngabe!F65))","v":""}]
[null,{"$f":"IF(EingabeAngabe!C11=\"\",\"\",EingabeAngabe!C11)","v":""},null,null,null,null,null,{"$f":"EingabeAngabe!B66","v":"IT6"},{"$f":"IF(EingabeAngabe!C66=\"\",\"\",EingabeAngabe!C66)","v":""},null,null,null,{"$f":"IF(N7>EingabeAngabe!F66,\"F\",IF(EingabeAngabe!F66=\"\",\"\",EingabeAngabe!F66))","v":""}]
[{"$f":"EingabeAngabe!B12","v":"SE4"},{"$f":"IF(EingabeAngabe!C12=\"\",\"\",EingabeAngabe!C12)","v":""},null,null,null,{"$f":"IF(OR(G8=\"\",G8>EingabeAngabe!F12),\"F\",EingabeAngabe!B12)","v":"F"},null,{"$f":"EingabeAngabe!B67","v":"IT7"},{"$f":"IF(EingabeAngabe!C67=\"\",\"\",EingabeAngabe!C67)","v":""},null,null,null,{"$f":"IF(N8>EingabeAngabe!F67,\"F\",IF(EingabeAngabe!F67=\"\",\"\",EingabeAngabe!F67))","v":""}]
[null,{"$f":"IF(EingabeAngabe!C13=\"\",\"\",EingabeAngabe!C13)","v":""},null,null,null,null,null,{"$f":"EingabeAngabe!B68","v":"IT8"},{"$f":"IF(EingabeAngabe!C68=\"\",\"\",EingabeAngabe!C68)","v":""},null,null,null,{"$f":"IF(N9>EingabeAngabe!F68,\"F\",IF(EingabeAngabe!F68=\"\",\"\",EingabeAngabe!F68))","v":""}]
[{"$f":"EingabeAngabe!B14","v":"SE5"},{"$f":"IF(EingabeAngabe!C14=\"\",\"\",EingabeAngabe!C14)","v":""},null,null,null,{"$f":"IF(OR(G10=\"\",G10>EingabeAngabe!F14),\"F\",EingabeAngabe!B14)","v":"F"},null,"Notenschlüssel:"]
[null,{"$f":"IF(EingabeAngabe!C15=\"\",\"\",EingabeAngabe!C15)","v":""},null,null,null,null,null,"Sehr gut",null,null,null,{"$f":"EingabeAngabe!F72","v":"60 - 53"}]
[{"$f":"EingabeAngabe!B16","v":"SE6"},{"$f":"IF(EingabeAngabe!C16=\"\",\"\",EingabeAngabe!C16)","v":""},null,null,null,{"$f":"IF(OR(G12=\"\",G12>EingabeAngabe!F16),\"F\",EingabeAngabe!B16)","v":"F"},null,"Gut",null,null,null,{"$f":"EingabeAngabe!F73","v":"52 - 45"}]
[null,{"$f":"IF(EingabeAngabe!C17=\"\",\"\",EingabeAngabe!C17)","v":""},null,null,null,null,null,"Befriedigend",null,null,null,{"$f":"EingabeAngabe!F74","v":"44 - 37"}]
[{"$f":"EingabeAngabe!B18","v":"SE7"},{"$f":"IF(EingabeAngabe!C18=\"\",\"\",EingabeAngabe!C18)","v":""},null,null,null,{"$f":"IF(OR(G14=\"\",G14>EingabeAngabe!F18),\"F\",EingabeAngabe!B18)","v":"F"},null,"Genügend",null,null,null,{"$f":"EingabeAngabe!F75","v":"36 - 30"}]
[null,{"$f":"IF(EingabeAngabe!C19=\"\",\"\",EingabeAngabe!C19)","v":""},null,null,null,null,null,"Nicht genügend",null,null,null,{"$f":"EingabeAngabe!F76","v":"29 - 00"}]
[{"$f":"EingabeAngabe!B20","v":"SE8"},{"$f":"IF(EingabeAngabe!C20=\"\",\"\",EingabeAngabe!C20)","v":""},null,null,null,{"$f":"IF(OR(G16=\"\",G16>EingabeAngabe!F20),\"F\",EingabeAngabe!B20)","v":"F"},null,{"$f":"CONCATENATE(\"Notendefinition laut LBVO$14:\",\"            \",K50)","v":"Notendefinition laut LBVO$14:            "}]
[null,{"$f":"IF(EingabeAngabe!C21=\"\",\"\",EingabeAngabe!C21)","v":""},null,null,null,null,null,{"$f":"VLOOKUP(K50,SchuelernamenEingabe!D2:'SchuelernamenEingabe'!E40,2,FALSE)","v":{"$error":"#N/A"}}]
[{"$f":"EingabeAngabe!B22","v":"SE9"},{"$f":"IF(EingabeAngabe!C22=\"\",\"\",EingabeAngabe!C22)","v":""},null,null,null,{"$f":"IF(OR(G18=\"\",G18>EingabeAngabe!F22),\"F\",EingabeAngabe!B22)","v":"F"}]
[null,{"$f":"IF(EingabeAngabe!C23=\"\",\"\",EingabeAngabe!C23)","v":""}]
[{"$f":"EingabeAngabe!B24","v":"SE10"},{"$f":"IF(EingabeAngabe!C24=\"\",\"\",EingabeAngabe!C24)","v":""},null,null,null,{"$f":"IF(OR(G20=\"\",G20>EingabeAngabe!F24),\"F\",EingabeAngabe!B24)","v":"F"}]
[null,{"$f":"IF(EingabeAngabe!C25=\"\",\"\",EingabeAngabe!C25)","v":""}]
[{"$f":"EingabeAngabe!B26","v":"SE11"},{"$f":"IF(EingabeAngabe!C26=\"\",\"\",EingabeAngabe!C26)","v":""},null,null,null,{"$f":"IF(OR(G22=\"\",G22>EingabeAngabe!F26),\"F\",EingabeAngabe!B26)","v":"F"}]
[null,{"$f":"IF(EingabeAngabe!C27=\"\",\"\",EingabeAngabe!C27)","v":""}]
[{"$f":"EingabeAngabe!B28","v":"SE12"},{"$f":"IF(EingabeAngabe!C28=\"\",\"\",EingabeAngabe!C28)","v":""},null,null,null,{"$f":"IF(OR(G24=\"\",G24>EingabeAngabe!F28),\"F\",EingabeAngabe!B28)","v":"F"}]
[null,{"$f":"IF(EingabeAngabe!C29=\"\",\"\",EingabeAngabe!C29)","v":""}]
[{"$f":"EingabeAngabe!B31","v":"LE13"},{"$f":"IF(EingabeAngabe!C31=\"\",\"\",EingabeAngabe!C31)","v":""},null,{"$f":"IF(EingabeAngabe!D31=\"\",\"\",EingabeAngabe!D31)","v":""},{"$f":"IF(EingabeAngabe!E31=\"\",\"\",EingabeAngabe!E31)","v":""},{"$f":"IF(OR(G26=\"\",G26>EingabeAngabe!F31),\"F\",EingabeAngabe!B31)","v":"F"}]
[{"$f":"EingabeAngabe!B32","v":"LE14"},{"$f":"IF(EingabeAngabe!C32=\"\",\"\",EingabeAngabe!C32)","v":""},null,{"$f":"IF(EingabeAngabe!D32=\"\",\"\",EingabeAngabe!D32)","v":""},{"$f":"IF(EingabeAngabe!E32=\"\",\"\",EingabeAngabe!E32)","v":""},{"$f":"IF(OR(G27=\"\",G27>EingabeAngabe!F32),\"F\",EingabeAngabe!B32)","v":"F"},null,{"$f":"IF(EingabeAngabe!F80>\"\",EingabeAngabe!E79,\"\")","v":"Eigener Notenkommentar:"}]
[{"$f":"EingabeAngabe!B33","v":"LE15"},{"$f":"IF(EingabeAngabe!C33=\"\",\"\",EingabeAngabe!C33)","v":""},null,{"$f":"IF(EingabeAngabe!D33=\"\",\"\",EingabeAngabe!D33)","v":""},{"$f":"IF(EingabeAngabe!E33=\"\",\"\",EingabeAngabe!E33)","v":""},{"$f":"IF(OR(G28=\"\",G28>EingabeAngabe!F33),\"F\",EingabeAngabe!B33)","v":"F"}]
["LE16",{"$f":"IF(EingabeAngabe!C34=\"\",\"\",EingabeAngabe!C34)","v":""},null,{"$f":"IF(EingabeAngabe!D34=\"\",\"\",EingabeAngabe!D34)","v":""},{"$f":"IF(EingabeAngabe!E34=\"\",\"\",EingabeAngabe!E34)","v":""},{"$f":"IF(OR(G29=\"\",G29>EingabeAngabe!F34),\"F\",EingabeAngabe!B34)","v":"F"}]
["LE17",{"$f":"IF(EingabeAngabe!C35=\"\",\"\",EingabeAngabe!C35)","v":""},null,{"$f":"IF(EingabeAngabe!D35=\"\",\"\",EingabeAngabe!D35)","v":""},{"$f":"IF(EingabeAngabe!E35=\"\",\"\",EingabeAngabe!E35)","v":""},{"$f":"IF(OR(G30=\"\",G30>EingabeAngabe!F35),\"F\",EingabeAngabe!B35)","v":"F"}]
["LE18",{"$f":"IF(EingabeAngabe!C36=\"\",\"\",EingabeAngabe!C36)","v":""},null,{"$f":"IF(EingabeAngabe!D36=\"\",\"\",EingabeAngabe!D36)","v":""},{"$f":"IF(EingabeAngabe!E36=\"\",\"\",EingabeAngabe!E36)","v":""},{"$f":"IF(OR(G31=\"\",G31>EingabeAngabe!F36),\"F\",EingabeAngabe!B36)","v":"F"}]
["LE19",{"$f":"IF(EingabeAngabe!C37=\"\",\"\",EingabeAngabe!C37)","v":""},null,{"$f":"IF(EingabeAngabe!D37=\"\",\"\",EingabeAngabe!D37)","v":""},{"$f":"IF(EingabeAngabe!E37=\"\",\"\",EingabeAngabe!E37)","v":""},{"$f":"IF(OR(G32=\"\",G32>EingabeAngabe!F37),\"F\",EingabeAngabe!B37)","v":"F"}]
[{"$f":"EingabeAngabe!B38","v":"LE20"},{"$f":"IF(EingabeAngabe!C38=\"\",\"\",EingabeAngabe!C38)","v":""},null,{"$f":"IF(EingabeAngabe!D38=\"\",\"\",EingabeAngabe!D38)","v":""},{"$f":"IF(EingabeAngabe!E38=\"\",\"\",EingabeAngabe!E38)","v":""},{"$f":"IF(OR(G33=\"\",G33>EingabeAngabe!F38),\"F\",EingabeAngabe!B38)","v":"F"}]
[{"$f":"EingabeAngabe!B40","v":"MO21"},{"$f":"IF(EingabeAngabe!C40=\"\",\"\",EingabeAngabe!C40)","v":""},null,{"$f":"IF(EingabeAngabe!D40=\"\",\"\",EingabeAngabe!D40)","v":""},null,{"$f":"IF(OR(G34=\"\",G34>EingabeAngabe!F39),\"F\",EingabeAngabe!B40)","v":"F"}]
[{"$f":"EingabeAngabe!B41","v":"MO22"},{"$f":"IF(EingabeAngabe!C41=\"\",\"\",EingabeAngabe!C41)","v":""},null,{"$f":"IF(EingabeAngabe!D41=\"\",\"\",EingabeAngabe!D41)","v":""},null,{"$f":"IF(OR(G35=\"\",G35>EingabeAngabe!F40),\"F\",EingabeAngabe!B41)","v":"F"}]
["MO23",{"$f":"IF(EingabeAngabe!C42=\"\",\"\",EingabeAngabe!C42)","v":""},null,{"$f":"IF(EingabeAngabe!D42=\"\",\"\",EingabeAngabe!D42)","v":""},null,{"$f":"IF(OR(G36=\"\",G36>EingabeAngabe!F41),\"F\",EingabeAngabe!B42)","v":"F"}]
["MO24",{"$f":"IF(EingabeAngabe!C43=\"\",\"\",EingabeAngabe!C43)","v":""},null,{"$f":"IF(EingabeAngabe!D43=\"\",\"\",EingabeAngabe!D43)","v":""},null,{"$f":"IF(OR(G37=\"\",G37>EingabeAngabe!F42),\"F\",EingabeAngabe!B43)","v":"F"}]
["MO25",{"$f":"IF(EingabeAngabe!C44=\"\",\"\",EingabeAngabe!C44)","v":""},null,{"$f":"IF(EingabeAngabe!D44=\"\",\"\",EingabeAngabe!D44)","v":""},null,{"$f":"IF(OR(G38=\"\",G38>EingabeAngabe!F41),\"F\",EingabeAngabe!B42)","v":"F"}]
[{"$f":"EingabeAngabe!B45","v":"MO26"},{"$f":"IF(EingabeAngabe!C45=\"\",\"\",EingabeAngabe!C45)","v":""},null,{"$f":"IF(EingabeAngabe!D45=\"\",\"\",EingabeAngabe!D45)","v":""},null,{"$f":"IF(OR(G39=\"\",G39>EingabeAngabe!F42),\"F\",EingabeAngabe!B45)","v":"F"}]
[{"$f":"EingabeAngabe!B46","v":"MO27"},{"$f":"IF(EingabeAngabe!C46=\"\",\"\",EingabeAngabe!C46)","v":""},null,{"$f":"IF(EingabeAngabe!D46=\"\",\"\",EingabeAngabe!D46)","v":""},null,{"$f":"IF(OR(G40=\"\",G40>EingabeAngabe!F45),\"F\",EingabeAngabe!B46)","v":"F"}]
[{"$f":"EingabeAngabe!B47","v":"MO28"},{"$f":"IF(EingabeAngabe!C47=\"\",\"\",EingabeAngabe!C47)","v":""},null,{"$f":"IF(EingabeAngabe!D47=\"\",\"\",EingabeAngabe!D47)","v":""},null,{"$f":"IF(OR(G41=\"\",G41>EingabeAngabe!F46),\"F\",EingabeAngabe!B47)","v":"F"}]
[{"$f":"EingabeAngabe!B49","v":"SY29"},{"$f":"IF(EingabeAngabe!C49=\"\",\"\",EingabeAngabe!C49)","v":""},null,{"$f":"IF(EingabeAngabe!D49=\"\",\"\",EingabeAngabe!D49)","v":""},null,{"$f":"IF(OR(G42=\"\",G42>EingabeAngabe!F47),\"F\",EingabeAngabe!B49)","v":"F"}]
["SY30",{"$f":"IF(EingabeAngabe!C50=\"\",\"\",EingabeAngabe!C50)","v":""},null,{"$f":"IF(EingabeAngabe!D50=\"\",\"\",EingabeAngabe!D50)","v":""},null,{"$f":"IF(OR(G43=\"\",G43>EingabeAngabe!F48),\"F\",EingabeAngabe!B50)","v":"F"}]
["SY31",{"$f":"IF(EingabeAngabe!C51=\"\",\"\",EingabeAngabe!C51)","v":""},null,{"$f":"IF(EingabeAngabe!D51=\"\",\"\",EingabeAngabe!D51)","v":""},null,{"$f":"IF(OR(G44=\"\",G44>EingabeAngabe!F49),\"F\",EingabeAngabe!B51)","v":"F"}]
["SY32",{"$f":"IF(EingabeAngabe!C52=\"\",\"\",EingabeAngabe!C52)","v":""},null,{"$f":"IF(EingabeAngabe!D52=\"\",\"\",EingabeAngabe!D52)","v":""},null,{"$f":"IF(OR(G45=\"\",G45>EingabeAngabe!F50),\"F\",EingabeAngabe!B52)","v":"F"}]
["SY33",{"$f":"IF(EingabeAngabe!C53=\"\",\"\",EingabeAngabe!C53)","v":""},null,{"$f":"IF(EingabeAngabe!D53=\"\",\"\",EingabeAngabe!D53)","v":""},null,{"$f":"IF(OR(G46=\"\",G46>EingabeAngabe!F51),\"F\",EingabeAngabe!B53)","v":"F"}]
["SY34",{"$f":"IF(EingabeAngabe!C54=\"\",\"\",EingabeAngabe!C54)","v":""},null,{"$f":"IF(EingabeAngabe!D54=\"\",\"\",EingabeAngabe!D54)","v":""},null,{"$f":"IF(OR(G47=\"\",G47>EingabeAngabe!F52),\"F\",EingabeAngabe!B54)","v":"F"},null,"Summe Übersetzungstext",null,null,null,null,{"$f":"EingabeAngabe!I59","v":""}]
[{"$f":"EingabeAngabe!B55","v":"SY35"},{"$f":"IF(EingabeAngabe!C55=\"\",\"\",EingabeAngabe!C55)","v":""},null,{"$f":"IF(EingabeAngabe!D55=\"\",\"\",EingabeAngabe!D55)","v":""},null,{"$f":"IF(OR(G48=\"\",G48>EingabeAngabe!F53),\"F\",EingabeAngabe!B55)","v":"F"},null,"Summe Arbeitsaufgaben und Interpretation",null,null,null,null,{"$f":"EingabeAngabe!I60","v":""}]
[{"$f":"EingabeAngabe!B56","v":"SY36"},{"$f":"IF(EingabeAngabe!C56=\"\",\"\",EingabeAngabe!C56)","v":""},null,{"$f":"IF(EingabeAngabe!D56=\"\",\"\",EingabeAngabe!D56)","v":""},null,{"$f":"IF(OR(G49=\"\",G49>EingabeAngabe!F54),\"F\",EingabeAngabe!B56)","v":"F"},null,"Gesamtsumme",null,null,null,null,{"$f":"EingabeAngabe!I2","v":""}]
[null,{"$f":"EingabeAngabe!C57","v":"SPRACHLICHE QUALITÄT IN DER ZIELSPRACHE"},null,null,null,{"$f":"IF(OR(G50=1,G50=3,G50=5,G50>6),\"F\",\"6/4/2/0\")","v":"6/4/2/0"},null,"NOTE",null,null,{"$f":"IF(EingabeAngabe!I3=1,\"Sehr gut\",IF(EingabeAngabe!I3=2,\"Gut\",IF(EingabeAngabe!I3=3,\"Befriedigend\",IF(EingabeAngabe!I3=4,\"Genügend\",IF(EingabeAngabe!I3=5,\"Nicht genügend\",\"\")))))","v":""}]

{"sheet":"Schueler4Punkte","index":7,"n_rows":50,"n_cols":13,"rows_kept":50,"cut":false,"hidden":false,"merged":[[0,0,0,1],[0,3,0,4],[0,7,0,11],[1,0,2,0],[1,1,1,4],[1,5,2,5],[1,6,2,6],[1,8,1,11],[2,1,2,4],[2,8,2,11],[3,0,4,0],[3,1,3,4],[3,5,4,5],[3,6,4,6],[3,8,3,11],[4,1,4,4],[4,8,4,11],[5,0,6,0],[5,1,5,4],[5,5,6,5],[5,6,6,6],[5,8,5,11],[6,1,6,4],[6,8,6,11],[7,0,8,0],[7,1,7,4],[7,5,8,5],[7,6,8,6],[7,8,7,11],[8,1,8,4],[8,8,8,11],[9,0,10,0],[9,1,9,4],[9,5,10,5],[9,6,10,6],[9,7,9,13],[10,1,10,4],[10,7,10,10],[10,11,10,13],[11,0,12,0],[11,1,11,4],[11,5,12,5],[11,6,12,6],[11,7,11,10],[11,11,11,13],[12,1,12,4],[12,7,12,10],[12,11,12,13],[13,0,14,0],[13,1,13,4],[13,5,14,5],[13,6,14,6],[13,7,13,10],[13,11,13,13],[14,1,14,4],[14,7,14,10],[14,11,14,13],[15,0,16,0],[15,1,15,4],[15,5,16,5],[15,6,16,6],[15,7,15,13],[16,1,16,4],[16,7,24,13],[17,0,18,0],[17,1,17,4],[17,5,18,5],[17,6,18,6],[18,1,18,4],[19,0,20,0],[19,1,19,4],[19,5,20,5],[19,6,20,6],[20,1,20,4],[21,0,22,0],[21,1,21,4],[21,5,22,5],[21,6,22,6],[22,1,22,4],[23,0,24,0],[23,1,23,4],[23,5,24,5],[23,6,24,6],[24,1,24,4],[25,1,25,2],[26,1,26,2],[26,7,26,13],[27,1,27,2],[27,7,44,13],[28,1,28,2],[29,1,29,2],[30,1,30,2],[31,1,31,2],[32,1,32,2],[33,1,33,2],[33,3,33,4],[34,1,34,2],[34,3,34,4],[35,1,35,2],[35,3,35,4],[36,1,36,2],[36,3,36,4],[37,1,37,2],[37,3,37,4],[38,1,38,2],[38,3,38,4],[39,1,39,2],[39,3,39,4],[40,1,40,2],[40,3,40,4],[41,1,41,2],[41,3,41,4],[42,1,42,2],[42,3,42,4],[43,1,43,2],[43,3,43,4],[44,1,44,2],[44,3,44,4],[48,12,48,13],[45,1,45,2],[45,3,45,4],[46,1,46,2],[46,3,46,4],[46,7,46,11],[46,12,46,13],[49,1,49,4],[49,7,49,9],[49,10,49,13],[47,1,47,2],[47,3,47,4],[47,7,47,11],[47,12,47,13],[48,1,48,2],[48,3,48,4],[48,7,48,11]]}
["Übersetzungstext",null,"Schülername",{"$f":"SchuelernamenEingabe!B5","v":0},null,null,null,"Arbeitsaufgaben/ Interpretation"]
[{"$f":"EingabeAngabe!B6","v":"SE1"},{"$f":"IF(EingabeAngabe!C6=\"\",\"\",EingabeAngabe!C6)","v":""},null,null,null,{"$f":"IF(OR(G2=\"\",G2>EingabeAngabe!F6),\"F\",EingabeAngabe!B6)","v":"F"},null,{"$f":"EingabeAngabe!B61","v":"IT1"},{"$f":"IF(EingabeAngabe!C61=\"\",\"\",EingabeAngabe!C61)","v":""},null,null,null,{"$f":"IF(N2>EingabeAngabe!F61,\"F\",IF(EingabeAngabe!F61=\"\",\"\",EingabeAngabe!F61))","v":""}]
[null,{"$f":"IF(EingabeAngabe!C7=\"\",\"\",EingabeAngabe!C7)","v":""},null,null,null,null,null,{"$f":"EingabeAngabe!B62","v":"IT2"},{"$f":"IF(EingabeAngabe!C62=\"\",\"\",EingabeAngabe!C62)","v":""},null,null,null,{"$f":"IF(N3>EingabeAngabe!F62,\"F\",IF(EingabeAngabe!F62=\"\",\"\",EingabeAngabe!F62))","v":""}]
[{"$f":"EingabeAngabe!B8","v":"SE2"},{"$f":"IF(EingabeAngabe!C8=\"\",\"\",EingabeAngabe!C8)","v":""},null,null,null,{"$f":"IF(OR(G4=\"\",G4>EingabeAngabe!F8),\"F\",EingabeAngabe!B8)","v":"F"},null,{"$f":"EingabeAngabe!B63","v":"IT3"},{"$f":"IF(EingabeAngabe!C63=\"\",\"\",EingabeAngabe!C63)","v":""},null,null,null,{"$f":"IF(N4>EingabeAngabe!F63,\"F\",IF(EingabeAngabe!F63=\"\",\"\",EingabeAngabe!F63))","v":""}]
[null,{"$f":"IF(EingabeAngabe!C9=\"\",\"\",EingabeAngabe!C9)","v":""},null,null,null,null,null,{"$f":"EingabeAngabe!B64","v":"IT4"},{"$f":"IF(EingabeAngabe!C64=\"\",\"\",EingabeAngabe!C64)","v":""},null,null,null,{"$f":"IF(N5>EingabeAngabe!F64,\"F\",IF(EingabeAngabe!F64=\"\",\"\",EingabeAngabe!F64))","v":""}]
[{"$f":"EingabeAngabe!B10","v":"SE3"},{"$f":"IF(EingabeAngabe!C10=\"\",\"\",EingabeAngabe!C10)","v":""},null,null,null,{"$f":"IF(OR(G6=\"\",G6>EingabeAngabe!F10),\"F\",EingabeAngabe!B10)","v":"F"},null,{"$f":"EingabeAngabe!B65","v":"IT5"},{"$f":"IF(EingabeAngabe!C65=\"\",\"\",EingabeAngabe!C65)","v":""},null,null,null,{"$f":"IF(N6>EingabeAngabe!F65,\"F\",IF(EingabeAngabe!F65=\"\",\"\",EingabeAngabe!F65))","v":""}]
[null,{"$f":"IF(EingabeAngabe!C11=\"\",\"\",EingabeAngabe!C11)","v":""},null,null,null,null,null,{"$f":"EingabeAngabe!B66","v":"IT6"},{"$f":"IF(EingabeAngabe!C66=\"\",\"\",EingabeAngabe!C66)","v":""},null,null,null,{"$f":"IF(N7>EingabeAngabe!F66,\"F\",IF(EingabeAngabe!F66=\"\",\"\",EingabeAngabe!F66))","v":""}]
[{"$f":"EingabeAngabe!B12","v":"SE4"},{"$f":"IF(EingabeAngabe!C12=\"\",\"\",EingabeAngabe!C12)","v":""},null,null,null,{"$f":"IF(OR(G8=\"\",G8>EingabeAngabe!F12),\"F\",EingabeAngabe!B12)","v":"F"},null,{"$f":"EingabeAngabe!B67","v":"IT7"},{"$f":"IF(EingabeAngabe!C67=\"\",\"\",EingabeAngabe!C67)","v":""},null,null,null,{"$f":"IF(N8>EingabeAngabe!F67,\"F\",IF(EingabeAngabe!F67=\"\",\"\",EingabeAngabe!F67))","v":""}]
[null,{"$f":"IF(EingabeAngabe!C13=\"\",\"\",EingabeAngabe!C13)","v":""},null,null,null,null,null,{"$f":"EingabeAngabe!B68","v":"IT8"},{"$f":"IF(EingabeAngabe!C68=\"\",\"\",EingabeAngabe!C68)","v":""},null,null,null,{"$f":"IF(N9>EingabeAngabe!F68,\"F\",IF(EingabeAngabe!F68=\"\",\"\",EingabeAngabe!F68))","v":""}]
[{"$f":"EingabeAngabe!B14","v":"SE5"},{"$f":"IF(EingabeAngabe!C14=\"\",\"\",EingabeAngabe!C14)","v":""},null,null,null,{"$f":"IF(OR(G10=\"\",G10>EingabeAngabe!F14),\"F\",EingabeAngabe!B14)","v":"F"},null,"Notenschlüssel:"]
[null,{"$f":"IF(EingabeAngabe!C15=\"\",\"\",EingabeAngabe!C15)","v":""},null,null,null,null,null,"Sehr gut",null,null,null,{"$f":"EingabeAngabe!F72","v":"60 - 53"}]
[{"$f":"EingabeAngabe!B16","v":"SE6"},{"$f":"IF(EingabeAngabe!C16=\"\",\"\",EingabeAngabe!C16)","v":""},null,null,null,{"$f":"IF(OR(G12=\"\",G12>EingabeAngabe!F16),\"F\",EingabeAngabe!B16)","v":"F"},null,"Gut",null,null,null,{"$f":"EingabeAngabe!F73","v":"52 - 45"}]
[null,{"$f":"IF(EingabeAngabe!C17=\"\",\"\",EingabeAngabe!C17)","v":""},null,null,null,null,null,"Befriedigend",null,null,null,{"$f":"EingabeAngabe!F74","v":"44 - 37"}]
[{"$f":"EingabeAngabe!B18","v":"SE7"},{"$f":"IF(EingabeAngabe!C18=\"\",\"\",EingabeAngabe!C18)","v":""},null,null,null,{"$f":"IF(OR(G14=\"\",G14>EingabeAngabe!F18),\"F\",EingabeAngabe!B18)","v":"F"},null,"Genügend",null,null,null,{"$f":"EingabeAngabe!F75","v":"36 - 30"}]
[null,{"$f":"IF(EingabeAngabe!C19=\"\",\"\",EingabeAngabe!C19)","v":""},null,null,null,null,null,"Nicht genügend",null,null,null,{"$f":"EingabeAngabe!F76","v":"29 - 00"}]
[{"$f":"EingabeAngabe!B20","v":"SE8"},{"$f":"IF(EingabeAngabe!C20=\"\",\"\",EingabeAngabe!C20)","v":""},null,null,null,{"$f":"IF(OR(G16=\"\",G16>EingabeAngabe!F20),\"F\",EingabeAngabe!B20)","v":"F"},null,{"$f":"CONCATENATE(\"Notendefinition laut LBVO$14:\",\"            \",K50)","v":"Notendefinition laut LBVO$14:            "}]
[null,{"$f":"IF(EingabeAngabe!C21=\"\",\"\",EingabeAngabe!C21)","v":""},null,null,null,null,null,{"$f":"VLOOKUP(K50,SchuelernamenEingabe!D2:'SchuelernamenEingabe'!E40,2,FALSE)","v":{"$error":"#N/A"}}]
[{"$f":"EingabeAngabe!B22","v":"SE9"},{"$f":"IF(EingabeAngabe!C22=\"\",\"\",EingabeAngabe!C22)","v":""},null,null,null,{"$f":"IF(OR(G18=\"\",G18>EingabeAngabe!F22),\"F\",EingabeAngabe!B22)","v":"F"}]
[null,{"$f":"IF(EingabeAngabe!C23=\"\",\"\",EingabeAngabe!C23)","v":""}]
[{"$f":"EingabeAngabe!B24","v":"SE10"},{"$f":"IF(EingabeAngabe!C24=\"\",\"\",EingabeAngabe!C24)","v":""},null,null,null,{"$f":"IF(OR(G20=\"\",G20>EingabeAngabe!F24),\"F\",EingabeAngabe!B24)","v":"F"}]
[null,{"$f":"IF(EingabeAngabe!C25=\"\",\"\",EingabeAngabe!C25)","v":""}]
[{"$f":"EingabeAngabe!B26","v":"SE11"},{"$f":"IF(EingabeAngabe!C26=\"\",\"\",EingabeAngabe!C26)","v":""},null,null,null,{"$f":"IF(OR(G22=\"\",G22>EingabeAngabe!F26),\"F\",EingabeAngabe!B26)","v":"F"}]
[null,{"$f":"IF(EingabeAngabe!C27=\"\",\"\",EingabeAngabe!C27)","v":""}]
[{"$f":"EingabeAngabe!B28","v":"SE12"},{"$f":"IF(EingabeAngabe!C28=\"\",\"\",EingabeAngabe!C28)","v":""},null,null,null,{"$f":"IF(OR(G24=\"\",G24>EingabeAngabe!F28),\"F\",EingabeAngabe!B28)","v":"F"}]
[null,{"$f":"IF(EingabeAngabe!C29=\"\",\"\",EingabeAngabe!C29)","v":""}]
[{"$f":"EingabeAngabe!B31","v":"LE13"},{"$f":"IF(EingabeAngabe!C31=\"\",\"\",EingabeAngabe!C31)","v":""},null,{"$f":"IF(EingabeAngabe!D31=\"\",\"\",EingabeAngabe!D31)","v":""},{"$f":"IF(EingabeAngabe!E31=\"\",\"\",EingabeAngabe!E31)","v":""},{"$f":"IF(OR(G26=\"\",G26>EingabeAngabe!F31),\"F\",EingabeAngabe!B31)","v":"F"}]
[{"$f":"EingabeAngabe!B32","v":"LE14"},{"$f":"IF(EingabeAngabe!C32=\"\",\"\",EingabeAngabe!C32)","v":""},null,{"$f":"IF(EingabeAngabe!D32=\"\",\"\",EingabeAngabe!D32)","v":""},{"$f":"IF(EingabeAngabe!E32=\"\",\"\",EingabeAngabe!E32)","v":""},{"$f":"IF(OR(G27=\"\",G27>EingabeAngabe!F32),\"F\",EingabeAngabe!B32)","v":"F"},null,{"$f":"IF(EingabeAngabe!F80>\"\",EingabeAngabe!E79,\"\")","v":"Eigener Notenkommentar:"}]
[{"$f":"EingabeAngabe!B33","v":"LE15"},{"$f":"IF(EingabeAngabe!C33=\"\",\"\",EingabeAngabe!C33)","v":""},null,{"$f":"IF(EingabeAngabe!D33=\"\",\"\",EingabeAngabe!D33)","v":""},{"$f":"IF(EingabeAngabe!E33=\"\",\"\",EingabeAngabe!E33)","v":""},{"$f":"IF(OR(G28=\"\",G28>EingabeAngabe!F33),\"F\",EingabeAngabe!B33)","v":"F"}]
["LE16",{"$f":"IF(EingabeAngabe!C34=\"\",\"\",EingabeAngabe!C34)","v":""},null,{"$f":"IF(EingabeAngabe!D34=\"\",\"\",EingabeAngabe!D34)","v":""},{"$f":"IF(EingabeAngabe!E34=\"\",\"\",EingabeAngabe!E34)","v":""},{"$f":"IF(OR(G29=\"\",G29>EingabeAngabe!F34),\"F\",EingabeAngabe!B34)","v":"F"}]
["LE17",{"$f":"IF(EingabeAngabe!C35=\"\",\"\",EingabeAngabe!C35)","v":""},null,{"$f":"IF(EingabeAngabe!D35=\"\",\"\",EingabeAngabe!D35)","v":""},{"$f":"IF(EingabeAngabe!E35=\"\",\"\",EingabeAngabe!E35)","v":""},{"$f":"IF(OR(G30=\"\",G30>EingabeAngabe!F35),\"F\",EingabeAngabe!B35)","v":"F"}]
["LE18",{"$f":"IF(EingabeAngabe!C36=\"\",\"\",EingabeAngabe!C36)","v":""},null,{"$f":"IF(EingabeAngabe!D36=\"\",\"\",EingabeAngabe!D36)","v":""},{"$f":"IF(EingabeAngabe!E36=\"\",\"\",EingabeAngabe!E36)","v":""},{"$f":"IF(OR(G31=\"\",G31>EingabeAngabe!F36),\"F\",EingabeAngabe!B36)","v":"F"}]
["LE19",{"$f":"IF(EingabeAngabe!C37=\"\",\"\",EingabeAngabe!C37)","v":""},null,{"$f":"IF(EingabeAngabe!D37=\"\",\"\",EingabeAngabe!D37)","v":""},{"$f":"IF(EingabeAngabe!E37=\"\",\"\",EingabeAngabe!E37)","v":""},{"$f":"IF(OR(G32=\"\",G32>EingabeAngabe!F37),\"F\",EingabeAngabe!B37)","v":"F"}]
[{"$f":"EingabeAngabe!B38","v":"LE20"},{"$f":"IF(EingabeAngabe!C38=\"\",\"\",EingabeAngabe!C38)","v":""},null,{"$f":"IF(EingabeAngabe!D38=\"\",\"\",EingabeAngabe!D38)","v":""},{"$f":"IF(EingabeAngabe!E38=\"\",\"\",EingabeAngabe!E38)","v":""},{"$f":"IF(OR(G33=\"\",G33>EingabeAngabe!F38),\"F\",EingabeAngabe!B38)","v":"F"}]
[{"$f":"EingabeAngabe!B40","v":"MO21"},{"$f":"IF(EingabeAngabe!C40=\"\",\"\",EingabeAngabe!C40)","v":""},null,{"$f":"IF(EingabeAngabe!D40=\"\",\"\",EingabeAngabe!D40)","v":""},null,{"$f":"IF(OR(G34=\"\",G34>EingabeAngabe!F39),\"F\",EingabeAngabe!B40)","v":"F"}]
[{"$f":"EingabeAngabe!B41","v":"MO22"},{"$f":"IF(EingabeAngabe!C41=\"\",\"\",EingabeAngabe!C41)","v":""},null,{"$f":"IF(EingabeAngabe!D41=\"\",\"\",EingabeAngabe!D41)","v":""},null,{"$f":"IF(OR(G35=\"\",G35>EingabeAngabe!F40),\"F\",EingabeAngabe!B41)","v":"F"}]
["MO23",{"$f":"IF(EingabeAngabe!C42=\"\",\"\",EingabeAngabe!C42)","v":""},null,{"$f":"IF(EingabeAngabe!D42=\"\",\"\",EingabeAngabe!D42)","v":""},null,{"$f":"IF(OR(G36=\"\",G36>EingabeAngabe!F41),\"F\",EingabeAngabe!B42)","v":"F"}]
["MO24",{"$f":"IF(EingabeAngabe!C43=\"\",\"\",EingabeAngabe!C43)","v":""},null,{"$f":"IF(EingabeAngabe!D43=\"\",\"\",EingabeAngabe!D43)","v":""},null,{"$f":"IF(OR(G37=\"\",G37>EingabeAngabe!F42),\"F\",EingabeAngabe!B43)","v":"F"}]
["MO25",{"$f":"IF(EingabeAngabe!C44=\"\",\"\",EingabeAngabe!C44)","v":""},null,{"$f":"IF(EingabeAngabe!D44=\"\",\"\",EingabeAngabe!D44)","v":""},null,{"$f":"IF(OR(G38=\"\",G38>EingabeAngabe!F41),\"F\",EingabeAngabe!B42)","v":"F"}]
[{"$f":"EingabeAngabe!B45","v":"MO26"},{"$f":"IF(EingabeAngabe!C45=\"\",\"\",EingabeAngabe!C45)","v":""},null,{"$f":"IF(EingabeAngabe!D45=\"\",\"\",EingabeAngabe!D45)","v":""},null,{"$f":"IF(OR(G39=\"\",G39>EingabeAngabe!F42),\"F\",EingabeAngabe!B45)","v":"F"}]
[{"$f":"EingabeAngabe!B46","v":"MO27"},{"$f":"IF(EingabeAngabe!C46=\"\",\"\",EingabeAngabe!C46)","v":""},null,{"$f":"IF(EingabeAngabe!D46=\"\",\"\",EingabeAngabe!D46)","v":""},null,{"$f":"IF(OR(G40=\"\",G40>EingabeAngabe!F45),\"F\",EingabeAngabe!B46)","v":"F"}]
[{"$f":"EingabeAngabe!B47","v":"MO28"},{"$f":"IF(EingabeAngabe!C47=\"\",\"\",EingabeAngabe!C47)","v":""},null,{"$f":"IF(EingabeAngabe!D47=\"\",\"\",EingabeAngabe!D47)","v":""},null,{"$f":"IF(OR(G41=\"\",G41>EingabeAngabe!F46),\"F\",EingabeAngabe!B47)","v":"F"}]
[{"$f":"EingabeAngabe!B49","v":"SY29"},{"$f":"IF(EingabeAngabe!C49=\"\",\"\",EingabeAngabe!C49)","v":""},null,{"$f":"IF(EingabeAngabe!D49=\"\",\"\",EingabeAngabe!D49)","v":""},null,{"$f":"IF(OR(G42=\"\",G42>EingabeAngabe!F47),\"F\",EingabeAngabe!B49)","v":"F"}]
["SY30",{"$f":"IF(EingabeAngabe!C50=\"\",\"\",EingabeAngabe!C50)","v":""},null,{"$f":"IF(EingabeAngabe!D50=\"\",\"\",EingabeAngabe!D50)","v":""},null,{"$f":"IF(OR(G43=\"\",G43>EingabeAngabe!F48),\"F\",EingabeAngabe!B50)","v":"F"}]
["SY31",{"$f":"IF(EingabeAngabe!C51=\"\",\"\",EingabeAngabe!C51)","v":""},null,{"$f":"IF(EingabeAngabe!D51=\"\",\"\",EingabeAngabe!D51)","v":""},null,{"$f":"IF(OR(G44=\"\",G44>EingabeAngabe!F49),\"F\",EingabeAngabe!B51)","v":"F"}]
["SY32",{"$f":"IF(EingabeAngabe!C52=\"\",\"\",EingabeAngabe!C52)","v":""},null,{"$f":"IF(EingabeAngabe!D52=\"\",\"\",EingabeAngabe!D52)","v":""},null,{"$f":"IF(OR(G45=\"\",G45>EingabeAngabe!F50),\"F\",EingabeAngabe!B52)","v":"F"}]
["SY33",{"$f":"IF(EingabeAngabe!C53=\"\",\"\",EingabeAngabe!C53)","v":""},null,{"$f":"IF(EingabeAngabe!D53=\"\",\"\",EingabeAngabe!D53)","v":""},null,{"$f":"IF(OR(G46=\"\",G46>EingabeAngabe!F51),\"F\",EingabeAngabe!B53)","v":"F"}]
["SY34",{"$f":"IF(EingabeAngabe!C54=\"\",\"\",EingabeAngabe!C54)","v":""},null,{"$f":"IF(EingabeAngabe!D54=\"\",\"\",EingabeAngabe!D54)","v":""},null,{"$f":"IF(OR(G47=\"\",G47>EingabeAngabe!F52),\"F\",EingabeAngabe!B54)","v":"F"},null,"Summe Übersetzungstext",null,null,null,null,{"$f":"EingabeAngabe!J59","v":""}]
[{"$f":"EingabeAngabe!B55","v":"SY35"},{"$f":"IF(EingabeAngabe!C55=\"\",\"\",EingabeAngabe!C55)","v":""},null,{"$f":"IF(EingabeAngabe!D55=\"\",\"\",EingabeAngabe!D55)","v":""},null,{"$f":"IF(OR(G48=\"\",G48>EingabeAngabe!F53),\"F\",EingabeAngabe!B55)","v":"F"},null,"Summe Arbeitsaufgaben und Interpretation",null,null,null,null,{"$f":"EingabeAngabe!J60","v":""}]
[{"$f":"EingabeAngabe!B56","v":"SY36"},{"$f":"IF(EingabeAngabe!C56=\"\",\"\",EingabeAngabe!C56)","v":""},null,{"$f":"IF(EingabeAngabe!D56=\"\",\"\",EingabeAngabe!D56)","v":""},null,{"$f":"IF(OR(G49=\"\",G49>EingabeAngabe!F54),\"F\",EingabeAngabe!B56)","v":"F"},null,"Gesamtsumme",null,null,null,null,{"$f":"EingabeAngabe!J2","v":""}]
[null,{"$f":"EingabeAngabe!C57","v":"SPRACHLICHE QUALITÄT IN DER ZIELSPRACHE"},null,null,null,{"$f":"IF(OR(G50=1,G50=3,G50=5,G50>6),\"F\",\"6/4/2/0\")","v":"6/4/2/0"},null,"NOTE",null,null,{"$f":"IF(EingabeAngabe!J3=1,\"Sehr gut\",IF(EingabeAngabe!J3=2,\"Gut\",IF(EingabeAngabe!J3=3,\"Befriedigend\",IF(EingabeAngabe!J3=4,\"Genügend\",IF(EingabeAngabe!J3=5,\"Nicht genügend\",\"\")))))","v":""}]

{"sheet":"Schueler5Punkte","index":8,"n_rows":50,"n_cols":13,"rows_kept":50,"cut":false,"hidden":false,"merged":[[0,0,0,1],[0,3,0,4],[0,7,0,11],[1,0,2,0],[1,1,1,4],[1,5,2,5],[1,6,2,6],[1,8,1,11],[2,1,2,4],[2,8,2,11],[3,0,4,0],[3,1,3,4],[3,5,4,5],[3,6,4,6],[3,8,3,11],[4,1,4,4],[4,8,4,11],[5,0,6,0],[5,1,5,4],[5,5,6,5],[5,6,6,6],[5,8,5,11],[6,1,6,4],[6,8,6,11],[7,0,8,0],[7,1,7,4],[7,5,8,5],[7,6,8,6],[7,8,7,11],[8,1,8,4],[8,8,8,11],[9,0,10,0],[9,1,9,4],[9,5,10,5],[9,6,10,6],[9,7,9,13],[10,1,10,4],[10,7,10,10],[10,11,10,13],[11,0,12,0],[11,1,11,4],[11,5,12,5],[11,6,12,6],[11,7,11,10],[11,11,11,13],[12,1,12,4],[12,7,12,10],[12,11,12,13],[13,0,14,0],[13,1,13,4],[13,5,14,5],[13,6,14,6],[13,7,13,10],[13,11,13,13],[14,1,14,4],[14,7,14,10],[14,11,14,13],[15,0,16,0],[15,1,15,4],[15,5,16,5],[15,6,16,6],[15,7,15,13],[16,1,16,4],[16,7,24,13],[17,0,18,0],[17,1,17,4],[17,5,18,5],[17,6,18,6],[18,1,18,4],[19,0,20,0],[19,1,19,4],[19,5,20,5],[19,6,20,6],[20,1,20,4],[21,0,22,0],[21,1,21,4],[21,5,22,5],[21,6,22,6],[22,1,22,4],[23,0,24,0],[23,1,23,4],[23,5,24,5],[23,6,24,6],[24,1,24,4],[25,1,25,2],[26,1,26,2],[26,7,26,13],[27,1,27,2],[27,7,44,13],[28,1,28,2],[29,1,29,2],[30,1,30,2],[31,1,31,2],[32,1,32,2],[33,1,33,2],[33,3,33,4],[34,1,34,2],[34,3,34,4],[35,1,35,2],[35,3,35,4],[36,1,36,2],[36,3,36,4],[37,1,37,2],[37,3,37,4],[38,1,38,2],[38,3,38,4],[39,1,39,2],[39,3,39,4],[40,1,40,2],[40,3,40,4],[41,1,41,2],[41,3,41,4],[42,1,42,2],[42,3,42,4],[43,1,43,2],[43,3,43,4],[44,1,44,2],[44,3,44,4],[48,12,48,13],[45,1,45,2],[45,3,45,4],[46,1,46,2],[46,3,46,4],[46,7,46,11],[46,12,46,13],[49,1,49,4],[49,7,49,9],[49,10,49,13],[47,1,47,2],[47,3,47,4],[47,7,47,11],[47,12,47,13],[48,1,48,2],[48,3,48,4],[48,7,48,11]]}
["Übersetzungstext",null,"Schülername",{"$f":"SchuelernamenEingabe!B6","v":0},null,null,null,"Arbeitsaufgaben/ Interpretation"]
[{"$f":"EingabeAngabe!B6","v":"SE1"},{"$f":"IF(EingabeAngabe!C6=\"\",\"\",EingabeAngabe!C6)","v":""},null,null,null,{"$f":"IF(OR(G2=\"\",G2>EingabeAngabe!F6),\"F\",EingabeAngabe!B6)","v":"F"},null,{"$f":"EingabeAngabe!B61","v":"IT1"},{"$f":"IF(EingabeAngabe!C61=\"\",\"\",EingabeAngabe!C61)","v":""},null,null,null,{"$f":"IF(N2>EingabeAngabe!F61,\"F\",IF(EingabeAngabe!F61=\"\",\"\",EingabeAngabe!F61))","v":""}]
[null,{"$f":"IF(EingabeAngabe!C7=\"\",\"\",EingabeAngabe!C7)","v":""},null,null,null,null,null,{"$f":"EingabeAngabe!B62","v":"IT2"},{"$f":"IF(EingabeAngabe!C62=\"\",\"\",EingabeAngabe!C62)","v":""},null,null,null,{"$f":"IF(N3>EingabeAngabe!F62,\"F\",IF(EingabeAngabe!F62=\"\",\"\",EingabeAngabe!F62))","v":""}]
[{"$f":"EingabeAngabe!B8","v":"SE2"},{"$f":"IF(EingabeAngabe!C8=\"\",\"\",EingabeAngabe!C8)","v":""},null,null,null,{"$f":"IF(OR(G4=\"\",G4>EingabeAngabe!F8),\"F\",EingabeAngabe!B8)","v":"F"},null,{"$f":"EingabeAngabe!B63","v":"IT3"},{"$f":"IF(EingabeAngabe!C63=\"\",\"\",EingabeAngabe!C63)","v":""},null,null,null,{"$f":"IF(N4>EingabeAngabe!F63,\"F\",IF(EingabeAngabe!F63=\"\",\"\",EingabeAngabe!F63))","v":""}]
[null,{"$f":"IF(EingabeAngabe!C9=\"\",\"\",EingabeAngabe!C9)","v":""},null,null,null,null,null,{"$f":"EingabeAngabe!B64","v":"IT4"},{"$f":"IF(EingabeAngabe!C64=\"\",\"\",EingabeAngabe!C64)","v":""},null,null,null,{"$f":"IF(N5>EingabeAngabe!F64,\"F\",IF(EingabeAngabe!F64=\"\",\"\",EingabeAngabe!F64))","v":""}]
[{"$f":"EingabeAngabe!B10","v":"SE3"},{"$f":"IF(EingabeAngabe!C10=\"\",\"\",EingabeAngabe!C10)","v":""},null,null,null,{"$f":"IF(OR(G6=\"\",G6>EingabeAngabe!F10),\"F\",EingabeAngabe!B10)","v":"F"},null,{"$f":"EingabeAngabe!B65","v":"IT5"},{"$f":"IF(EingabeAngabe!C65=\"\",\"\",EingabeAngabe!C65)","v":""},null,null,null,{"$f":"IF(N6>EingabeAngabe!F65,\"F\",IF(EingabeAngabe!F65=\"\",\"\",EingabeAngabe!F65))","v":""}]
[null,{"$f":"IF(EingabeAngabe!C11=\"\",\"\",EingabeAngabe!C11)","v":""},null,null,null,null,null,{"$f":"EingabeAngabe!B66","v":"IT6"},{"$f":"IF(EingabeAngabe!C66=\"\",\"\",EingabeAngabe!C66)","v":""},null,null,null,{"$f":"IF(N7>EingabeAngabe!F66,\"F\",IF(EingabeAngabe!F66=\"\",\"\",EingabeAngabe!F66))","v":""}]
[{"$f":"EingabeAngabe!B12","v":"SE4"},{"$f":"IF(EingabeAngabe!C12=\"\",\"\",EingabeAngabe!C12)","v":""},null,null,null,{"$f":"IF(OR(G8=\"\",G8>EingabeAngabe!F12),\"F\",EingabeAngabe!B12)","v":"F"},null,{"$f":"EingabeAngabe!B67","v":"IT7"},{"$f":"IF(EingabeAngabe!C67=\"\",\"\",EingabeAngabe!C67)","v":""},null,null,null,{"$f":"IF(N8>EingabeAngabe!F67,\"F\",IF(EingabeAngabe!F67=\"\",\"\",EingabeAngabe!F67))","v":""}]
[null,{"$f":"IF(EingabeAngabe!C13=\"\",\"\",EingabeAngabe!C13)","v":""},null,null,null,null,null,{"$f":"EingabeAngabe!B68","v":"IT8"},{"$f":"IF(EingabeAngabe!C68=\"\",\"\",EingabeAngabe!C68)","v":""},null,null,null,{"$f":"IF(N9>EingabeAngabe!F68,\"F\",IF(EingabeAngabe!F68=\"\",\"\",EingabeAngabe!F68))","v":""}]
[{"$f":"EingabeAngabe!B14","v":"SE5"},{"$f":"IF(EingabeAngabe!C14=\"\",\"\",EingabeAngabe!C14)","v":""},null,null,null,{"$f":"IF(OR(G10=\"\",G10>EingabeAngabe!F14),\"F\",EingabeAngabe!B14)","v":"F"},null,"Notenschlüssel:"]
[null,{"$f":"IF(EingabeAngabe!C15=\"\",\"\",EingabeAngabe!C15)","v":""},null,null,null,null,null,"Sehr gut",null,null,null,{"$f":"EingabeAngabe!F72","v":"60 - 53"}]
[{"$f":"EingabeAngabe!B16","v":"SE6"},{"$f":"IF(EingabeAngabe!C16=\"\",\"\",EingabeAngabe!C16)","v":""},null,null,null,{"$f":"IF(OR(G12=\"\",G12>EingabeAngabe!F16),\"F\",EingabeAngabe!B16)","v":"F"},null,"Gut",null,null,null,{"$f":"EingabeAngabe!F73","v":"52 - 45"}]
[null,{"$f":"IF(EingabeAngabe!C17=\"\",\"\",EingabeAngabe!C17)","v":""},null,null,null,null,null,"Befriedigend",null,null,null,{"$f":"EingabeAngabe!F74","v":"44 - 37"}]
[{"$f":"EingabeAngabe!B18","v":"SE7"},{"$f":"IF(EingabeAngabe!C18=\"\",\"\",EingabeAngabe!C18)","v":""},null,null,null,{"$f":"IF(OR(G14=\"\",G14>EingabeAngabe!F18),\"F\",EingabeAngabe!B18)","v":"F"},null,"Genügend",null,null,null,{"$f":"EingabeAngabe!F75","v":"36 - 30"}]
[null,{"$f":"IF(EingabeAngabe!C19=\"\",\"\",EingabeAngabe!C19)","v":""},null,null,null,null,null,"Nicht genügend",null,null,null,{"$f":"EingabeAngabe!F76","v":"29 - 00"}]
[{"$f":"EingabeAngabe!B20","v":"SE8"},{"$f":"IF(EingabeAngabe!C20=\"\",\"\",EingabeAngabe!C20)","v":""},null,null,null,{"$f":"IF(OR(G16=\"\",G16>EingabeAngabe!F20),\"F\",EingabeAngabe!B20)","v":"F"},null,{"$f":"CONCATENATE(\"Notendefinition laut LBVO$14:\",\"            \",K50)","v":"Notendefinition laut LBVO$14:            "}]
[null,{"$f":"IF(EingabeAngabe!C21=\"\",\"\",EingabeAngabe!C21)","v":""},null,null,null,null,null,{"$f":"VLOOKUP(K50,SchuelernamenEingabe!D2:'SchuelernamenEingabe'!E40,2,FALSE)","v":{"$error":"#N/A"}}]
[{"$f":"EingabeAngabe!B22","v":"SE9"},{"$f":"IF(EingabeAngabe!C22=\"\",\"\",EingabeAngabe!C22)","v":""},null,null,null,{"$f":"IF(OR(G18=\"\",G18>EingabeAngabe!F22),\"F\",EingabeAngabe!B22)","v":"F"}]
[null,{"$f":"IF(EingabeAngabe!C23=\"\",\"\",EingabeAngabe!C23)","v":""}]
[{"$f":"EingabeAngabe!B24","v":"SE10"},{"$f":"IF(EingabeAngabe!C24=\"\",\"\",EingabeAngabe!C24)","v":""},null,null,null,{"$f":"IF(OR(G20=\"\",G20>EingabeAngabe!F24),\"F\",EingabeAngabe!B24)","v":"F"}]
[null,{"$f":"IF(EingabeAngabe!C25=\"\",\"\",EingabeAngabe!C25)","v":""}]
[{"$f":"EingabeAngabe!B26","v":"SE11"},{"$f":"IF(EingabeAngabe!C26=\"\",\"\",EingabeAngabe!C26)","v":""},null,null,null,{"$f":"IF(OR(G22=\"\",G22>EingabeAngabe!F26),\"F\",EingabeAngabe!B26)","v":"F"}]
[null,{"$f":"IF(EingabeAngabe!C27=\"\",\"\",EingabeAngabe!C27)","v":""}]
[{"$f":"EingabeAngabe!B28","v":"SE12"},{"$f":"IF(EingabeAngabe!C28=\"\",\"\",EingabeAngabe!C28)","v":""},null,null,null,{"$f":"IF(OR(G24=\"\",G24>EingabeAngabe!F28),\"F\",EingabeAngabe!B28)","v":"F"}]
[null,{"$f":"IF(EingabeAngabe!C29=\"\",\"\",EingabeAngabe!C29)","v":""}]
[{"$f":"EingabeAngabe!B31","v":"LE13"},{"$f":"IF(EingabeAngabe!C31=\"\",\"\",EingabeAngabe!C31)","v":""},null,{"$f":"IF(EingabeAngabe!D31=\"\",\"\",EingabeAngabe!D31)","v":""},{"$f":"IF(EingabeAngabe!E31=\"\",\"\",EingabeAngabe!E31)","v":""},{"$f":"IF(OR(G26=\"\",G26>EingabeAngabe!F31),\"F\",EingabeAngabe!B31)","v":"F"}]
[{"$f":"EingabeAngabe!B32","v":"LE14"},{"$f":"IF(EingabeAngabe!C32=\"\",\"\",EingabeAngabe!C32)","v":""},null,{"$f":"IF(EingabeAngabe!D32=\"\",\"\",EingabeAngabe!D32)","v":""},{"$f":"IF(EingabeAngabe!E32=\"\",\"\",EingabeAngabe!E32)","v":""},{"$f":"IF(OR(G27=\"\",G27>EingabeAngabe!F32),\"F\",EingabeAngabe!B32)","v":"F"},null,{"$f":"IF(EingabeAngabe!F80>\"\",EingabeAngabe!E79,\"\")","v":"Eigener Notenkommentar:"}]
[{"$f":"EingabeAngabe!B33","v":"LE15"},{"$f":"IF(EingabeAngabe!C33=\"\",\"\",EingabeAngabe!C33)","v":""},null,{"$f":"IF(EingabeAngabe!D33=\"\",\"\",EingabeAngabe!D33)","v":""},{"$f":"IF(EingabeAngabe!E33=\"\",\"\",EingabeAngabe!E33)","v":""},{"$f":"IF(OR(G28=\"\",G28>EingabeAngabe!F33),\"F\",EingabeAngabe!B33)","v":"F"}]
["LE16",{"$f":"IF(EingabeAngabe!C34=\"\",\"\",EingabeAngabe!C34)","v":""},null,{"$f":"IF(EingabeAngabe!D34=\"\",\"\",EingabeAngabe!D34)","v":""},{"$f":"IF(EingabeAngabe!E34=\"\",\"\",EingabeAngabe!E34)","v":""},{"$f":"IF(OR(G29=\"\",G29>EingabeAngabe!F34),\"F\",EingabeAngabe!B34)","v":"F"}]
["LE17",{"$f":"IF(EingabeAngabe!C35=\"\",\"\",EingabeAngabe!C35)","v":""},null,{"$f":"IF(EingabeAngabe!D35=\"\",\"\",EingabeAngabe!D35)","v":""},{"$f":"IF(EingabeAngabe!E35=\"\",\"\",EingabeAngabe!E35)","v":""},{"$f":"IF(OR(G30=\"\",G30>EingabeAngabe!F35),\"F\",EingabeAngabe!B35)","v":"F"}]
["LE18",{"$f":"IF(EingabeAngabe!C36=\"\",\"\",EingabeAngabe!C36)","v":""},null,{"$f":"IF(EingabeAngabe!D36=\"\",\"\",EingabeAngabe!D36)","v":""},{"$f":"IF(EingabeAngabe!E36=\"\",\"\",EingabeAngabe!E36)","v":""},{"$f":"IF(OR(G31=\"\",G31>EingabeAngabe!F36),\"F\",EingabeAngabe!B36)","v":"F"}]
["LE19",{"$f":"IF(EingabeAngabe!C37=\"\",\"\",EingabeAngabe!C37)","v":""},null,{"$f":"IF(EingabeAngabe!D37=\"\",\"\",EingabeAngabe!D37)","v":""},{"$f":"IF(EingabeAngabe!E37=\"\",\"\",EingabeAngabe!E37)","v":""},{"$f":"IF(OR(G32=\"\",G32>EingabeAngabe!F37),\"F\",EingabeAngabe!B37)","v":"F"}]
[{"$f":"EingabeAngabe!B38","v":"LE20"},{"$f":"IF(EingabeAngabe!C38=\"\",\"\",EingabeAngabe!C38)","v":""},null,{"$f":"IF(EingabeAngabe!D38=\"\",\"\",EingabeAngabe!D38)","v":""},{"$f":"IF(EingabeAngabe!E38=\"\",\"\",EingabeAngabe!E38)","v":""},{"$f":"IF(OR(G33=\"\",G33>EingabeAngabe!F38),\"F\",EingabeAngabe!B38)","v":"F"}]
[{"$f":"EingabeAngabe!B40","v":"MO21"},{"$f":"IF(EingabeAngabe!C40=\"\",\"\",EingabeAngabe!C40)","v":""},null,{"$f":"IF(EingabeAngabe!D40=\"\",\"\",EingabeAngabe!D40)","v":""},null,{"$f":"IF(OR(G34=\"\",G34>EingabeAngabe!F39),\"F\",EingabeAngabe!B40)","v":"F"}]
[{"$f":"EingabeAngabe!B41","v":"MO22"},{"$f":"IF(EingabeAngabe!C41=\"\",\"\",EingabeAngabe!C41)","v":""},null,{"$f":"IF(EingabeAngabe!D41=\"\",\"\",EingabeAngabe!D41)","v":""},null,{"$f":"IF(OR(G35=\"\",G35>EingabeAngabe!F40),\"F\",EingabeAngabe!B41)","v":"F"}]
["MO23",{"$f":"IF(EingabeAngabe!C42=\"\",\"\",EingabeAngabe!C42)","v":""},null,{"$f":"IF(EingabeAngabe!D42=\"\",\"\",EingabeAngabe!D42)","v":""},null,{"$f":"IF(OR(G36=\"\",G36>EingabeAngabe!F41),\"F\",EingabeAngabe!B42)","v":"F"}]
["MO24",{"$f":"IF(EingabeAngabe!C43=\"\",\"\",EingabeAngabe!C43)","v":""},null,{"$f":"IF(EingabeAngabe!D43=\"\",\"\",EingabeAngabe!D43)","v":""},null,{"$f":"IF(OR(G37=\"\",G37>EingabeAngabe!F42),\"F\",EingabeAngabe!B43)","v":"F"}]
["MO25",{"$f":"IF(EingabeAngabe!C44=\"\",\"\",EingabeAngabe!C44)","v":""},null,{"$f":"IF(EingabeAngabe!D44=\"\",\"\",EingabeAngabe!D44)","v":""},null,{"$f":"IF(OR(G38=\"\",G38>EingabeAngabe!F41),\"F\",EingabeAngabe!B42)","v":"F"}]
[{"$f":"EingabeAngabe!B45","v":"MO26"},{"$f":"IF(EingabeAngabe!C45=\"\",\"\",EingabeAngabe!C45)","v":""},null,{"$f":"IF(EingabeAngabe!D45=\"\",\"\",EingabeAngabe!D45)","v":""},null,{"$f":"IF(OR(G39=\"\",G39>EingabeAngabe!F42),\"F\",EingabeAngabe!B45)","v":"F"}]
[{"$f":"EingabeAngabe!B46","v":"MO27"},{"$f":"IF(EingabeAngabe!C46=\"\",\"\",EingabeAngabe!C46)","v":""},null,{"$f":"IF(EingabeAngabe!D46=\"\",\"\",EingabeAngabe!D46)","v":""},null,{"$f":"IF(OR(G40=\"\",G40>EingabeAngabe!F45),\"F\",EingabeAngabe!B46)","v":"F"}]
[{"$f":"EingabeAngabe!B47","v":"MO28"},{"$f":"IF(EingabeAngabe!C47=\"\",\"\",EingabeAngabe!C47)","v":""},null,{"$f":"IF(EingabeAngabe!D47=\"\",\"\",EingabeAngabe!D47)","v":""},null,{"$f":"IF(OR(G41=\"\",G41>EingabeAngabe!F46),\"F\",EingabeAngabe!B47)","v":"F"}]
[{"$f":"EingabeAngabe!B49","v":"SY29"},{"$f":"IF(EingabeAngabe!C49=\"\",\"\",EingabeAngabe!C49)","v":""},null,{"$f":"IF(EingabeAngabe!D49=\"\",\"\",EingabeAngabe!D49)","v":""},null,{"$f":"IF(OR(G42=\"\",G42>EingabeAngabe!F47),\"F\",EingabeAngabe!B49)","v":"F"}]
["SY30",{"$f":"IF(EingabeAngabe!C50=\"\",\"\",EingabeAngabe!C50)","v":""},null,{"$f":"IF(EingabeAngabe!D50=\"\",\"\",EingabeAngabe!D50)","v":""},null,{"$f":"IF(OR(G43=\"\",G43>EingabeAngabe!F48),\"F\",EingabeAngabe!B50)","v":"F"}]
["SY31",{"$f":"IF(EingabeAngabe!C51=\"\",\"\",EingabeAngabe!C51)","v":""},null,{"$f":"IF(EingabeAngabe!D51=\"\",\"\",EingabeAngabe!D51)","v":""},null,{"$f":"IF(OR(G44=\"\",G44>EingabeAngabe!F49),\"F\",EingabeAngabe!B51)","v":"F"}]
["SY32",{"$f":"IF(EingabeAngabe!C52=\"\",\"\",EingabeAngabe!C52)","v":""},null,{"$f":"IF(EingabeAngabe!D52=\"\",\"\",EingabeAngabe!D52)","v":""},null,{"$f":"IF(OR(G45=\"\",G45>EingabeAngabe!F50),\"F\",EingabeAngabe!B52)","v":"F"}]
["SY33",{"$f":"IF(EingabeAngabe!C53=\"\",\"\",EingabeAngabe!C53)","v":""},null,{"$f":"IF(EingabeAngabe!D53=\"\",\"\",EingabeAngabe!D53)","v":""},null,{"$f":"IF(OR(G46=\"\",G46>EingabeAngabe!F51),\"F\",EingabeAngabe!B53)","v":"F"}]
["SY34",{"$f":"IF(EingabeAngabe!C54=\"\",\"\",EingabeAngabe!C54)","v":""},null,{"$f":"IF(EingabeAngabe!D54=\"\",\"\",EingabeAngabe!D54)","v":""},null,{"$f":"IF(OR(G47=\"\",G47>EingabeAngabe!F52),\"F\",EingabeAngabe!B54)","v":"F"},null,"Summe Übersetzungstext",null,null,null,null,{"$f":"EingabeAngabe!K59","v":""}]
[{"$f":"EingabeAngabe!B55","v":"SY35"},{"$f":"IF(EingabeAngabe!C55=\"\",\"\",EingabeAngabe!C55)","v":""},null,{"$f":"IF(EingabeAngabe!D55=\"\",\"\",EingabeAngabe!D55)","v":""},null,{"$f":"IF(OR(G48=\"\",G48>EingabeAngabe!F53),\"F\",EingabeAngabe!B55)","v":"F"},null,"Summe Arbeitsaufgaben und Interpretation",null,null,null,null,{"$f":"EingabeAngabe!K60","v":""}]
[{"$f":"EingabeAngabe!B56","v":"SY36"},{"$f":"IF(EingabeAngabe!C56=\"\",\"\",EingabeAngabe!C56)","v":""},null,{"$f":"IF(EingabeAngabe!D56=\"\",\"\",EingabeAngabe!D56)","v":""},null,{"$f":"IF(OR(G49=\"\",G49>EingabeAngabe!F54),\"F\",EingabeAngabe!B56)","v":"F"},null,"Gesamtsumme",null,null,null,null,{"$f":"EingabeAngabe!K2","v":""}]
[null,{"$f":"EingabeAngabe!C57","v":"SPRACHLICHE QUALITÄT IN DER ZIELSPRACHE"},null,null,null,{"$f":"IF(OR(G50=1,G50=3,G50=5,G50>6),\"F\",\"6/4/2/0\")","v":"6/4/2/0"},null,"NOTE",null,null,{"$f":"IF(EingabeAngabe!K3=1,\"Sehr gut\",IF(EingabeAngabe!K3=2,\"Gut\",IF(EingabeAngabe!K3=3,\"Befriedigend\",IF(EingabeAngabe!K3=4,\"Genügend\",IF(EingabeAngabe!K3=5,\"Nicht genügend\",\"\")))))","v":""}]

{"sheet":"Schueler6Punkte","index":9,"n_rows":50,"n_cols":13,"rows_kept":50,"cut":false,"hidden":false,"merged":[[0,0,0,1],[0,3,0,4],[0,7,0,11],[1,0,2,0],[1,1,1,4],[1,5,2,5],[1,6,2,6],[1,8,1,11],[2,1,2,4],[2,8,2,11],[3,0,4,0],[3,1,3,4],[3,5,4,5],[3,6,4,6],[3,8,3,11],[4,1,4,4],[4,8,4,11],[5,0,6,0],[5,1,5,4],[5,5,6,5],[5,6,6,6],[5,8,5,11],[6,1,6,4],[6,8,6,11],[7,0,8,0],[7,1,7,4],[7,5,8,5],[7,6,8,6],[7,8,7,11],[8,1,8,4],[8,8,8,11],[9,0,10,0],[9,1,9,4],[9,5,10,5],[9,6,10,6],[9,7,9,13],[10,1,10,4],[10,7,10,10],[10,11,10,13],[11,0,12,0],[11,1,11,4],[11,5,12,5],[11,6,12,6],[11,7,11,10],[11,11,11,13],[12,1,12,4],[12,7,12,10],[12,11,12,13],[13,0,14,0],[13,1,13,4],[13,5,14,5],[13,6,14,6],[13,7,13,10],[13,11,13,13],[14,1,14,4],[14,7,14,10],[14,11,14,13],[15,0,16,0],[15,1,15,4],[15,5,16,5],[15,6,16,6],[15,7,15,13],[16,1,16,4],[16,7,24,13],[17,0,18,0],[17,1,17,4],[17,5,18,5],[17,6,18,6],[18,1,18,4],[19,0,20,0],[19,1,19,4],[19,5,20,5],[19,6,20,6],[20,1,20,4],[21,0,22,0],[21,1,21,4],[21,5,22,5],[21,6,22,6],[22,1,22,4],[23,0,24,0],[23,1,23,4],[23,5,24,5],[23,6,24,6],[24,1,24,4],[25,1,25,2],[26,1,26,2],[26,7,26,13],[27,1,27,2],[27,7,44,13],[28,1,28,2],[29,1,29,2],[30,1,30,2],[31,1,31,2],[32,1,32,2],[33,1,33,2],[33,3,33,4],[34,1,34,2],[34,3,34,4],[35,1,35,2],[35,3,35,4],[36,1,36,2],[36,3,36,4],[37,1,37,2],[37,3,37,4],[38,1,38,2],[38,3,38,4],[39,1,39,2],[39,3,39,4],[40,1,40,2],[40,3,40,4],[41,1,41,2],[41,3,41,4],[42,1,42,2],[42,3,42,4],[43,1,43,2],[43,3,43,4],[44,1,44,2],[44,3,44,4],[48,12,48,13],[45,1,45,2],[45,3,45,4],[46,1,46,2],[46,3,46,4],[46,7,46,11],[46,12,46,13],[49,1,49,4],[49,7,49,9],[49,10,49,13],[47,1,47,2],[47,3,47,4],[47,7,47,11],[47,12,47,13],[48,1,48,2],[48,3,48,4],[48,7,48,11]]}
["Übersetzungstext",null,"Schülername",{"$f":"SchuelernamenEingabe!B7","v":0},null,null,null,"Arbeitsaufgaben/ Interpretation"]
[{"$f":"EingabeAngabe!B6","v":"SE1"},{"$f":"IF(EingabeAngabe!C6=\"\",\"\",EingabeAngabe!C6)","v":""},null,null,null,{"$f":"IF(OR(G2=\"\",G2>EingabeAngabe!F6),\"F\",EingabeAngabe!B6)","v":"F"},null,{"$f":"EingabeAngabe!B61","v":"IT1"},{"$f":"IF(EingabeAngabe!C61=\"\",\"\",EingabeAngabe!C61)","v":""},null,null,null,{"$f":"IF(N2>EingabeAngabe!F61,\"F\",IF(EingabeAngabe!F61=\"\",\"\",EingabeAngabe!F61))","v":""}]
[null,{"$f":"IF(EingabeAngabe!C7=\"\",\"\",EingabeAngabe!C7)","v":""},null,null,null,null,null,{"$f":"EingabeAngabe!B62","v":"IT2"},{"$f":"IF(EingabeAngabe!C62=\"\",\"\",EingabeAngabe!C62)","v":""},null,null,null,{"$f":"IF(N3>EingabeAngabe!F62,\"F\",IF(EingabeAngabe!F62=\"\",\"\",EingabeAngabe!F62))","v":""}]
[{"$f":"EingabeAngabe!B8","v":"SE2"},{"$f":"IF(EingabeAngabe!C8=\"\",\"\",EingabeAngabe!C8)","v":""},null,null,null,{"$f":"IF(OR(G4=\"\",G4>EingabeAngabe!F8),\"F\",EingabeAngabe!B8)","v":"F"},null,{"$f":"EingabeAngabe!B63","v":"IT3"},{"$f":"IF(EingabeAngabe!C63=\"\",\"\",EingabeAngabe!C63)","v":""},null,null,null,{"$f":"IF(N4>EingabeAngabe!F63,\"F\",IF(EingabeAngabe!F63=\"\",\"\",EingabeAngabe!F63))","v":""}]
[null,{"$f":"IF(EingabeAngabe!C9=\"\",\"\",EingabeAngabe!C9)","v":""},null,null,null,null,null,{"$f":"EingabeAngabe!B64","v":"IT4"},{"$f":"IF(EingabeAngabe!C64=\"\",\"\",EingabeAngabe!C64)","v":""},null,null,null,{"$f":"IF(N5>EingabeAngabe!F64,\"F\",IF(EingabeAngabe!F64=\"\",\"\",EingabeAngabe!F64))","v":""}]
[{"$f":"EingabeAngabe!B10","v":"SE3"},{"$f":"IF(EingabeAngabe!C10=\"\",\"\",EingabeAngabe!C10)","v":""},null,null,null,{"$f":"IF(OR(G6=\"\",G6>EingabeAngabe!F10),\"F\",EingabeAngabe!B10)","v":"F"},null,{"$f":"EingabeAngabe!B65","v":"IT5"},{"$f":"IF(EingabeAngabe!C65=\"\",\"\",EingabeAngabe!C65)","v":""},null,null,null,{"$f":"IF(N6>EingabeAngabe!F65,\"F\",IF(EingabeAngabe!F65=\"\",\"\",EingabeAngabe!F65))","v":""}]
[null,{"$f":"IF(EingabeAngabe!C11=\"\",\"\",EingabeAngabe!C11)","v":""},null,null,null,null,null,{"$f":"EingabeAngabe!B66","v":"IT6"},{"$f":"IF(EingabeAngabe!C66=\"\",\"\",EingabeAngabe!C66)","v":""},null,null,null,{"$f":"IF(N7>EingabeAngabe!F66,\"F\",IF(EingabeAngabe!F66=\"\",\"\",EingabeAngabe!F66))","v":""}]
[{"$f":"EingabeAngabe!B12","v":"SE4"},{"$f":"IF(EingabeAngabe!C12=\"\",\"\",EingabeAngabe!C12)","v":""},null,null,null,{"$f":"IF(OR(G8=\"\",G8>EingabeAngabe!F12),\"F\",EingabeAngabe!B12)","v":"F"},null,{"$f":"EingabeAngabe!B67","v":"IT7"},{"$f":"IF(EingabeAngabe!C67=\"\",\"\",EingabeAngabe!C67)","v":""},null,null,null,{"$f":"IF(N8>EingabeAngabe!F67,\"F\",IF(EingabeAngabe!F67=\"\",\"\",EingabeAngabe!F67))","v":""}]
[null,{"$f":"IF(EingabeAngabe!C13=\"\",\"\",EingabeAngabe!C13)","v":""},null,null,null,null,null,{"$f":"EingabeAngabe!B68","v":"IT8"},{"$f":"IF(EingabeAngabe!C68=\"\",\"\",EingabeAngabe!C68)","v":""},null,null,null,{"$f":"IF(N9>EingabeAngabe!F68,\"F\",IF(EingabeAngabe!F68=\"\",\"\",EingabeAngabe!F68))","v":""}]
[{"$f":"EingabeAngabe!B14","v":"SE5"},{"$f":"IF(EingabeAngabe!C14=\"\",\"\",EingabeAngabe!C14)","v":""},null,null,null,{"$f":"IF(OR(G10=\"\",G10>EingabeAngabe!F14),\"F\",EingabeAngabe!B14)","v":"F"},null,"Notenschlüssel:"]
[null,{"$f":"IF(EingabeAngabe!C15=\"\",\"\",EingabeAngabe!C15)","v":""},null,null,null,null,null,"Sehr gut",null,null,null,{"$f":"EingabeAngabe!F72","v":"60 - 53"}]
[{"$f":"EingabeAngabe!B16","v":"SE6"},{"$f":"IF(EingabeAngabe!C16=\"\",\"\",EingabeAngabe!C16)","v":""},null,null,null,{"$f":"IF(OR(G12=\"\",G12>EingabeAngabe!F16),\"F\",EingabeAngabe!B16)","v":"F"},null,"Gut",null,null,null,{"$f":"EingabeAngabe!F73","v":"52 - 45"}]
[null,{"$f":"IF(EingabeAngabe!C17=\"\",\"\",EingabeAngabe!C17)","v":""},null,null,null,null,null,"Befriedigend",null,null,null,{"$f":"EingabeAngabe!F74","v":"44 - 37"}]
[{"$f":"EingabeAngabe!B18","v":"SE7"},{"$f":"IF(EingabeAngabe!C18=\"\",\"\",EingabeAngabe!C18)","v":""},null,null,null,{"$f":"IF(OR(G14=\"\",G14>EingabeAngabe!F18),\"F\",EingabeAngabe!B18)","v":"F"},null,"Genügend",null,null,null,{"$f":"EingabeAngabe!F75","v":"36 - 30"}]
[null,{"$f":"IF(EingabeAngabe!C19=\"\",\"\",EingabeAngabe!C19)","v":""},null,null,null,null,null,"Nicht genügend",null,null,null,{"$f":"EingabeAngabe!F76","v":"29 - 00"}]
[{"$f":"EingabeAngabe!B20","v":"SE8"},{"$f":"IF(EingabeAngabe!C20=\"\",\"\",EingabeAngabe!C20)","v":""},null,null,null,{"$f":"IF(OR(G16=\"\",G16>EingabeAngabe!F20),\"F\",EingabeAngabe!B20)","v":"F"},null,{"$f":"CONCATENATE(\"Notendefinition laut LBVO$14:\",\"            \",K50)","v":"Notendefinition laut LBVO$14:            "}]
[null,{"$f":"IF(EingabeAngabe!C21=\"\",\"\",EingabeAngabe!C21)","v":""},null,null,null,null,null,{"$f":"VLOOKUP(K50,SchuelernamenEingabe!D2:'SchuelernamenEingabe'!E40,2,FALSE)","v":{"$error":"#N/A"}}]
[{"$f":"EingabeAngabe!B22","v":"SE9"},{"$f":"IF(EingabeAngabe!C22=\"\",\"\",EingabeAngabe!C22)","v":""},null,null,null,{"$f":"IF(OR(G18=\"\",G18>EingabeAngabe!F22),\"F\",EingabeAngabe!B22)","v":"F"}]
[null,{"$f":"IF(EingabeAngabe!C23=\"\",\"\",EingabeAngabe!C23)","v":""}]
[{"$f":"EingabeAngabe!B24","v":"SE10"},{"$f":"IF(EingabeAngabe!C24=\"\",\"\",EingabeAngabe!C24)","v":""},null,null,null,{"$f":"IF(OR(G20=\"\",G20>EingabeAngabe!F24),\"F\",EingabeAngabe!B24)","v":"F"}]
[null,{"$f":"IF(EingabeAngabe!C25=\"\",\"\",EingabeAngabe!C25)","v":""}]
[{"$f":"EingabeAngabe!B26","v":"SE11"},{"$f":"IF(EingabeAngabe!C26=\"\",\"\",EingabeAngabe!C26)","v":""},null,null,null,{"$f":"IF(OR(G22=\"\",G22>EingabeAngabe!F26),\"F\",EingabeAngabe!B26)","v":"F"}]
[null,{"$f":"IF(EingabeAngabe!C27=\"\",\"\",EingabeAngabe!C27)","v":""}]
[{"$f":"EingabeAngabe!B28","v":"SE12"},{"$f":"IF(EingabeAngabe!C28=\"\",\"\",EingabeAngabe!C28)","v":""},null,null,null,{"$f":"IF(OR(G24=\"\",G24>EingabeAngabe!F28),\"F\",EingabeAngabe!B28)","v":"F"}]
[null,{"$f":"IF(EingabeAngabe!C29=\"\",\"\",EingabeAngabe!C29)","v":""}]
[{"$f":"EingabeAngabe!B31","v":"LE13"},{"$f":"IF(EingabeAngabe!C31=\"\",\"\",EingabeAngabe!C31)","v":""},null,{"$f":"IF(EingabeAngabe!D31=\"\",\"\",EingabeAngabe!D31)","v":""},{"$f":"IF(EingabeAngabe!E31=\"\",\"\",EingabeAngabe!E31)","v":""},{"$f":"IF(OR(G26=\"\",G26>EingabeAngabe!F31),\"F\",EingabeAngabe!B31)","v":"F"}]
[{"$f":"EingabeAngabe!B32","v":"LE14"},{"$f":"IF(EingabeAngabe!C32=\"\",\"\",EingabeAngabe!C32)","v":""},null,{"$f":"IF(EingabeAngabe!D32=\"\",\"\",EingabeAngabe!D32)","v":""},{"$f":"IF(EingabeAngabe!E32=\"\",\"\",EingabeAngabe!E32)","v":""},{"$f":"IF(OR(G27=\"\",G27>EingabeAngabe!F32),\"F\",EingabeAngabe!B32)","v":"F"},null,{"$f":"IF(EingabeAngabe!F80>\"\",EingabeAngabe!E79,\"\")","v":"Eigener Notenkommentar:"}]
[{"$f":"EingabeAngabe!B33","v":"LE15"},{"$f":"IF(EingabeAngabe!C33=\"\",\"\",EingabeAngabe!C33)","v":""},null,{"$f":"IF(EingabeAngabe!D33=\"\",\"\",EingabeAngabe!D33)","v":""},{"$f":"IF(EingabeAngabe!E33=\"\",\"\",EingabeAngabe!E33)","v":""},{"$f":"IF(OR(G28=\"\",G28>EingabeAngabe!F33),\"F\",EingabeAngabe!B33)","v":"F"}]
["LE16",{"$f":"IF(EingabeAngabe!C34=\"\",\"\",EingabeAngabe!C34)","v":""},null,{"$f":"IF(EingabeAngabe!D34=\"\",\"\",EingabeAngabe!D34)","v":""},{"$f":"IF(EingabeAngabe!E34=\"\",\"\",EingabeAngabe!E34)","v":""},{"$f":"IF(OR(G29=\"\",G29>EingabeAngabe!F34),\"F\",EingabeAngabe!B34)","v":"F"}]
["LE17",{"$f":"IF(EingabeAngabe!C35=\"\",\"\",EingabeAngabe!C35)","v":""},null,{"$f":"IF(EingabeAngabe!D35=\"\",\"\",EingabeAngabe!D35)","v":""},{"$f":"IF(EingabeAngabe!E35=\"\",\"\",EingabeAngabe!E35)","v":""},{"$f":"IF(OR(G30=\"\",G30>EingabeAngabe!F35),\"F\",EingabeAngabe!B35)","v":"F"}]
["LE18",{"$f":"IF(EingabeAngabe!C36=\"\",\"\",EingabeAngabe!C36)","v":""},null,{"$f":"IF(EingabeAngabe!D36=\"\",\"\",EingabeAngabe!D36)","v":""},{"$f":"IF(EingabeAngabe!E36=\"\",\"\",EingabeAngabe!E36)","v":""},{"$f":"IF(OR(G31=\"\",G31>EingabeAngabe!F36),\"F\",EingabeAngabe!B36)","v":"F"}]
["LE19",{"$f":"IF(EingabeAngabe!C37=\"\",\"\",EingabeAngabe!C37)","v":""},null,{"$f":"IF(EingabeAngabe!D37=\"\",\"\",EingabeAngabe!D37)","v":""},{"$f":"IF(EingabeAngabe!E37=\"\",\"\",EingabeAngabe!E37)","v":""},{"$f":"IF(OR(G32=\"\",G32>EingabeAngabe!F37),\"F\",EingabeAngabe!B37)","v":"F"}]
[{"$f":"EingabeAngabe!B38","v":"LE20"},{"$f":"IF(EingabeAngabe!C38=\"\",\"\",EingabeAngabe!C38)","v":""},null,{"$f":"IF(EingabeAngabe!D38=\"\",\"\",EingabeAngabe!D38)","v":""},{"$f":"IF(EingabeAngabe!E38=\"\",\"\",EingabeAngabe!E38)","v":""},{"$f":"IF(OR(G33=\"\",G33>EingabeAngabe!F38),\"F\",EingabeAngabe!B38)","v":"F"}]
[{"$f":"EingabeAngabe!B40","v":"MO21"},{"$f":"IF(EingabeAngabe!C40=\"\",\"\",EingabeAngabe!C40)","v":""},null,{"$f":"IF(EingabeAngabe!D40=\"\",\"\",EingabeAngabe!D40)","v":""},null,{"$f":"IF(OR(G34=\"\",G34>EingabeAngabe!F39),\"F\",EingabeAngabe!B40)","v":"F"}]
[{"$f":"EingabeAngabe!B41","v":"MO22"},{"$f":"IF(EingabeAngabe!C41=\"\",\"\",EingabeAngabe!C41)","v":""},null,{"$f":"IF(EingabeAngabe!D41=\"\",\"\",EingabeAngabe!D41)","v":""},null,{"$f":"IF(OR(G35=\"\",G35>EingabeAngabe!F40),\"F\",EingabeAngabe!B41)","v":"F"}]
["MO23",{"$f":"IF(EingabeAngabe!C42=\"\",\"\",EingabeAngabe!C42)","v":""},null,{"$f":"IF(EingabeAngabe!D42=\"\",\"\",EingabeAngabe!D42)","v":""},null,{"$f":"IF(OR(G36=\"\",G36>EingabeAngabe!F41),\"F\",EingabeAngabe!B42)","v":"F"}]
["MO24",{"$f":"IF(EingabeAngabe!C43=\"\",\"\",EingabeAngabe!C43)","v":""},null,{"$f":"IF(EingabeAngabe!D43=\"\",\"\",EingabeAngabe!D43)","v":""},null,{"$f":"IF(OR(G37=\"\",G37>EingabeAngabe!F42),\"F\",EingabeAngabe!B43)","v":"F"}]
["MO25",{"$f":"IF(EingabeAngabe!C44=\"\",\"\",EingabeAngabe!C44)","v":""},null,{"$f":"IF(EingabeAngabe!D44=\"\",\"\",EingabeAngabe!D44)","v":""},null,{"$f":"IF(OR(G38=\"\",G38>EingabeAngabe!F41),\"F\",EingabeAngabe!B42)","v":"F"}]
[{"$f":"EingabeAngabe!B45","v":"MO26"},{"$f":"IF(EingabeAngabe!C45=\"\",\"\",EingabeAngabe!C45)","v":""},null,{"$f":"IF(EingabeAngabe!D45=\"\",\"\",EingabeAngabe!D45)","v":""},null,{"$f":"IF(OR(G39=\"\",G39>EingabeAngabe!F42),\"F\",EingabeAngabe!B45)","v":"F"}]
[{"$f":"EingabeAngabe!B46","v":"MO27"},{"$f":"IF(EingabeAngabe!C46=\"\",\"\",EingabeAngabe!C46)","v":""},null,{"$f":"IF(EingabeAngabe!D46=\"\",\"\",EingabeAngabe!D46)","v":""},null,{"$f":"IF(OR(G40=\"\",G40>EingabeAngabe!F45),\"F\",EingabeAngabe!B46)","v":"F"}]
[{"$f":"EingabeAngabe!B47","v":"MO28"},{"$f":"IF(EingabeAngabe!C47=\"\",\"\",EingabeAngabe!C47)","v":""},null,{"$f":"IF(EingabeAngabe!D47=\"\",\"\",EingabeAngabe!D47)","v":""},null,{"$f":"IF(OR(G41=\"\",G41>EingabeAngabe!F46),\"F\",EingabeAngabe!B47)","v":"F"}]
[{"$f":"EingabeAngabe!B49","v":"SY29"},{"$f":"IF(EingabeAngabe!C49=\"\",\"\",EingabeAngabe!C49)","v":""},null,{"$f":"IF(EingabeAngabe!D49=\"\",\"\",EingabeAngabe!D49)","v":""},null,{"$f":"IF(OR(G42=\"\",G42>EingabeAngabe!F47),\"F\",EingabeAngabe!B49)","v":"F"}]
["SY30",{"$f":"IF(EingabeAngabe!C50=\"\",\"\",EingabeAngabe!C50)","v":""},null,{"$f":"IF(EingabeAngabe!D50=\"\",\"\",EingabeAngabe!D50)","v":""},null,{"$f":"IF(OR(G43=\"\",G43>EingabeAngabe!F48),\"F\",EingabeAngabe!B50)","v":"F"}]
["SY31",{"$f":"IF(EingabeAngabe!C51=\"\",\"\",EingabeAngabe!C51)","v":""},null,{"$f":"IF(EingabeAngabe!D51=\"\",\"\",EingabeAngabe!D51)","v":""},null,{"$f":"IF(OR(G44=\"\",G44>EingabeAngabe!F49),\"F\",EingabeAngabe!B51)","v":"F"}]
["SY32",{"$f":"IF(EingabeAngabe!C52=\"\",\"\",EingabeAngabe!C52)","v":""},null,{"$f":"IF(EingabeAngabe!D52=\"\",\"\",EingabeAngabe!D52)","v":""},null,{"$f":"IF(OR(G45=\"\",G45>EingabeAngabe!F50),\"F\",EingabeAngabe!B52)","v":"F"}]
["SY33",{"$f":"IF(EingabeAngabe!C53=\"\",\"\",EingabeAngabe!C53)","v":""},null,{"$f":"IF(EingabeAngabe!D53=\"\",\"\",EingabeAngabe!D53)","v":""},null,{"$f":"IF(OR(G46=\"\",G46>EingabeAngabe!F51),\"F\",EingabeAngabe!B53)","v":"F"}]
["SY34",{"$f":"IF(EingabeAngabe!C54=\"\",\"\",EingabeAngabe!C54)","v":""},null,{"$f":"IF(EingabeAngabe!D54=\"\",\"\",EingabeAngabe!D54)","v":""},null,{"$f":"IF(OR(G47=\"\",G47>EingabeAngabe!F52),\"F\",EingabeAngabe!B54)","v":"F"},null,"Summe Übersetzungstext",null,null,null,null,{"$f":"EingabeAngabe!L59","v":""}]
[{"$f":"EingabeAngabe!B55","v":"SY35"},{"$f":"IF(EingabeAngabe!C55=\"\",\"\",EingabeAngabe!C55)","v":""},null,{"$f":"IF(EingabeAngabe!D55=\"\",\"\",EingabeAngabe!D55)","v":""},null,{"$f":"IF(OR(G48=\"\",G48>EingabeAngabe!F53),\"F\",EingabeAngabe!B55)","v":"F"},null,"Summe Arbeitsaufgaben und Interpretation",null,null,null,null,{"$f":"EingabeAngabe!L60","v":""}]
[{"$f":"EingabeAngabe!B56","v":"SY36"},{"$f":"IF(EingabeAngabe!C56=\"\",\"\",EingabeAngabe!C56)","v":""},null,{"$f":"IF(EingabeAngabe!D56=\"\",\"\",EingabeAngabe!D56)","v":""},null,{"$f":"IF(OR(G49=\"\",G49>EingabeAngabe!F54),\"F\",EingabeAngabe!B56)","v":"F"},null,"Gesamtsumme",null,null,null,null,{"$f":"EingabeAngabe!L2","v":""}]
[null,{"$f":"EingabeAngabe!C57","v":"SPRACHLICHE QUALITÄT IN DER ZIELSPRACHE"},null,null,null,{"$f":"IF(OR(G50=1,G50=3,G50=5,G50>6),\"F\",\"6/4/2/0\")","v":"6/4/2/0"},null,"NOTE",null,null,{"$f":"IF(EingabeAngabe!L3=1,\"Sehr gut\",IF(EingabeAngabe!L3=2,\"Gut\",IF(EingabeAngabe!L3=3,\"Befriedigend\",IF(EingabeAngabe!L3=4,\"Genügend\",IF(EingabeAngabe!L3=5,\"Nicht genügend\",\"\")))))","v":""}]

{"sheet":"Schueler7Punkte","index":10,"n_rows":50,"n_cols":13,"rows_kept":50,"cut":false,"hidden":false,"merged":[[0,0,0,1],[0,3,0,4],[0,7,0,11],[1,0,2,0],[1,1,1,4],[1,5,2,5],[1,6,2,6],[1,8,1,11],[2,1,2,4],[2,8,2,11],[3,0,4,0],[3,1,3,4],[3,5,4,5],[3,6,4,6],[3,8,3,11],[4,1,4,4],[4,8,4,11],[5,0,6,0],[5,1,5,4],[5,5,6,5],[5,6,6,6],[5,8,5,11],[6,1,6,4],[6,8,6,11],[7,0,8,0],[7,1,7,4],[7,5,8,5],[7,6,8,6],[7,8,7,11],[8,1,8,4],[8,8,8,11],[9,0,10,0],[9,1,9,4],[9,5,10,5],[9,6,10,6],[9,7,9,13],[10,1,10,4],[10,7,10,10],[10,11,10,13],[11,0,12,0],[11,1,11,4],[11,5,12,5],[11,6,12,6],[11,7,11,10],[11,11,11,13],[12,1,12,4],[12,7,12,10],[12,11,12,13],[13,0,14,0],[13,1,13,4],[13,5,14,5],[13,6,14,6],[13,7,13,10],[13,11,13,13],[14,1,14,4],[14,7,14,10],[14,11,14,13],[15,0,16,0],[15,1,15,4],[15,5,16,5],[15,6,16,6],[15,7,15,13],[16,1,16,4],[16,7,24,13],[17,0,18,0],[17,1,17,4],[17,5,18,5],[17,6,18,6],[18,1,18,4],[19,0,20,0],[19,1,19,4],[19,5,20,5],[19,6,20,6],[20,1,20,4],[21,0,22,0],[21,1,21,4],[21,5,22,5],[21,6,22,6],[22,1,22,4],[23,0,24,0],[23,1,23,4],[23,5,24,5],[23,6,24,6],[24,1,24,4],[25,1,25,2],[26,1,26,2],[26,7,26,13],[27,1,27,2],[27,7,44,13],[28,1,28,2],[29,1,29,2],[30,1,30,2],[31,1,31,2],[32,1,32,2],[33,1,33,2],[33,3,33,4],[34,1,34,2],[34,3,34,4],[35,1,35,2],[35,3,35,4],[36,1,36,2],[36,3,36,4],[37,1,37,2],[37,3,37,4],[38,1,38,2],[38,3,38,4],[39,1,39,2],[39,3,39,4],[40,1,40,2],[40,3,40,4],[41,1,41,2],[41,3,41,4],[42,1,42,2],[42,3,42,4],[43,1,43,2],[43,3,43,4],[44,1,44,2],[44,3,44,4],[48,12,48,13],[45,1,45,2],[45,3,45,4],[46,1,46,2],[46,3,46,4],[46,7,46,11],[46,12,46,13],[49,1,49,4],[49,7,49,9],[49,10,49,13],[47,1,47,2],[47,3,47,4],[47,7,47,11],[47,12,47,13],[48,1,48,2],[48,3,48,4],[48,7,48,11]]}
["Übersetzungstext",null,"Schülername",{"$f":"SchuelernamenEingabe!B8","v":0},null,null,null,"Arbeitsaufgaben/ Interpretation"]
[{"$f":"EingabeAngabe!B6","v":"SE1"},{"$f":"IF(EingabeAngabe!C6=\"\",\"\",EingabeAngabe!C6)","v":""},null,null,null,{"$f":"IF(OR(G2=\"\",G2>EingabeAngabe!F6),\"F\",EingabeAngabe!B6)","v":"F"},null,{"$f":"EingabeAngabe!B61","v":"IT1"},{"$f":"IF(EingabeAngabe!C61=\"\",\"\",EingabeAngabe!C61)","v":""},null,null,null,{"$f":"IF(N2>EingabeAngabe!F61,\"F\",IF(EingabeAngabe!F61=\"\",\"\",EingabeAngabe!F61))","v":""}]
[null,{"$f":"IF(EingabeAngabe!C7=\"\",\"\",EingabeAngabe!C7)","v":""},null,null,null,null,null,{"$f":"EingabeAngabe!B62","v":"IT2"},{"$f":"IF(EingabeAngabe!C62=\"\",\"\",EingabeAngabe!C62)","v":""},null,null,null,{"$f":"IF(N3>EingabeAngabe!F62,\"F\",IF(EingabeAngabe!F62=\"\",\"\",EingabeAngabe!F62))","v":""}]
[{"$f":"EingabeAngabe!B8","v":"SE2"},{"$f":"IF(EingabeAngabe!C8=\"\",\"\",EingabeAngabe!C8)","v":""},null,null,null,{"$f":"IF(OR(G4=\"\",G4>EingabeAngabe!F8),\"F\",EingabeAngabe!B8)","v":"F"},null,{"$f":"EingabeAngabe!B63","v":"IT3"},{"$f":"IF(EingabeAngabe!C63=\"\",\"\",EingabeAngabe!C63)","v":""},null,null,null,{"$f":"IF(N4>EingabeAngabe!F63,\"F\",IF(EingabeAngabe!F63=\"\",\"\",EingabeAngabe!F63))","v":""}]
[null,{"$f":"IF(EingabeAngabe!C9=\"\",\"\",EingabeAngabe!C9)","v":""},null,null,null,null,null,{"$f":"EingabeAngabe!B64","v":"IT4"},{"$f":"IF(EingabeAngabe!C64=\"\",\"\",EingabeAngabe!C64)","v":""},null,null,null,{"$f":"IF(N5>EingabeAngabe!F64,\"F\",IF(EingabeAngabe!F64=\"\",\"\",EingabeAngabe!F64))","v":""}]
[{"$f":"EingabeAngabe!B10","v":"SE3"},{"$f":"IF(EingabeAngabe!C10=\"\",\"\",EingabeAngabe!C10)","v":""},null,null,null,{"$f":"IF(OR(G6=\"\",G6>EingabeAngabe!F10),\"F\",EingabeAngabe!B10)","v":"F"},null,{"$f":"EingabeAngabe!B65","v":"IT5"},{"$f":"IF(EingabeAngabe!C65=\"\",\"\",EingabeAngabe!C65)","v":""},null,null,null,{"$f":"IF(N6>EingabeAngabe!F65,\"F\",IF(EingabeAngabe!F65=\"\",\"\",EingabeAngabe!F65))","v":""}]
[null,{"$f":"IF(EingabeAngabe!C11=\"\",\"\",EingabeAngabe!C11)","v":""},null,null,null,null,null,{"$f":"EingabeAngabe!B66","v":"IT6"},{"$f":"IF(EingabeAngabe!C66=\"\",\"\",EingabeAngabe!C66)","v":""},null,null,null,{"$f":"IF(N7>EingabeAngabe!F66,\"F\",IF(EingabeAngabe!F66=\"\",\"\",EingabeAngabe!F66))","v":""}]
[{"$f":"EingabeAngabe!B12","v":"SE4"},{"$f":"IF(EingabeAngabe!C12=\"\",\"\",EingabeAngabe!C12)","v":""},null,null,null,{"$f":"IF(OR(G8=\"\",G8>EingabeAngabe!F12),\"F\",EingabeAngabe!B12)","v":"F"},null,{"$f":"EingabeAngabe!B67","v":"IT7"},{"$f":"IF(EingabeAngabe!C67=\"\",\"\",EingabeAngabe!C67)","v":""},null,null,null,{"$f":"IF(N8>EingabeAngabe!F67,\"F\",IF(EingabeAngabe!F67=\"\",\"\",EingabeAngabe!F67))","v":""}]
[null,{"$f":"IF(EingabeAngabe!C13=\"\",\"\",EingabeAngabe!C13)","v":""},null,null,null,null,null,{"$f":"EingabeAngabe!B68","v":"IT8"},{"$f":"IF(EingabeAngabe!C68=\"\",\"\",EingabeAngabe!C68)","v":""},null,null,null,{"$f":"IF(N9>EingabeAngabe!F68,\"F\",IF(EingabeAngabe!F68=\"\",\"\",EingabeAngabe!F68))","v":""}]
[{"$f":"EingabeAngabe!B14","v":"SE5"},{"$f":"IF(EingabeAngabe!C14=\"\",\"\",EingabeAngabe!C14)","v":""},null,null,null,{"$f":"IF(OR(G10=\"\",G10>EingabeAngabe!F14),\"F\",EingabeAngabe!B14)","v":"F"},null,"Notenschlüssel:"]
[null,{"$f":"IF(EingabeAngabe!C15=\"\",\"\",EingabeAngabe!C15)","v":""},null,null,null,null,null,"Sehr gut",null,null,null,{"$f":"EingabeAngabe!F72","v":"60 - 53"}]
[{"$f":"EingabeAngabe!B16","v":"SE6"},{"$f":"IF(EingabeAngabe!C16=\"\",\"\",EingabeAngabe!C16)","v":""},null,null,null,{"$f":"IF(OR(G12=\"\",G12>EingabeAngabe!F16),\"F\",EingabeAngabe!B16)","v":"F"},null,"Gut",null,null,null,{"$f":"EingabeAngabe!F73","v":"52 - 45"}]
[null,{"$f":"IF(EingabeAngabe!C17=\"\",\"\",EingabeAngabe!C17)","v":""},null,null,null,null,null,"Befriedigend",null,null,null,{"$f":"EingabeAngabe!F74","v":"44 - 37"}]
[{"$f":"EingabeAngabe!B18","v":"SE7"},{"$f":"IF(EingabeAngabe!C18=\"\",\"\",EingabeAngabe!C18)","v":""},null,null,null,{"$f":"IF(OR(G14=\"\",G14>EingabeAngabe!F18),\"F\",EingabeAngabe!B18)","v":"F"},null,"Genügend",null,null,null,{"$f":"EingabeAngabe!F75","v":"36 - 30"}]
[null,{"$f":"IF(EingabeAngabe!C19=\"\",\"\",EingabeAngabe!C19)","v":""},null,null,null,null,null,"Nicht genügend",null,null,null,{"$f":"EingabeAngabe!F76","v":"29 - 00"}]
[{"$f":"EingabeAngabe!B20","v":"SE8"},{"$f":"IF(EingabeAngabe!C20=\"\",\"\",EingabeAngabe!C20)","v":""},null,null,null,{"$f":"IF(OR(G16=\"\",G16>EingabeAngabe!F20),\"F\",EingabeAngabe!B20)","v":"F"},null,{"$f":"CONCATENATE(\"Notendefinition laut LBVO$14:\",\"            \",K50)","v":"Notendefinition laut LBVO$14:            "}]
[null,{"$f":"IF(EingabeAngabe!C21=\"\",\"\",EingabeAngabe!C21)","v":""},null,null,null,null,null,{"$f":"VLOOKUP(K50,SchuelernamenEingabe!D2:'SchuelernamenEingabe'!E40,2,FALSE)","v":{"$error":"#N/A"}}]
[{"$f":"EingabeAngabe!B22","v":"SE9"},{"$f":"IF(EingabeAngabe!C22=\"\",\"\",EingabeAngabe!C22)","v":""},null,null,null,{"$f":"IF(OR(G18=\"\",G18>EingabeAngabe!F22),\"F\",EingabeAngabe!B22)","v":"F"}]
[null,{"$f":"IF(EingabeAngabe!C23=\"\",\"\",EingabeAngabe!C23)","v":""}]
[{"$f":"EingabeAngabe!B24","v":"SE10"},{"$f":"IF(EingabeAngabe!C24=\"\",\"\",EingabeAngabe!C24)","v":""},null,null,null,{"$f":"IF(OR(G20=\"\",G20>EingabeAngabe!F24),\"F\",EingabeAngabe!B24)","v":"F"}]
[null,{"$f":"IF(EingabeAngabe!C25=\"\",\"\",EingabeAngabe!C25)","v":""}]
[{"$f":"EingabeAngabe!B26","v":"SE11"},{"$f":"IF(EingabeAngabe!C26=\"\",\"\",EingabeAngabe!C26)","v":""},null,null,null,{"$f":"IF(OR(G22=\"\",G22>EingabeAngabe!F26),\"F\",EingabeAngabe!B26)","v":"F"}]
[null,{"$f":"IF(EingabeAngabe!C27=\"\",\"\",EingabeAngabe!C27)","v":""}]
[{"$f":"EingabeAngabe!B28","v":"SE12"},{"$f":"IF(EingabeAngabe!C28=\"\",\"\",EingabeAngabe!C28)","v":""},null,null,null,{"$f":"IF(OR(G24=\"\",G24>EingabeAngabe!F28),\"F\",EingabeAngabe!B28)","v":"F"}]
[null,{"$f":"IF(EingabeAngabe!C29=\"\",\"\",EingabeAngabe!C29)","v":""}]
[{"$f":"EingabeAngabe!B31","v":"LE13"},{"$f":"IF(EingabeAngabe!C31=\"\",\"\",EingabeAngabe!C31)","v":""},null,{"$f":"IF(EingabeAngabe!D31=\"\",\"\",EingabeAngabe!D31)","v":""},{"$f":"IF(EingabeAngabe!E31=\"\",\"\",EingabeAngabe!E31)","v":""},{"$f":"IF(OR(G26=\"\",G26>EingabeAngabe!F31),\"F\",EingabeAngabe!B31)","v":"F"}]
[{"$f":"EingabeAngabe!B32","v":"LE14"},{"$f":"IF(EingabeAngabe!C32=\"\",\"\",EingabeAngabe!C32)","v":""},null,{"$f":"IF(EingabeAngabe!D32=\"\",\"\",EingabeAngabe!D32)","v":""},{"$f":"IF(EingabeAngabe!E32=\"\",\"\",EingabeAngabe!E32)","v":""},{"$f":"IF(OR(G27=\"\",G27>EingabeAngabe!F32),\"F\",EingabeAngabe!B32)","v":"F"},null,{"$f":"IF(EingabeAngabe!F80>\"\",EingabeAngabe!E79,\"\")","v":"Eigener Notenkommentar:"}]
[{"$f":"EingabeAngabe!B33","v":"LE15"},{"$f":"IF(EingabeAngabe!C33=\"\",\"\",EingabeAngabe!C33)","v":""},null,{"$f":"IF(EingabeAngabe!D33=\"\",\"\",EingabeAngabe!D33)","v":""},{"$f":"IF(EingabeAngabe!E33=\"\",\"\",EingabeAngabe!E33)","v":""},{"$f":"IF(OR(G28=\"\",G28>EingabeAngabe!F33),\"F\",EingabeAngabe!B33)","v":"F"}]
["LE16",{"$f":"IF(EingabeAngabe!C34=\"\",\"\",EingabeAngabe!C34)","v":""},null,{"$f":"IF(EingabeAngabe!D34=\"\",\"\",EingabeAngabe!D34)","v":""},{"$f":"IF(EingabeAngabe!E34=\"\",\"\",EingabeAngabe!E34)","v":""},{"$f":"IF(OR(G29=\"\",G29>EingabeAngabe!F34),\"F\",EingabeAngabe!B34)","v":"F"}]
["LE17",{"$f":"IF(EingabeAngabe!C35=\"\",\"\",EingabeAngabe!C35)","v":""},null,{"$f":"IF(EingabeAngabe!D35=\"\",\"\",EingabeAngabe!D35)","v":""},{"$f":"IF(EingabeAngabe!E35=\"\",\"\",EingabeAngabe!E35)","v":""},{"$f":"IF(OR(G30=\"\",G30>EingabeAngabe!F35),\"F\",EingabeAngabe!B35)","v":"F"}]
["LE18",{"$f":"IF(EingabeAngabe!C36=\"\",\"\",EingabeAngabe!C36)","v":""},null,{"$f":"IF(EingabeAngabe!D36=\"\",\"\",EingabeAngabe!D36)","v":""},{"$f":"IF(EingabeAngabe!E36=\"\",\"\",EingabeAngabe!E36)","v":""},{"$f":"IF(OR(G31=\"\",G31>EingabeAngabe!F36),\"F\",EingabeAngabe!B36)","v":"F"}]
["LE19",{"$f":"IF(EingabeAngabe!C37=\"\",\"\",EingabeAngabe!C37)","v":""},null,{"$f":"IF(EingabeAngabe!D37=\"\",\"\",EingabeAngabe!D37)","v":""},{"$f":"IF(EingabeAngabe!E37=\"\",\"\",EingabeAngabe!E37)","v":""},{"$f":"IF(OR(G32=\"\",G32>EingabeAngabe!F37),\"F\",EingabeAngabe!B37)","v":"F"}]
[{"$f":"EingabeAngabe!B38","v":"LE20"},{"$f":"IF(EingabeAngabe!C38=\"\",\"\",EingabeAngabe!C38)","v":""},null,{"$f":"IF(EingabeAngabe!D38=\"\",\"\",EingabeAngabe!D38)","v":""},{"$f":"IF(EingabeAngabe!E38=\"\",\"\",EingabeAngabe!E38)","v":""},{"$f":"IF(OR(G33=\"\",G33>EingabeAngabe!F38),\"F\",EingabeAngabe!B38)","v":"F"}]
[{"$f":"EingabeAngabe!B40","v":"MO21"},{"$f":"IF(EingabeAngabe!C40=\"\",\"\",EingabeAngabe!C40)","v":""},null,{"$f":"IF(EingabeAngabe!D40=\"\",\"\",EingabeAngabe!D40)","v":""},null,{"$f":"IF(OR(G34=\"\",G34>EingabeAngabe!F39),\"F\",EingabeAngabe!B40)","v":"F"}]
[{"$f":"EingabeAngabe!B41","v":"MO22"},{"$f":"IF(EingabeAngabe!C41=\"\",\"\",EingabeAngabe!C41)","v":""},null,{"$f":"IF(EingabeAngabe!D41=\"\",\"\",EingabeAngabe!D41)","v":""},null,{"$f":"IF(OR(G35=\"\",G35>EingabeAngabe!F40),\"F\",EingabeAngabe!B41)","v":"F"}]
["MO23",{"$f":"IF(EingabeAngabe!C42=\"\",\"\",EingabeAngabe!C42)","v":""},null,{"$f":"IF(EingabeAngabe!D42=\"\",\"\",EingabeAngabe!D42)","v":""},null,{"$f":"IF(OR(G36=\"\",G36>EingabeAngabe!F41),\"F\",EingabeAngabe!B42)","v":"F"}]
["MO24",{"$f":"IF(EingabeAngabe!C43=\"\",\"\",EingabeAngabe!C43)","v":""},null,{"$f":"IF(EingabeAngabe!D43=\"\",\"\",EingabeAngabe!D43)","v":""},null,{"$f":"IF(OR(G37=\"\",G37>EingabeAngabe!F42),\"F\",EingabeAngabe!B43)","v":"F"}]
["MO25",{"$f":"IF(EingabeAngabe!C44=\"\",\"\",EingabeAngabe!C44)","v":""},null,{"$f":"IF(EingabeAngabe!D44=\"\",\"\",EingabeAngabe!D44)","v":""},null,{"$f":"IF(OR(G38=\"\",G38>EingabeAngabe!F41),\"F\",EingabeAngabe!B42)","v":"F"}]
[{"$f":"EingabeAngabe!B45","v":"MO26"},{"$f":"IF(EingabeAngabe!C45=\"\",\"\",EingabeAngabe!C45)","v":""},null,{"$f":"IF(EingabeAngabe!D45=\"\",\"\",EingabeAngabe!D45)","v":""},null,{"$f":"IF(OR(G39=\"\",G39>EingabeAngabe!F42),\"F\",EingabeAngabe!B45)","v":"F"}]
[{"$f":"EingabeAngabe!B46","v":"MO27"},{"$f":"IF(EingabeAngabe!C46=\"\",\"\",EingabeAngabe!C46)","v":""},null,{"$f":"IF(EingabeAngabe!D46=\"\",\"\",EingabeAngabe!D46)","v":""},null,{"$f":"IF(OR(G40=\"\",G40>EingabeAngabe!F45),\"F\",EingabeAngabe!B46)","v":"F"}]
[{"$f":"EingabeAngabe!B47","v":"MO28"},{"$f":"IF(EingabeAngabe!C47=\"\",\"\",EingabeAngabe!C47)","v":""},null,{"$f":"IF(EingabeAngabe!D47=\"\",\"\",EingabeAngabe!D47)","v":""},null,{"$f":"IF(OR(G41=\"\",G41>EingabeAngabe!F46),\"F\",EingabeAngabe!B47)","v":"F"}]
[{"$f":"EingabeAngabe!B49","v":"SY29"},{"$f":"IF(EingabeAngabe!C49=\"\",\"\",EingabeAngabe!C49)","v":""},null,{"$f":"IF(EingabeAngabe!D49=\"\",\"\",EingabeAngabe!D49)","v":""},null,{"$f":"IF(OR(G42=\"\",G42>EingabeAngabe!F47),\"F\",EingabeAngabe!B49)","v":"F"}]
["SY30",{"$f":"IF(EingabeAngabe!C50=\"\",\"\",EingabeAngabe!C50)","v":""},null,{"$f":"IF(EingabeAngabe!D50=\"\",\"\",EingabeAngabe!D50)","v":""},null,{"$f":"IF(OR(G43=\"\",G43>EingabeAngabe!F48),\"F\",EingabeAngabe!B50)","v":"F"}]
["SY31",{"$f":"IF(EingabeAngabe!C51=\"\",\"\",EingabeAngabe!C51)","v":""},null,{"$f":"IF(EingabeAngabe!D51=\"\",\"\",EingabeAngabe!D51)","v":""},null,{"$f":"IF(OR(G44=\"\",G44>EingabeAngabe!F49),\"F\",EingabeAngabe!B51)","v":"F"}]
["SY32",{"$f":"IF(EingabeAngabe!C52=\"\",\"\",EingabeAngabe!C52)","v":""},null,{"$f":"IF(EingabeAngabe!D52=\"\",\"\",EingabeAngabe!D52)","v":""},null,{"$f":"IF(OR(G45=\"\",G45>EingabeAngabe!F50),\"F\",EingabeAngabe!B52)","v":"F"}]
["SY33",{"$f":"IF(EingabeAngabe!C53=\"\",\"\",EingabeAngabe!C53)","v":""},null,{"$f":"IF(EingabeAngabe!D53=\"\",\"\",EingabeAngabe!D53)","v":""},null,{"$f":"IF(OR(G46=\"\",G46>EingabeAngabe!F51),\"F\",EingabeAngabe!B53)","v":"F"}]
["SY34",{"$f":"IF(EingabeAngabe!C54=\"\",\"\",EingabeAngabe!C54)","v":""},null,{"$f":"IF(EingabeAngabe!D54=\"\",\"\",EingabeAngabe!D54)","v":""},null,{"$f":"IF(OR(G47=\"\",G47>EingabeAngabe!F52),\"F\",EingabeAngabe!B54)","v":"F"},null,"Summe Übersetzungstext",null,null,null,null,{"$f":"EingabeAngabe!M59","v":""}]
[{"$f":"EingabeAngabe!B55","v":"SY35"},{"$f":"IF(EingabeAngabe!C55=\"\",\"\",EingabeAngabe!C55)","v":""},null,{"$f":"IF(EingabeAngabe!D55=\"\",\"\",EingabeAngabe!D55)","v":""},null,{"$f":"IF(OR(G48=\"\",G48>EingabeAngabe!F53),\"F\",EingabeAngabe!B55)","v":"F"},null,"Summe Arbeitsaufgaben und Interpretation",null,null,null,null,{"$f":"EingabeAngabe!M60","v":""}]
[{"$f":"EingabeAngabe!B56","v":"SY36"},{"$f":"IF(EingabeAngabe!C56=\"\",\"\",EingabeAngabe!C56)","v":""},null,{"$f":"IF(EingabeAngabe!D56=\"\",\"\",EingabeAngabe!D56)","v":""},null,{"$f":"IF(OR(G49=\"\",G49>EingabeAngabe!F54),\"F\",EingabeAngabe!B56)","v":"F"},null,"Gesamtsumme",null,null,null,null,{"$f":"EingabeAngabe!M2","v":""}]
[null,{"$f":"EingabeAngabe!C57","v":"SPRACHLICHE QUALITÄT IN DER ZIELSPRACHE"},null,null,null,{"$f":"IF(OR(G50=1,G50=3,G50=5,G50>6),\"F\",\"6/4/2/0\")","v":"6/4/2/0"},0,"NOTE",null,null,{"$f":"IF(EingabeAngabe!M3=1,\"Sehr gut\",IF(EingabeAngabe!M3=2,\"Gut\",IF(EingabeAngabe!M3=3,\"Befriedigend\",IF(EingabeAngabe!M3=4,\"Genügend\",IF(EingabeAngabe!M3=5,\"Nicht genügend\",\"\")))))","v":""}]

{"sheet":"Schueler8Punkte","index":11,"n_rows":50,"n_cols":13,"rows_kept":50,"cut":false,"hidden":false,"merged":[[0,0,0,1],[0,3,0,4],[0,7,0,11],[1,0,2,0],[1,1,1,4],[1,5,2,5],[1,6,2,6],[1,8,1,11],[2,1,2,4],[2,8,2,11],[3,0,4,0],[3,1,3,4],[3,5,4,5],[3,6,4,6],[3,8,3,11],[4,1,4,4],[4,8,4,11],[5,0,6,0],[5,1,5,4],[5,5,6,5],[5,6,6,6],[5,8,5,11],[6,1,6,4],[6,8,6,11],[7,0,8,0],[7,1,7,4],[7,5,8,5],[7,6,8,6],[7,8,7,11],[8,1,8,4],[8,8,8,11],[9,0,10,0],[9,1,9,4],[9,5,10,5],[9,6,10,6],[9,7,9,13],[10,1,10,4],[10,7,10,10],[10,11,10,13],[11,0,12,0],[11,1,11,4],[11,5,12,5],[11,6,12,6],[11,7,11,10],[11,11,11,13],[12,1,12,4],[12,7,12,10],[12,11,12,13],[13,0,14,0],[13,1,13,4],[13,5,14,5],[13,6,14,6],[13,7,13,10],[13,11,13,13],[14,1,14,4],[14,7,14,10],[14,11,14,13],[15,0,16,0],[15,1,15,4],[15,5,16,5],[15,6,16,6],[15,7,15,13],[16,1,16,4],[16,7,24,13],[17,0,18,0],[17,1,17,4],[17,5,18,5],[17,6,18,6],[18,1,18,4],[19,0,20,0],[19,1,19,4],[19,5,20,5],[19,6,20,6],[20,1,20,4],[21,0,22,0],[21,1,21,4],[21,5,22,5],[21,6,22,6],[22,1,22,4],[23,0,24,0],[23,1,23,4],[23,5,24,5],[23,6,24,6],[24,1,24,4],[25,1,25,2],[26,1,26,2],[26,7,26,13],[27,1,27,2],[27,7,44,13],[28,1,28,2],[29,1,29,2],[30,1,30,2],[31,1,31,2],[32,1,32,2],[33,1,33,2],[33,3,33,4],[34,1,34,2],[34,3,34,4],[35,1,35,2],[35,3,35,4],[36,1,36,2],[36,3,36,4],[37,1,37,2],[37,3,37,4],[38,1,38,2],[38,3,38,4],[39,1,39,2],[39,3,39,4],[40,1,40,2],[40,3,40,4],[41,1,41,2],[41,3,41,4],[42,1,42,2],[42,3,42,4],[43,1,43,2],[43,3,43,4],[44,1,44,2],[44,3,44,4],[48,12,48,13],[45,1,45,2],[45,3,45,4],[46,1,46,2],[46,3,46,4],[46,7,46,11],[46,12,46,13],[49,1,49,4],[49,7,49,9],[49,10,49,13],[47,1,47,2],[47,3,47,4],[47,7,47,11],[47,12,47,13],[48,1,48,2],[48,3,48,4],[48,7,48,11]]}
["Übersetzungstext",null,"Schülername",{"$f":"SchuelernamenEingabe!B9","v":0},null,null,null,"Arbeitsaufgaben/ Interpretation"]
[{"$f":"EingabeAngabe!B6","v":"SE1"},{"$f":"IF(EingabeAngabe!C6=\"\",\"\",EingabeAngabe!C6)","v":""},null,null,null,{"$f":"IF(OR(G2=\"\",G2>EingabeAngabe!F6),\"F\",EingabeAngabe!B6)","v":"F"},null,{"$f":"EingabeAngabe!B61","v":"IT1"},{"$f":"IF(EingabeAngabe!C61=\"\",\"\",EingabeAngabe!C61)","v":""},null,null,null,{"$f":"IF(N2>EingabeAngabe!F61,\"F\",IF(EingabeAngabe!F61=\"\",\"\",EingabeAngabe!F61))","v":""}]
[null,{"$f":"IF(EingabeAngabe!C7=\"\",\"\",EingabeAngabe!C7)","v":""},null,null,null,null,null,{"$f":"EingabeAngabe!B62","v":"IT2"},{"$f":"IF(EingabeAngabe!C62=\"\",\"\",EingabeAngabe!C62)","v":""},null,null,null,{"$f":"IF(N3>EingabeAngabe!F62,\"F\",IF(EingabeAngabe!F62=\"\",\"\",EingabeAngabe!F62))","v":""}]
[{"$f":"EingabeAngabe!B8","v":"SE2"},{"$f":"IF(EingabeAngabe!C8=\"\",\"\",EingabeAngabe!C8)","v":""},null,null,null,{"$f":"IF(OR(G4=\"\",G4>EingabeAngabe!F8),\"F\",EingabeAngabe!B8)","v":"F"},null,{"$f":"EingabeAngabe!B63","v":"IT3"},{"$f":"IF(EingabeAngabe!C63=\"\",\"\",EingabeAngabe!C63)","v":""},null,null,null,{"$f":"IF(N4>EingabeAngabe!F63,\"F\",IF(EingabeAngabe!F63=\"\",\"\",EingabeAngabe!F63))","v":""}]
[null,{"$f":"IF(EingabeAngabe!C9=\"\",\"\",EingabeAngabe!C9)","v":""},null,null,null,null,null,{"$f":"EingabeAngabe!B64","v":"IT4"},{"$f":"IF(EingabeAngabe!C64=\"\",\"\",EingabeAngabe!C64)","v":""},null,null,null,{"$f":"IF(N5>EingabeAngabe!F64,\"F\",IF(EingabeAngabe!F64=\"\",\"\",EingabeAngabe!F64))","v":""}]
[{"$f":"EingabeAngabe!B10","v":"SE3"},{"$f":"IF(EingabeAngabe!C10=\"\",\"\",EingabeAngabe!C10)","v":""},null,null,null,{"$f":"IF(OR(G6=\"\",G6>EingabeAngabe!F10),\"F\",EingabeAngabe!B10)","v":"F"},null,{"$f":"EingabeAngabe!B65","v":"IT5"},{"$f":"IF(EingabeAngabe!C65=\"\",\"\",EingabeAngabe!C65)","v":""},null,null,null,{"$f":"IF(N6>EingabeAngabe!F65,\"F\",IF(EingabeAngabe!F65=\"\",\"\",EingabeAngabe!F65))","v":""}]
[null,{"$f":"IF(EingabeAngabe!C11=\"\",\"\",EingabeAngabe!C11)","v":""},null,null,null,null,null,{"$f":"EingabeAngabe!B66","v":"IT6"},{"$f":"IF(EingabeAngabe!C66=\"\",\"\",EingabeAngabe!C66)","v":""},null,null,null,{"$f":"IF(N7>EingabeAngabe!F66,\"F\",IF(EingabeAngabe!F66=\"\",\"\",EingabeAngabe!F66))","v":""}]
[{"$f":"EingabeAngabe!B12","v":"SE4"},{"$f":"IF(EingabeAngabe!C12=\"\",\"\",EingabeAngabe!C12)","v":""},null,null,null,{"$f":"IF(OR(G8=\"\",G8>EingabeAngabe!F12),\"F\",EingabeAngabe!B12)","v":"F"},null,{"$f":"EingabeAngabe!B67","v":"IT7"},{"$f":"IF(EingabeAngabe!C67=\"\",\"\",EingabeAngabe!C67)","v":""},null,null,null,{"$f":"IF(N8>EingabeAngabe!F67,\"F\",IF(EingabeAngabe!F67=\"\",\"\",EingabeAngabe!F67))","v":""}]
[null,{"$f":"IF(EingabeAngabe!C13=\"\",\"\",EingabeAngabe!C13)","v":""},null,null,null,null,null,{"$f":"EingabeAngabe!B68","v":"IT8"},{"$f":"IF(EingabeAngabe!C68=\"\",\"\",EingabeAngabe!C68)","v":""},null,null,null,{"$f":"IF(N9>EingabeAngabe!F68,\"F\",IF(EingabeAngabe!F68=\"\",\"\",EingabeAngabe!F68))","v":""}]
[{"$f":"EingabeAngabe!B14","v":"SE5"},{"$f":"IF(EingabeAngabe!C14=\"\",\"\",EingabeAngabe!C14)","v":""},null,null,null,{"$f":"IF(OR(G10=\"\",G10>EingabeAngabe!F14),\"F\",EingabeAngabe!B14)","v":"F"},null,"Notenschlüssel:"]
[null,{"$f":"IF(EingabeAngabe!C15=\"\",\"\",EingabeAngabe!C15)","v":""},null,null,null,null,null,"Sehr gut",null,null,null,{"$f":"EingabeAngabe!F72","v":"60 - 53"}]
[{"$f":"EingabeAngabe!B16","v":"SE6"},{"$f":"IF(EingabeAngabe!C16=\"\",\"\",EingabeAngabe!C16)","v":""},null,null,null,{"$f":"IF(OR(G12=\"\",G12>EingabeAngabe!F16),\"F\",EingabeAngabe!B16)","v":"F"},null,"Gut",null,null,null,{"$f":"EingabeAngabe!F73","v":"52 - 45"}]
[null,{"$f":"IF(EingabeAngabe!C17=\"\",\"\",EingabeAngabe!C17)","v":""},null,null,null,null,null,"Befriedigend",null,null,null,{"$f":"EingabeAngabe!F74","v":"44 - 37"}]
[{"$f":"EingabeAngabe!B18","v":"SE7"},{"$f":"IF(EingabeAngabe!C18=\"\",\"\",EingabeAngabe!C18)","v":""},null,null,null,{"$f":"IF(OR(G14=\"\",G14>EingabeAngabe!F18),\"F\",EingabeAngabe!B18)","v":"F"},null,"Genügend",null,null,null,{"$f":"EingabeAngabe!F75","v":"36 - 30"}]
[null,{"$f":"IF(EingabeAngabe!C19=\"\",\"\",EingabeAngabe!C19)","v":""},null,null,null,null,null,"Nicht genügend",null,null,null,{"$f":"EingabeAngabe!F76","v":"29 - 00"}]
[{"$f":"EingabeAngabe!B20","v":"SE8"},{"$f":"IF(EingabeAngabe!C20=\"\",\"\",EingabeAngabe!C20)","v":""},null,null,null,{"$f":"IF(OR(G16=\"\",G16>EingabeAngabe!F20),\"F\",EingabeAngabe!B20)","v":"F"},null,{"$f":"CONCATENATE(\"Notendefinition laut LBVO$14:\",\"            \",K50)","v":"Notendefinition laut LBVO$14:            "}]
[null,{"$f":"IF(EingabeAngabe!C21=\"\",\"\",EingabeAngabe!C21)","v":""},null,null,null,null,null,{"$f":"VLOOKUP(K50,SchuelernamenEingabe!D2:'SchuelernamenEingabe'!E40,2,FALSE)","v":{"$error":"#N/A"}}]
[{"$f":"EingabeAngabe!B22","v":"SE9"},{"$f":"IF(EingabeAngabe!C22=\"\",\"\",EingabeAngabe!C22)","v":""},null,null,null,{"$f":"IF(OR(G18=\"\",G18>EingabeAngabe!F22),\"F\",EingabeAngabe!B22)","v":"F"}]
[null,{"$f":"IF(EingabeAngabe!C23=\"\",\"\",EingabeAngabe!C23)","v":""}]
[{"$f":"EingabeAngabe!B24","v":"SE10"},{"$f":"IF(EingabeAngabe!C24=\"\",\"\",EingabeAngabe!C24)","v":""},null,null,null,{"$f":"IF(OR(G20=\"\",G20>EingabeAngabe!F24),\"F\",EingabeAngabe!B24)","v":"F"}]
[null,{"$f":"IF(EingabeAngabe!C25=\"\",\"\",EingabeAngabe!C25)","v":""}]
[{"$f":"EingabeAngabe!B26","v":"SE11"},{"$f":"IF(EingabeAngabe!C26=\"\",\"\",EingabeAngabe!C26)","v":""},null,null,null,{"$f":"IF(OR(G22=\"\",G22>EingabeAngabe!F26),\"F\",EingabeAngabe!B26)","v":"F"}]
[null,{"$f":"IF(EingabeAngabe!C27=\"\",\"\",EingabeAngabe!C27)","v":""}]
[{"$f":"EingabeAngabe!B28","v":"SE12"},{"$f":"IF(EingabeAngabe!C28=\"\",\"\",EingabeAngabe!C28)","v":""},null,null,null,{"$f":"IF(OR(G24=\"\",G24>EingabeAngabe!F28),\"F\",EingabeAngabe!B28)","v":"F"}]
[null,{"$f":"IF(EingabeAngabe!C29=\"\",\"\",EingabeAngabe!C29)","v":""}]
[{"$f":"EingabeAngabe!B31","v":"LE13"},{"$f":"IF(EingabeAngabe!C31=\"\",\"\",EingabeAngabe!C31)","v":""},null,{"$f":"IF(EingabeAngabe!D31=\"\",\"\",EingabeAngabe!D31)","v":""},{"$f":"IF(EingabeAngabe!E31=\"\",\"\",EingabeAngabe!E31)","v":""},{"$f":"IF(OR(G26=\"\",G26>EingabeAngabe!F31),\"F\",EingabeAngabe!B31)","v":"F"}]
[{"$f":"EingabeAngabe!B32","v":"LE14"},{"$f":"IF(EingabeAngabe!C32=\"\",\"\",EingabeAngabe!C32)","v":""},null,{"$f":"IF(EingabeAngabe!D32=\"\",\"\",EingabeAngabe!D32)","v":""},{"$f":"IF(EingabeAngabe!E32=\"\",\"\",EingabeAngabe!E32)","v":""},{"$f":"IF(OR(G27=\"\",G27>EingabeAngabe!F32),\"F\",EingabeAngabe!B32)","v":"F"},null,{"$f":"IF(EingabeAngabe!F80>\"\",EingabeAngabe!E79,\"\")","v":"Eigener Notenkommentar:"}]
[{"$f":"EingabeAngabe!B33","v":"LE15"},{"$f":"IF(EingabeAngabe!C33=\"\",\"\",EingabeAngabe!C33)","v":""},null,{"$f":"IF(EingabeAngabe!D33=\"\",\"\",EingabeAngabe!D33)","v":""},{"$f":"IF(EingabeAngabe!E33=\"\",\"\",EingabeAngabe!E33)","v":""},{"$f":"IF(OR(G28=\"\",G28>EingabeAngabe!F33),\"F\",EingabeAngabe!B33)","v":"F"}]
["LE16",{"$f":"IF(EingabeAngabe!C34=\"\",\"\",EingabeAngabe!C34)","v":""},null,{"$f":"IF(EingabeAngabe!D34=\"\",\"\",EingabeAngabe!D34)","v":""},{"$f":"IF(EingabeAngabe!E34=\"\",\"\",EingabeAngabe!E34)","v":""},{"$f":"IF(OR(G29=\"\",G29>EingabeAngabe!F34),\"F\",EingabeAngabe!B34)","v":"F"}]
["LE17",{"$f":"IF(EingabeAngabe!C35=\"\",\"\",EingabeAngabe!C35)","v":""},null,{"$f":"IF(EingabeAngabe!D35=\"\",\"\",EingabeAngabe!D35)","v":""},{"$f":"IF(EingabeAngabe!E35=\"\",\"\",EingabeAngabe!E35)","v":""},{"$f":"IF(OR(G30=\"\",G30>EingabeAngabe!F35),\"F\",EingabeAngabe!B35)","v":"F"}]
["LE18",{"$f":"IF(EingabeAngabe!C36=\"\",\"\",EingabeAngabe!C36)","v":""},null,{"$f":"IF(EingabeAngabe!D36=\"\",\"\",EingabeAngabe!D36)","v":""},{"$f":"IF(EingabeAngabe!E36=\"\",\"\",EingabeAngabe!E36)","v":""},{"$f":"IF(OR(G31=\"\",G31>EingabeAngabe!F36),\"F\",EingabeAngabe!B36)","v":"F"}]
["LE19",{"$f":"IF(EingabeAngabe!C37=\"\",\"\",EingabeAngabe!C37)","v":""},null,{"$f":"IF(EingabeAngabe!D37=\"\",\"\",EingabeAngabe!D37)","v":""},{"$f":"IF(EingabeAngabe!E37=\"\",\"\",EingabeAngabe!E37)","v":""},{"$f":"IF(OR(G32=\"\",G32>EingabeAngabe!F37),\"F\",EingabeAngabe!B37)","v":"F"}]
[{"$f":"EingabeAngabe!B38","v":"LE20"},{"$f":"IF(EingabeAngabe!C38=\"\",\"\",EingabeAngabe!C38)","v":""},null,{"$f":"IF(EingabeAngabe!D38=\"\",\"\",EingabeAngabe!D38)","v":""},{"$f":"IF(EingabeAngabe!E38=\"\",\"\",EingabeAngabe!E38)","v":""},{"$f":"IF(OR(G33=\"\",G33>EingabeAngabe!F38),\"F\",EingabeAngabe!B38)","v":"F"}]
[{"$f":"EingabeAngabe!B40","v":"MO21"},{"$f":"IF(EingabeAngabe!C40=\"\",\"\",EingabeAngabe!C40)","v":""},null,{"$f":"IF(EingabeAngabe!D40=\"\",\"\",EingabeAngabe!D40)","v":""},null,{"$f":"IF(OR(G34=\"\",G34>EingabeAngabe!F39),\"F\",EingabeAngabe!B40)","v":"F"}]
[{"$f":"EingabeAngabe!B41","v":"MO22"},{"$f":"IF(EingabeAngabe!C41=\"\",\"\",EingabeAngabe!C41)","v":""},null,{"$f":"IF(EingabeAngabe!D41=\"\",\"\",EingabeAngabe!D41)","v":""},null,{"$f":"IF(OR(G35=\"\",G35>EingabeAngabe!F40),\"F\",EingabeAngabe!B41)","v":"F"}]
["MO23",{"$f":"IF(EingabeAngabe!C42=\"\",\"\",EingabeAngabe!C42)","v":""},null,{"$f":"IF(EingabeAngabe!D42=\"\",\"\",EingabeAngabe!D42)","v":""},null,{"$f":"IF(OR(G36=\"\",G36>EingabeAngabe!F41),\"F\",EingabeAngabe!B42)","v":"F"}]
["MO24",{"$f":"IF(EingabeAngabe!C43=\"\",\"\",EingabeAngabe!C43)","v":""},null,{"$f":"IF(EingabeAngabe!D43=\"\",\"\",EingabeAngabe!D43)","v":""},null,{"$f":"IF(OR(G37=\"\",G37>EingabeAngabe!F42),\"F\",EingabeAngabe!B43)","v":"F"}]
["MO25",{"$f":"IF(EingabeAngabe!C44=\"\",\"\",EingabeAngabe!C44)","v":""},null,{"$f":"IF(EingabeAngabe!D44=\"\",\"\",EingabeAngabe!D44)","v":""},null,{"$f":"IF(OR(G38=\"\",G38>EingabeAngabe!F41),\"F\",EingabeAngabe!B42)","v":"F"}]
[{"$f":"EingabeAngabe!B45","v":"MO26"},{"$f":"IF(EingabeAngabe!C45=\"\",\"\",EingabeAngabe!C45)","v":""},null,{"$f":"IF(EingabeAngabe!D45=\"\",\"\",EingabeAngabe!D45)","v":""},null,{"$f":"IF(OR(G39=\"\",G39>EingabeAngabe!F42),\"F\",EingabeAngabe!B45)","v":"F"}]
[{"$f":"EingabeAngabe!B46","v":"MO27"},{"$f":"IF(EingabeAngabe!C46=\"\",\"\",EingabeAngabe!C46)","v":""},null,{"$f":"IF(EingabeAngabe!D46=\"\",\"\",EingabeAngabe!D46)","v":""},null,{"$f":"IF(OR(G40=\"\",G40>EingabeAngabe!F45),\"F\",EingabeAngabe!B46)","v":"F"}]
[{"$f":"EingabeAngabe!B47","v":"MO28"},{"$f":"IF(EingabeAngabe!C47=\"\",\"\",EingabeAngabe!C47)","v":""},null,{"$f":"IF(EingabeAngabe!D47=\"\",\"\",EingabeAngabe!D47)","v":""},null,{"$f":"IF(OR(G41=\"\",G41>EingabeAngabe!F46),\"F\",EingabeAngabe!B47)","v":"F"}]
[{"$f":"EingabeAngabe!B49","v":"SY29"},{"$f":"IF(EingabeAngabe!C49=\"\",\"\",EingabeAngabe!C49)","v":""},null,{"$f":"IF(EingabeAngabe!D49=\"\",\"\",EingabeAngabe!D49)","v":""},null,{"$f":"IF(OR(G42=\"\",G42>EingabeAngabe!F47),\"F\",EingabeAngabe!B49)","v":"F"}]
["SY30",{"$f":"IF(EingabeAngabe!C50=\"\",\"\",EingabeAngabe!C50)","v":""},null,{"$f":"IF(EingabeAngabe!D50=\"\",\"\",EingabeAngabe!D50)","v":""},null,{"$f":"IF(OR(G43=\"\",G43>EingabeAngabe!F48),\"F\",EingabeAngabe!B50)","v":"F"}]
["SY31",{"$f":"IF(EingabeAngabe!C51=\"\",\"\",EingabeAngabe!C51)","v":""},null,{"$f":"IF(EingabeAngabe!D51=\"\",\"\",EingabeAngabe!D51)","v":""},null,{"$f":"IF(OR(G44=\"\",G44>EingabeAngabe!F49),\"F\",EingabeAngabe!B51)","v":"F"}]
["SY32",{"$f":"IF(EingabeAngabe!C52=\"\",\"\",EingabeAngabe!C52)","v":""},null,{"$f":"IF(EingabeAngabe!D52=\"\",\"\",EingabeAngabe!D52)","v":""},null,{"$f":"IF(OR(G45=\"\",G45>EingabeAngabe!F50),\"F\",EingabeAngabe!B52)","v":"F"}]
["SY33",{"$f":"IF(EingabeAngabe!C53=\"\",\"\",EingabeAngabe!C53)","v":""},null,{"$f":"IF(EingabeAngabe!D53=\"\",\"\",EingabeAngabe!D53)","v":""},null,{"$f":"IF(OR(G46=\"\",G46>EingabeAngabe!F51),\"F\",EingabeAngabe!B53)","v":"F"}]
["SY34",{"$f":"IF(EingabeAngabe!C54=\"\",\"\",EingabeAngabe!C54)","v":""},null,{"$f":"IF(EingabeAngabe!D54=\"\",\"\",EingabeAngabe!D54)","v":""},null,{"$f":"IF(OR(G47=\"\",G47>EingabeAngabe!F52),\"F\",EingabeAngabe!B54)","v":"F"},null,"Summe Übersetzungstext",null,null,null,null,{"$f":"EingabeAngabe!N59","v":""}]
[{"$f":"EingabeAngabe!B55","v":"SY35"},{"$f":"IF(EingabeAngabe!C55=\"\",\"\",EingabeAngabe!C55)","v":""},null,{"$f":"IF(EingabeAngabe!D55=\"\",\"\",EingabeAngabe!D55)","v":""},null,{"$f":"IF(OR(G48=\"\",G48>EingabeAngabe!F53),\"F\",EingabeAngabe!B55)","v":"F"},null,"Summe Arbeitsaufgaben und Interpretation",null,null,null,null,{"$f":"EingabeAngabe!N60","v":""}]
[{"$f":"EingabeAngabe!B56","v":"SY36"},{"$f":"IF(EingabeAngabe!C56=\"\",\"\",EingabeAngabe!C56)","v":""},null,{"$f":"IF(EingabeAngabe!D56=\"\",\"\",EingabeAngabe!D56)","v":""},null,{"$f":"IF(OR(G49=\"\",G49>EingabeAngabe!F54),\"F\",EingabeAngabe!B56)","v":"F"},null,"Gesamtsumme",null,null,null,null,{"$f":"EingabeAngabe!N2","v":""}]
[null,{"$f":"EingabeAngabe!C57","v":"SPRACHLICHE QUALITÄT IN DER ZIELSPRACHE"},null,null,null,{"$f":"IF(OR(G50=1,G50=3,G50=5,G50>6),\"F\",\"6/4/2/0\")","v":"6/4/2/0"},null,"NOTE",null,null,{"$f":"IF(EingabeAngabe!N3=1,\"Sehr gut\",IF(EingabeAngabe!N3=2,\"Gut\",IF(EingabeAngabe!N3=3,\"Befriedigend\",IF(EingabeAngabe!N3=4,\"Genügend\",IF(EingabeAngabe!N3=5,\"Nicht genügend\",\"\")))))","v":""}]

{"sheet":"Schueler9Punkte","index":12,"n_rows":50,"n_cols":13,"rows_kept":50,"cut":false,"hidden":false,"merged":[[0,0,0,1],[0,3,0,4],[0,7,0,11],[1,0,2,0],[1,1,1,4],[1,5,2,5],[1,6,2,6],[1,8,1,11],[2,1,2,4],[2,8,2,11],[3,0,4,0],[3,1,3,4],[3,5,4,5],[3,6,4,6],[3,8,3,11],[4,1,4,4],[4,8,4,11],[5,0,6,0],[5,1,5,4],[5,5,6,5],[5,6,6,6],[5,8,5,11],[6,1,6,4],[6,8,6,11],[7,0,8,0],[7,1,7,4],[7,5,8,5],[7,6,8,6],[7,8,7,11],[8,1,8,4],[8,8,8,11],[9,0,10,0],[9,1,9,4],[9,5,10,5],[9,6,10,6],[9,7,9,13],[10,1,10,4],[10,7,10,10],[10,11,10,13],[11,0,12,0],[11,1,11,4],[11,5,12,5],[11,6,12,6],[11,7,11,10],[11,11,11,13],[12,1,12,4],[12,7,12,10],[12,11,12,13],[13,0,14,0],[13,1,13,4],[13,5,14,5],[13,6,14,6],[13,7,13,10],[13,11,13,13],[14,1,14,4],[14,7,14,10],[14,11,14,13],[15,0,16,0],[15,1,15,4],[15,5,16,5],[15,6,16,6],[15,7,15,13],[16,1,16,4],[16,7,24,13],[17,0,18,0],[17,1,17,4],[17,5,18,5],[17,6,18,6],[18,1,18,4],[19,0,20,0],[19,1,19,4],[19,5,20,5],[19,6,20,6],[20,1,20,4],[21,0,22,0],[21,1,21,4],[21,5,22,5],[21,6,22,6],[22,1,22,4],[23,0,24,0],[23,1,23,4],[23,5,24,5],[23,6,24,6],[24,1,24,4],[25,1,25,2],[26,1,26,2],[26,7,26,13],[27,1,27,2],[27,7,44,13],[28,1,28,2],[29,1,29,2],[30,1,30,2],[31,1,31,2],[32,1,32,2],[33,1,33,2],[33,3,33,4],[34,1,34,2],[34,3,34,4],[35,1,35,2],[35,3,35,4],[36,1,36,2],[36,3,36,4],[37,1,37,2],[37,3,37,4],[38,1,38,2],[38,3,38,4],[39,1,39,2],[39,3,39,4],[40,1,40,2],[40,3,40,4],[41,1,41,2],[41,3,41,4],[42,1,42,2],[42,3,42,4],[43,1,43,2],[43,3,43,4],[44,1,44,2],[44,3,44,4],[48,12,48,13],[45,1,45,2],[45,3,45,4],[46,1,46,2],[46,3,46,4],[46,7,46,11],[46,12,46,13],[49,1,49,4],[49,7,49,9],[49,10,49,13],[47,1,47,2],[47,3,47,4],[47,7,47,11],[47,12,47,13],[48,1,48,2],[48,3,48,4],[48,7,48,11]]}
["Übersetzungstext",null,"Schülername",{"$f":"SchuelernamenEingabe!B10","v":0},null,null,null,"Arbeitsaufgaben/ Interpretation"]
[{"$f":"EingabeAngabe!B6","v":"SE1"},{"$f":"IF(EingabeAngabe!C6=\"\",\"\",EingabeAngabe!C6)","v":""},null,null,null,{"$f":"IF(OR(G2=\"\",G2>EingabeAngabe!F6),\"F\",EingabeAngabe!B6)","v":"F"},null,{"$f":"EingabeAngabe!B61","v":"IT1"},{"$f":"IF(EingabeAngabe!C61=\"\",\"\",EingabeAngabe!C61)","v":""},null,null,null,{"$f":"IF(N2>EingabeAngabe!F61,\"F\",IF(EingabeAngabe!F61=\"\",\"\",EingabeAngabe!F61))","v":""}]
[null,{"$f":"IF(EingabeAngabe!C7=\"\",\"\",EingabeAngabe!C7)","v":""},null,null,null,null,null,{"$f":"EingabeAngabe!B62","v":"IT2"},{"$f":"IF(EingabeAngabe!C62=\"\",\"\",EingabeAngabe!C62)","v":""},null,null,null,{"$f":"IF(N3>EingabeAngabe!F62,\"F\",IF(EingabeAngabe!F62=\"\",\"\",EingabeAngabe!F62))","v":""}]
[{"$f":"EingabeAngabe!B8","v":"SE2"},{"$f":"IF(EingabeAngabe!C8=\"\",\"\",EingabeAngabe!C8)","v":""},null,null,null,{"$f":"IF(OR(G4=\"\",G4>EingabeAngabe!F8),\"F\",EingabeAngabe!B8)","v":"F"},null,{"$f":"EingabeAngabe!B63","v":"IT3"},{"$f":"IF(EingabeAngabe!C63=\"\",\"\",EingabeAngabe!C63)","v":""},null,null,null,{"$f":"IF(N4>EingabeAngabe!F63,\"F\",IF(EingabeAngabe!F63=\"\",\"\",EingabeAngabe!F63))","v":""}]
[null,{"$f":"IF(EingabeAngabe!C9=\"\",\"\",EingabeAngabe!C9)","v":""},null,null,null,null,null,{"$f":"EingabeAngabe!B64","v":"IT4"},{"$f":"IF(EingabeAngabe!C64=\"\",\"\",EingabeAngabe!C64)","v":""},null,null,null,{"$f":"IF(N5>EingabeAngabe!F64,\"F\",IF(EingabeAngabe!F64=\"\",\"\",EingabeAngabe!F64))","v":""}]
[{"$f":"EingabeAngabe!B10","v":"SE3"},{"$f":"IF(EingabeAngabe!C10=\"\",\"\",EingabeAngabe!C10)","v":""},null,null,null,{"$f":"IF(OR(G6=\"\",G6>EingabeAngabe!F10),\"F\",EingabeAngabe!B10)","v":"F"},null,{"$f":"EingabeAngabe!B65","v":"IT5"},{"$f":"IF(EingabeAngabe!C65=\"\",\"\",EingabeAngabe!C65)","v":""},null,null,null,{"$f":"IF(N6>EingabeAngabe!F65,\"F\",IF(EingabeAngabe!F65=\"\",\"\",EingabeAngabe!F65))","v":""}]
[null,{"$f":"IF(EingabeAngabe!C11=\"\",\"\",EingabeAngabe!C11)","v":""},null,null,null,null,null,{"$f":"EingabeAngabe!B66","v":"IT6"},{"$f":"IF(EingabeAngabe!C66=\"\",\"\",EingabeAngabe!C66)","v":""},null,null,null,{"$f":"IF(N7>EingabeAngabe!F66,\"F\",IF(EingabeAngabe!F66=\"\",\"\",EingabeAngabe!F66))","v":""}]
[{"$f":"EingabeAngabe!B12","v":"SE4"},{"$f":"IF(EingabeAngabe!C12=\"\",\"\",EingabeAngabe!C12)","v":""},null,null,null,{"$f":"IF(OR(G8=\"\",G8>EingabeAngabe!F12),\"F\",EingabeAngabe!B12)","v":"F"},null,{"$f":"EingabeAngabe!B67","v":"IT7"},{"$f":"IF(EingabeAngabe!C67=\"\",\"\",EingabeAngabe!C67)","v":""},null,null,null,{"$f":"IF(N8>EingabeAngabe!F67,\"F\",IF(EingabeAngabe!F67=\"\",\"\",EingabeAngabe!F67))","v":""}]
[null,{"$f":"IF(EingabeAngabe!C13=\"\",\"\",EingabeAngabe!C13)","v":""},null,null,null,null,null,{"$f":"EingabeAngabe!B68","v":"IT8"},{"$f":"IF(EingabeAngabe!C68=\"\",\"\",EingabeAngabe!C68)","v":""},null,null,null,{"$f":"IF(N9>EingabeAngabe!F68,\"F\",IF(EingabeAngabe!F68=\"\",\"\",EingabeAngabe!F68))","v":""}]
[{"$f":"EingabeAngabe!B14","v":"SE5"},{"$f":"IF(EingabeAngabe!C14=\"\",\"\",EingabeAngabe!C14)","v":""},null,null,null,{"$f":"IF(OR(G10=\"\",G10>EingabeAngabe!F14),\"F\",EingabeAngabe!B14)","v":"F"},null,"Notenschlüssel:"]
[null,{"$f":"IF(EingabeAngabe!C15=\"\",\"\",EingabeAngabe!C15)","v":""},null,null,null,null,null,"Sehr gut",null,null,null,{"$f":"EingabeAngabe!F72","v":"60 - 53"}]
[{"$f":"EingabeAngabe!B16","v":"SE6"},{"$f":"IF(EingabeAngabe!C16=\"\",\"\",EingabeAngabe!C16)","v":""},null,null,null,{"$f":"IF(OR(G12=\"\",G12>EingabeAngabe!F16),\"F\",EingabeAngabe!B16)","v":"F"},null,"Gut",null,null,null,{"$f":"EingabeAngabe!F73","v":"52 - 45"}]
[null,{"$f":"IF(EingabeAngabe!C17=\"\",\"\",EingabeAngabe!C17)","v":""},null,null,null,null,null,"Befriedigend",null,null,null,{"$f":"EingabeAngabe!F74","v":"44 - 37"}]
[{"$f":"EingabeAngabe!B18","v":"SE7"},{"$f":"IF(EingabeAngabe!C18=\"\",\"\",EingabeAngabe!C18)","v":""},null,null,null,{"$f":"IF(OR(G14=\"\",G14>EingabeAngabe!F18),\"F\",EingabeAngabe!B18)","v":"F"},null,"Genügend",null,null,null,{"$f":"EingabeAngabe!F75","v":"36 - 30"}]
[null,{"$f":"IF(EingabeAngabe!C19=\"\",\"\",EingabeAngabe!C19)","v":""},null,null,null,null,null,"Nicht genügend",null,null,null,{"$f":"EingabeAngabe!F76","v":"29 - 00"}]
[{"$f":"EingabeAngabe!B20","v":"SE8"},{"$f":"IF(EingabeAngabe!C20=\"\",\"\",EingabeAngabe!C20)","v":""},null,null,null,{"$f":"IF(OR(G16=\"\",G16>EingabeAngabe!F20),\"F\",EingabeAngabe!B20)","v":"F"},null,{"$f":"CONCATENATE(\"Notendefinition laut LBVO$14:\",\"            \",K50)","v":"Notendefinition laut LBVO$14:            "}]
[null,{"$f":"IF(EingabeAngabe!C21=\"\",\"\",EingabeAngabe!C21)","v":""},null,null,null,null,null,{"$f":"VLOOKUP(K50,SchuelernamenEingabe!D2:'SchuelernamenEingabe'!E40,2,FALSE)","v":{"$error":"#N/A"}}]
[{"$f":"EingabeAngabe!B22","v":"SE9"},{"$f":"IF(EingabeAngabe!C22=\"\",\"\",EingabeAngabe!C22)","v":""},null,null,null,{"$f":"IF(OR(G18=\"\",G18>EingabeAngabe!F22),\"F\",EingabeAngabe!B22)","v":"F"}]
[null,{"$f":"IF(EingabeAngabe!C23=\"\",\"\",EingabeAngabe!C23)","v":""}]
[{"$f":"EingabeAngabe!B24","v":"SE10"},{"$f":"IF(EingabeAngabe!C24=\"\",\"\",EingabeAngabe!C24)","v":""},null,null,null,{"$f":"IF(OR(G20=\"\",G20>EingabeAngabe!F24),\"F\",EingabeAngabe!B24)","v":"F"}]
[null,{"$f":"IF(EingabeAngabe!C25=\"\",\"\",EingabeAngabe!C25)","v":""}]
[{"$f":"EingabeAngabe!B26","v":"SE11"},{"$f":"IF(EingabeAngabe!C26=\"\",\"\",EingabeAngabe!C26)","v":""},null,null,null,{"$f":"IF(OR(G22=\"\",G22>EingabeAngabe!F26),\"F\",EingabeAngabe!B26)","v":"F"}]
[null,{"$f":"IF(EingabeAngabe!C27=\"\",\"\",EingabeAngabe!C27)","v":""}]
[{"$f":"EingabeAngabe!B28","v":"SE12"},{"$f":"IF(EingabeAngabe!C28=\"\",\"\",EingabeAngabe!C28)","v":""},null,null,null,{"$f":"IF(OR(G24=\"\",G24>EingabeAngabe!F28),\"F\",EingabeAngabe!B28)","v":"F"}]
[null,{"$f":"IF(EingabeAngabe!C29=\"\",\"\",EingabeAngabe!C29)","v":""}]
[{"$f":"EingabeAngabe!B31","v":"LE13"},{"$f":"IF(EingabeAngabe!C31=\"\",\"\",EingabeAngabe!C31)","v":""},null,{"$f":"IF(EingabeAngabe!D31=\"\",\"\",EingabeAngabe!D31)","v":""},{"$f":"IF(EingabeAngabe!E31=\"\",\"\",EingabeAngabe!E31)","v":""},{"$f":"IF(OR(G26=\"\",G26>EingabeAngabe!F31),\"F\",EingabeAngabe!B31)","v":"F"}]
[{"$f":"EingabeAngabe!B32","v":"LE14"},{"$f":"IF(EingabeAngabe!C32=\"\",\"\",EingabeAngabe!C32)","v":""},null,{"$f":"IF(EingabeAngabe!D32=\"\",\"\",EingabeAngabe!D32)","v":""},{"$f":"IF(EingabeAngabe!E32=\"\",\"\",EingabeAngabe!E32)","v":""},{"$f":"IF(OR(G27=\"\",G27>EingabeAngabe!F32),\"F\",EingabeAngabe!B32)","v":"F"},null,{"$f":"IF(EingabeAngabe!F80>\"\",EingabeAngabe!E79,\"\")","v":"Eigener Notenkommentar:"}]
[{"$f":"EingabeAngabe!B33","v":"LE15"},{"$f":"IF(EingabeAngabe!C33=\"\",\"\",EingabeAngabe!C33)","v":""},null,{"$f":"IF(EingabeAngabe!D33=\"\",\"\",EingabeAngabe!D33)","v":""},{"$f":"IF(EingabeAngabe!E33=\"\",\"\",EingabeAngabe!E33)","v":""},{"$f":"IF(OR(G28=\"\",G28>EingabeAngabe!F33),\"F\",EingabeAngabe!B33)","v":"F"}]
["LE16",{"$f":"IF(EingabeAngabe!C34=\"\",\"\",EingabeAngabe!C34)","v":""},null,{"$f":"IF(EingabeAngabe!D34=\"\",\"\",EingabeAngabe!D34)","v":""},{"$f":"IF(EingabeAngabe!E34=\"\",\"\",EingabeAngabe!E34)","v":""},{"$f":"IF(OR(G29=\"\",G29>EingabeAngabe!F34),\"F\",EingabeAngabe!B34)","v":"F"}]
["LE17",{"$f":"IF(EingabeAngabe!C35=\"\",\"\",EingabeAngabe!C35)","v":""},null,{"$f":"IF(EingabeAngabe!D35=\"\",\"\",EingabeAngabe!D35)","v":""},{"$f":"IF(EingabeAngabe!E35=\"\",\"\",EingabeAngabe!E35)","v":""},{"$f":"IF(OR(G30=\"\",G30>EingabeAngabe!F35),\"F\",EingabeAngabe!B35)","v":"F"}]
["LE18",{"$f":"IF(EingabeAngabe!C36=\"\",\"\",EingabeAngabe!C36)","v":""},null,{"$f":"IF(EingabeAngabe!D36=\"\",\"\",EingabeAngabe!D36)","v":""},{"$f":"IF(EingabeAngabe!E36=\"\",\"\",EingabeAngabe!E36)","v":""},{"$f":"IF(OR(G31=\"\",G31>EingabeAngabe!F36),\"F\",EingabeAngabe!B36)","v":"F"}]
["LE19",{"$f":"IF(EingabeAngabe!C37=\"\",\"\",EingabeAngabe!C37)","v":""},null,{"$f":"IF(EingabeAngabe!D37=\"\",\"\",EingabeAngabe!D37)","v":""},{"$f":"IF(EingabeAngabe!E37=\"\",\"\",EingabeAngabe!E37)","v":""},{"$f":"IF(OR(G32=\"\",G32>EingabeAngabe!F37),\"F\",EingabeAngabe!B37)","v":"F"}]
[{"$f":"EingabeAngabe!B38","v":"LE20"},{"$f":"IF(EingabeAngabe!C38=\"\",\"\",EingabeAngabe!C38)","v":""},null,{"$f":"IF(EingabeAngabe!D38=\"\",\"\",EingabeAngabe!D38)","v":""},{"$f":"IF(EingabeAngabe!E38=\"\",\"\",EingabeAngabe!E38)","v":""},{"$f":"IF(OR(G33=\"\",G33>EingabeAngabe!F38),\"F\",EingabeAngabe!B38)","v":"F"}]
[{"$f":"EingabeAngabe!B40","v":"MO21"},{"$f":"IF(EingabeAngabe!C40=\"\",\"\",EingabeAngabe!C40)","v":""},null,{"$f":"IF(EingabeAngabe!D40=\"\",\"\",EingabeAngabe!D40)","v":""},null,{"$f":"IF(OR(G34=\"\",G34>EingabeAngabe!F39),\"F\",EingabeAngabe!B40)","v":"F"}]
[{"$f":"EingabeAngabe!B41","v":"MO22"},{"$f":"IF(EingabeAngabe!C41=\"\",\"\",EingabeAngabe!C41)","v":""},null,{"$f":"IF(EingabeAngabe!D41=\"\",\"\",EingabeAngabe!D41)","v":""},null,{"$f":"IF(OR(G35=\"\",G35>EingabeAngabe!F40),\"F\",EingabeAngabe!B41)","v":"F"}]
["MO23",{"$f":"IF(EingabeAngabe!C42=\"\",\"\",EingabeAngabe!C42)","v":""},null,{"$f":"IF(EingabeAngabe!D42=\"\",\"\",EingabeAngabe!D42)","v":""},null,{"$f":"IF(OR(G36=\"\",G36>EingabeAngabe!F41),\"F\",EingabeAngabe!B42)","v":"F"}]
["MO24",{"$f":"IF(EingabeAngabe!C43=\"\",\"\",EingabeAngabe!C43)","v":""},null,{"$f":"IF(EingabeAngabe!D43=\"\",\"\",EingabeAngabe!D43)","v":""},null,{"$f":"IF(OR(G37=\"\",G37>EingabeAngabe!F42),\"F\",EingabeAngabe!B43)","v":"F"}]
["MO25",{"$f":"IF(EingabeAngabe!C44=\"\",\"\",EingabeAngabe!C44)","v":""},null,{"$f":"IF(EingabeAngabe!D44=\"\",\"\",EingabeAngabe!D44)","v":""},null,{"$f":"IF(OR(G38=\"\",G38>EingabeAngabe!F41),\"F\",EingabeAngabe!B42)","v":"F"}]
[{"$f":"EingabeAngabe!B45","v":"MO26"},{"$f":"IF(EingabeAngabe!C45=\"\",\"\",EingabeAngabe!C45)","v":""},null,{"$f":"IF(EingabeAngabe!D45=\"\",\"\",EingabeAngabe!D45)","v":""},null,{"$f":"IF(OR(G39=\"\",G39>EingabeAngabe!F42),\"F\",EingabeAngabe!B45)","v":"F"}]
[{"$f":"EingabeAngabe!B46","v":"MO27"},{"$f":"IF(EingabeAngabe!C46=\"\",\"\",EingabeAngabe!C46)","v":""},null,{"$f":"IF(EingabeAngabe!D46=\"\",\"\",EingabeAngabe!D46)","v":""},null,{"$f":"IF(OR(G40=\"\",G40>EingabeAngabe!F45),\"F\",EingabeAngabe!B46)","v":"F"}]
[{"$f":"EingabeAngabe!B47","v":"MO28"},{"$f":"IF(EingabeAngabe!C47=\"\",\"\",EingabeAngabe!C47)","v":""},null,{"$f":"IF(EingabeAngabe!D47=\"\",\"\",EingabeAngabe!D47)","v":""},null,{"$f":"IF(OR(G41=\"\",G41>EingabeAngabe!F46),\"F\",EingabeAngabe!B47)","v":"F"}]
[{"$f":"EingabeAngabe!B49","v":"SY29"},{"$f":"IF(EingabeAngabe!C49=\"\",\"\",EingabeAngabe!C49)","v":""},null,{"$f":"IF(EingabeAngabe!D49=\"\",\"\",EingabeAngabe!D49)","v":""},null,{"$f":"IF(OR(G42=\"\",G42>EingabeAngabe!F47),\"F\",EingabeAngabe!B49)","v":"F"}]
["SY30",{"$f":"IF(EingabeAngabe!C50=\"\",\"\",EingabeAngabe!C50)","v":""},null,{"$f":"IF(EingabeAngabe!D50=\"\",\"\",EingabeAngabe!D50)","v":""},null,{"$f":"IF(OR(G43=\"\",G43>EingabeAngabe!F48),\"F\",EingabeAngabe!B50)","v":"F"}]
["SY31",{"$f":"IF(EingabeAngabe!C51=\"\",\"\",EingabeAngabe!C51)","v":""},null,{"$f":"IF(EingabeAngabe!D51=\"\",\"\",EingabeAngabe!D51)","v":""},null,{"$f":"IF(OR(G44=\"\",G44>EingabeAngabe!F49),\"F\",EingabeAngabe!B51)","v":"F"}]
["SY32",{"$f":"IF(EingabeAngabe!C52=\"\",\"\",EingabeAngabe!C52)","v":""},null,{"$f":"IF(EingabeAngabe!D52=\"\",\"\",EingabeAngabe!D52)","v":""},null,{"$f":"IF(OR(G45=\"\",G45>EingabeAngabe!F50),\"F\",EingabeAngabe!B52)","v":"F"}]
["SY33",{"$f":"IF(EingabeAngabe!C53=\"\",\"\",EingabeAngabe!C53)","v":""},null,{"$f":"IF(EingabeAngabe!D53=\"\",\"\",EingabeAngabe!D53)","v":""},null,{"$f":"IF(OR(G46=\"\",G46>EingabeAngabe!F51),\"F\",EingabeAngabe!B53)","v":"F"}]
["SY34",{"$f":"IF(EingabeAngabe!C54=\"\",\"\",EingabeAngabe!C54)","v":""},null,{"$f":"IF(EingabeAngabe!D54=\"\",\"\",EingabeAngabe!D54)","v":""},null,{"$f":"IF(OR(G47=\"\",G47>EingabeAngabe!F52),\"F\",EingabeAngabe!B54)","v":"F"},null,"Summe Übersetzungstext",null,null,null,null,{"$f":"EingabeAngabe!O59","v":""}]
[{"$f":"EingabeAngabe!B55","v":"SY35"},{"$f":"IF(EingabeAngabe!C55=\"\",\"\",EingabeAngabe!C55)","v":""},null,{"$f":"IF(EingabeAngabe!D55=\"\",\"\",EingabeAngabe!D55)","v":""},null,{"$f":"IF(OR(G48=\"\",G48>EingabeAngabe!F53),\"F\",EingabeAngabe!B55)","v":"F"},null,"Summe Arbeitsaufgaben und Interpretation",null,null,null,null,{"$f":"EingabeAngabe!O60","v":""}]
[{"$f":"EingabeAngabe!B56","v":"SY36"},{"$f":"IF(EingabeAngabe!C56=\"\",\"\",EingabeAngabe!C56)","v":""},null,{"$f":"IF(EingabeAngabe!D56=\"\",\"\",EingabeAngabe!D56)","v":""},null,{"$f":"IF(OR(G49=\"\",G49>EingabeAngabe!F54),\"F\",EingabeAngabe!B56)","v":"F"},null,"Gesamtsumme",null,null,null,null,{"$f":"EingabeAngabe!O2","v":""}]
[null,{"$f":"EingabeAngabe!C57","v":"SPRACHLICHE QUALITÄT IN DER ZIELSPRACHE"},null,null,null,{"$f":"IF(OR(G50=1,G50=3,G50=5,G50>6),\"F\",\"6/4/2/0\")","v":"6/4/2/0"},null,"NOTE",null,null,{"$f":"IF(EingabeAngabe!O3=1,\"Sehr gut\",IF(EingabeAngabe!O3=2,\"Gut\",IF(EingabeAngabe!O3=3,\"Befriedigend\",IF(EingabeAngabe!O3=4,\"Genügend\",IF(EingabeAngabe!O3=5,\"Nicht genügend\",\"\")))))","v":""}]

{"sheet":"Schueler10Punkte","index":13,"n_rows":50,"n_cols":13,"rows_kept":50,"cut":false,"hidden":false,"merged":[[0,0,0,1],[0,3,0,4],[0,7,0,11],[1,0,2,0],[1,1,1,4],[1,5,2,5],[1,6,2,6],[1,8,1,11],[2,1,2,4],[2,8,2,11],[3,0,4,0],[3,1,3,4],[3,5,4,5],[3,6,4,6],[3,8,3,11],[4,1,4,4],[4,8,4,11],[5,0,6,0],[5,1,5,4],[5,5,6,5],[5,6,6,6],[5,8,5,11],[6,1,6,4],[6,8,6,11],[7,0,8,0],[7,1,7,4],[7,5,8,5],[7,6,8,6],[7,8,7,11],[8,1,8,4],[8,8,8,11],[9,0,10,0],[9,1,9,4],[9,5,10,5],[9,6,10,6],[9,7,9,13],[10,1,10,4],[10,7,10,10],[10,11,10,13],[11,0,12,0],[11,1,11,4],[11,5,12,5],[11,6,12,6],[11,7,11,10],[11,11,11,13],[12,1,12,4],[12,7,12,10],[12,11,12,13],[13,0,14,0],[13,1,13,4],[13,5,14,5],[13,6,14,6],[13,7,13,10],[13,11,13,13],[14,1,14,4],[14,7,14,10],[14,11,14,13],[15,0,16,0],[15,1,15,4],[15,5,16,5],[15,6,16,6],[15,7,15,13],[16,1,16,4],[16,7,24,13],[17,0,18,0],[17,1,17,4],[17,5,18,5],[17,6,18,6],[18,1,18,4],[19,0,20,0],[19,1,19,4],[19,5,20,5],[19,6,20,6],[20,1,20,4],[21,0,22,0],[21,1,21,4],[21,5,22,5],[21,6,22,6],[22,1,22,4],[23,0,24,0],[23,1,23,4],[23,5,24,5],[23,6,24,6],[24,1,24,4],[25,1,25,2],[26,1,26,2],[26,7,26,13],[27,1,27,2],[27,7,44,13],[28,1,28,2],[29,1,29,2],[30,1,30,2],[31,1,31,2],[32,1,32,2],[33,1,33,2],[33,3,33,4],[34,1,34,2],[34,3,34,4],[35,1,35,2],[35,3,35,4],[36,1,36,2],[36,3,36,4],[37,1,37,2],[37,3,37,4],[38,1,38,2],[38,3,38,4],[39,1,39,2],[39,3,39,4],[40,1,40,2],[40,3,40,4],[41,1,41,2],[41,3,41,4],[42,1,42,2],[42,3,42,4],[43,1,43,2],[43,3,43,4],[44,1,44,2],[44,3,44,4],[48,12,48,13],[45,1,45,2],[45,3,45,4],[46,1,46,2],[46,3,46,4],[46,7,46,11],[46,12,46,13],[49,1,49,4],[49,7,49,9],[49,10,49,13],[47,1,47,2],[47,3,47,4],[47,7,47,11],[47,12,47,13],[48,1,48,2],[48,3,48,4],[48,7,48,11]]}
["Übersetzungstext",null,"Schülername",{"$f":"SchuelernamenEingabe!B11","v":0},null,null,null,"Arbeitsaufgaben/ Interpretation"]
[{"$f":"EingabeAngabe!B6","v":"SE1"},{"$f":"IF(EingabeAngabe!C6=\"\",\"\",EingabeAngabe!C6)","v":""},null,null,null,{"$f":"IF(OR(G2=\"\",G2>EingabeAngabe!F6),\"F\",EingabeAngabe!B6)","v":"F"},null,{"$f":"EingabeAngabe!B61","v":"IT1"},{"$f":"IF(EingabeAngabe!C61=\"\",\"\",EingabeAngabe!C61)","v":""},null,null,null,{"$f":"IF(N2>EingabeAngabe!F61,\"F\",IF(EingabeAngabe!F61=\"\",\"\",EingabeAngabe!F61))","v":""}]
[null,{"$f":"IF(EingabeAngabe!C7=\"\",\"\",EingabeAngabe!C7)","v":""},null,null,null,null,null,{"$f":"EingabeAngabe!B62","v":"IT2"},{"$f":"IF(EingabeAngabe!C62=\"\",\"\",EingabeAngabe!C62)","v":""},null,null,null,{"$f":"IF(N3>EingabeAngabe!F62,\"F\",IF(EingabeAngabe!F62=\"\",\"\",EingabeAngabe!F62))","v":""}]
[{"$f":"EingabeAngabe!B8","v":"SE2"},{"$f":"IF(EingabeAngabe!C8=\"\",\"\",EingabeAngabe!C8)","v":""},null,null,null,{"$f":"IF(OR(G4=\"\",G4>EingabeAngabe!F8),\"F\",EingabeAngabe!B8)","v":"F"},null,{"$f":"EingabeAngabe!B63","v":"IT3"},{"$f":"IF(EingabeAngabe!C63=\"\",\"\",EingabeAngabe!C63)","v":""},null,null,null,{"$f":"IF(N4>EingabeAngabe!F63,\"F\",IF(EingabeAngabe!F63=\"\",\"\",EingabeAngabe!F63))","v":""}]
[null,{"$f":"IF(EingabeAngabe!C9=\"\",\"\",EingabeAngabe!C9)","v":""},null,null,null,null,null,{"$f":"EingabeAngabe!B64","v":"IT4"},{"$f":"IF(EingabeAngabe!C64=\"\",\"\",EingabeAngabe!C64)","v":""},null,null,null,{"$f":"IF(N5>EingabeAngabe!F64,\"F\",IF(EingabeAngabe!F64=\"\",\"\",EingabeAngabe!F64))","v":""}]
[{"$f":"EingabeAngabe!B10","v":"SE3"},{"$f":"IF(EingabeAngabe!C10=\"\",\"\",EingabeAngabe!C10)","v":""},null,null,null,{"$f":"IF(OR(G6=\"\",G6>EingabeAngabe!F10),\"F\",EingabeAngabe!B10)","v":"F"},null,{"$f":"EingabeAngabe!B65","v":"IT5"},{"$f":"IF(EingabeAngabe!C65=\"\",\"\",EingabeAngabe!C65)","v":""},null,null,null,{"$f":"IF(N6>EingabeAngabe!F65,\"F\",IF(EingabeAngabe!F65=\"\",\"\",EingabeAngabe!F65))","v":""}]
[null,{"$f":"IF(EingabeAngabe!C11=\"\",\"\",EingabeAngabe!C11)","v":""},null,null,null,null,null,{"$f":"EingabeAngabe!B66","v":"IT6"},{"$f":"IF(EingabeAngabe!C66=\"\",\"\",EingabeAngabe!C66)","v":""},null,null,null,{"$f":"IF(N7>EingabeAngabe!F66,\"F\",IF(EingabeAngabe!F66=\"\",\"\",EingabeAngabe!F66))","v":""}]
[{"$f":"EingabeAngabe!B12","v":"SE4"},{"$f":"IF(EingabeAngabe!C12=\"\",\"\",EingabeAngabe!C12)","v":""},null,null,null,{"$f":"IF(OR(G8=\"\",G8>EingabeAngabe!F12),\"F\",EingabeAngabe!B12)","v":"F"},null,{"$f":"EingabeAngabe!B67","v":"IT7"},{"$f":"IF(EingabeAngabe!C67=\"\",\"\",EingabeAngabe!C67)","v":""},null,null,null,{"$f":"IF(N8>EingabeAngabe!F67,\"F\",IF(EingabeAngabe!F67=\"\",\"\",EingabeAngabe!F67))","v":""}]
[null,{"$f":"IF(EingabeAngabe!C13=\"\",\"\",EingabeAngabe!C13)","v":""},null,null,null,null,null,{"$f":"EingabeAngabe!B68","v":"IT8"},{"$f":"IF(EingabeAngabe!C68=\"\",\"\",EingabeAngabe!C68)","v":""},null,null,null,{"$f":"IF(N9>EingabeAngabe!F68,\"F\",IF(EingabeAngabe!F68=\"\",\"\",EingabeAngabe!F68))","v":""}]
[{"$f":"EingabeAngabe!B14","v":"SE5"},{"$f":"IF(EingabeAngabe!C14=\"\",\"\",EingabeAngabe!C14)","v":""},null,null,null,{"$f":"IF(OR(G10=\"\",G10>EingabeAngabe!F14),\"F\",EingabeAngabe!B14)","v":"F"},null,"Notenschlüssel:"]
[null,{"$f":"IF(EingabeAngabe!C15=\"\",\"\",EingabeAngabe!C15)","v":""},null,null,null,null,null,"Sehr gut",null,null,null,{"$f":"EingabeAngabe!F72","v":"60 - 53"}]
[{"$f":"EingabeAngabe!B16","v":"SE6"},{"$f":"IF(EingabeAngabe!C16=\"\",\"\",EingabeAngabe!C16)","v":""},null,null,null,{"$f":"IF(OR(G12=\"\",G12>EingabeAngabe!F16),\"F\",EingabeAngabe!B16)","v":"F"},null,"Gut",null,null,null,{"$f":"EingabeAngabe!F73","v":"52 - 45"}]
[null,{"$f":"IF(EingabeAngabe!C17=\"\",\"\",EingabeAngabe!C17)","v":""},null,null,null,null,null,"Befriedigend",null,null,null,{"$f":"EingabeAngabe!F74","v":"44 - 37"}]
[{"$f":"EingabeAngabe!B18","v":"SE7"},{"$f":"IF(EingabeAngabe!C18=\"\",\"\",EingabeAngabe!C18)","v":""},null,null,null,{"$f":"IF(OR(G14=\"\",G14>EingabeAngabe!F18),\"F\",EingabeAngabe!B18)","v":"F"},null,"Genügend",null,null,null,{"$f":"EingabeAngabe!F75","v":"36 - 30"}]
[null,{"$f":"IF(EingabeAngabe!C19=\"\",\"\",EingabeAngabe!C19)","v":""},null,null,null,null,null,"Nicht genügend",null,null,null,{"$f":"EingabeAngabe!F76","v":"29 - 00"}]
[{"$f":"EingabeAngabe!B20","v":"SE8"},{"$f":"IF(EingabeAngabe!C20=\"\",\"\",EingabeAngabe!C20)","v":""},null,null,null,{"$f":"IF(OR(G16=\"\",G16>EingabeAngabe!F20),\"F\",EingabeAngabe!B20)","v":"F"},null,{"$f":"CONCATENATE(\"Notendefinition laut LBVO$14:\",\"            \",K50)","v":"Notendefinition laut LBVO$14:            "}]
[null,{"$f":"IF(EingabeAngabe!C21=\"\",\"\",EingabeAngabe!C21)","v":""},null,null,null,null,null,{"$f":"VLOOKUP(K50,SchuelernamenEingabe!D2:'SchuelernamenEingabe'!E40,2,FALSE)","v":{"$error":"#N/A"}}]
[{"$f":"EingabeAngabe!B22","v":"SE9"},{"$f":"IF(EingabeAngabe!C22=\"\",\"\",EingabeAngabe!C22)","v":""},null,null,null,{"$f":"IF(OR(G18=\"\",G18>EingabeAngabe!F22),\"F\",EingabeAngabe!B22)","v":"F"}]
[null,{"$f":"IF(EingabeAngabe!C23=\"\",\"\",EingabeAngabe!C23)","v":""}]
[{"$f":"EingabeAngabe!B24","v":"SE10"},{"$f":"IF(EingabeAngabe!C24=\"\",\"\",EingabeAngabe!C24)","v":""},null,null,null,{"$f":"IF(OR(G20=\"\",G20>EingabeAngabe!F24),\"F\",EingabeAngabe!B24)","v":"F"}]
[null,{"$f":"IF(EingabeAngabe!C25=\"\",\"\",EingabeAngabe!C25)","v":""}]
[{"$f":"EingabeAngabe!B26","v":"SE11"},{"$f":"IF(EingabeAngabe!C26=\"\",\"\",EingabeAngabe!C26)","v":""},null,null,null,{"$f":"IF(OR(G22=\"\",G22>EingabeAngabe!F26),\"F\",EingabeAngabe!B26)","v":"F"}]
[null,{"$f":"IF(EingabeAngabe!C27=\"\",\"\",EingabeAngabe!C27)","v":""}]
[{"$f":"EingabeAngabe!B28","v":"SE12"},{"$f":"IF(EingabeAngabe!C28=\"\",\"\",EingabeAngabe!C28)","v":""},null,null,null,{"$f":"IF(OR(G24=\"\",G24>EingabeAngabe!F28),\"F\",EingabeAngabe!B28)","v":"F"}]
[null,{"$f":"IF(EingabeAngabe!C29=\"\",\"\",EingabeAngabe!C29)","v":""}]
[{"$f":"EingabeAngabe!B31","v":"LE13"},{"$f":"IF(EingabeAngabe!C31=\"\",\"\",EingabeAngabe!C31)","v":""},null,{"$f":"IF(EingabeAngabe!D31=\"\",\"\",EingabeAngabe!D31)","v":""},{"$f":"IF(EingabeAngabe!E31=\"\",\"\",EingabeAngabe!E31)","v":""},{"$f":"IF(OR(G26=\"\",G26>EingabeAngabe!F31),\"F\",EingabeAngabe!B31)","v":"F"}]
[{"$f":"EingabeAngabe!B32","v":"LE14"},{"$f":"IF(EingabeAngabe!C32=\"\",\"\",EingabeAngabe!C32)","v":""},null,{"$f":"IF(EingabeAngabe!D32=\"\",\"\",EingabeAngabe!D32)","v":""},{"$f":"IF(EingabeAngabe!E32=\"\",\"\",EingabeAngabe!E32)","v":""},{"$f":"IF(OR(G27=\"\",G27>EingabeAngabe!F32),\"F\",EingabeAngabe!B32)","v":"F"},null,{"$f":"IF(EingabeAngabe!F80>\"\",EingabeAngabe!E79,\"\")","v":"Eigener Notenkommentar:"}]
[{"$f":"EingabeAngabe!B33","v":"LE15"},{"$f":"IF(EingabeAngabe!C33=\"\",\"\",EingabeAngabe!C33)","v":""},null,{"$f":"IF(EingabeAngabe!D33=\"\",\"\",EingabeAngabe!D33)","v":""},{"$f":"IF(EingabeAngabe!E33=\"\",\"\",EingabeAngabe!E33)","v":""},{"$f":"IF(OR(G28=\"\",G28>EingabeAngabe!F33),\"F\",EingabeAngabe!B33)","v":"F"}]
["LE16",{"$f":"IF(EingabeAngabe!C34=\"\",\"\",EingabeAngabe!C34)","v":""},null,{"$f":"IF(EingabeAngabe!D34=\"\",\"\",EingabeAngabe!D34)","v":""},{"$f":"IF(EingabeAngabe!E34=\"\",\"\",EingabeAngabe!E34)","v":""},{"$f":"IF(OR(G29=\"\",G29>EingabeAngabe!F34),\"F\",EingabeAngabe!B34)","v":"F"}]
["LE17",{"$f":"IF(EingabeAngabe!C35=\"\",\"\",EingabeAngabe!C35)","v":""},null,{"$f":"IF(EingabeAngabe!D35=\"\",\"\",EingabeAngabe!D35)","v":""},{"$f":"IF(EingabeAngabe!E35=\"\",\"\",EingabeAngabe!E35)","v":""},{"$f":"IF(OR(G30=\"\",G30>EingabeAngabe!F35),\"F\",EingabeAngabe!B35)","v":"F"}]
["LE18",{"$f":"IF(EingabeAngabe!C36=\"\",\"\",EingabeAngabe!C36)","v":""},null,{"$f":"IF(EingabeAngabe!D36=\"\",\"\",EingabeAngabe!D36)","v":""},{"$f":"IF(EingabeAngabe!E36=\"\",\"\",EingabeAngabe!E36)","v":""},{"$f":"IF(OR(G31=\"\",G31>EingabeAngabe!F36),\"F\",EingabeAngabe!B36)","v":"F"}]
["LE19",{"$f":"IF(EingabeAngabe!C37=\"\",\"\",EingabeAngabe!C37)","v":""},null,{"$f":"IF(EingabeAngabe!D37=\"\",\"\",EingabeAngabe!D37)","v":""},{"$f":"IF(EingabeAngabe!E37=\"\",\"\",EingabeAngabe!E37)","v":""},{"$f":"IF(OR(G32=\"\",G32>EingabeAngabe!F37),\"F\",EingabeAngabe!B37)","v":"F"}]
[{"$f":"EingabeAngabe!B38","v":"LE20"},{"$f":"IF(EingabeAngabe!C38=\"\",\"\",EingabeAngabe!C38)","v":""},null,{"$f":"IF(EingabeAngabe!D38=\"\",\"\",EingabeAngabe!D38)","v":""},{"$f":"IF(EingabeAngabe!E38=\"\",\"\",EingabeAngabe!E38)","v":""},{"$f":"IF(OR(G33=\"\",G33>EingabeAngabe!F38),\"F\",EingabeAngabe!B38)","v":"F"}]
[{"$f":"EingabeAngabe!B40","v":"MO21"},{"$f":"IF(EingabeAngabe!C40=\"\",\"\",EingabeAngabe!C40)","v":""},null,{"$f":"IF(EingabeAngabe!D40=\"\",\"\",EingabeAngabe!D40)","v":""},null,{"$f":"IF(OR(G34=\"\",G34>EingabeAngabe!F39),\"F\",EingabeAngabe!B40)","v":"F"}]
[{"$f":"EingabeAngabe!B41","v":"MO22"},{"$f":"IF(EingabeAngabe!C41=\"\",\"\",EingabeAngabe!C41)","v":""},null,{"$f":"IF(EingabeAngabe!D41=\"\",\"\",EingabeAngabe!D41)","v":""},null,{"$f":"IF(OR(G35=\"\",G35>EingabeAngabe!F40),\"F\",EingabeAngabe!B41)","v":"F"}]
["MO23",{"$f":"IF(EingabeAngabe!C42=\"\",\"\",EingabeAngabe!C42)","v":""},null,{"$f":"IF(EingabeAngabe!D42=\"\",\"\",EingabeAngabe!D42)","v":""},null,{"$f":"IF(OR(G36=\"\",G36>EingabeAngabe!F41),\"F\",EingabeAngabe!B42)","v":"F"}]
["MO24",{"$f":"IF(EingabeAngabe!C43=\"\",\"\",EingabeAngabe!C43)","v":""},null,{"$f":"IF(EingabeAngabe!D43=\"\",\"\",EingabeAngabe!D43)","v":""},null,{"$f":"IF(OR(G37=\"\",G37>EingabeAngabe!F42),\"F\",EingabeAngabe!B43)","v":"F"}]
["MO25",{"$f":"IF(EingabeAngabe!C44=\"\",\"\",EingabeAngabe!C44)","v":""},null,{"$f":"IF(EingabeAngabe!D44=\"\",\"\",EingabeAngabe!D44)","v":""},null,{"$f":"IF(OR(G38=\"\",G38>EingabeAngabe!F41),\"F\",EingabeAngabe!B42)","v":"F"}]
[{"$f":"EingabeAngabe!B45","v":"MO26"},{"$f":"IF(EingabeAngabe!C45=\"\",\"\",EingabeAngabe!C45)","v":""},null,{"$f":"IF(EingabeAngabe!D45=\"\",\"\",EingabeAngabe!D45)","v":""},null,{"$f":"IF(OR(G39=\"\",G39>EingabeAngabe!F42),\"F\",EingabeAngabe!B45)","v":"F"}]
[{"$f":"EingabeAngabe!B46","v":"MO27"},{"$f":"IF(EingabeAngabe!C46=\"\",\"\",EingabeAngabe!C46)","v":""},null,{"$f":"IF(EingabeAngabe!D46=\"\",\"\",EingabeAngabe!D46)","v":""},null,{"$f":"IF(OR(G40=\"\",G40>EingabeAngabe!F45),\"F\",EingabeAngabe!B46)","v":"F"}]
[{"$f":"EingabeAngabe!B47","v":"MO28"},{"$f":"IF(EingabeAngabe!C47=\"\",\"\",EingabeAngabe!C47)","v":""},null,{"$f":"IF(EingabeAngabe!D47=\"\",\"\",EingabeAngabe!D47)","v":""},null,{"$f":"IF(OR(G41=\"\",G41>EingabeAngabe!F46),\"F\",EingabeAngabe!B47)","v":"F"}]
[{"$f":"EingabeAngabe!B49","v":"SY29"},{"$f":"IF(EingabeAngabe!C49=\"\",\"\",EingabeAngabe!C49)","v":""},null,{"$f":"IF(EingabeAngabe!D49=\"\",\"\",EingabeAngabe!D49)","v":""},null,{"$f":"IF(OR(G42=\"\",G42>EingabeAngabe!F47),\"F\",EingabeAngabe!B49)","v":"F"}]
["SY30",{"$f":"IF(EingabeAngabe!C50=\"\",\"\",EingabeAngabe!C50)","v":""},null,{"$f":"IF(EingabeAngabe!D50=\"\",\"\",EingabeAngabe!D50)","v":""},null,{"$f":"IF(OR(G43=\"\",G43>EingabeAngabe!F48),\"F\",EingabeAngabe!B50)","v":"F"}]
["SY31",{"$f":"IF(EingabeAngabe!C51=\"\",\"\",EingabeAngabe!C51)","v":""},null,{"$f":"IF(EingabeAngabe!D51=\"\",\"\",EingabeAngabe!D51)","v":""},null,{"$f":"IF(OR(G44=\"\",G44>EingabeAngabe!F49),\"F\",EingabeAngabe!B51)","v":"F"}]
["SY32",{"$f":"IF(EingabeAngabe!C52=\"\",\"\",EingabeAngabe!C52)","v":""},null,{"$f":"IF(EingabeAngabe!D52=\"\",\"\",EingabeAngabe!D52)","v":""},null,{"$f":"IF(OR(G45=\"\",G45>EingabeAngabe!F50),\"F\",EingabeAngabe!B52)","v":"F"}]
["SY33",{"$f":"IF(EingabeAngabe!C53=\"\",\"\",EingabeAngabe!C53)","v":""},null,{"$f":"IF(EingabeAngabe!D53=\"\",\"\",EingabeAngabe!D53)","v":""},null,{"$f":"IF(OR(G46=\"\",G46>EingabeAngabe!F51),\"F\",EingabeAngabe!B53)","v":"F"}]
["SY34",{"$f":"IF(EingabeAngabe!C54=\"\",\"\",EingabeAngabe!C54)","v":""},null,{"$f":"IF(EingabeAngabe!D54=\"\",\"\",EingabeAngabe!D54)","v":""},null,{"$f":"IF(OR(G47=\"\",G47>EingabeAngabe!F52),\"F\",EingabeAngabe!B54)","v":"F"},null,"Summe Übersetzungstext",null,null,null,null,{"$f":"EingabeAngabe!P59","v":""}]
[{"$f":"EingabeAngabe!B55","v":"SY35"},{"$f":"IF(EingabeAngabe!C55=\"\",\"\",EingabeAngabe!C55)","v":""},null,{"$f":"IF(EingabeAngabe!D55=\"\",\"\",EingabeAngabe!D55)","v":""},null,{"$f":"IF(OR(G48=\"\",G48>EingabeAngabe!F53),\"F\",EingabeAngabe!B55)","v":"F"},null,"Summe Arbeitsaufgaben und Interpretation",null,null,null,null,{"$f":"EingabeAngabe!P60","v":""}]
[{"$f":"EingabeAngabe!B56","v":"SY36"},{"$f":"IF(EingabeAngabe!C56=\"\",\"\",EingabeAngabe!C56)","v":""},null,{"$f":"IF(EingabeAngabe!D56=\"\",\"\",EingabeAngabe!D56)","v":""},null,{"$f":"IF(OR(G49=\"\",G49>EingabeAngabe!F54),\"F\",EingabeAngabe!B56)","v":"F"},null,"Gesamtsumme",null,null,null,null,{"$f":"EingabeAngabe!P2","v":""}]
[null,{"$f":"EingabeAngabe!C57","v":"SPRACHLICHE QUALITÄT IN DER ZIELSPRACHE"},null,null,null,{"$f":"IF(OR(G50=1,G50=3,G50=5,G50>6),\"F\",\"6/4/2/0\")","v":"6/4/2/0"},null,"NOTE",null,null,{"$f":"IF(EingabeAngabe!P3=1,\"Sehr gut\",IF(EingabeAngabe!P3=2,\"Gut\",IF(EingabeAngabe!P3=3,\"Befriedigend\",IF(EingabeAngabe!P3=4,\"Genügend\",IF(EingabeAngabe!P3=5,\"Nicht genügend\",\"\")))))","v":""}]

{"sheet":"Schueler11Punkte","index":14,"n_rows":50,"n_cols":13,"rows_kept":50,"cut":false,"hidden":false,"merged":[[0,0,0,1],[0,3,0,4],[0,7,0,11],[1,0,2,0],[1,1,1,4],[1,5,2,5],[1,6,2,6],[1,8,1,11],[2,1,2,4],[2,8,2,11],[3,0,4,0],[3,1,3,4],[3,5,4,5],[3,6,4,6],[3,8,3,11],[4,1,4,4],[4,8,4,11],[5,0,6,0],[5,1,5,4],[5,5,6,5],[5,6,6,6],[5,8,5,11],[6,1,6,4],[6,8,6,11],[7,0,8,0],[7,1,7,4],[7,5,8,5],[7,6,8,6],[7,8,7,11],[8,1,8,4],[8,8,8,11],[9,0,10,0],[9,1,9,4],[9,5,10,5],[9,6,10,6],[9,7,9,13],[10,1,10,4],[10,7,10,10],[10,11,10,13],[11,0,12,0],[11,1,11,4],[11,5,12,5],[11,6,12,6],[11,7,11,10],[11,11,11,13],[12,1,12,4],[12,7,12,10],[12,11,12,13],[13,0,14,0],[13,1,13,4],[13,5,14,5],[13,6,14,6],[13,7,13,10],[13,11,13,13],[14,1,14,4],[14,7,14,10],[14,11,14,13],[15,0,16,0],[15,1,15,4],[15,5,16,5],[15,6,16,6],[15,7,15,13],[16,1,16,4],[16,7,24,13],[17,0,18,0],[17,1,17,4],[17,5,18,5],[17,6,18,6],[18,1,18,4],[19,0,20,0],[19,1,19,4],[19,5,20,5],[19,6,20,6],[20,1,20,4],[21,0,22,0],[21,1,21,4],[21,5,22,5],[21,6,22,6],[22,1,22,4],[23,0,24,0],[23,1,23,4],[23,5,24,5],[23,6,24,6],[24,1,24,4],[25,1,25,2],[26,1,26,2],[26,7,26,13],[27,1,27,2],[27,7,44,13],[28,1,28,2],[29,1,29,2],[30,1,30,2],[31,1,31,2],[32,1,32,2],[33,1,33,2],[33,3,33,4],[34,1,34,2],[34,3,34,4],[35,1,35,2],[35,3,35,4],[36,1,36,2],[36,3,36,4],[37,1,37,2],[37,3,37,4],[38,1,38,2],[38,3,38,4],[39,1,39,2],[39,3,39,4],[40,1,40,2],[40,3,40,4],[41,1,41,2],[41,3,41,4],[42,1,42,2],[42,3,42,4],[43,1,43,2],[43,3,43,4],[44,1,44,2],[44,3,44,4],[48,12,48,13],[45,1,45,2],[45,3,45,4],[46,1,46,2],[46,3,46,4],[46,7,46,11],[46,12,46,13],[49,1,49,4],[49,7,49,9],[49,10,49,13],[47,1,47,2],[47,3,47,4],[47,7,47,11],[47,12,47,13],[48,1,48,2],[48,3,48,4],[48,7,48,11]]}
["Übersetzungstext",null,"Schülername",{"$f":"SchuelernamenEingabe!B12","v":0},null,null,null,"Arbeitsaufgaben/ Interpretation"]
[{"$f":"EingabeAngabe!B6","v":"SE1"},{"$f":"IF(EingabeAngabe!C6=\"\",\"\",EingabeAngabe!C6)","v":""},null,null,null,{"$f":"IF(OR(G2=\"\",G2>EingabeAngabe!F6),\"F\",EingabeAngabe!B6)","v":"F"},null,{"$f":"EingabeAngabe!B61","v":"IT1"},{"$f":"IF(EingabeAngabe!C61=\"\",\"\",EingabeAngabe!C61)","v":""},null,null,null,{"$f":"IF(N2>EingabeAngabe!F61,\"F\",IF(EingabeAngabe!F61=\"\",\"\",EingabeAngabe!F61))","v":""}]
[null,{"$f":"IF(EingabeAngabe!C7=\"\",\"\",EingabeAngabe!C7)","v":""},null,null,null,null,null,{"$f":"EingabeAngabe!B62","v":"IT2"},{"$f":"IF(EingabeAngabe!C62=\"\",\"\",EingabeAngabe!C62)","v":""},null,null,null,{"$f":"IF(N3>EingabeAngabe!F62,\"F\",IF(EingabeAngabe!F62=\"\",\"\",EingabeAngabe!F62))","v":""}]
[{"$f":"EingabeAngabe!B8","v":"SE2"},{"$f":"IF(EingabeAngabe!C8=\"\",\"\",EingabeAngabe!C8)","v":""},null,null,null,{"$f":"IF(OR(G4=\"\",G4>EingabeAngabe!F8),\"F\",EingabeAngabe!B8)","v":"F"},null,{"$f":"EingabeAngabe!B63","v":"IT3"},{"$f":"IF(EingabeAngabe!C63=\"\",\"\",EingabeAngabe!C63)","v":""},null,null,null,{"$f":"IF(N4>EingabeAngabe!F63,\"F\",IF(EingabeAngabe!F63=\"\",\"\",EingabeAngabe!F63))","v":""}]
[null,{"$f":"IF(EingabeAngabe!C9=\"\",\"\",EingabeAngabe!C9)","v":""},null,null,null,null,null,{"$f":"EingabeAngabe!B64","v":"IT4"},{"$f":"IF(EingabeAngabe!C64=\"\",\"\",EingabeAngabe!C64)","v":""},null,null,null,{"$f":"IF(N5>EingabeAngabe!F64,\"F\",IF(EingabeAngabe!F64=\"\",\"\",EingabeAngabe!F64))","v":""}]
[{"$f":"EingabeAngabe!B10","v":"SE3"},{"$f":"IF(EingabeAngabe!C10=\"\",\"\",EingabeAngabe!C10)","v":""},null,null,null,{"$f":"IF(OR(G6=\"\",G6>EingabeAngabe!F10),\"F\",EingabeAngabe!B10)","v":"F"},null,{"$f":"EingabeAngabe!B65","v":"IT5"},{"$f":"IF(EingabeAngabe!C65=\"\",\"\",EingabeAngabe!C65)","v":""},null,null,null,{"$f":"IF(N6>EingabeAngabe!F65,\"F\",IF(EingabeAngabe!F65=\"\",\"\",EingabeAngabe!F65))","v":""}]
[null,{"$f":"IF(EingabeAngabe!C11=\"\",\"\",EingabeAngabe!C11)","v":""},null,null,null,null,null,{"$f":"EingabeAngabe!B66","v":"IT6"},{"$f":"IF(EingabeAngabe!C66=\"\",\"\",EingabeAngabe!C66)","v":""},null,null,null,{"$f":"IF(N7>EingabeAngabe!F66,\"F\",IF(EingabeAngabe!F66=\"\",\"\",EingabeAngabe!F66))","v":""}]
[{"$f":"EingabeAngabe!B12","v":"SE4"},{"$f":"IF(EingabeAngabe!C12=\"\",\"\",EingabeAngabe!C12)","v":""},null,null,null,{"$f":"IF(OR(G8=\"\",G8>EingabeAngabe!F12),\"F\",EingabeAngabe!B12)","v":"F"},null,{"$f":"EingabeAngabe!B67","v":"IT7"},{"$f":"IF(EingabeAngabe!C67=\"\",\"\",EingabeAngabe!C67)","v":""},null,null,null,{"$f":"IF(N8>EingabeAngabe!F67,\"F\",IF(EingabeAngabe!F67=\"\",\"\",EingabeAngabe!F67))","v":""}]
[null,{"$f":"IF(EingabeAngabe!C13=\"\",\"\",EingabeAngabe!C13)","v":""},null,null,null,null,null,{"$f":"EingabeAngabe!B68","v":"IT8"},{"$f":"IF(EingabeAngabe!C68=\"\",\"\",EingabeAngabe!C68)","v":""},null,null,null,{"$f":"IF(N9>EingabeAngabe!F68,\"F\",IF(EingabeAngabe!F68=\"\",\"\",EingabeAngabe!F68))","v":""}]
[{"$f":"EingabeAngabe!B14","v":"SE5"},{"$f":"IF(EingabeAngabe!C14=\"\",\"\",EingabeAngabe!C14)","v":""},null,null,null,{"$f":"IF(OR(G10=\"\",G10>EingabeAngabe!F14),\"F\",EingabeAngabe!B14)","v":"F"},null,"Notenschlüssel:"]
[null,{"$f":"IF(EingabeAngabe!C15=\"\",\"\",EingabeAngabe!C15)","v":""},null,null,null,null,null,"Sehr gut",null,null,null,{"$f":"EingabeAngabe!F72","v":"60 - 53"}]
[{"$f":"EingabeAngabe!B16","v":"SE6"},{"$f":"IF(EingabeAngabe!C16=\"\",\"\",EingabeAngabe!C16)","v":""},null,null,null,{"$f":"IF(OR(G12=\"\",G12>EingabeAngabe!F16),\"F\",EingabeAngabe!B16)","v":"F"},null,"Gut",null,null,null,{"$f":"EingabeAngabe!F73","v":"52 - 45"}]
[null,{"$f":"IF(EingabeAngabe!C17=\"\",\"\",EingabeAngabe!C17)","v":""},null,null,null,null,null,"Befriedigend",null,null,null,{"$f":"EingabeAngabe!F74","v":"44 - 37"}]
[{"$f":"EingabeAngabe!B18","v":"SE7"},{"$f":"IF(EingabeAngabe!C18=\"\",\"\",EingabeAngabe!C18)","v":""},null,null,null,{"$f":"IF(OR(G14=\"\",G14>EingabeAngabe!F18),\"F\",EingabeAngabe!B18)","v":"F"},null,"Genügend",null,null,null,{"$f":"EingabeAngabe!F75","v":"36 - 30"}]
[null,{"$f":"IF(EingabeAngabe!C19=\"\",\"\",EingabeAngabe!C19)","v":""},null,null,null,null,null,"Nicht genügend",null,null,null,{"$f":"EingabeAngabe!F76","v":"29 - 00"}]
[{"$f":"EingabeAngabe!B20","v":"SE8"},{"$f":"IF(EingabeAngabe!C20=\"\",\"\",EingabeAngabe!C20)","v":""},null,null,null,{"$f":"IF(OR(G16=\"\",G16>EingabeAngabe!F20),\"F\",EingabeAngabe!B20)","v":"F"},null,{"$f":"CONCATENATE(\"Notendefinition laut LBVO$14:\",\"            \",K50)","v":"Notendefinition laut LBVO$14:            "}]
[null,{"$f":"IF(EingabeAngabe!C21=\"\",\"\",EingabeAngabe!C21)","v":""},null,null,null,null,null,{"$f":"VLOOKUP(K50,SchuelernamenEingabe!D2:'SchuelernamenEingabe'!E40,2,FALSE)","v":{"$error":"#N/A"}}]
[{"$f":"EingabeAngabe!B22","v":"SE9"},{"$f":"IF(EingabeAngabe!C22=\"\",\"\",EingabeAngabe!C22)","v":""},null,null,null,{"$f":"IF(OR(G18=\"\",G18>EingabeAngabe!F22),\"F\",EingabeAngabe!B22)","v":"F"}]
[null,{"$f":"IF(EingabeAngabe!C23=\"\",\"\",EingabeAngabe!C23)","v":""}]
[{"$f":"EingabeAngabe!B24","v":"SE10"},{"$f":"IF(EingabeAngabe!C24=\"\",\"\",EingabeAngabe!C24)","v":""},null,null,null,{"$f":"IF(OR(G20=\"\",G20>EingabeAngabe!F24),\"F\",EingabeAngabe!B24)","v":"F"}]
[null,{"$f":"IF(EingabeAngabe!C25=\"\",\"\",EingabeAngabe!C25)","v":""}]
[{"$f":"EingabeAngabe!B26","v":"SE11"},{"$f":"IF(EingabeAngabe!C26=\"\",\"\",EingabeAngabe!C26)","v":""},null,null,null,{"$f":"IF(OR(G22=\"\",G22>EingabeAngabe!F26),\"F\",EingabeAngabe!B26)","v":"F"}]
[null,{"$f":"IF(EingabeAngabe!C27=\"\",\"\",EingabeAngabe!C27)","v":""}]
[{"$f":"EingabeAngabe!B28","v":"SE12"},{"$f":"IF(EingabeAngabe!C28=\"\",\"\",EingabeAngabe!C28)","v":""},null,null,null,{"$f":"IF(OR(G24=\"\",G24>EingabeAngabe!F28),\"F\",EingabeAngabe!B28)","v":"F"}]
[null,{"$f":"IF(EingabeAngabe!C29=\"\",\"\",EingabeAngabe!C29)","v":""}]
[{"$f":"EingabeAngabe!B31","v":"LE13"},{"$f":"IF(EingabeAngabe!C31=\"\",\"\",EingabeAngabe!C31)","v":""},null,{"$f":"IF(EingabeAngabe!D31=\"\",\"\",EingabeAngabe!D31)","v":""},{"$f":"IF(EingabeAngabe!E31=\"\",\"\",EingabeAngabe!E31)","v":""},{"$f":"IF(OR(G26=\"\",G26>EingabeAngabe!F31),\"F\",EingabeAngabe!B31)","v":"F"}]
[{"$f":"EingabeAngabe!B32","v":"LE14"},{"$f":"IF(EingabeAngabe!C32=\"\",\"\",EingabeAngabe!C32)","v":""},null,{"$f":"IF(EingabeAngabe!D32=\"\",\"\",EingabeAngabe!D32)","v":""},{"$f":"IF(EingabeAngabe!E32=\"\",\"\",EingabeAngabe!E32)","v":""},{"$f":"IF(OR(G27=\"\",G27>EingabeAngabe!F32),\"F\",EingabeAngabe!B32)","v":"F"},null,{"$f":"IF(EingabeAngabe!F80>\"\",EingabeAngabe!E79,\"\")","v":"Eigener Notenkommentar:"}]
[{"$f":"EingabeAngabe!B33","v":"LE15"},{"$f":"IF(EingabeAngabe!C33=\"\",\"\",EingabeAngabe!C33)","v":""},null,{"$f":"IF(EingabeAngabe!D33=\"\",\"\",EingabeAngabe!D33)","v":""},{"$f":"IF(EingabeAngabe!E33=\"\",\"\",EingabeAngabe!E33)","v":""},{"$f":"IF(OR(G28=\"\",G28>EingabeAngabe!F33),\"F\",EingabeAngabe!B33)","v":"F"}]
["LE16",{"$f":"IF(EingabeAngabe!C34=\"\",\"\",EingabeAngabe!C34)","v":""},null,{"$f":"IF(EingabeAngabe!D34=\"\",\"\",EingabeAngabe!D34)","v":""},{"$f":"IF(EingabeAngabe!E34=\"\",\"\",EingabeAngabe!E34)","v":""},{"$f":"IF(OR(G29=\"\",G29>EingabeAngabe!F34),\"F\",EingabeAngabe!B34)","v":"F"}]
["LE17",{"$f":"IF(EingabeAngabe!C35=\"\",\"\",EingabeAngabe!C35)","v":""},null,{"$f":"IF(EingabeAngabe!D35=\"\",\"\",EingabeAngabe!D35)","v":""},{"$f":"IF(EingabeAngabe!E35=\"\",\"\",EingabeAngabe!E35)","v":""},{"$f":"IF(OR(G30=\"\",G30>EingabeAngabe!F35),\"F\",EingabeAngabe!B35)","v":"F"}]
["LE18",{"$f":"IF(EingabeAngabe!C36=\"\",\"\",EingabeAngabe!C36)","v":""},null,{"$f":"IF(EingabeAngabe!D36=\"\",\"\",EingabeAngabe!D36)","v":""},{"$f":"IF(EingabeAngabe!E36=\"\",\"\",EingabeAngabe!E36)","v":""},{"$f":"IF(OR(G31=\"\",G31>EingabeAngabe!F36),\"F\",EingabeAngabe!B36)","v":"F"}]
["LE19",{"$f":"IF(EingabeAngabe!C37=\"\",\"\",EingabeAngabe!C37)","v":""},null,{"$f":"IF(EingabeAngabe!D37=\"\",\"\",EingabeAngabe!D37)","v":""},{"$f":"IF(EingabeAngabe!E37=\"\",\"\",EingabeAngabe!E37)","v":""},{"$f":"IF(OR(G32=\"\",G32>EingabeAngabe!F37),\"F\",EingabeAngabe!B37)","v":"F"}]
[{"$f":"EingabeAngabe!B38","v":"LE20"},{"$f":"IF(EingabeAngabe!C38=\"\",\"\",EingabeAngabe!C38)","v":""},null,{"$f":"IF(EingabeAngabe!D38=\"\",\"\",EingabeAngabe!D38)","v":""},{"$f":"IF(EingabeAngabe!E38=\"\",\"\",EingabeAngabe!E38)","v":""},{"$f":"IF(OR(G33=\"\",G33>EingabeAngabe!F38),\"F\",EingabeAngabe!B38)","v":"F"}]
[{"$f":"EingabeAngabe!B40","v":"MO21"},{"$f":"IF(EingabeAngabe!C40=\"\",\"\",EingabeAngabe!C40)","v":""},null,{"$f":"IF(EingabeAngabe!D40=\"\",\"\",EingabeAngabe!D40)","v":""},null,{"$f":"IF(OR(G34=\"\",G34>EingabeAngabe!F39),\"F\",EingabeAngabe!B40)","v":"F"}]
[{"$f":"EingabeAngabe!B41","v":"MO22"},{"$f":"IF(EingabeAngabe!C41=\"\",\"\",EingabeAngabe!C41)","v":""},null,{"$f":"IF(EingabeAngabe!D41=\"\",\"\",EingabeAngabe!D41)","v":""},null,{"$f":"IF(OR(G35=\"\",G35>EingabeAngabe!F40),\"F\",EingabeAngabe!B41)","v":"F"}]
["MO23",{"$f":"IF(EingabeAngabe!C42=\"\",\"\",EingabeAngabe!C42)","v":""},null,{"$f":"IF(EingabeAngabe!D42=\"\",\"\",EingabeAngabe!D42)","v":""},null,{"$f":"IF(OR(G36=\"\",G36>EingabeAngabe!F41),\"F\",EingabeAngabe!B42)","v":"F"}]
["MO24",{"$f":"IF(EingabeAngabe!C43=\"\",\"\",EingabeAngabe!C43)","v":""},null,{"$f":"IF(EingabeAngabe!D43=\"\",\"\",EingabeAngabe!D43)","v":""},null,{"$f":"IF(OR(G37=\"\",G37>EingabeAngabe!F42),\"F\",EingabeAngabe!B43)","v":"F"}]
["MO25",{"$f":"IF(EingabeAngabe!C44=\"\",\"\",EingabeAngabe!C44)","v":""},null,{"$f":"IF(EingabeAngabe!D44=\"\",\"\",EingabeAngabe!D44)","v":""},null,{"$f":"IF(OR(G38=\"\",G38>EingabeAngabe!F41),\"F\",EingabeAngabe!B42)","v":"F"}]
[{"$f":"EingabeAngabe!B45","v":"MO26"},{"$f":"IF(EingabeAngabe!C45=\"\",\"\",EingabeAngabe!C45)","v":""},null,{"$f":"IF(EingabeAngabe!D45=\"\",\"\",EingabeAngabe!D45)","v":""},null,{"$f":"IF(OR(G39=\"\",G39>EingabeAngabe!F42),\"F\",EingabeAngabe!B45)","v":"F"}]
[{"$f":"EingabeAngabe!B46","v":"MO27"},{"$f":"IF(EingabeAngabe!C46=\"\",\"\",EingabeAngabe!C46)","v":""},null,{"$f":"IF(EingabeAngabe!D46=\"\",\"\",EingabeAngabe!D46)","v":""},null,{"$f":"IF(OR(G40=\"\",G40>EingabeAngabe!F45),\"F\",EingabeAngabe!B46)","v":"F"}]
[{"$f":"EingabeAngabe!B47","v":"MO28"},{"$f":"IF(EingabeAngabe!C47=\"\",\"\",EingabeAngabe!C47)","v":""},null,{"$f":"IF(EingabeAngabe!D47=\"\",\"\",EingabeAngabe!D47)","v":""},null,{"$f":"IF(OR(G41=\"\",G41>EingabeAngabe!F46),\"F\",EingabeAngabe!B47)","v":"F"}]
[{"$f":"EingabeAngabe!B49","v":"SY29"},{"$f":"IF(EingabeAngabe!C49=\"\",\"\",EingabeAngabe!C49)","v":""},null,{"$f":"IF(EingabeAngabe!D49=\"\",\"\",EingabeAngabe!D49)","v":""},null,{"$f":"IF(OR(G42=\"\",G42>EingabeAngabe!F47),\"F\",EingabeAngabe!B49)","v":"F"}]
["SY30",{"$f":"IF(EingabeAngabe!C50=\"\",\"\",EingabeAngabe!C50)","v":""},null,{"$f":"IF(EingabeAngabe!D50=\"\",\"\",EingabeAngabe!D50)","v":""},null,{"$f":"IF(OR(G43=\"\",G43>EingabeAngabe!F48),\"F\",EingabeAngabe!B50)","v":"F"}]
["SY31",{"$f":"IF(EingabeAngabe!C51=\"\",\"\",EingabeAngabe!C51)","v":""},null,{"$f":"IF(EingabeAngabe!D51=\"\",\"\",EingabeAngabe!D51)","v":""},null,{"$f":"IF(OR(G44=\"\",G44>EingabeAngabe!F49),\"F\",EingabeAngabe!B51)","v":"F"}]
["SY32",{"$f":"IF(EingabeAngabe!C52=\"\",\"\",EingabeAngabe!C52)","v":""},null,{"$f":"IF(EingabeAngabe!D52=\"\",\"\",EingabeAngabe!D52)","v":""},null,{"$f":"IF(OR(G45=\"\",G45>EingabeAngabe!F50),\"F\",EingabeAngabe!B52)","v":"F"}]
["SY33",{"$f":"IF(EingabeAngabe!C53=\"\",\"\",EingabeAngabe!C53)","v":""},null,{"$f":"IF(EingabeAngabe!D53=\"\",\"\",EingabeAngabe!D53)","v":""},null,{"$f":"IF(OR(G46=\"\",G46>EingabeAngabe!F51),\"F\",EingabeAngabe!B53)","v":"F"}]
["SY34",{"$f":"IF(EingabeAngabe!C54=\"\",\"\",EingabeAngabe!C54)","v":""},null,{"$f":"IF(EingabeAngabe!D54=\"\",\"\",EingabeAngabe!D54)","v":""},null,{"$f":"IF(OR(G47=\"\",G47>EingabeAngabe!F52),\"F\",EingabeAngabe!B54)","v":"F"},null,"Summe Übersetzungstext",null,null,null,null,{"$f":"EingabeAngabe!Q59","v":""}]
[{"$f":"EingabeAngabe!B55","v":"SY35"},{"$f":"IF(EingabeAngabe!C55=\"\",\"\",EingabeAngabe!C55)","v":""},null,{"$f":"IF(EingabeAngabe!D55=\"\",\"\",EingabeAngabe!D55)","v":""},null,{"$f":"IF(OR(G48=\"\",G48>EingabeAngabe!F53),\"F\",EingabeAngabe!B55)","v":"F"},null,"Summe Arbeitsaufgaben und Interpretation",null,null,null,null,{"$f":"EingabeAngabe!Q60","v":""}]
[{"$f":"EingabeAngabe!B56","v":"SY36"},{"$f":"IF(EingabeAngabe!C56=\"\",\"\",EingabeAngabe!C56)","v":""},null,{"$f":"IF(EingabeAngabe!D56=\"\",\"\",EingabeAngabe!D56)","v":""},null,{"$f":"IF(OR(G49=\"\",G49>EingabeAngabe!F54),\"F\",EingabeAngabe!B56)","v":"F"},null,"Gesamtsumme",null,null,null,null,{"$f":"EingabeAngabe!Q2","v":""}]
[null,{"$f":"EingabeAngabe!C57","v":"SPRACHLICHE QUALITÄT IN DER ZIELSPRACHE"},null,null,null,{"$f":"IF(OR(G50=1,G50=3,G50=5,G50>6),\"F\",\"6/4/2/0\")","v":"6/4/2/0"},null,"NOTE",null,null,{"$f":"IF(EingabeAngabe!Q3=1,\"Sehr gut\",IF(EingabeAngabe!Q3=2,\"Gut\",IF(EingabeAngabe!Q3=3,\"Befriedigend\",IF(EingabeAngabe!Q3=4,\"Genügend\",IF(EingabeAngabe!Q3=5,\"Nicht genügend\",\"\")))))","v":""}]

{"sheet":"Schueler12Punkte","index":15,"n_rows":50,"n_cols":13,"rows_kept":50,"cut":false,"hidden":false,"merged":[[0,0,0,1],[0,3,0,4],[0,7,0,11],[1,0,2,0],[1,1,1,4],[1,5,2,5],[1,6,2,6],[1,8,1,11],[2,1,2,4],[2,8,2,11],[3,0,4,0],[3,1,3,4],[3,5,4,5],[3,6,4,6],[3,8,3,11],[4,1,4,4],[4,8,4,11],[5,0,6,0],[5,1,5,4],[5,5,6,5],[5,6,6,6],[5,8,5,11],[6,1,6,4],[6,8,6,11],[7,0,8,0],[7,1,7,4],[7,5,8,5],[7,6,8,6],[7,8,7,11],[8,1,8,4],[8,8,8,11],[9,0,10,0],[9,1,9,4],[9,5,10,5],[9,6,10,6],[9,7,9,13],[10,1,10,4],[10,7,10,10],[10,11,10,13],[11,0,12,0],[11,1,11,4],[11,5,12,5],[11,6,12,6],[11,7,11,10],[11,11,11,13],[12,1,12,4],[12,7,12,10],[12,11,12,13],[13,0,14,0],[13,1,13,4],[13,5,14,5],[13,6,14,6],[13,7,13,10],[13,11,13,13],[14,1,14,4],[14,7,14,10],[14,11,14,13],[15,0,16,0],[15,1,15,4],[15,5,16,5],[15,6,16,6],[15,7,15,13],[16,1,16,4],[16,7,24,13],[17,0,18,0],[17,1,17,4],[17,5,18,5],[17,6,18,6],[18,1,18,4],[19,0,20,0],[19,1,19,4],[19,5,20,5],[19,6,20,6],[20,1,20,4],[21,0,22,0],[21,1,21,4],[21,5,22,5],[21,6,22,6],[22,1,22,4],[23,0,24,0],[23,1,23,4],[23,5,24,5],[23,6,24,6],[24,1,24,4],[25,1,25,2],[26,1,26,2],[26,7,26,13],[27,1,27,2],[27,7,44,13],[28,1,28,2],[29,1,29,2],[30,1,30,2],[31,1,31,2],[32,1,32,2],[33,1,33,2],[33,3,33,4],[34,1,34,2],[34,3,34,4],[35,1,35,2],[35,3,35,4],[36,1,36,2],[36,3,36,4],[37,1,37,2],[37,3,37,4],[38,1,38,2],[38,3,38,4],[39,1,39,2],[39,3,39,4],[40,1,40,2],[40,3,40,4],[41,1,41,2],[41,3,41,4],[42,1,42,2],[42,3,42,4],[43,1,43,2],[43,3,43,4],[44,1,44,2],[44,3,44,4],[48,12,48,13],[45,1,45,2],[45,3,45,4],[46,1,46,2],[46,3,46,4],[46,7,46,11],[46,12,46,13],[49,1,49,4],[49,7,49,9],[49,10,49,13],[47,1,47,2],[47,3,47,4],[47,7,47,11],[47,12,47,13],[48,1,48,2],[48,3,48,4],[48,7,48,11]]}
["Übersetzungstext",null,"Schülername",{"$f":"SchuelernamenEingabe!B13","v":0},null,null,null,"Arbeitsaufgaben/ Interpretation"]
[{"$f":"EingabeAngabe!B6","v":"SE1"},{"$f":"IF(EingabeAngabe!C6=\"\",\"\",EingabeAngabe!C6)","v":""},null,null,null,{"$f":"IF(OR(G2=\"\",G2>EingabeAngabe!F6),\"F\",EingabeAngabe!B6)","v":"F"},null,{"$f":"EingabeAngabe!B61","v":"IT1"},{"$f":"IF(EingabeAngabe!C61=\"\",\"\",EingabeAngabe!C61)","v":""},null,null,null,{"$f":"IF(N2>EingabeAngabe!F61,\"F\",IF(EingabeAngabe!F61=\"\",\"\",EingabeAngabe!F61))","v":""}]
[null,{"$f":"IF(EingabeAngabe!C7=\"\",\"\",EingabeAngabe!C7)","v":""},null,null,null,null,null,{"$f":"EingabeAngabe!B62","v":"IT2"},{"$f":"IF(EingabeAngabe!C62=\"\",\"\",EingabeAngabe!C62)","v":""},null,null,null,{"$f":"IF(N3>EingabeAngabe!F62,\"F\",IF(EingabeAngabe!F62=\"\",\"\",EingabeAngabe!F62))","v":""}]
[{"$f":"EingabeAngabe!B8","v":"SE2"},{"$f":"IF(EingabeAngabe!C8=\"\",\"\",EingabeAngabe!C8)","v":""},null,null,null,{"$f":"IF(OR(G4=\"\",G4>EingabeAngabe!F8),\"F\",EingabeAngabe!B8)","v":"F"},null,{"$f":"EingabeAngabe!B63","v":"IT3"},{"$f":"IF(EingabeAngabe!C63=\"\",\"\",EingabeAngabe!C63)","v":""},null,null,null,{"$f":"IF(N4>EingabeAngabe!F63,\"F\",IF(EingabeAngabe!F63=\"\",\"\",EingabeAngabe!F63))","v":""}]
[null,{"$f":"IF(EingabeAngabe!C9=\"\",\"\",EingabeAngabe!C9)","v":""},null,null,null,null,null,{"$f":"EingabeAngabe!B64","v":"IT4"},{"$f":"IF(EingabeAngabe!C64=\"\",\"\",EingabeAngabe!C64)","v":""},null,null,null,{"$f":"IF(N5>EingabeAngabe!F64,\"F\",IF(EingabeAngabe!F64=\"\",\"\",EingabeAngabe!F64))","v":""}]
[{"$f":"EingabeAngabe!B10","v":"SE3"},{"$f":"IF(EingabeAngabe!C10=\"\",\"\",EingabeAngabe!C10)","v":""},null,null,null,{"$f":"IF(OR(G6=\"\",G6>EingabeAngabe!F10),\"F\",EingabeAngabe!B10)","v":"F"},null,{"$f":"EingabeAngabe!B65","v":"IT5"},{"$f":"IF(EingabeAngabe!C65=\"\",\"\",EingabeAngabe!C65)","v":""},null,null,null,{"$f":"IF(N6>EingabeAngabe!F65,\"F\",IF(EingabeAngabe!F65=\"\",\"\",EingabeAngabe!F65))","v":""}]
[null,{"$f":"IF(EingabeAngabe!C11=\"\",\"\",EingabeAngabe!C11)","v":""},null,null,null,null,null,{"$f":"EingabeAngabe!B66","v":"IT6"},{"$f":"IF(EingabeAngabe!C66=\"\",\"\",EingabeAngabe!C66)","v":""},null,null,null,{"$f":"IF(N7>EingabeAngabe!F66,\"F\",IF(EingabeAngabe!F66=\"\",\"\",EingabeAngabe!F66))","v":""}]
[{"$f":"EingabeAngabe!B12","v":"SE4"},{"$f":"IF(EingabeAngabe!C12=\"\",\"\",EingabeAngabe!C12)","v":""},null,null,null,{"$f":"IF(OR(G8=\"\",G8>EingabeAngabe!F12),\"F\",EingabeAngabe!B12)","v":"F"},null,{"$f":"EingabeAngabe!B67","v":"IT7"},{"$f":"IF(EingabeAngabe!C67=\"\",\"\",EingabeAngabe!C67)","v":""},null,null,null,{"$f":"IF(N8>EingabeAngabe!F67,\"F\",IF(EingabeAngabe!F67=\"\",\"\",EingabeAngabe!F67))","v":""}]
[null,{"$f":"IF(EingabeAngabe!C13=\"\",\"\",EingabeAngabe!C13)","v":""},null,null,null,null,null,{"$f":"EingabeAngabe!B68","v":"IT8"},{"$f":"IF(EingabeAngabe!C68=\"\",\"\",EingabeAngabe!C68)","v":""},null,null,null,{"$f":"IF(N9>EingabeAngabe!F68,\"F\",IF(EingabeAngabe!F68=\"\",\"\",EingabeAngabe!F68))","v":""}]
[{"$f":"EingabeAngabe!B14","v":"SE5"},{"$f":"IF(EingabeAngabe!C14=\"\",\"\",EingabeAngabe!C14)","v":""},null,null,null,{"$f":"IF(OR(G10=\"\",G10>EingabeAngabe!F14),\"F\",EingabeAngabe!B14)","v":"F"},null,"Notenschlüssel:"]
[null,{"$f":"IF(EingabeAngabe!C15=\"\",\"\",EingabeAngabe!C15)","v":""},null,null,null,null,null,"Sehr gut",null,null,null,{"$f":"EingabeAngabe!F72","v":"60 - 53"}]
[{"$f":"EingabeAngabe!B16","v":"SE6"},{"$f":"IF(EingabeAngabe!C16=\"\",\"\",EingabeAngabe!C16)","v":""},null,null,null,{"$f":"IF(OR(G12=\"\",G12>EingabeAngabe!F16),\"F\",EingabeAngabe!B16)","v":"F"},null,"Gut",null,null,null,{"$f":"EingabeAngabe!F73","v":"52 - 45"}]
[null,{"$f":"IF(EingabeAngabe!C17=\"\",\"\",EingabeAngabe!C17)","v":""},null,null,null,null,null,"Befriedigend",null,null,null,{"$f":"EingabeAngabe!F74","v":"44 - 37"}]
[{"$f":"EingabeAngabe!B18","v":"SE7"},{"$f":"IF(EingabeAngabe!C18=\"\",\"\",EingabeAngabe!C18)","v":""},null,null,null,{"$f":"IF(OR(G14=\"\",G14>EingabeAngabe!F18),\"F\",EingabeAngabe!B18)","v":"F"},null,"Genügend",null,null,null,{"$f":"EingabeAngabe!F75","v":"36 - 30"}]
[null,{"$f":"IF(EingabeAngabe!C19=\"\",\"\",EingabeAngabe!C19)","v":""},null,null,null,null,null,"Nicht genügend",null,null,null,{"$f":"EingabeAngabe!F76","v":"29 - 00"}]
[{"$f":"EingabeAngabe!B20","v":"SE8"},{"$f":"IF(EingabeAngabe!C20=\"\",\"\",EingabeAngabe!C20)","v":""},null,null,null,{"$f":"IF(OR(G16=\"\",G16>EingabeAngabe!F20),\"F\",EingabeAngabe!B20)","v":"F"},null,{"$f":"CONCATENATE(\"Notendefinition laut LBVO$14:\",\"            \",K50)","v":"Notendefinition laut LBVO$14:            "}]
[null,{"$f":"IF(EingabeAngabe!C21=\"\",\"\",EingabeAngabe!C21)","v":""},null,null,null,null,null,{"$f":"VLOOKUP(K50,SchuelernamenEingabe!D2:'SchuelernamenEingabe'!E40,2,FALSE)","v":{"$error":"#N/A"}}]
[{"$f":"EingabeAngabe!B22","v":"SE9"},{"$f":"IF(EingabeAngabe!C22=\"\",\"\",EingabeAngabe!C22)","v":""},null,null,null,{"$f":"IF(OR(G18=\"\",G18>EingabeAngabe!F22),\"F\",EingabeAngabe!B22)","v":"F"}]
[null,{"$f":"IF(EingabeAngabe!C23=\"\",\"\",EingabeAngabe!C23)","v":""}]
[{"$f":"EingabeAngabe!B24","v":"SE10"},{"$f":"IF(EingabeAngabe!C24=\"\",\"\",EingabeAngabe!C24)","v":""},null,null,null,{"$f":"IF(OR(G20=\"\",G20>EingabeAngabe!F24),\"F\",EingabeAngabe!B24)","v":"F"}]
[null,{"$f":"IF(EingabeAngabe!C25=\"\",\"\",EingabeAngabe!C25)","v":""}]
[{"$f":"EingabeAngabe!B26","v":"SE11"},{"$f":"IF(EingabeAngabe!C26=\"\",\"\",EingabeAngabe!C26)","v":""},null,null,null,{"$f":"IF(OR(G22=\"\",G22>EingabeAngabe!F26),\"F\",EingabeAngabe!B26)","v":"F"}]
[null,{"$f":"IF(EingabeAngabe!C27=\"\",\"\",EingabeAngabe!C27)","v":""}]
[{"$f":"EingabeAngabe!B28","v":"SE12"},{"$f":"IF(EingabeAngabe!C28=\"\",\"\",EingabeAngabe!C28)","v":""},null,null,null,{"$f":"IF(OR(G24=\"\",G24>EingabeAngabe!F28),\"F\",EingabeAngabe!B28)","v":"F"}]
[null,{"$f":"IF(EingabeAngabe!C29=\"\",\"\",EingabeAngabe!C29)","v":""}]
[{"$f":"EingabeAngabe!B31","v":"LE13"},{"$f":"IF(EingabeAngabe!C31=\"\",\"\",EingabeAngabe!C31)","v":""},null,{"$f":"IF(EingabeAngabe!D31=\"\",\"\",EingabeAngabe!D31)","v":""},{"$f":"IF(EingabeAngabe!E31=\"\",\"\",EingabeAngabe!E31)","v":""},{"$f":"IF(OR(G26=\"\",G26>EingabeAngabe!F31),\"F\",EingabeAngabe!B31)","v":"F"}]
[{"$f":"EingabeAngabe!B32","v":"LE14"},{"$f":"IF(EingabeAngabe!C32=\"\",\"\",EingabeAngabe!C32)","v":""},null,{"$f":"IF(EingabeAngabe!D32=\"\",\"\",EingabeAngabe!D32)","v":""},{"$f":"IF(EingabeAngabe!E32=\"\",\"\",EingabeAngabe!E32)","v":""},{"$f":"IF(OR(G27=\"\",G27>EingabeAngabe!F32),\"F\",EingabeAngabe!B32)","v":"F"},null,{"$f":"IF(EingabeAngabe!F80>\"\",EingabeAngabe!E79,\"\")","v":"Eigener Notenkommentar:"}]
[{"$f":"EingabeAngabe!B33","v":"LE15"},{"$f":"IF(EingabeAngabe!C33=\"\",\"\",EingabeAngabe!C33)","v":""},null,{"$f":"IF(EingabeAngabe!D33=\"\",\"\",EingabeAngabe!D33)","v":""},{"$f":"IF(EingabeAngabe!E33=\"\",\"\",EingabeAngabe!E33)","v":""},{"$f":"IF(OR(G28=\"\",G28>EingabeAngabe!F33),\"F\",EingabeAngabe!B33)","v":"F"}]
["LE16",{"$f":"IF(EingabeAngabe!C34=\"\",\"\",EingabeAngabe!C34)","v":""},null,{"$f":"IF(EingabeAngabe!D34=\"\",\"\",EingabeAngabe!D34)","v":""},{"$f":"IF(EingabeAngabe!E34=\"\",\"\",EingabeAngabe!E34)","v":""},{"$f":"IF(OR(G29=\"\",G29>EingabeAngabe!F34),\"F\",EingabeAngabe!B34)","v":"F"}]
["LE17",{"$f":"IF(EingabeAngabe!C35=\"\",\"\",EingabeAngabe!C35)","v":""},null,{"$f":"IF(EingabeAngabe!D35=\"\",\"\",EingabeAngabe!D35)","v":""},{"$f":"IF(EingabeAngabe!E35=\"\",\"\",EingabeAngabe!E35)","v":""},{"$f":"IF(OR(G30=\"\",G30>EingabeAngabe!F35),\"F\",EingabeAngabe!B35)","v":"F"}]
["LE18",{"$f":"IF(EingabeAngabe!C36=\"\",\"\",EingabeAngabe!C36)","v":""},null,{"$f":"IF(EingabeAngabe!D36=\"\",\"\",EingabeAngabe!D36)","v":""},{"$f":"IF(EingabeAngabe!E36=\"\",\"\",EingabeAngabe!E36)","v":""},{"$f":"IF(OR(G31=\"\",G31>EingabeAngabe!F36),\"F\",EingabeAngabe!B36)","v":"F"}]
["LE19",{"$f":"IF(EingabeAngabe!C37=\"\",\"\",EingabeAngabe!C37)","v":""},null,{"$f":"IF(EingabeAngabe!D37=\"\",\"\",EingabeAngabe!D37)","v":""},{"$f":"IF(EingabeAngabe!E37=\"\",\"\",EingabeAngabe!E37)","v":""},{"$f":"IF(OR(G32=\"\",G32>EingabeAngabe!F37),\"F\",EingabeAngabe!B37)","v":"F"}]
[{"$f":"EingabeAngabe!B38","v":"LE20"},{"$f":"IF(EingabeAngabe!C38=\"\",\"\",EingabeAngabe!C38)","v":""},null,{"$f":"IF(EingabeAngabe!D38=\"\",\"\",EingabeAngabe!D38)","v":""},{"$f":"IF(EingabeAngabe!E38=\"\",\"\",EingabeAngabe!E38)","v":""},{"$f":"IF(OR(G33=\"\",G33>EingabeAngabe!F38),\"F\",EingabeAngabe!B38)","v":"F"}]
[{"$f":"EingabeAngabe!B40","v":"MO21"},{"$f":"IF(EingabeAngabe!C40=\"\",\"\",EingabeAngabe!C40)","v":""},null,{"$f":"IF(EingabeAngabe!D40=\"\",\"\",EingabeAngabe!D40)","v":""},null,{"$f":"IF(OR(G34=\"\",G34>EingabeAngabe!F39),\"F\",EingabeAngabe!B40)","v":"F"}]
[{"$f":"EingabeAngabe!B41","v":"MO22"},{"$f":"IF(EingabeAngabe!C41=\"\",\"\",EingabeAngabe!C41)","v":""},null,{"$f":"IF(EingabeAngabe!D41=\"\",\"\",EingabeAngabe!D41)","v":""},null,{"$f":"IF(OR(G35=\"\",G35>EingabeAngabe!F40),\"F\",EingabeAngabe!B41)","v":"F"}]
["MO23",{"$f":"IF(EingabeAngabe!C42=\"\",\"\",EingabeAngabe!C42)","v":""},null,{"$f":"IF(EingabeAngabe!D42=\"\",\"\",EingabeAngabe!D42)","v":""},null,{"$f":"IF(OR(G36=\"\",G36>EingabeAngabe!F41),\"F\",EingabeAngabe!B42)","v":"F"}]
["MO24",{"$f":"IF(EingabeAngabe!C43=\"\",\"\",EingabeAngabe!C43)","v":""},null,{"$f":"IF(EingabeAngabe!D43=\"\",\"\",EingabeAngabe!D43)","v":""},null,{"$f":"IF(OR(G37=\"\",G37>EingabeAngabe!F42),\"F\",EingabeAngabe!B43)","v":"F"}]
["MO25",{"$f":"IF(EingabeAngabe!C44=\"\",\"\",EingabeAngabe!C44)","v":""},null,{"$f":"IF(EingabeAngabe!D44=\"\",\"\",EingabeAngabe!D44)","v":""},null,{"$f":"IF(OR(G38=\"\",G38>EingabeAngabe!F41),\"F\",EingabeAngabe!B42)","v":"F"}]
[{"$f":"EingabeAngabe!B45","v":"MO26"},{"$f":"IF(EingabeAngabe!C45=\"\",\"\",EingabeAngabe!C45)","v":""},null,{"$f":"IF(EingabeAngabe!D45=\"\",\"\",EingabeAngabe!D45)","v":""},null,{"$f":"IF(OR(G39=\"\",G39>EingabeAngabe!F42),\"F\",EingabeAngabe!B45)","v":"F"}]
[{"$f":"EingabeAngabe!B46","v":"MO27"},{"$f":"IF(EingabeAngabe!C46=\"\",\"\",EingabeAngabe!C46)","v":""},null,{"$f":"IF(EingabeAngabe!D46=\"\",\"\",EingabeAngabe!D46)","v":""},null,{"$f":"IF(OR(G40=\"\",G40>EingabeAngabe!F45),\"F\",EingabeAngabe!B46)","v":"F"}]
[{"$f":"EingabeAngabe!B47","v":"MO28"},{"$f":"IF(EingabeAngabe!C47=\"\",\"\",EingabeAngabe!C47)","v":""},null,{"$f":"IF(EingabeAngabe!D47=\"\",\"\",EingabeAngabe!D47)","v":""},null,{"$f":"IF(OR(G41=\"\",G41>EingabeAngabe!F46),\"F\",EingabeAngabe!B47)","v":"F"}]
[{"$f":"EingabeAngabe!B49","v":"SY29"},{"$f":"IF(EingabeAngabe!C49=\"\",\"\",EingabeAngabe!C49)","v":""},null,{"$f":"IF(EingabeAngabe!D49=\"\",\"\",EingabeAngabe!D49)","v":""},null,{"$f":"IF(OR(G42=\"\",G42>EingabeAngabe!F47),\"F\",EingabeAngabe!B49)","v":"F"}]
["SY30",{"$f":"IF(EingabeAngabe!C50=\"\",\"\",EingabeAngabe!C50)","v":""},null,{"$f":"IF(EingabeAngabe!D50=\"\",\"\",EingabeAngabe!D50)","v":""},null,{"$f":"IF(OR(G43=\"\",G43>EingabeAngabe!F48),\"F\",EingabeAngabe!B50)","v":"F"}]
["SY31",{"$f":"IF(EingabeAngabe!C51=\"\",\"\",EingabeAngabe!C51)","v":""},null,{"$f":"IF(EingabeAngabe!D51=\"\",\"\",EingabeAngabe!D51)","v":""},null,{"$f":"IF(OR(G44=\"\",G44>EingabeAngabe!F49),\"F\",EingabeAngabe!B51)","v":"F"}]
["SY32",{"$f":"IF(EingabeAngabe!C52=\"\",\"\",EingabeAngabe!C52)","v":""},null,{"$f":"IF(EingabeAngabe!D52=\"\",\"\",EingabeAngabe!D52)","v":""},null,{"$f":"IF(OR(G45=\"\",G45>EingabeAngabe!F50),\"F\",EingabeAngabe!B52)","v":"F"}]
["SY33",{"$f":"IF(EingabeAngabe!C53=\"\",\"\",EingabeAngabe!C53)","v":""},null,{"$f":"IF(EingabeAngabe!D53=\"\",\"\",EingabeAngabe!D53)","v":""},null,{"$f":"IF(OR(G46=\"\",G46>EingabeAngabe!F51),\"F\",EingabeAngabe!B53)","v":"F"}]
["SY34",{"$f":"IF(EingabeAngabe!C54=\"\",\"\",EingabeAngabe!C54)","v":""},null,{"$f":"IF(EingabeAngabe!D54=\"\",\"\",EingabeAngabe!D54)","v":""},null,{"$f":"IF(OR(G47=\"\",G47>EingabeAngabe!F52),\"F\",EingabeAngabe!B54)","v":"F"},null,"Summe Übersetzungstext",null,null,null,null,{"$f":"EingabeAngabe!R59","v":""}]
[{"$f":"EingabeAngabe!B55","v":"SY35"},{"$f":"IF(EingabeAngabe!C55=\"\",\"\",EingabeAngabe!C55)","v":""},null,{"$f":"IF(EingabeAngabe!D55=\"\",\"\",EingabeAngabe!D55)","v":""},null,{"$f":"IF(OR(G48=\"\",G48>EingabeAngabe!F53),\"F\",EingabeAngabe!B55)","v":"F"},null,"Summe Arbeitsaufgaben und Interpretation",null,null,null,null,{"$f":"EingabeAngabe!R60","v":""}]
[{"$f":"EingabeAngabe!B56","v":"SY36"},{"$f":"IF(EingabeAngabe!C56=\"\",\"\",EingabeAngabe!C56)","v":""},null,{"$f":"IF(EingabeAngabe!D56=\"\",\"\",EingabeAngabe!D56)","v":""},null,{"$f":"IF(OR(G49=\"\",G49>EingabeAngabe!F54),\"F\",EingabeAngabe!B56)","v":"F"},null,"Gesamtsumme",null,null,null,null,{"$f":"EingabeAngabe!R2","v":""}]
[null,{"$f":"EingabeAngabe!C57","v":"SPRACHLICHE QUALITÄT IN DER ZIELSPRACHE"},null,null,null,{"$f":"IF(OR(G50=1,G50=3,G50=5,G50>6),\"F\",\"6/4/2/0\")","v":"6/4/2/0"},null,"NOTE",null,null,{"$f":"IF(EingabeAngabe!R3=1,\"Sehr gut\",IF(EingabeAngabe!R3=2,\"Gut\",IF(EingabeAngabe!R3=3,\"Befriedigend\",IF(EingabeAngabe!R3=4,\"Genügend\",IF(EingabeAngabe!R3=5,\"Nicht genügend\",\"\")))))","v":""}]

{"sheet":"Schueler13Punkte","index":16,"n_rows":50,"n_cols":13,"rows_kept":50,"cut":false,"hidden":false,"merged":[[0,0,0,1],[0,3,0,4],[0,7,0,11],[1,0,2,0],[1,1,1,4],[1,5,2,5],[1,6,2,6],[1,8,1,11],[2,1,2,4],[2,8,2,11],[3,0,4,0],[3,1,3,4],[3,5,4,5],[3,6,4,6],[3,8,3,11],[4,1,4,4],[4,8,4,11],[5,0,6,0],[5,1,5,4],[5,5,6,5],[5,6,6,6],[5,8,5,11],[6,1,6,4],[6,8,6,11],[7,0,8,0],[7,1,7,4],[7,5,8,5],[7,6,8,6],[7,8,7,11],[8,1,8,4],[8,8,8,11],[9,0,10,0],[9,1,9,4],[9,5,10,5],[9,6,10,6],[9,7,9,13],[10,1,10,4],[10,7,10,10],[10,11,10,13],[11,0,12,0],[11,1,11,4],[11,5,12,5],[11,6,12,6],[11,7,11,10],[11,11,11,13],[12,1,12,4],[12,7,12,10],[12,11,12,13],[13,0,14,0],[13,1,13,4],[13,5,14,5],[13,6,14,6],[13,7,13,10],[13,11,13,13],[14,1,14,4],[14,7,14,10],[14,11,14,13],[15,0,16,0],[15,1,15,4],[15,5,16,5],[15,6,16,6],[15,7,15,13],[16,1,16,4],[16,7,24,13],[17,0,18,0],[17,1,17,4],[17,5,18,5],[17,6,18,6],[18,1,18,4],[19,0,20,0],[19,1,19,4],[19,5,20,5],[19,6,20,6],[20,1,20,4],[21,0,22,0],[21,1,21,4],[21,5,22,5],[21,6,22,6],[22,1,22,4],[23,0,24,0],[23,1,23,4],[23,5,24,5],[23,6,24,6],[24,1,24,4],[25,1,25,2],[26,1,26,2],[26,7,26,13],[27,1,27,2],[27,7,44,13],[28,1,28,2],[29,1,29,2],[30,1,30,2],[31,1,31,2],[32,1,32,2],[33,1,33,2],[33,3,33,4],[34,1,34,2],[34,3,34,4],[35,1,35,2],[35,3,35,4],[36,1,36,2],[36,3,36,4],[37,1,37,2],[37,3,37,4],[38,1,38,2],[38,3,38,4],[39,1,39,2],[39,3,39,4],[40,1,40,2],[40,3,40,4],[41,1,41,2],[41,3,41,4],[42,1,42,2],[42,3,42,4],[43,1,43,2],[43,3,43,4],[44,1,44,2],[44,3,44,4],[48,12,48,13],[45,1,45,2],[45,3,45,4],[46,1,46,2],[46,3,46,4],[46,7,46,11],[46,12,46,13],[49,1,49,4],[49,7,49,9],[49,10,49,13],[47,1,47,2],[47,3,47,4],[47,7,47,11],[47,12,47,13],[48,1,48,2],[48,3,48,4],[48,7,48,11]]}
["Übersetzungstext",null,"Schülername",{"$f":"SchuelernamenEingabe!B14","v":0},null,null,null,"Arbeitsaufgaben/ Interpretation"]
[{"$f":"EingabeAngabe!B6","v":"SE1"},{"$f":"IF(EingabeAngabe!C6=\"\",\"\",EingabeAngabe!C6)","v":""},null,null,null,{"$f":"IF(OR(G2=\"\",G2>EingabeAngabe!F6),\"F\",EingabeAngabe!B6)","v":"F"},null,{"$f":"EingabeAngabe!B61","v":"IT1"},{"$f":"IF(EingabeAngabe!C61=\"\",\"\",EingabeAngabe!C61)","v":""},null,null,null,{"$f":"IF(N2>EingabeAngabe!F61,\"F\",IF(EingabeAngabe!F61=\"\",\"\",EingabeAngabe!F61))","v":""}]
[null,{"$f":"IF(EingabeAngabe!C7=\"\",\"\",EingabeAngabe!C7)","v":""},null,null,null,null,null,{"$f":"EingabeAngabe!B62","v":"IT2"},{"$f":"IF(EingabeAngabe!C62=\"\",\"\",EingabeAngabe!C62)","v":""},null,null,null,{"$f":"IF(N3>EingabeAngabe!F62,\"F\",IF(EingabeAngabe!F62=\"\",\"\",EingabeAngabe!F62))","v":""}]
[{"$f":"EingabeAngabe!B8","v":"SE2"},{"$f":"IF(EingabeAngabe!C8=\"\",\"\",EingabeAngabe!C8)","v":""},null,null,null,{"$f":"IF(OR(G4=\"\",G4>EingabeAngabe!F8),\"F\",EingabeAngabe!B8)","v":"F"},null,{"$f":"EingabeAngabe!B63","v":"IT3"},{"$f":"IF(EingabeAngabe!C63=\"\",\"\",EingabeAngabe!C63)","v":""},null,null,null,{"$f":"IF(N4>EingabeAngabe!F63,\"F\",IF(EingabeAngabe!F63=\"\",\"\",EingabeAngabe!F63))","v":""}]
[null,{"$f":"IF(EingabeAngabe!C9=\"\",\"\",EingabeAngabe!C9)","v":""},null,null,null,null,null,{"$f":"EingabeAngabe!B64","v":"IT4"},{"$f":"IF(EingabeAngabe!C64=\"\",\"\",EingabeAngabe!C64)","v":""},null,null,null,{"$f":"IF(N5>EingabeAngabe!F64,\"F\",IF(EingabeAngabe!F64=\"\",\"\",EingabeAngabe!F64))","v":""}]
[{"$f":"EingabeAngabe!B10","v":"SE3"},{"$f":"IF(EingabeAngabe!C10=\"\",\"\",EingabeAngabe!C10)","v":""},null,null,null,{"$f":"IF(OR(G6=\"\",G6>EingabeAngabe!F10),\"F\",EingabeAngabe!B10)","v":"F"},null,{"$f":"EingabeAngabe!B65","v":"IT5"},{"$f":"IF(EingabeAngabe!C65=\"\",\"\",EingabeAngabe!C65)","v":""},null,null,null,{"$f":"IF(N6>EingabeAngabe!F65,\"F\",IF(EingabeAngabe!F65=\"\",\"\",EingabeAngabe!F65))","v":""}]
[null,{"$f":"IF(EingabeAngabe!C11=\"\",\"\",EingabeAngabe!C11)","v":""},null,null,null,null,null,{"$f":"EingabeAngabe!B66","v":"IT6"},{"$f":"IF(EingabeAngabe!C66=\"\",\"\",EingabeAngabe!C66)","v":""},null,null,null,{"$f":"IF(N7>EingabeAngabe!F66,\"F\",IF(EingabeAngabe!F66=\"\",\"\",EingabeAngabe!F66))","v":""}]
[{"$f":"EingabeAngabe!B12","v":"SE4"},{"$f":"IF(EingabeAngabe!C12=\"\",\"\",EingabeAngabe!C12)","v":""},null,null,null,{"$f":"IF(OR(G8=\"\",G8>EingabeAngabe!F12),\"F\",EingabeAngabe!B12)","v":"F"},null,{"$f":"EingabeAngabe!B67","v":"IT7"},{"$f":"IF(EingabeAngabe!C67=\"\",\"\",EingabeAngabe!C67)","v":""},null,null,null,{"$f":"IF(N8>EingabeAngabe!F67,\"F\",IF(EingabeAngabe!F67=\"\",\"\",EingabeAngabe!F67))","v":""}]
[null,{"$f":"IF(EingabeAngabe!C13=\"\",\"\",EingabeAngabe!C13)","v":""},null,null,null,null,null,{"$f":"EingabeAngabe!B68","v":"IT8"},{"$f":"IF(EingabeAngabe!C68=\"\",\"\",EingabeAngabe!C68)","v":""},null,null,null,{"$f":"IF(N9>EingabeAngabe!F68,\"F\",IF(EingabeAngabe!F68=\"\",\"\",EingabeAngabe!F68))","v":""}]
[{"$f":"EingabeAngabe!B14","v":"SE5"},{"$f":"IF(EingabeAngabe!C14=\"\",\"\",EingabeAngabe!C14)","v":""},null,null,null,{"$f":"IF(OR(G10=\"\",G10>EingabeAngabe!F14),\"F\",EingabeAngabe!B14)","v":"F"},null,"Notenschlüssel:"]
[null,{"$f":"IF(EingabeAngabe!C15=\"\",\"\",EingabeAngabe!C15)","v":""},null,null,null,null,null,"Sehr gut",null,null,null,{"$f":"EingabeAngabe!F72","v":"60 - 53"}]
[{"$f":"EingabeAngabe!B16","v":"SE6"},{"$f":"IF(EingabeAngabe!C16=\"\",\"\",EingabeAngabe!C16)","v":""},null,null,null,{"$f":"IF(OR(G12=\"\",G12>EingabeAngabe!F16),\"F\",EingabeAngabe!B16)","v":"F"},null,"Gut",null,null,null,{"$f":"EingabeAngabe!F73","v":"52 - 45"}]
[null,{"$f":"IF(EingabeAngabe!C17=\"\",\"\",EingabeAngabe!C17)","v":""},null,null,null,null,null,"Befriedigend",null,null,null,{"$f":"EingabeAngabe!F74","v":"44 - 37"}]
[{"$f":"EingabeAngabe!B18","v":"SE7"},{"$f":"IF(EingabeAngabe!C18=\"\",\"\",EingabeAngabe!C18)","v":""},null,null,null,{"$f":"IF(OR(G14=\"\",G14>EingabeAngabe!F18),\"F\",EingabeAngabe!B18)","v":"F"},null,"Genügend",null,null,null,{"$f":"EingabeAngabe!F75","v":"36 - 30"}]
[null,{"$f":"IF(EingabeAngabe!C19=\"\",\"\",EingabeAngabe!C19)","v":""},null,null,null,null,null,"Nicht genügend",null,null,null,{"$f":"EingabeAngabe!F76","v":"29 - 00"}]
[{"$f":"EingabeAngabe!B20","v":"SE8"},{"$f":"IF(EingabeAngabe!C20=\"\",\"\",EingabeAngabe!C20)","v":""},null,null,null,{"$f":"IF(OR(G16=\"\",G16>EingabeAngabe!F20),\"F\",EingabeAngabe!B20)","v":"F"},null,{"$f":"CONCATENATE(\"Notendefinition laut LBVO$14:\",\"            \",K50)","v":"Notendefinition laut LBVO$14:            "}]
[null,{"$f":"IF(EingabeAngabe!C21=\"\",\"\",EingabeAngabe!C21)","v":""},null,null,null,null,null,{"$f":"VLOOKUP(K50,SchuelernamenEingabe!D2:'SchuelernamenEingabe'!E40,2,FALSE)","v":{"$error":"#N/A"}}]
[{"$f":"EingabeAngabe!B22","v":"SE9"},{"$f":"IF(EingabeAngabe!C22=\"\",\"\",EingabeAngabe!C22)","v":""},null,null,null,{"$f":"IF(OR(G18=\"\",G18>EingabeAngabe!F22),\"F\",EingabeAngabe!B22)","v":"F"}]
[null,{"$f":"IF(EingabeAngabe!C23=\"\",\"\",EingabeAngabe!C23)","v":""}]
[{"$f":"EingabeAngabe!B24","v":"SE10"},{"$f":"IF(EingabeAngabe!C24=\"\",\"\",EingabeAngabe!C24)","v":""},null,null,null,{"$f":"IF(OR(G20=\"\",G20>EingabeAngabe!F24),\"F\",EingabeAngabe!B24)","v":"F"}]
[null,{"$f":"IF(EingabeAngabe!C25=\"\",\"\",EingabeAngabe!C25)","v":""}]
[{"$f":"EingabeAngabe!B26","v":"SE11"},{"$f":"IF(EingabeAngabe!C26=\"\",\"\",EingabeAngabe!C26)","v":""},null,null,null,{"$f":"IF(OR(G22=\"\",G22>EingabeAngabe!F26),\"F\",EingabeAngabe!B26)","v":"F"}]
[null,{"$f":"IF(EingabeAngabe!C27=\"\",\"\",EingabeAngabe!C27)","v":""}]
[{"$f":"EingabeAngabe!B28","v":"SE12"},{"$f":"IF(EingabeAngabe!C28=\"\",\"\",EingabeAngabe!C28)","v":""},null,null,null,{"$f":"IF(OR(G24=\"\",G24>EingabeAngabe!F28),\"F\",EingabeAngabe!B28)","v":"F"}]
[null,{"$f":"IF(EingabeAngabe!C29=\"\",\"\",EingabeAngabe!C29)","v":""}]
[{"$f":"EingabeAngabe!B31","v":"LE13"},{"$f":"IF(EingabeAngabe!C31=\"\",\"\",EingabeAngabe!C31)","v":""},null,{"$f":"IF(EingabeAngabe!D31=\"\",\"\",EingabeAngabe!D31)","v":""},{"$f":"IF(EingabeAngabe!E31=\"\",\"\",EingabeAngabe!E31)","v":""},{"$f":"IF(OR(G26=\"\",G26>EingabeAngabe!F31),\"F\",EingabeAngabe!B31)","v":"F"}]
[{"$f":"EingabeAngabe!B32","v":"LE14"},{"$f":"IF(EingabeAngabe!C32=\"\",\"\",EingabeAngabe!C32)","v":""},null,{"$f":"IF(EingabeAngabe!D32=\"\",\"\",EingabeAngabe!D32)","v":""},{"$f":"IF(EingabeAngabe!E32=\"\",\"\",EingabeAngabe!E32)","v":""},{"$f":"IF(OR(G27=\"\",G27>EingabeAngabe!F32),\"F\",EingabeAngabe!B32)","v":"F"},null,{"$f":"IF(EingabeAngabe!F80>\"\",EingabeAngabe!E79,\"\")","v":"Eigener Notenkommentar:"}]
[{"$f":"EingabeAngabe!B33","v":"LE15"},{"$f":"IF(EingabeAngabe!C33=\"\",\"\",EingabeAngabe!C33)","v":""},null,{"$f":"IF(EingabeAngabe!D33=\"\",\"\",EingabeAngabe!D33)","v":""},{"$f":"IF(EingabeAngabe!E33=\"\",\"\",EingabeAngabe!E33)","v":""},{"$f":"IF(OR(G28=\"\",G28>EingabeAngabe!F33),\"F\",EingabeAngabe!B33)","v":"F"}]
["LE16",{"$f":"IF(EingabeAngabe!C34=\"\",\"\",EingabeAngabe!C34)","v":""},null,{"$f":"IF(EingabeAngabe!D34=\"\",\"\",EingabeAngabe!D34)","v":""},{"$f":"IF(EingabeAngabe!E34=\"\",\"\",EingabeAngabe!E34)","v":""},{"$f":"IF(OR(G29=\"\",G29>EingabeAngabe!F34),\"F\",EingabeAngabe!B34)","v":"F"}]
["LE17",{"$f":"IF(EingabeAngabe!C35=\"\",\"\",EingabeAngabe!C35)","v":""},null,{"$f":"IF(EingabeAngabe!D35=\"\",\"\",EingabeAngabe!D35)","v":""},{"$f":"IF(EingabeAngabe!E35=\"\",\"\",EingabeAngabe!E35)","v":""},{"$f":"IF(OR(G30=\"\",G30>EingabeAngabe!F35),\"F\",EingabeAngabe!B35)","v":"F"}]
["LE18",{"$f":"IF(EingabeAngabe!C36=\"\",\"\",EingabeAngabe!C36)","v":""},null,{"$f":"IF(EingabeAngabe!D36=\"\",\"\",EingabeAngabe!D36)","v":""},{"$f":"IF(EingabeAngabe!E36=\"\",\"\",EingabeAngabe!E36)","v":""},{"$f":"IF(OR(G31=\"\",G31>EingabeAngabe!F36),\"F\",EingabeAngabe!B36)","v":"F"}]
["LE19",{"$f":"IF(EingabeAngabe!C37=\"\",\"\",EingabeAngabe!C37)","v":""},null,{"$f":"IF(EingabeAngabe!D37=\"\",\"\",EingabeAngabe!D37)","v":""},{"$f":"IF(EingabeAngabe!E37=\"\",\"\",EingabeAngabe!E37)","v":""},{"$f":"IF(OR(G32=\"\",G32>EingabeAngabe!F37),\"F\",EingabeAngabe!B37)","v":"F"}]
[{"$f":"EingabeAngabe!B38","v":"LE20"},{"$f":"IF(EingabeAngabe!C38=\"\",\"\",EingabeAngabe!C38)","v":""},null,{"$f":"IF(EingabeAngabe!D38=\"\",\"\",EingabeAngabe!D38)","v":""},{"$f":"IF(EingabeAngabe!E38=\"\",\"\",EingabeAngabe!E38)","v":""},{"$f":"IF(OR(G33=\"\",G33>EingabeAngabe!F38),\"F\",EingabeAngabe!B38)","v":"F"}]
[{"$f":"EingabeAngabe!B40","v":"MO21"},{"$f":"IF(EingabeAngabe!C40=\"\",\"\",EingabeAngabe!C40)","v":""},null,{"$f":"IF(EingabeAngabe!D40=\"\",\"\",EingabeAngabe!D40)","v":""},null,{"$f":"IF(OR(G34=\"\",G34>EingabeAngabe!F39),\"F\",EingabeAngabe!B40)","v":"F"}]
[{"$f":"EingabeAngabe!B41","v":"MO22"},{"$f":"IF(EingabeAngabe!C41=\"\",\"\",EingabeAngabe!C41)","v":""},null,{"$f":"IF(EingabeAngabe!D41=\"\",\"\",EingabeAngabe!D41)","v":""},null,{"$f":"IF(OR(G35=\"\",G35>EingabeAngabe!F40),\"F\",EingabeAngabe!B41)","v":"F"}]
["MO23",{"$f":"IF(EingabeAngabe!C42=\"\",\"\",EingabeAngabe!C42)","v":""},null,{"$f":"IF(EingabeAngabe!D42=\"\",\"\",EingabeAngabe!D42)","v":""},null,{"$f":"IF(OR(G36=\"\",G36>EingabeAngabe!F41),\"F\",EingabeAngabe!B42)","v":"F"}]
["MO24",{"$f":"IF(EingabeAngabe!C43=\"\",\"\",EingabeAngabe!C43)","v":""},null,{"$f":"IF(EingabeAngabe!D43=\"\",\"\",EingabeAngabe!D43)","v":""},null,{"$f":"IF(OR(G37=\"\",G37>EingabeAngabe!F42),\"F\",EingabeAngabe!B43)","v":"F"}]
["MO25",{"$f":"IF(EingabeAngabe!C44=\"\",\"\",EingabeAngabe!C44)","v":""},null,{"$f":"IF(EingabeAngabe!D44=\"\",\"\",EingabeAngabe!D44)","v":""},null,{"$f":"IF(OR(G38=\"\",G38>EingabeAngabe!F41),\"F\",EingabeAngabe!B42)","v":"F"}]
[{"$f":"EingabeAngabe!B45","v":"MO26"},{"$f":"IF(EingabeAngabe!C45=\"\",\"\",EingabeAngabe!C45)","v":""},null,{"$f":"IF(EingabeAngabe!D45=\"\",\"\",EingabeAngabe!D45)","v":""},null,{"$f":"IF(OR(G39=\"\",G39>EingabeAngabe!F42),\"F\",EingabeAngabe!B45)","v":"F"}]
[{"$f":"EingabeAngabe!B46","v":"MO27"},{"$f":"IF(EingabeAngabe!C46=\"\",\"\",EingabeAngabe!C46)","v":""},null,{"$f":"IF(EingabeAngabe!D46=\"\",\"\",EingabeAngabe!D46)","v":""},null,{"$f":"IF(OR(G40=\"\",G40>EingabeAngabe!F45),\"F\",EingabeAngabe!B46)","v":"F"}]
[{"$f":"EingabeAngabe!B47","v":"MO28"},{"$f":"IF(EingabeAngabe!C47=\"\",\"\",EingabeAngabe!C47)","v":""},null,{"$f":"IF(EingabeAngabe!D47=\"\",\"\",EingabeAngabe!D47)","v":""},null,{"$f":"IF(OR(G41=\"\",G41>EingabeAngabe!F46),\"F\",EingabeAngabe!B47)","v":"F"}]
[{"$f":"EingabeAngabe!B49","v":"SY29"},{"$f":"IF(EingabeAngabe!C49=\"\",\"\",EingabeAngabe!C49)","v":""},null,{"$f":"IF(EingabeAngabe!D49=\"\",\"\",EingabeAngabe!D49)","v":""},null,{"$f":"IF(OR(G42=\"\",G42>EingabeAngabe!F47),\"F\",EingabeAngabe!B49)","v":"F"}]
["SY30",{"$f":"IF(EingabeAngabe!C50=\"\",\"\",EingabeAngabe!C50)","v":""},null,{"$f":"IF(EingabeAngabe!D50=\"\",\"\",EingabeAngabe!D50)","v":""},null,{"$f":"IF(OR(G43=\"\",G43>EingabeAngabe!F48),\"F\",EingabeAngabe!B50)","v":"F"}]
["SY31",{"$f":"IF(EingabeAngabe!C51=\"\",\"\",EingabeAngabe!C51)","v":""},null,{"$f":"IF(EingabeAngabe!D51=\"\",\"\",EingabeAngabe!D51)","v":""},null,{"$f":"IF(OR(G44=\"\",G44>EingabeAngabe!F49),\"F\",EingabeAngabe!B51)","v":"F"}]
["SY32",{"$f":"IF(EingabeAngabe!C52=\"\",\"\",EingabeAngabe!C52)","v":""},null,{"$f":"IF(EingabeAngabe!D52=\"\",\"\",EingabeAngabe!D52)","v":""},null,{"$f":"IF(OR(G45=\"\",G45>EingabeAngabe!F50),\"F\",EingabeAngabe!B52)","v":"F"}]
["SY33",{"$f":"IF(EingabeAngabe!C53=\"\",\"\",EingabeAngabe!C53)","v":""},null,{"$f":"IF(EingabeAngabe!D53=\"\",\"\",EingabeAngabe!D53)","v":""},null,{"$f":"IF(OR(G46=\"\",G46>EingabeAngabe!F51),\"F\",EingabeAngabe!B53)","v":"F"}]
["SY34",{"$f":"IF(EingabeAngabe!C54=\"\",\"\",EingabeAngabe!C54)","v":""},null,{"$f":"IF(EingabeAngabe!D54=\"\",\"\",EingabeAngabe!D54)","v":""},null,{"$f":"IF(OR(G47=\"\",G47>EingabeAngabe!F52),\"F\",EingabeAngabe!B54)","v":"F"},null,"Summe Übersetzungstext",null,null,null,null,{"$f":"EingabeAngabe!S59","v":""}]
[{"$f":"EingabeAngabe!B55","v":"SY35"},{"$f":"IF(EingabeAngabe!C55=\"\",\"\",EingabeAngabe!C55)","v":""},null,{"$f":"IF(EingabeAngabe!D55=\"\",\"\",EingabeAngabe!D55)","v":""},null,{"$f":"IF(OR(G48=\"\",G48>EingabeAngabe!F53),\"F\",EingabeAngabe!B55)","v":"F"},null,"Summe Arbeitsaufgaben und Interpretation",null,null,null,null,{"$f":"EingabeAngabe!S60","v":""}]
[{"$f":"EingabeAngabe!B56","v":"SY36"},{"$f":"IF(EingabeAngabe!C56=\"\",\"\",EingabeAngabe!C56)","v":""},null,{"$f":"IF(EingabeAngabe!D56=\"\",\"\",EingabeAngabe!D56)","v":""},null,{"$f":"IF(OR(G49=\"\",G49>EingabeAngabe!F54),\"F\",EingabeAngabe!B56)","v":"F"},null,"Gesamtsumme",null,null,null,null,{"$f":"EingabeAngabe!S2","v":""}]
[null,{"$f":"EingabeAngabe!C57","v":"SPRACHLICHE QUALITÄT IN DER ZIELSPRACHE"},null,null,null,{"$f":"IF(OR(G50=1,G50=3,G50=5,G50>6),\"F\",\"6/4/2/0\")","v":"6/4/2/0"},null,"NOTE",null,null,{"$f":"IF(EingabeAngabe!S3=1,\"Sehr gut\",IF(EingabeAngabe!S3=2,\"Gut\",IF(EingabeAngabe!S3=3,\"Befriedigend\",IF(EingabeAngabe!S3=4,\"Genügend\",IF(EingabeAngabe!S3=5,\"Nicht genügend\",\"\")))))","v":""}]

{"sheet":"Schueler14Punkte","index":17,"n_rows":50,"n_cols":13,"rows_kept":50,"cut":false,"hidden":false,"merged":[[0,0,0,1],[0,3,0,4],[0,7,0,11],[1,0,2,0],[1,1,1,4],[1,5,2,5],[1,6,2,6],[1,8,1,11],[2,1,2,4],[2,8,2,11],[3,0,4,0],[3,1,3,4],[3,5,4,5],[3,6,4,6],[3,8,3,11],[4,1,4,4],[4,8,4,11],[5,0,6,0],[5,1,5,4],[5,5,6,5],[5,6,6,6],[5,8,5,11],[6,1,6,4],[6,8,6,11],[7,0,8,0],[7,1,7,4],[7,5,8,5],[7,6,8,6],[7,8,7,11],[8,1,8,4],[8,8,8,11],[9,0,10,0],[9,1,9,4],[9,5,10,5],[9,6,10,6],[9,7,9,13],[10,1,10,4],[10,7,10,10],[10,11,10,13],[11,0,12,0],[11,1,11,4],[11,5,12,5],[11,6,12,6],[11,7,11,10],[11,11,11,13],[12,1,12,4],[12,7,12,10],[12,11,12,13],[13,0,14,0],[13,1,13,4],[13,5,14,5],[13,6,14,6],[13,7,13,10],[13,11,13,13],[14,1,14,4],[14,7,14,10],[14,11,14,13],[15,0,16,0],[15,1,15,4],[15,5,16,5],[15,6,16,6],[15,7,15,13],[16,1,16,4],[16,7,24,13],[17,0,18,0],[17,1,17,4],[17,5,18,5],[17,6,18,6],[18,1,18,4],[19,0,20,0],[19,1,19,4],[19,5,20,5],[19,6,20,6],[20,1,20,4],[21,0,22,0],[21,1,21,4],[21,5,22,5],[21,6,22,6],[22,1,22,4],[23,0,24,0],[23,1,23,4],[23,5,24,5],[23,6,24,6],[24,1,24,4],[25,1,25,2],[26,1,26,2],[26,7,26,13],[27,1,27,2],[27,7,44,13],[28,1,28,2],[29,1,29,2],[30,1,30,2],[31,1,31,2],[32,1,32,2],[33,1,33,2],[33,3,33,4],[34,1,34,2],[34,3,34,4],[35,1,35,2],[35,3,35,4],[36,1,36,2],[36,3,36,4],[37,1,37,2],[37,3,37,4],[38,1,38,2],[38,3,38,4],[39,1,39,2],[39,3,39,4],[40,1,40,2],[40,3,40,4],[41,1,41,2],[41,3,41,4],[42,1,42,2],[42,3,42,4],[43,1,43,2],[43,3,43,4],[44,1,44,2],[44,3,44,4],[48,12,48,13],[45,1,45,2],[45,3,45,4],[46,1,46,2],[46,3,46,4],[46,7,46,11],[46,12,46,13],[49,1,49,4],[49,7,49,9],[49,10,49,13],[47,1,47,2],[47,3,47,4],[47,7,47,11],[47,12,47,13],[48,1,48,2],[48,3,48,4],[48,7,48,11]]}
["Übersetzungstext",null,"Schülername",{"$f":"SchuelernamenEingabe!B15","v":0},null,null,null,"Arbeitsaufgaben/ Interpretation"]
[{"$f":"EingabeAngabe!B6","v":"SE1"},{"$f":"IF(EingabeAngabe!C6=\"\",\"\",EingabeAngabe!C6)","v":""},null,null,null,{"$f":"IF(OR(G2=\"\",G2>EingabeAngabe!F6),\"F\",EingabeAngabe!B6)","v":"F"},null,{"$f":"EingabeAngabe!B61","v":"IT1"},{"$f":"IF(EingabeAngabe!C61=\"\",\"\",EingabeAngabe!C61)","v":""},null,null,null,{"$f":"IF(N2>EingabeAngabe!F61,\"F\",IF(EingabeAngabe!F61=\"\",\"\",EingabeAngabe!F61))","v":""}]
[null,{"$f":"IF(EingabeAngabe!C7=\"\",\"\",EingabeAngabe!C7)","v":""},null,null,null,null,null,{"$f":"EingabeAngabe!B62","v":"IT2"},{"$f":"IF(EingabeAngabe!C62=\"\",\"\",EingabeAngabe!C62)","v":""},null,null,null,{"$f":"IF(N3>EingabeAngabe!F62,\"F\",IF(EingabeAngabe!F62=\"\",\"\",EingabeAngabe!F62))","v":""}]
[{"$f":"EingabeAngabe!B8","v":"SE2"},{"$f":"IF(EingabeAngabe!C8=\"\",\"\",EingabeAngabe!C8)","v":""},null,null,null,{"$f":"IF(OR(G4=\"\",G4>EingabeAngabe!F8),\"F\",EingabeAngabe!B8)","v":"F"},null,{"$f":"EingabeAngabe!B63","v":"IT3"},{"$f":"IF(EingabeAngabe!C63=\"\",\"\",EingabeAngabe!C63)","v":""},null,null,null,{"$f":"IF(N4>EingabeAngabe!F63,\"F\",IF(EingabeAngabe!F63=\"\",\"\",EingabeAngabe!F63))","v":""}]
[null,{"$f":"IF(EingabeAngabe!C9=\"\",\"\",EingabeAngabe!C9)","v":""},null,null,null,null,null,{"$f":"EingabeAngabe!B64","v":"IT4"},{"$f":"IF(EingabeAngabe!C64=\"\",\"\",EingabeAngabe!C64)","v":""},null,null,null,{"$f":"IF(N5>EingabeAngabe!F64,\"F\",IF(EingabeAngabe!F64=\"\",\"\",EingabeAngabe!F64))","v":""}]
[{"$f":"EingabeAngabe!B10","v":"SE3"},{"$f":"IF(EingabeAngabe!C10=\"\",\"\",EingabeAngabe!C10)","v":""},null,null,null,{"$f":"IF(OR(G6=\"\",G6>EingabeAngabe!F10),\"F\",EingabeAngabe!B10)","v":"F"},null,{"$f":"EingabeAngabe!B65","v":"IT5"},{"$f":"IF(EingabeAngabe!C65=\"\",\"\",EingabeAngabe!C65)","v":""},null,null,null,{"$f":"IF(N6>EingabeAngabe!F65,\"F\",IF(EingabeAngabe!F65=\"\",\"\",EingabeAngabe!F65))","v":""}]
[null,{"$f":"IF(EingabeAngabe!C11=\"\",\"\",EingabeAngabe!C11)","v":""},null,null,null,null,null,{"$f":"EingabeAngabe!B66","v":"IT6"},{"$f":"IF(EingabeAngabe!C66=\"\",\"\",EingabeAngabe!C66)","v":""},null,null,null,{"$f":"IF(N7>EingabeAngabe!F66,\"F\",IF(EingabeAngabe!F66=\"\",\"\",EingabeAngabe!F66))","v":""}]
[{"$f":"EingabeAngabe!B12","v":"SE4"},{"$f":"IF(EingabeAngabe!C12=\"\",\"\",EingabeAngabe!C12)","v":""},null,null,null,{"$f":"IF(OR(G8=\"\",G8>EingabeAngabe!F12),\"F\",EingabeAngabe!B12)","v":"F"},null,{"$f":"EingabeAngabe!B67","v":"IT7"},{"$f":"IF(EingabeAngabe!C67=\"\",\"\",EingabeAngabe!C67)","v":""},null,null,null,{"$f":"IF(N8>EingabeAngabe!F67,\"F\",IF(EingabeAngabe!F67=\"\",\"\",EingabeAngabe!F67))","v":""}]
[null,{"$f":"IF(EingabeAngabe!C13=\"\",\"\",EingabeAngabe!C13)","v":""},null,null,null,null,null,{"$f":"EingabeAngabe!B68","v":"IT8"},{"$f":"IF(EingabeAngabe!C68=\"\",\"\",EingabeAngabe!C68)","v":""},null,null,null,{"$f":"IF(N9>EingabeAngabe!F68,\"F\",IF(EingabeAngabe!F68=\"\",\"\",EingabeAngabe!F68))","v":""}]
[{"$f":"EingabeAngabe!B14","v":"SE5"},{"$f":"IF(EingabeAngabe!C14=\"\",\"\",EingabeAngabe!C14)","v":""},null,null,null,{"$f":"IF(OR(G10=\"\",G10>EingabeAngabe!F14),\"F\",EingabeAngabe!B14)","v":"F"},null,"Notenschlüssel:"]
[null,{"$f":"IF(EingabeAngabe!C15=\"\",\"\",EingabeAngabe!C15)","v":""},null,null,null,null,null,"Sehr gut",null,null,null,{"$f":"EingabeAngabe!F72","v":"60 - 53"}]
[{"$f":"EingabeAngabe!B16","v":"SE6"},{"$f":"IF(EingabeAngabe!C16=\"\",\"\",EingabeAngabe!C16)","v":""},null,null,null,{"$f":"IF(OR(G12=\"\",G12>EingabeAngabe!F16),\"F\",EingabeAngabe!B16)","v":"F"},null,"Gut",null,null,null,{"$f":"EingabeAngabe!F73","v":"52 - 45"}]
[null,{"$f":"IF(EingabeAngabe!C17=\"\",\"\",EingabeAngabe!C17)","v":""},null,null,null,null,null,"Befriedigend",null,null,null,{"$f":"EingabeAngabe!F74","v":"44 - 37"}]
[{"$f":"EingabeAngabe!B18","v":"SE7"},{"$f":"IF(EingabeAngabe!C18=\"\",\"\",EingabeAngabe!C18)","v":""},null,null,null,{"$f":"IF(OR(G14=\"\",G14>EingabeAngabe!F18),\"F\",EingabeAngabe!B18)","v":"F"},null,"Genügend",null,null,null,{"$f":"EingabeAngabe!F75","v":"36 - 30"}]
[null,{"$f":"IF(EingabeAngabe!C19=\"\",\"\",EingabeAngabe!C19)","v":""},null,null,null,null,null,"Nicht genügend",null,null,null,{"$f":"EingabeAngabe!F76","v":"29 - 00"}]
[{"$f":"EingabeAngabe!B20","v":"SE8"},{"$f":"IF(EingabeAngabe!C20=\"\",\"\",EingabeAngabe!C20)","v":""},null,null,null,{"$f":"IF(OR(G16=\"\",G16>EingabeAngabe!F20),\"F\",EingabeAngabe!B20)","v":"F"},null,{"$f":"CONCATENATE(\"Notendefinition laut LBVO$14:\",\"            \",K50)","v":"Notendefinition laut LBVO$14:            "}]
[null,{"$f":"IF(EingabeAngabe!C21=\"\",\"\",EingabeAngabe!C21)","v":""},null,null,null,null,null,{"$f":"VLOOKUP(K50,SchuelernamenEingabe!D2:'SchuelernamenEingabe'!E40,2,FALSE)","v":{"$error":"#N/A"}}]
[{"$f":"EingabeAngabe!B22","v":"SE9"},{"$f":"IF(EingabeAngabe!C22=\"\",\"\",EingabeAngabe!C22)","v":""},null,null,null,{"$f":"IF(OR(G18=\"\",G18>EingabeAngabe!F22),\"F\",EingabeAngabe!B22)","v":"F"}]
[null,{"$f":"IF(EingabeAngabe!C23=\"\",\"\",EingabeAngabe!C23)","v":""}]
[{"$f":"EingabeAngabe!B24","v":"SE10"},{"$f":"IF(EingabeAngabe!C24=\"\",\"\",EingabeAngabe!C24)","v":""},null,null,null,{"$f":"IF(OR(G20=\"\",G20>EingabeAngabe!F24),\"F\",EingabeAngabe!B24)","v":"F"}]
[null,{"$f":"IF(EingabeAngabe!C25=\"\",\"\",EingabeAngabe!C25)","v":""}]
[{"$f":"EingabeAngabe!B26","v":"SE11"},{"$f":"IF(EingabeAngabe!C26=\"\",\"\",EingabeAngabe!C26)","v":""},null,null,null,{"$f":"IF(OR(G22=\"\",G22>EingabeAngabe!F26),\"F\",EingabeAngabe!B26)","v":"F"}]
[null,{"$f":"IF(EingabeAngabe!C27=\"\",\"\",EingabeAngabe!C27)","v":""}]
[{"$f":"EingabeAngabe!B28","v":"SE12"},{"$f":"IF(EingabeAngabe!C28=\"\",\"\",EingabeAngabe!C28)","v":""},null,null,null,{"$f":"IF(OR(G24=\"\",G24>EingabeAngabe!F28),\"F\",EingabeAngabe!B28)","v":"F"}]
[null,{"$f":"IF(EingabeAngabe!C29=\"\",\"\",EingabeAngabe!C29)","v":""}]
[{"$f":"EingabeAngabe!B31","v":"LE13"},{"$f":"IF(EingabeAngabe!C31=\"\",\"\",EingabeAngabe!C31)","v":""},null,{"$f":"IF(EingabeAngabe!D31=\"\",\"\",EingabeAngabe!D31)","v":""},{"$f":"IF(EingabeAngabe!E31=\"\",\"\",EingabeAngabe!E31)","v":""},{"$f":"IF(OR(G26=\"\",G26>EingabeAngabe!F31),\"F\",EingabeAngabe!B31)","v":"F"}]
[{"$f":"EingabeAngabe!B32","v":"LE14"},{"$f":"IF(EingabeAngabe!C32=\"\",\"\",EingabeAngabe!C32)","v":""},null,{"$f":"IF(EingabeAngabe!D32=\"\",\"\",EingabeAngabe!D32)","v":""},{"$f":"IF(EingabeAngabe!E32=\"\",\"\",EingabeAngabe!E32)","v":""},{"$f":"IF(OR(G27=\"\",G27>EingabeAngabe!F32),\"F\",EingabeAngabe!B32)","v":"F"},null,{"$f":"IF(EingabeAngabe!F80>\"\",EingabeAngabe!E79,\"\")","v":"Eigener Notenkommentar:"}]
[{"$f":"EingabeAngabe!B33","v":"LE15"},{"$f":"IF(EingabeAngabe!C33=\"\",\"\",EingabeAngabe!C33)","v":""},null,{"$f":"IF(EingabeAngabe!D33=\"\",\"\",EingabeAngabe!D33)","v":""},{"$f":"IF(EingabeAngabe!E33=\"\",\"\",EingabeAngabe!E33)","v":""},{"$f":"IF(OR(G28=\"\",G28>EingabeAngabe!F33),\"F\",EingabeAngabe!B33)","v":"F"}]
["LE16",{"$f":"IF(EingabeAngabe!C34=\"\",\"\",EingabeAngabe!C34)","v":""},null,{"$f":"IF(EingabeAngabe!D34=\"\",\"\",EingabeAngabe!D34)","v":""},{"$f":"IF(EingabeAngabe!E34=\"\",\"\",EingabeAngabe!E34)","v":""},{"$f":"IF(OR(G29=\"\",G29>EingabeAngabe!F34),\"F\",EingabeAngabe!B34)","v":"F"}]
["LE17",{"$f":"IF(EingabeAngabe!C35=\"\",\"\",EingabeAngabe!C35)","v":""},null,{"$f":"IF(EingabeAngabe!D35=\"\",\"\",EingabeAngabe!D35)","v":""},{"$f":"IF(EingabeAngabe!E35=\"\",\"\",EingabeAngabe!E35)","v":""},{"$f":"IF(OR(G30=\"\",G30>EingabeAngabe!F35),\"F\",EingabeAngabe!B35)","v":"F"}]
["LE18",{"$f":"IF(EingabeAngabe!C36=\"\",\"\",EingabeAngabe!C36)","v":""},null,{"$f":"IF(EingabeAngabe!D36=\"\",\"\",EingabeAngabe!D36)","v":""},{"$f":"IF(EingabeAngabe!E36=\"\",\"\",EingabeAngabe!E36)","v":""},{"$f":"IF(OR(G31=\"\",G31>EingabeAngabe!F36),\"F\",EingabeAngabe!B36)","v":"F"}]
["LE19",{"$f":"IF(EingabeAngabe!C37=\"\",\"\",EingabeAngabe!C37)","v":""},null,{"$f":"IF(EingabeAngabe!D37=\"\",\"\",EingabeAngabe!D37)","v":""},{"$f":"IF(EingabeAngabe!E37=\"\",\"\",EingabeAngabe!E37)","v":""},{"$f":"IF(OR(G32=\"\",G32>EingabeAngabe!F37),\"F\",EingabeAngabe!B37)","v":"F"}]
[{"$f":"EingabeAngabe!B38","v":"LE20"},{"$f":"IF(EingabeAngabe!C38=\"\",\"\",EingabeAngabe!C38)","v":""},null,{"$f":"IF(EingabeAngabe!D38=\"\",\"\",EingabeAngabe!D38)","v":""},{"$f":"IF(EingabeAngabe!E38=\"\",\"\",EingabeAngabe!E38)","v":""},{"$f":"IF(OR(G33=\"\",G33>EingabeAngabe!F38),\"F\",EingabeAngabe!B38)","v":"F"}]
[{"$f":"EingabeAngabe!B40","v":"MO21"},{"$f":"IF(EingabeAngabe!C40=\"\",\"\",EingabeAngabe!C40)","v":""},null,{"$f":"IF(EingabeAngabe!D40=\"\",\"\",EingabeAngabe!D40)","v":""},null,{"$f":"IF(OR(G34=\"\",G34>EingabeAngabe!F39),\"F\",EingabeAngabe!B40)","v":"F"}]
[{"$f":"EingabeAngabe!B41","v":"MO22"},{"$f":"IF(EingabeAngabe!C41=\"\",\"\",EingabeAngabe!C41)","v":""},null,{"$f":"IF(EingabeAngabe!D41=\"\",\"\",EingabeAngabe!D41)","v":""},null,{"$f":"IF(OR(G35=\"\",G35>EingabeAngabe!F40),\"F\",EingabeAngabe!B41)","v":"F"}]
["MO23",{"$f":"IF(EingabeAngabe!C42=\"\",\"\",EingabeAngabe!C42)","v":""},null,{"$f":"IF(EingabeAngabe!D42=\"\",\"\",EingabeAngabe!D42)","v":""},null,{"$f":"IF(OR(G36=\"\",G36>EingabeAngabe!F41),\"F\",EingabeAngabe!B42)","v":"F"}]
["MO24",{"$f":"IF(EingabeAngabe!C43=\"\",\"\",EingabeAngabe!C43)","v":""},null,{"$f":"IF(EingabeAngabe!D43=\"\",\"\",EingabeAngabe!D43)","v":""},null,{"$f":"IF(OR(G37=\"\",G37>EingabeAngabe!F42),\"F\",EingabeAngabe!B43)","v":"F"}]
["MO25",{"$f":"IF(EingabeAngabe!C44=\"\",\"\",EingabeAngabe!C44)","v":""},null,{"$f":"IF(EingabeAngabe!D44=\"\",\"\",EingabeAngabe!D44)","v":""},null,{"$f":"IF(OR(G38=\"\",G38>EingabeAngabe!F41),\"F\",EingabeAngabe!B42)","v":"F"}]
[{"$f":"EingabeAngabe!B45","v":"MO26"},{"$f":"IF(EingabeAngabe!C45=\"\",\"\",EingabeAngabe!C45)","v":""},null,{"$f":"IF(EingabeAngabe!D45=\"\",\"\",EingabeAngabe!D45)","v":""},null,{"$f":"IF(OR(G39=\"\",G39>EingabeAngabe!F42),\"F\",EingabeAngabe!B45)","v":"F"}]
[{"$f":"EingabeAngabe!B46","v":"MO27"},{"$f":"IF(EingabeAngabe!C46=\"\",\"\",EingabeAngabe!C46)","v":""},null,{"$f":"IF(EingabeAngabe!D46=\"\",\"\",EingabeAngabe!D46)","v":""},null,{"$f":"IF(OR(G40=\"\",G40>EingabeAngabe!F45),\"F\",EingabeAngabe!B46)","v":"F"}]
[{"$f":"EingabeAngabe!B47","v":"MO28"},{"$f":"IF(EingabeAngabe!C47=\"\",\"\",EingabeAngabe!C47)","v":""},null,{"$f":"IF(EingabeAngabe!D47=\"\",\"\",EingabeAngabe!D47)","v":""},null,{"$f":"IF(OR(G41=\"\",G41>EingabeAngabe!F46),\"F\",EingabeAngabe!B47)","v":"F"}]
[{"$f":"EingabeAngabe!B49","v":"SY29"},{"$f":"IF(EingabeAngabe!C49=\"\",\"\",EingabeAngabe!C49)","v":""},null,{"$f":"IF(EingabeAngabe!D49=\"\",\"\",EingabeAngabe!D49)","v":""},null,{"$f":"IF(OR(G42=\"\",G42>EingabeAngabe!F47),\"F\",EingabeAngabe!B49)","v":"F"}]
["SY30",{"$f":"IF(EingabeAngabe!C50=\"\",\"\",EingabeAngabe!C50)","v":""},null,{"$f":"IF(EingabeAngabe!D50=\"\",\"\",EingabeAngabe!D50)","v":""},null,{"$f":"IF(OR(G43=\"\",G43>EingabeAngabe!F48),\"F\",EingabeAngabe!B50)","v":"F"}]
["SY31",{"$f":"IF(EingabeAngabe!C51=\"\",\"\",EingabeAngabe!C51)","v":""},null,{"$f":"IF(EingabeAngabe!D51=\"\",\"\",EingabeAngabe!D51)","v":""},null,{"$f":"IF(OR(G44=\"\",G44>EingabeAngabe!F49),\"F\",EingabeAngabe!B51)","v":"F"}]
["SY32",{"$f":"IF(EingabeAngabe!C52=\"\",\"\",EingabeAngabe!C52)","v":""},null,{"$f":"IF(EingabeAngabe!D52=\"\",\"\",EingabeAngabe!D52)","v":""},null,{"$f":"IF(OR(G45=\"\",G45>EingabeAngabe!F50),\"F\",EingabeAngabe!B52)","v":"F"}]
["SY33",{"$f":"IF(EingabeAngabe!C53=\"\",\"\",EingabeAngabe!C53)","v":""},null,{"$f":"IF(EingabeAngabe!D53=\"\",\"\",EingabeAngabe!D53)","v":""},null,{"$f":"IF(OR(G46=\"\",G46>EingabeAngabe!F51),\"F\",EingabeAngabe!B53)","v":"F"}]
["SY34",{"$f":"IF(EingabeAngabe!C54=\"\",\"\",EingabeAngabe!C54)","v":""},null,{"$f":"IF(EingabeAngabe!D54=\"\",\"\",EingabeAngabe!D54)","v":""},null,{"$f":"IF(OR(G47=\"\",G47>EingabeAngabe!F52),\"F\",EingabeAngabe!B54)","v":"F"},null,"Summe Übersetzungstext",null,null,null,null,{"$f":"EingabeAngabe!T59","v":""}]
[{"$f":"EingabeAngabe!B55","v":"SY35"},{"$f":"IF(EingabeAngabe!C55=\"\",\"\",EingabeAngabe!C55)","v":""},null,{"$f":"IF(EingabeAngabe!D55=\"\",\"\",EingabeAngabe!D55)","v":""},null,{"$f":"IF(OR(G48=\"\",G48>EingabeAngabe!F53),\"F\",EingabeAngabe!B55)","v":"F"},null,"Summe Arbeitsaufgaben und Interpretation",null,null,null,null,{"$f":"EingabeAngabe!T60","v":""}]
[{"$f":"EingabeAngabe!B56","v":"SY36"},{"$f":"IF(EingabeAngabe!C56=\"\",\"\",EingabeAngabe!C56)","v":""},null,{"$f":"IF(EingabeAngabe!D56=\"\",\"\",EingabeAngabe!D56)","v":""},null,{"$f":"IF(OR(G49=\"\",G49>EingabeAngabe!F54),\"F\",EingabeAngabe!B56)","v":"F"},null,"Gesamtsumme",null,null,null,null,{"$f":"EingabeAngabe!T2","v":""}]
[null,{"$f":"EingabeAngabe!C57","v":"SPRACHLICHE QUALITÄT IN DER ZIELSPRACHE"},null,null,null,{"$f":"IF(OR(G50=1,G50=3,G50=5,G50>6),\"F\",\"6/4/2/0\")","v":"6/4/2/0"},null,"NOTE",null,null,{"$f":"IF(EingabeAngabe!T3=1,\"Sehr gut\",IF(EingabeAngabe!T3=2,\"Gut\",IF(EingabeAngabe!T3=3,\"Befriedigend\",IF(EingabeAngabe!T3=4,\"Genügend\",IF(EingabeAngabe!T3=5,\"Nicht genügend\",\"\")))))","v":""}]

{"sheet":"Schueler15Punkte","index":18,"n_rows":50,"n_cols":13,"rows_kept":50,"cut":false,"hidden":false,"merged":[[0,0,0,1],[0,3,0,4],[0,7,0,11],[1,0,2,0],[1,1,1,4],[1,5,2,5],[1,6,2,6],[1,8,1,11],[2,1,2,4],[2,8,2,11],[3,0,4,0],[3,1,3,4],[3,5,4,5],[3,6,4,6],[3,8,3,11],[4,1,4,4],[4,8,4,11],[5,0,6,0],[5,1,5,4],[5,5,6,5],[5,6,6,6],[5,8,5,11],[6,1,6,4],[6,8,6,11],[7,0,8,0],[7,1,7,4],[7,5,8,5],[7,6,8,6],[7,8,7,11],[8,1,8,4],[8,8,8,11],[9,0,10,0],[9,1,9,4],[9,5,10,5],[9,6,10,6],[9,7,9,13],[10,1,10,4],[10,7,10,10],[10,11,10,13],[11,0,12,0],[11,1,11,4],[11,5,12,5],[11,6,12,6],[11,7,11,10],[11,11,11,13],[12,1,12,4],[12,7,12,10],[12,11,12,13],[13,0,14,0],[13,1,13,4],[13,5,14,5],[13,6,14,6],[13,7,13,10],[13,11,13,13],[14,1,14,4],[14,7,14,10],[14,11,14,13],[15,0,16,0],[15,1,15,4],[15,5,16,5],[15,6,16,6],[15,7,15,13],[16,1,16,4],[16,7,24,13],[17,0,18,0],[17,1,17,4],[17,5,18,5],[17,6,18,6],[18,1,18,4],[19,0,20,0],[19,1,19,4],[19,5,20,5],[19,6,20,6],[20,1,20,4],[21,0,22,0],[21,1,21,4],[21,5,22,5],[21,6,22,6],[22,1,22,4],[23,0,24,0],[23,1,23,4],[23,5,24,5],[23,6,24,6],[24,1,24,4],[25,1,25,2],[26,1,26,2],[26,7,26,13],[27,1,27,2],[27,7,44,13],[28,1,28,2],[29,1,29,2],[30,1,30,2],[31,1,31,2],[32,1,32,2],[33,1,33,2],[33,3,33,4],[34,1,34,2],[34,3,34,4],[35,1,35,2],[35,3,35,4],[36,1,36,2],[36,3,36,4],[37,1,37,2],[37,3,37,4],[38,1,38,2],[38,3,38,4],[39,1,39,2],[39,3,39,4],[40,1,40,2],[40,3,40,4],[41,1,41,2],[41,3,41,4],[42,1,42,2],[42,3,42,4],[43,1,43,2],[43,3,43,4],[44,1,44,2],[44,3,44,4],[48,12,48,13],[45,1,45,2],[45,3,45,4],[46,1,46,2],[46,3,46,4],[46,7,46,11],[46,12,46,13],[49,1,49,4],[49,7,49,9],[49,10,49,13],[47,1,47,2],[47,3,47,4],[47,7,47,11],[47,12,47,13],[48,1,48,2],[48,3,48,4],[48,7,48,11]]}
["Übersetzungstext",null,"Schülername",{"$f":"SchuelernamenEingabe!B16","v":0},null,null,null,"Arbeitsaufgaben/ Interpretation"]
[{"$f":"EingabeAngabe!B6","v":"SE1"},{"$f":"IF(EingabeAngabe!C6=\"\",\"\",EingabeAngabe!C6)","v":""},null,null,null,{"$f":"IF(OR(G2=\"\",G2>EingabeAngabe!F6),\"F\",EingabeAngabe!B6)","v":"F"},null,{"$f":"EingabeAngabe!B61","v":"IT1"},{"$f":"IF(EingabeAngabe!C61=\"\",\"\",EingabeAngabe!C61)","v":""},null,null,null,{"$f":"IF(N2>EingabeAngabe!F61,\"F\",IF(EingabeAngabe!F61=\"\",\"\",EingabeAngabe!F61))","v":""}]
[null,{"$f":"IF(EingabeAngabe!C7=\"\",\"\",EingabeAngabe!C7)","v":""},null,null,null,null,null,{"$f":"EingabeAngabe!B62","v":"IT2"},{"$f":"IF(EingabeAngabe!C62=\"\",\"\",EingabeAngabe!C62)","v":""},null,null,null,{"$f":"IF(N3>EingabeAngabe!F62,\"F\",IF(EingabeAngabe!F62=\"\",\"\",EingabeAngabe!F62))","v":""}]
[{"$f":"EingabeAngabe!B8","v":"SE2"},{"$f":"IF(EingabeAngabe!C8=\"\",\"\",EingabeAngabe!C8)","v":""},null,null,null,{"$f":"IF(OR(G4=\"\",G4>EingabeAngabe!F8),\"F\",EingabeAngabe!B8)","v":"F"},null,{"$f":"EingabeAngabe!B63","v":"IT3"},{"$f":"IF(EingabeAngabe!C63=\"\",\"\",EingabeAngabe!C63)","v":""},null,null,null,{"$f":"IF(N4>EingabeAngabe!F63,\"F\",IF(EingabeAngabe!F63=\"\",\"\",EingabeAngabe!F63))","v":""}]
[null,{"$f":"IF(EingabeAngabe!C9=\"\",\"\",EingabeAngabe!C9)","v":""},null,null,null,null,null,{"$f":"EingabeAngabe!B64","v":"IT4"},{"$f":"IF(EingabeAngabe!C64=\"\",\"\",EingabeAngabe!C64)","v":""},null,null,null,{"$f":"IF(N5>EingabeAngabe!F64,\"F\",IF(EingabeAngabe!F64=\"\",\"\",EingabeAngabe!F64))","v":""}]
[{"$f":"EingabeAngabe!B10","v":"SE3"},{"$f":"IF(EingabeAngabe!C10=\"\",\"\",EingabeAngabe!C10)","v":""},null,null,null,{"$f":"IF(OR(G6=\"\",G6>EingabeAngabe!F10),\"F\",EingabeAngabe!B10)","v":"F"},null,{"$f":"EingabeAngabe!B65","v":"IT5"},{"$f":"IF(EingabeAngabe!C65=\"\",\"\",EingabeAngabe!C65)","v":""},null,null,null,{"$f":"IF(N6>EingabeAngabe!F65,\"F\",IF(EingabeAngabe!F65=\"\",\"\",EingabeAngabe!F65))","v":""}]
[null,{"$f":"IF(EingabeAngabe!C11=\"\",\"\",EingabeAngabe!C11)","v":""},null,null,null,null,null,{"$f":"EingabeAngabe!B66","v":"IT6"},{"$f":"IF(EingabeAngabe!C66=\"\",\"\",EingabeAngabe!C66)","v":""},null,null,null,{"$f":"IF(N7>EingabeAngabe!F66,\"F\",IF(EingabeAngabe!F66=\"\",\"\",EingabeAngabe!F66))","v":""}]
[{"$f":"EingabeAngabe!B12","v":"SE4"},{"$f":"IF(EingabeAngabe!C12=\"\",\"\",EingabeAngabe!C12)","v":""},null,null,null,{"$f":"IF(OR(G8=\"\",G8>EingabeAngabe!F12),\"F\",EingabeAngabe!B12)","v":"F"},null,{"$f":"EingabeAngabe!B67","v":"IT7"},{"$f":"IF(EingabeAngabe!C67=\"\",\"\",EingabeAngabe!C67)","v":""},null,null,null,{"$f":"IF(N8>EingabeAngabe!F67,\"F\",IF(EingabeAngabe!F67=\"\",\"\",EingabeAngabe!F67))","v":""}]
[null,{"$f":"IF(EingabeAngabe!C13=\"\",\"\",EingabeAngabe!C13)","v":""},null,null,null,null,null,{"$f":"EingabeAngabe!B68","v":"IT8"},{"$f":"IF(EingabeAngabe!C68=\"\",\"\",EingabeAngabe!C68)","v":""},null,null,null,{"$f":"IF(N9>EingabeAngabe!F68,\"F\",IF(EingabeAngabe!F68=\"\",\"\",EingabeAngabe!F68))","v":""}]
[{"$f":"EingabeAngabe!B14","v":"SE5"},{"$f":"IF(EingabeAngabe!C14=\"\",\"\",EingabeAngabe!C14)","v":""},null,null,null,{"$f":"IF(OR(G10=\"\",G10>EingabeAngabe!F14),\"F\",EingabeAngabe!B14)","v":"F"},null,"Notenschlüssel:"]
[null,{"$f":"IF(EingabeAngabe!C15=\"\",\"\",EingabeAngabe!C15)","v":""},null,null,null,null,null,"Sehr gut",null,null,null,{"$f":"EingabeAngabe!F72","v":"60 - 53"}]
[{"$f":"EingabeAngabe!B16","v":"SE6"},{"$f":"IF(EingabeAngabe!C16=\"\",\"\",EingabeAngabe!C16)","v":""},null,null,null,{"$f":"IF(OR(G12=\"\",G12>EingabeAngabe!F16),\"F\",EingabeAngabe!B16)","v":"F"},null,"Gut",null,null,null,{"$f":"EingabeAngabe!F73","v":"52 - 45"}]
[null,{"$f":"IF(EingabeAngabe!C17=\"\",\"\",EingabeAngabe!C17)","v":""},null,null,null,null,null,"Befriedigend",null,null,null,{"$f":"EingabeAngabe!F74","v":"44 - 37"}]
[{"$f":"EingabeAngabe!B18","v":"SE7"},{"$f":"IF(EingabeAngabe!C18=\"\",\"\",EingabeAngabe!C18)","v":""},null,null,null,{"$f":"IF(OR(G14=\"\",G14>EingabeAngabe!F18),\"F\",EingabeAngabe!B18)","v":"F"},null,"Genügend",null,null,null,{"$f":"EingabeAngabe!F75","v":"36 - 30"}]
[null,{"$f":"IF(EingabeAngabe!C19=\"\",\"\",EingabeAngabe!C19)","v":""},null,null,null,null,null,"Nicht genügend",null,null,null,{"$f":"EingabeAngabe!F76","v":"29 - 00"}]
[{"$f":"EingabeAngabe!B20","v":"SE8"},{"$f":"IF(EingabeAngabe!C20=\"\",\"\",EingabeAngabe!C20)","v":""},null,null,null,{"$f":"IF(OR(G16=\"\",G16>EingabeAngabe!F20),\"F\",EingabeAngabe!B20)","v":"F"},null,{"$f":"CONCATENATE(\"Notendefinition laut LBVO$14:\",\"            \",K50)","v":"Notendefinition laut LBVO$14:            "}]
[null,{"$f":"IF(EingabeAngabe!C21=\"\",\"\",EingabeAngabe!C21)","v":""},null,null,null,null,null,{"$f":"VLOOKUP(K50,SchuelernamenEingabe!D2:'SchuelernamenEingabe'!E40,2,FALSE)","v":{"$error":"#N/A"}}]
[{"$f":"EingabeAngabe!B22","v":"SE9"},{"$f":"IF(EingabeAngabe!C22=\"\",\"\",EingabeAngabe!C22)","v":""},null,null,null,{"$f":"IF(OR(G18=\"\",G18>EingabeAngabe!F22),\"F\",EingabeAngabe!B22)","v":"F"}]
[null,{"$f":"IF(EingabeAngabe!C23=\"\",\"\",EingabeAngabe!C23)","v":""}]
[{"$f":"EingabeAngabe!B24","v":"SE10"},{"$f":"IF(EingabeAngabe!C24=\"\",\"\",EingabeAngabe!C24)","v":""},null,null,null,{"$f":"IF(OR(G20=\"\",G20>EingabeAngabe!F24),\"F\",EingabeAngabe!B24)","v":"F"}]
[null,{"$f":"IF(EingabeAngabe!C25=\"\",\"\",EingabeAngabe!C25)","v":""}]
[{"$f":"EingabeAngabe!B26","v":"SE11"},{"$f":"IF(EingabeAngabe!C26=\"\",\"\",EingabeAngabe!C26)","v":""},null,null,null,{"$f":"IF(OR(G22=\"\",G22>EingabeAngabe!F26),\"F\",EingabeAngabe!B26)","v":"F"}]
[null,{"$f":"IF(EingabeAngabe!C27=\"\",\"\",EingabeAngabe!C27)","v":""}]
[{"$f":"EingabeAngabe!B28","v":"SE12"},{"$f":"IF(EingabeAngabe!C28=\"\",\"\",EingabeAngabe!C28)","v":""},null,null,null,{"$f":"IF(OR(G24=\"\",G24>EingabeAngabe!F28),\"F\",EingabeAngabe!B28)","v":"F"}]
[null,{"$f":"IF(EingabeAngabe!C29=\"\",\"\",EingabeAngabe!C29)","v":""}]
[{"$f":"EingabeAngabe!B31","v":"LE13"},{"$f":"IF(EingabeAngabe!C31=\"\",\"\",EingabeAngabe!C31)","v":""},null,{"$f":"IF(EingabeAngabe!D31=\"\",\"\",EingabeAngabe!D31)","v":""},{"$f":"IF(EingabeAngabe!E31=\"\",\"\",EingabeAngabe!E31)","v":""},{"$f":"IF(OR(G26=\"\",G26>EingabeAngabe!F31),\"F\",EingabeAngabe!B31)","v":"F"}]
[{"$f":"EingabeAngabe!B32","v":"LE14"},{"$f":"IF(EingabeAngabe!C32=\"\",\"\",EingabeAngabe!C32)","v":""},null,{"$f":"IF(EingabeAngabe!D32=\"\",\"\",EingabeAngabe!D32)","v":""},{"$f":"IF(EingabeAngabe!E32=\"\",\"\",EingabeAngabe!E32)","v":""},{"$f":"IF(OR(G27=\"\",G27>EingabeAngabe!F32),\"F\",EingabeAngabe!B32)","v":"F"},null,{"$f":"IF(EingabeAngabe!F80>\"\",EingabeAngabe!E79,\"\")","v":"Eigener Notenkommentar:"}]
[{"$f":"EingabeAngabe!B33","v":"LE15"},{"$f":"IF(EingabeAngabe!C33=\"\",\"\",EingabeAngabe!C33)","v":""},null,{"$f":"IF(EingabeAngabe!D33=\"\",\"\",EingabeAngabe!D33)","v":""},{"$f":"IF(EingabeAngabe!E33=\"\",\"\",EingabeAngabe!E33)","v":""},{"$f":"IF(OR(G28=\"\",G28>EingabeAngabe!F33),\"F\",EingabeAngabe!B33)","v":"F"}]
["LE16",{"$f":"IF(EingabeAngabe!C34=\"\",\"\",EingabeAngabe!C34)","v":""},null,{"$f":"IF(EingabeAngabe!D34=\"\",\"\",EingabeAngabe!D34)","v":""},{"$f":"IF(EingabeAngabe!E34=\"\",\"\",EingabeAngabe!E34)","v":""},{"$f":"IF(OR(G29=\"\",G29>EingabeAngabe!F34),\"F\",EingabeAngabe!B34)","v":"F"}]
["LE17",{"$f":"IF(EingabeAngabe!C35=\"\",\"\",EingabeAngabe!C35)","v":""},null,{"$f":"IF(EingabeAngabe!D35=\"\",\"\",EingabeAngabe!D35)","v":""},{"$f":"IF(EingabeAngabe!E35=\"\",\"\",EingabeAngabe!E35)","v":""},{"$f":"IF(OR(G30=\"\",G30>EingabeAngabe!F35),\"F\",EingabeAngabe!B35)","v":"F"}]
["LE18",{"$f":"IF(EingabeAngabe!C36=\"\",\"\",EingabeAngabe!C36)","v":""},null,{"$f":"IF(EingabeAngabe!D36=\"\",\"\",EingabeAngabe!D36)","v":""},{"$f":"IF(EingabeAngabe!E36=\"\",\"\",EingabeAngabe!E36)","v":""},{"$f":"IF(OR(G31=\"\",G31>EingabeAngabe!F36),\"F\",EingabeAngabe!B36)","v":"F"}]
["LE19",{"$f":"IF(EingabeAngabe!C37=\"\",\"\",EingabeAngabe!C37)","v":""},null,{"$f":"IF(EingabeAngabe!D37=\"\",\"\",EingabeAngabe!D37)","v":""},{"$f":"IF(EingabeAngabe!E37=\"\",\"\",EingabeAngabe!E37)","v":""},{"$f":"IF(OR(G32=\"\",G32>EingabeAngabe!F37),\"F\",EingabeAngabe!B37)","v":"F"}]
[{"$f":"EingabeAngabe!B38","v":"LE20"},{"$f":"IF(EingabeAngabe!C38=\"\",\"\",EingabeAngabe!C38)","v":""},null,{"$f":"IF(EingabeAngabe!D38=\"\",\"\",EingabeAngabe!D38)","v":""},{"$f":"IF(EingabeAngabe!E38=\"\",\"\",EingabeAngabe!E38)","v":""},{"$f":"IF(OR(G33=\"\",G33>EingabeAngabe!F38),\"F\",EingabeAngabe!B38)","v":"F"}]
[{"$f":"EingabeAngabe!B40","v":"MO21"},{"$f":"IF(EingabeAngabe!C40=\"\",\"\",EingabeAngabe!C40)","v":""},null,{"$f":"IF(EingabeAngabe!D40=\"\",\"\",EingabeAngabe!D40)","v":""},null,{"$f":"IF(OR(G34=\"\",G34>EingabeAngabe!F39),\"F\",EingabeAngabe!B40)","v":"F"}]
[{"$f":"EingabeAngabe!B41","v":"MO22"},{"$f":"IF(EingabeAngabe!C41=\"\",\"\",EingabeAngabe!C41)","v":""},null,{"$f":"IF(EingabeAngabe!D41=\"\",\"\",EingabeAngabe!D41)","v":""},null,{"$f":"IF(OR(G35=\"\",G35>EingabeAngabe!F40),\"F\",EingabeAngabe!B41)","v":"F"}]
["MO23",{"$f":"IF(EingabeAngabe!C42=\"\",\"\",EingabeAngabe!C42)","v":""},null,{"$f":"IF(EingabeAngabe!D42=\"\",\"\",EingabeAngabe!D42)","v":""},null,{"$f":"IF(OR(G36=\"\",G36>EingabeAngabe!F41),\"F\",EingabeAngabe!B42)","v":"F"}]
["MO24",{"$f":"IF(EingabeAngabe!C43=\"\",\"\",EingabeAngabe!C43)","v":""},null,{"$f":"IF(EingabeAngabe!D43=\"\",\"\",EingabeAngabe!D43)","v":""},null,{"$f":"IF(OR(G37=\"\",G37>EingabeAngabe!F42),\"F\",EingabeAngabe!B43)","v":"F"}]
["MO25",{"$f":"IF(EingabeAngabe!C44=\"\",\"\",EingabeAngabe!C44)","v":""},null,{"$f":"IF(EingabeAngabe!D44=\"\",\"\",EingabeAngabe!D44)","v":""},null,{"$f":"IF(OR(G38=\"\",G38>EingabeAngabe!F41),\"F\",EingabeAngabe!B42)","v":"F"}]
[{"$f":"EingabeAngabe!B45","v":"MO26"},{"$f":"IF(EingabeAngabe!C45=\"\",\"\",EingabeAngabe!C45)","v":""},null,{"$f":"IF(EingabeAngabe!D45=\"\",\"\",EingabeAngabe!D45)","v":""},null,{"$f":"IF(OR(G39=\"\",G39>EingabeAngabe!F42),\"F\",EingabeAngabe!B45)","v":"F"}]
[{"$f":"EingabeAngabe!B46","v":"MO27"},{"$f":"IF(EingabeAngabe!C46=\"\",\"\",EingabeAngabe!C46)","v":""},null,{"$f":"IF(EingabeAngabe!D46=\"\",\"\",EingabeAngabe!D46)","v":""},null,{"$f":"IF(OR(G40=\"\",G40>EingabeAngabe!F45),\"F\",EingabeAngabe!B46)","v":"F"}]
[{"$f":"EingabeAngabe!B47","v":"MO28"},{"$f":"IF(EingabeAngabe!C47=\"\",\"\",EingabeAngabe!C47)","v":""},null,{"$f":"IF(EingabeAngabe!D47=\"\",\"\",EingabeAngabe!D47)","v":""},null,{"$f":"IF(OR(G41=\"\",G41>EingabeAngabe!F46),\"F\",EingabeAngabe!B47)","v":"F"}]
[{"$f":"EingabeAngabe!B49","v":"SY29"},{"$f":"IF(EingabeAngabe!C49=\"\",\"\",EingabeAngabe!C49)","v":""},null,{"$f":"IF(EingabeAngabe!D49=\"\",\"\",EingabeAngabe!D49)","v":""},null,{"$f":"IF(OR(G42=\"\",G42>EingabeAngabe!F47),\"F\",EingabeAngabe!B49)","v":"F"}]
["SY30",{"$f":"IF(EingabeAngabe!C50=\"\",\"\",EingabeAngabe!C50)","v":""},null,{"$f":"IF(EingabeAngabe!D50=\"\",\"\",EingabeAngabe!D50)","v":""},null,{"$f":"IF(OR(G43=\"\",G43>EingabeAngabe!F48),\"F\",EingabeAngabe!B50)","v":"F"}]
["SY31",{"$f":"IF(EingabeAngabe!C51=\"\",\"\",EingabeAngabe!C51)","v":""},null,{"$f":"IF(EingabeAngabe!D51=\"\",\"\",EingabeAngabe!D51)","v":""},null,{"$f":"IF(OR(G44=\"\",G44>EingabeAngabe!F49),\"F\",EingabeAngabe!B51)","v":"F"}]
["SY32",{"$f":"IF(EingabeAngabe!C52=\"\",\"\",EingabeAngabe!C52)","v":""},null,{"$f":"IF(EingabeAngabe!D52=\"\",\"\",EingabeAngabe!D52)","v":""},null,{"$f":"IF(OR(G45=\"\",G45>EingabeAngabe!F50),\"F\",EingabeAngabe!B52)","v":"F"}]
["SY33",{"$f":"IF(EingabeAngabe!C53=\"\",\"\",EingabeAngabe!C53)","v":""},null,{"$f":"IF(EingabeAngabe!D53=\"\",\"\",EingabeAngabe!D53)","v":""},null,{"$f":"IF(OR(G46=\"\",G46>EingabeAngabe!F51),\"F\",EingabeAngabe!B53)","v":"F"}]
["SY34",{"$f":"IF(EingabeAngabe!C54=\"\",\"\",EingabeAngabe!C54)","v":""},null,{"$f":"IF(EingabeAngabe!D54=\"\",\"\",EingabeAngabe!D54)","v":""},null,{"$f":"IF(OR(G47=\"\",G47>EingabeAngabe!F52),\"F\",EingabeAngabe!B54)","v":"F"},null,"Summe Übersetzungstext",null,null,null,null,{"$f":"EingabeAngabe!U59","v":""}]
[{"$f":"EingabeAngabe!B55","v":"SY35"},{"$f":"IF(EingabeAngabe!C55=\"\",\"\",EingabeAngabe!C55)","v":""},null,{"$f":"IF(EingabeAngabe!D55=\"\",\"\",EingabeAngabe!D55)","v":""},null,{"$f":"IF(OR(G48=\"\",G48>EingabeAngabe!F53),\"F\",EingabeAngabe!B55)","v":"F"},null,"Summe Arbeitsaufgaben und Interpretation",null,null,null,null,{"$f":"EingabeAngabe!U60","v":""}]
[{"$f":"EingabeAngabe!B56","v":"SY36"},{"$f":"IF(EingabeAngabe!C56=\"\",\"\",EingabeAngabe!C56)","v":""},null,{"$f":"IF(EingabeAngabe!D56=\"\",\"\",EingabeAngabe!D56)","v":""},null,{"$f":"IF(OR(G49=\"\",G49>EingabeAngabe!F54),\"F\",EingabeAngabe!B56)","v":"F"},null,"Gesamtsumme",null,null,null,null,{"$f":"EingabeAngabe!U2","v":""}]
[null,{"$f":"EingabeAngabe!C57","v":"SPRACHLICHE QUALITÄT IN DER ZIELSPRACHE"},null,null,null,{"$f":"IF(OR(G50=1,G50=3,G50=5,G50>6),\"F\",\"6/4/2/0\")","v":"6/4/2/0"},null,"NOTE",null,null,{"$f":"IF(EingabeAngabe!U3=1,\"Sehr gut\",IF(EingabeAngabe!U3=2,\"Gut\",IF(EingabeAngabe!U3=3,\"Befriedigend\",IF(EingabeAngabe!U3=4,\"Genügend\",IF(EingabeAngabe!U3=5,\"Nicht genügend\",\"\")))))","v":""}]

{"sheet":"Schueler16Punkte","index":19,"n_rows":50,"n_cols":13,"rows_kept":50,"cut":false,"hidden":false,"merged":[[0,0,0,1],[0,3,0,4],[0,7,0,11],[1,0,2,0],[1,1,1,4],[1,5,2,5],[1,6,2,6],[1,8,1,11],[2,1,2,4],[2,8,2,11],[3,0,4,0],[3,1,3,4],[3,5,4,5],[3,6,4,6],[3,8,3,11],[4,1,4,4],[4,8,4,11],[5,0,6,0],[5,1,5,4],[5,5,6,5],[5,6,6,6],[5,8,5,11],[6,1,6,4],[6,8,6,11],[7,0,8,0],[7,1,7,4],[7,5,8,5],[7,6,8,6],[7,8,7,11],[8,1,8,4],[8,8,8,11],[9,0,10,0],[9,1,9,4],[9,5,10,5],[9,6,10,6],[9,7,9,13],[10,1,10,4],[10,7,10,10],[10,11,10,13],[11,0,12,0],[11,1,11,4],[11,5,12,5],[11,6,12,6],[11,7,11,10],[11,11,11,13],[12,1,12,4],[12,7,12,10],[12,11,12,13],[13,0,14,0],[13,1,13,4],[13,5,14,5],[13,6,14,6],[13,7,13,10],[13,11,13,13],[14,1,14,4],[14,7,14,10],[14,11,14,13],[15,0,16,0],[15,1,15,4],[15,5,16,5],[15,6,16,6],[15,7,15,13],[16,1,16,4],[16,7,24,13],[17,0,18,0],[17,1,17,4],[17,5,18,5],[17,6,18,6],[18,1,18,4],[19,0,20,0],[19,1,19,4],[19,5,20,5],[19,6,20,6],[20,1,20,4],[21,0,22,0],[21,1,21,4],[21,5,22,5],[21,6,22,6],[22,1,22,4],[23,0,24,0],[23,1,23,4],[23,5,24,5],[23,6,24,6],[24,1,24,4],[25,1,25,2],[26,1,26,2],[26,7,26,13],[27,1,27,2],[27,7,44,13],[28,1,28,2],[29,1,29,2],[30,1,30,2],[31,1,31,2],[32,1,32,2],[33,1,33,2],[33,3,33,4],[34,1,34,2],[34,3,34,4],[35,1,35,2],[35,3,35,4],[36,1,36,2],[36,3,36,4],[37,1,37,2],[37,3,37,4],[38,1,38,2],[38,3,38,4],[39,1,39,2],[39,3,39,4],[40,1,40,2],[40,3,40,4],[41,1,41,2],[41,3,41,4],[42,1,42,2],[42,3,42,4],[43,1,43,2],[43,3,43,4],[44,1,44,2],[44,3,44,4],[48,12,48,13],[45,1,45,2],[45,3,45,4],[46,1,46,2],[46,3,46,4],[46,7,46,11],[46,12,46,13],[49,1,49,4],[49,7,49,9],[49,10,49,13],[47,1,47,2],[47,3,47,4],[47,7,47,11],[47,12,47,13],[48,1,48,2],[48,3,48,4],[48,7,48,11]]}
["Übersetzungstext",null,"Schülername",{"$f":"SchuelernamenEingabe!B17","v":0},null,null,null,"Arbeitsaufgaben/ Interpretation"]
[{"$f":"EingabeAngabe!B6","v":"SE1"},{"$f":"IF(EingabeAngabe!C6=\"\",\"\",EingabeAngabe!C6)","v":""},null,null,null,{"$f":"IF(OR(G2=\"\",G2>EingabeAngabe!F6),\"F\",EingabeAngabe!B6)","v":"F"},null,{"$f":"EingabeAngabe!B61","v":"IT1"},{"$f":"IF(EingabeAngabe!C61=\"\",\"\",EingabeAngabe!C61)","v":""},null,null,null,{"$f":"IF(N2>EingabeAngabe!F61,\"F\",IF(EingabeAngabe!F61=\"\",\"\",EingabeAngabe!F61))","v":""}]
[null,{"$f":"IF(EingabeAngabe!C7=\"\",\"\",EingabeAngabe!C7)","v":""},null,null,null,null,null,{"$f":"EingabeAngabe!B62","v":"IT2"},{"$f":"IF(EingabeAngabe!C62=\"\",\"\",EingabeAngabe!C62)","v":""},null,null,null,{"$f":"IF(N3>EingabeAngabe!F62,\"F\",IF(EingabeAngabe!F62=\"\",\"\",EingabeAngabe!F62))","v":""}]
[{"$f":"EingabeAngabe!B8","v":"SE2"},{"$f":"IF(EingabeAngabe!C8=\"\",\"\",EingabeAngabe!C8)","v":""},null,null,null,{"$f":"IF(OR(G4=\"\",G4>EingabeAngabe!F8),\"F\",EingabeAngabe!B8)","v":"F"},null,{"$f":"EingabeAngabe!B63","v":"IT3"},{"$f":"IF(EingabeAngabe!C63=\"\",\"\",EingabeAngabe!C63)","v":""},null,null,null,{"$f":"IF(N4>EingabeAngabe!F63,\"F\",IF(EingabeAngabe!F63=\"\",\"\",EingabeAngabe!F63))","v":""}]
[null,{"$f":"IF(EingabeAngabe!C9=\"\",\"\",EingabeAngabe!C9)","v":""},null,null,null,null,null,{"$f":"EingabeAngabe!B64","v":"IT4"},{"$f":"IF(EingabeAngabe!C64=\"\",\"\",EingabeAngabe!C64)","v":""},null,null,null,{"$f":"IF(N5>EingabeAngabe!F64,\"F\",IF(EingabeAngabe!F64=\"\",\"\",EingabeAngabe!F64))","v":""}]
[{"$f":"EingabeAngabe!B10","v":"SE3"},{"$f":"IF(EingabeAngabe!C10=\"\",\"\",EingabeAngabe!C10)","v":""},null,null,null,{"$f":"IF(OR(G6=\"\",G6>EingabeAngabe!F10),\"F\",EingabeAngabe!B10)","v":"F"},null,{"$f":"EingabeAngabe!B65","v":"IT5"},{"$f":"IF(EingabeAngabe!C65=\"\",\"\",EingabeAngabe!C65)","v":""},null,null,null,{"$f":"IF(N6>EingabeAngabe!F65,\"F\",IF(EingabeAngabe!F65=\"\",\"\",EingabeAngabe!F65))","v":""}]
[null,{"$f":"IF(EingabeAngabe!C11=\"\",\"\",EingabeAngabe!C11)","v":""},null,null,null,null,null,{"$f":"EingabeAngabe!B66","v":"IT6"},{"$f":"IF(EingabeAngabe!C66=\"\",\"\",EingabeAngabe!C66)","v":""},null,null,null,{"$f":"IF(N7>EingabeAngabe!F66,\"F\",IF(EingabeAngabe!F66=\"\",\"\",EingabeAngabe!F66))","v":""}]
[{"$f":"EingabeAngabe!B12","v":"SE4"},{"$f":"IF(EingabeAngabe!C12=\"\",\"\",EingabeAngabe!C12)","v":""},null,null,null,{"$f":"IF(OR(G8=\"\",G8>EingabeAngabe!F12),\"F\",EingabeAngabe!B12)","v":"F"},null,{"$f":"EingabeAngabe!B67","v":"IT7"},{"$f":"IF(EingabeAngabe!C67=\"\",\"\",EingabeAngabe!C67)","v":""},null,null,null,{"$f":"IF(N8>EingabeAngabe!F67,\"F\",IF(EingabeAngabe!F67=\"\",\"\",EingabeAngabe!F67))","v":""}]
[null,{"$f":"IF(EingabeAngabe!C13=\"\",\"\",EingabeAngabe!C13)","v":""},null,null,null,null,null,{"$f":"EingabeAngabe!B68","v":"IT8"},{"$f":"IF(EingabeAngabe!C68=\"\",\"\",EingabeAngabe!C68)","v":""},null,null,null,{"$f":"IF(N9>EingabeAngabe!F68,\"F\",IF(EingabeAngabe!F68=\"\",\"\",EingabeAngabe!F68))","v":""}]
[{"$f":"EingabeAngabe!B14","v":"SE5"},{"$f":"IF(EingabeAngabe!C14=\"\",\"\",EingabeAngabe!C14)","v":""},null,null,null,{"$f":"IF(OR(G10=\"\",G10>EingabeAngabe!F14),\"F\",EingabeAngabe!B14)","v":"F"},null,"Notenschlüssel:"]
[null,{"$f":"IF(EingabeAngabe!C15=\"\",\"\",EingabeAngabe!C15)","v":""},null,null,null,null,null,"Sehr gut",null,null,null,{"$f":"EingabeAngabe!F72","v":"60 - 53"}]
[{"$f":"EingabeAngabe!B16","v":"SE6"},{"$f":"IF(EingabeAngabe!C16=\"\",\"\",EingabeAngabe!C16)","v":""},null,null,null,{"$f":"IF(OR(G12=\"\",G12>EingabeAngabe!F16),\"F\",EingabeAngabe!B16)","v":"F"},null,"Gut",null,null,null,{"$f":"EingabeAngabe!F73","v":"52 - 45"}]
[null,{"$f":"IF(EingabeAngabe!C17=\"\",\"\",EingabeAngabe!C17)","v":""},null,null,null,null,null,"Befriedigend",null,null,null,{"$f":"EingabeAngabe!F74","v":"44 - 37"}]
[{"$f":"EingabeAngabe!B18","v":"SE7"},{"$f":"IF(EingabeAngabe!C18=\"\",\"\",EingabeAngabe!C18)","v":""},null,null,null,{"$f":"IF(OR(G14=\"\",G14>EingabeAngabe!F18),\"F\",EingabeAngabe!B18)","v":"F"},null,"Genügend",null,null,null,{"$f":"EingabeAngabe!F75","v":"36 - 30"}]
[null,{"$f":"IF(EingabeAngabe!C19=\"\",\"\",EingabeAngabe!C19)","v":""},null,null,null,null,null,"Nicht genügend",null,null,null,{"$f":"EingabeAngabe!F76","v":"29 - 00"}]
[{"$f":"EingabeAngabe!B20","v":"SE8"},{"$f":"IF(EingabeAngabe!C20=\"\",\"\",EingabeAngabe!C20)","v":""},null,null,null,{"$f":"IF(OR(G16=\"\",G16>EingabeAngabe!F20),\"F\",EingabeAngabe!B20)","v":"F"},null,{"$f":"CONCATENATE(\"Notendefinition laut LBVO$14:\",\"            \",K50)","v":"Notendefinition laut LBVO$14:            "}]
[null,{"$f":"IF(EingabeAngabe!C21=\"\",\"\",EingabeAngabe!C21)","v":""},null,null,null,null,null,{"$f":"VLOOKUP(K50,SchuelernamenEingabe!D2:'SchuelernamenEingabe'!E40,2,FALSE)","v":{"$error":"#N/A"}}]
[{"$f":"EingabeAngabe!B22","v":"SE9"},{"$f":"IF(EingabeAngabe!C22=\"\",\"\",EingabeAngabe!C22)","v":""},null,null,null,{"$f":"IF(OR(G18=\"\",G18>EingabeAngabe!F22),\"F\",EingabeAngabe!B22)","v":"F"}]
[null,{"$f":"IF(EingabeAngabe!C23=\"\",\"\",EingabeAngabe!C23)","v":""}]
[{"$f":"EingabeAngabe!B24","v":"SE10"},{"$f":"IF(EingabeAngabe!C24=\"\",\"\",EingabeAngabe!C24)","v":""},null,null,null,{"$f":"IF(OR(G20=\"\",G20>EingabeAngabe!F24),\"F\",EingabeAngabe!B24)","v":"F"}]
[null,{"$f":"IF(EingabeAngabe!C25=\"\",\"\",EingabeAngabe!C25)","v":""}]
[{"$f":"EingabeAngabe!B26","v":"SE11"},{"$f":"IF(EingabeAngabe!C26=\"\",\"\",EingabeAngabe!C26)","v":""},null,null,null,{"$f":"IF(OR(G22=\"\",G22>EingabeAngabe!F26),\"F\",EingabeAngabe!B26)","v":"F"}]
[null,{"$f":"IF(EingabeAngabe!C27=\"\",\"\",EingabeAngabe!C27)","v":""}]
[{"$f":"EingabeAngabe!B28","v":"SE12"},{"$f":"IF(EingabeAngabe!C28=\"\",\"\",EingabeAngabe!C28)","v":""},null,null,null,{"$f":"IF(OR(G24=\"\",G24>EingabeAngabe!F28),\"F\",EingabeAngabe!B28)","v":"F"}]
[null,{"$f":"IF(EingabeAngabe!C29=\"\",\"\",EingabeAngabe!C29)","v":""}]
[{"$f":"EingabeAngabe!B31","v":"LE13"},{"$f":"IF(EingabeAngabe!C31=\"\",\"\",EingabeAngabe!C31)","v":""},null,{"$f":"IF(EingabeAngabe!D31=\"\",\"\",EingabeAngabe!D31)","v":""},{"$f":"IF(EingabeAngabe!E31=\"\",\"\",EingabeAngabe!E31)","v":""},{"$f":"IF(OR(G26=\"\",G26>EingabeAngabe!F31),\"F\",EingabeAngabe!B31)","v":"F"}]
[{"$f":"EingabeAngabe!B32","v":"LE14"},{"$f":"IF(EingabeAngabe!C32=\"\",\"\",EingabeAngabe!C32)","v":""},null,{"$f":"IF(EingabeAngabe!D32=\"\",\"\",EingabeAngabe!D32)","v":""},{"$f":"IF(EingabeAngabe!E32=\"\",\"\",EingabeAngabe!E32)","v":""},{"$f":"IF(OR(G27=\"\",G27>EingabeAngabe!F32),\"F\",EingabeAngabe!B32)","v":"F"},null,{"$f":"IF(EingabeAngabe!F80>\"\",EingabeAngabe!E79,\"\")","v":"Eigener Notenkommentar:"}]
[{"$f":"EingabeAngabe!B33","v":"LE15"},{"$f":"IF(EingabeAngabe!C33=\"\",\"\",EingabeAngabe!C33)","v":""},null,{"$f":"IF(EingabeAngabe!D33=\"\",\"\",EingabeAngabe!D33)","v":""},{"$f":"IF(EingabeAngabe!E33=\"\",\"\",EingabeAngabe!E33)","v":""},{"$f":"IF(OR(G28=\"\",G28>EingabeAngabe!F33),\"F\",EingabeAngabe!B33)","v":"F"}]
["LE16",{"$f":"IF(EingabeAngabe!C34=\"\",\"\",EingabeAngabe!C34)","v":""},null,{"$f":"IF(EingabeAngabe!D34=\"\",\"\",EingabeAngabe!D34)","v":""},{"$f":"IF(EingabeAngabe!E34=\"\",\"\",EingabeAngabe!E34)","v":""},{"$f":"IF(OR(G29=\"\",G29>EingabeAngabe!F34),\"F\",EingabeAngabe!B34)","v":"F"}]
["LE17",{"$f":"IF(EingabeAngabe!C35=\"\",\"\",EingabeAngabe!C35)","v":""},null,{"$f":"IF(EingabeAngabe!D35=\"\",\"\",EingabeAngabe!D35)","v":""},{"$f":"IF(EingabeAngabe!E35=\"\",\"\",EingabeAngabe!E35)","v":""},{"$f":"IF(OR(G30=\"\",G30>EingabeAngabe!F35),\"F\",EingabeAngabe!B35)","v":"F"}]
["LE18",{"$f":"IF(EingabeAngabe!C36=\"\",\"\",EingabeAngabe!C36)","v":""},null,{"$f":"IF(EingabeAngabe!D36=\"\",\"\",EingabeAngabe!D36)","v":""},{"$f":"IF(EingabeAngabe!E36=\"\",\"\",EingabeAngabe!E36)","v":""},{"$f":"IF(OR(G31=\"\",G31>EingabeAngabe!F36),\"F\",EingabeAngabe!B36)","v":"F"}]
["LE19",{"$f":"IF(EingabeAngabe!C37=\"\",\"\",EingabeAngabe!C37)","v":""},null,{"$f":"IF(EingabeAngabe!D37=\"\",\"\",EingabeAngabe!D37)","v":""},{"$f":"IF(EingabeAngabe!E37=\"\",\"\",EingabeAngabe!E37)","v":""},{"$f":"IF(OR(G32=\"\",G32>EingabeAngabe!F37),\"F\",EingabeAngabe!B37)","v":"F"}]
[{"$f":"EingabeAngabe!B38","v":"LE20"},{"$f":"IF(EingabeAngabe!C38=\"\",\"\",EingabeAngabe!C38)","v":""},null,{"$f":"IF(EingabeAngabe!D38=\"\",\"\",EingabeAngabe!D38)","v":""},{"$f":"IF(EingabeAngabe!E38=\"\",\"\",EingabeAngabe!E38)","v":""},{"$f":"IF(OR(G33=\"\",G33>EingabeAngabe!F38),\"F\",EingabeAngabe!B38)","v":"F"}]
[{"$f":"EingabeAngabe!B40","v":"MO21"},{"$f":"IF(EingabeAngabe!C40=\"\",\"\",EingabeAngabe!C40)","v":""},null,{"$f":"IF(EingabeAngabe!D40=\"\",\"\",EingabeAngabe!D40)","v":""},null,{"$f":"IF(OR(G34=\"\",G34>EingabeAngabe!F39),\"F\",EingabeAngabe!B40)","v":"F"}]
[{"$f":"EingabeAngabe!B41","v":"MO22"},{"$f":"IF(EingabeAngabe!C41=\"\",\"\",EingabeAngabe!C41)","v":""},null,{"$f":"IF(EingabeAngabe!D41=\"\",\"\",EingabeAngabe!D41)","v":""},null,{"$f":"IF(OR(G35=\"\",G35>EingabeAngabe!F40),\"F\",EingabeAngabe!B41)","v":"F"}]
["MO23",{"$f":"IF(EingabeAngabe!C42=\"\",\"\",EingabeAngabe!C42)","v":""},null,{"$f":"IF(EingabeAngabe!D42=\"\",\"\",EingabeAngabe!D42)","v":""},null,{"$f":"IF(OR(G36=\"\",G36>EingabeAngabe!F41),\"F\",EingabeAngabe!B42)","v":"F"}]
["MO24",{"$f":"IF(EingabeAngabe!C43=\"\",\"\",EingabeAngabe!C43)","v":""},null,{"$f":"IF(EingabeAngabe!D43=\"\",\"\",EingabeAngabe!D43)","v":""},null,{"$f":"IF(OR(G37=\"\",G37>EingabeAngabe!F42),\"F\",EingabeAngabe!B43)","v":"F"}]
["MO25",{"$f":"IF(EingabeAngabe!C44=\"\",\"\",EingabeAngabe!C44)","v":""},null,{"$f":"IF(EingabeAngabe!D44=\"\",\"\",EingabeAngabe!D44)","v":""},null,{"$f":"IF(OR(G38=\"\",G38>EingabeAngabe!F41),\"F\",EingabeAngabe!B42)","v":"F"}]
[{"$f":"EingabeAngabe!B45","v":"MO26"},{"$f":"IF(EingabeAngabe!C45=\"\",\"\",EingabeAngabe!C45)","v":""},null,{"$f":"IF(EingabeAngabe!D45=\"\",\"\",EingabeAngabe!D45)","v":""},null,{"$f":"IF(OR(G39=\"\",G39>EingabeAngabe!F42),\"F\",EingabeAngabe!B45)","v":"F"}]
[{"$f":"EingabeAngabe!B46","v":"MO27"},{"$f":"IF(EingabeAngabe!C46=\"\",\"\",EingabeAngabe!C46)","v":""},null,{"$f":"IF(EingabeAngabe!D46=\"\",\"\",EingabeAngabe!D46)","v":""},null,{"$f":"IF(OR(G40=\"\",G40>EingabeAngabe!F45),\"F\",EingabeAngabe!B46)","v":"F"}]
[{"$f":"EingabeAngabe!B47","v":"MO28"},{"$f":"IF(EingabeAngabe!C47=\"\",\"\",EingabeAngabe!C47)","v":""},null,{"$f":"IF(EingabeAngabe!D47=\"\",\"\",EingabeAngabe!D47)","v":""},null,{"$f":"IF(OR(G41=\"\",G41>EingabeAngabe!F46),\"F\",EingabeAngabe!B47)","v":"F"}]
[{"$f":"EingabeAngabe!B49","v":"SY29"},{"$f":"IF(EingabeAngabe!C49=\"\",\"\",EingabeAngabe!C49)","v":""},null,{"$f":"IF(EingabeAngabe!D49=\"\",\"\",EingabeAngabe!D49)","v":""},null,{"$f":"IF(OR(G42=\"\",G42>EingabeAngabe!F47),\"F\",EingabeAngabe!B49)","v":"F"}]
["SY30",{"$f":"IF(EingabeAngabe!C50=\"\",\"\",EingabeAngabe!C50)","v":""},null,{"$f":"IF(EingabeAngabe!D50=\"\",\"\",EingabeAngabe!D50)","v":""},null,{"$f":"IF(OR(G43=\"\",G43>EingabeAngabe!F48),\"F\",EingabeAngabe!B50)","v":"F"}]
["SY31",{"$f":"IF(EingabeAngabe!C51=\"\",\"\",EingabeAngabe!C51)","v":""},null,{"$f":"IF(EingabeAngabe!D51=\"\",\"\",EingabeAngabe!D51)","v":""},null,{"$f":"IF(OR(G44=\"\",G44>EingabeAngabe!F49),\"F\",EingabeAngabe!B51)","v":"F"}]
["SY32",{"$f":"IF(EingabeAngabe!C52=\"\",\"\",EingabeAngabe!C52)","v":""},null,{"$f":"IF(EingabeAngabe!D52=\"\",\"\",EingabeAngabe!D52)","v":""},null,{"$f":"IF(OR(G45=\"\",G45>EingabeAngabe!F50),\"F\",EingabeAngabe!B52)","v":"F"}]
["SY33",{"$f":"IF(EingabeAngabe!C53=\"\",\"\",EingabeAngabe!C53)","v":""},null,{"$f":"IF(EingabeAngabe!D53=\"\",\"\",EingabeAngabe!D53)","v":""},null,{"$f":"IF(OR(G46=\"\",G46>EingabeAngabe!F51),\"F\",EingabeAngabe!B53)","v":"F"}]
["SY34",{"$f":"IF(EingabeAngabe!C54=\"\",\"\",EingabeAngabe!C54)","v":""},null,{"$f":"IF(EingabeAngabe!D54=\"\",\"\",EingabeAngabe!D54)","v":""},null,{"$f":"IF(OR(G47=\"\",G47>EingabeAngabe!F52),\"F\",EingabeAngabe!B54)","v":"F"},null,"Summe Übersetzungstext",null,null,null,null,{"$f":"EingabeAngabe!V59","v":""}]
[{"$f":"EingabeAngabe!B55","v":"SY35"},{"$f":"IF(EingabeAngabe!C55=\"\",\"\",EingabeAngabe!C55)","v":""},null,{"$f":"IF(EingabeAngabe!D55=\"\",\"\",EingabeAngabe!D55)","v":""},null,{"$f":"IF(OR(G48=\"\",G48>EingabeAngabe!F53),\"F\",EingabeAngabe!B55)","v":"F"},null,"Summe Arbeitsaufgaben und Interpretation",null,null,null,null,{"$f":"EingabeAngabe!V60","v":""}]
[{"$f":"EingabeAngabe!B56","v":"SY36"},{"$f":"IF(EingabeAngabe!C56=\"\",\"\",EingabeAngabe!C56)","v":""},null,{"$f":"IF(EingabeAngabe!D56=\"\",\"\",EingabeAngabe!D56)","v":""},null,{"$f":"IF(OR(G49=\"\",G49>EingabeAngabe!F54),\"F\",EingabeAngabe!B56)","v":"F"},null,"Gesamtsumme",null,null,null,null,{"$f":"EingabeAngabe!V2","v":""}]
[null,{"$f":"EingabeAngabe!C57","v":"SPRACHLICHE QUALITÄT IN DER ZIELSPRACHE"},null,null,null,{"$f":"IF(OR(G50=1,G50=3,G50=5,G50>6),\"F\",\"6/4/2/0\")","v":"6/4/2/0"},null,"NOTE",null,null,{"$f":"IF(EingabeAngabe!V3=1,\"Sehr gut\",IF(EingabeAngabe!V3=2,\"Gut\",IF(EingabeAngabe!V3=3,\"Befriedigend\",IF(EingabeAngabe!V3=4,\"Genügend\",IF(EingabeAngabe!V3=5,\"Nicht genügend\",\"\")))))","v":""}]

{"sheet":"Schueler17Punkte","index":20,"n_rows":50,"n_cols":13,"rows_kept":50,"cut":false,"hidden":false,"merged":[[0,0,0,1],[0,3,0,4],[0,7,0,11],[1,0,2,0],[1,1,1,4],[1,5,2,5],[1,6,2,6],[1,8,1,11],[2,1,2,4],[2,8,2,11],[3,0,4,0],[3,1,3,4],[3,5,4,5],[3,6,4,6],[3,8,3,11],[4,1,4,4],[4,8,4,11],[5,0,6,0],[5,1,5,4],[5,5,6,5],[5,6,6,6],[5,8,5,11],[6,1,6,4],[6,8,6,11],[7,0,8,0],[7,1,7,4],[7,5,8,5],[7,6,8,6],[7,8,7,11],[8,1,8,4],[8,8,8,11],[9,0,10,0],[9,1,9,4],[9,5,10,5],[9,6,10,6],[9,7,9,13],[10,1,10,4],[10,7,10,10],[10,11,10,13],[11,0,12,0],[11,1,11,4],[11,5,12,5],[11,6,12,6],[11,7,11,10],[11,11,11,13],[12,1,12,4],[12,7,12,10],[12,11,12,13],[13,0,14,0],[13,1,13,4],[13,5,14,5],[13,6,14,6],[13,7,13,10],[13,11,13,13],[14,1,14,4],[14,7,14,10],[14,11,14,13],[15,0,16,0],[15,1,15,4],[15,5,16,5],[15,6,16,6],[15,7,15,13],[16,1,16,4],[16,7,24,13],[17,0,18,0],[17,1,17,4],[17,5,18,5],[17,6,18,6],[18,1,18,4],[19,0,20,0],[19,1,19,4],[19,5,20,5],[19,6,20,6],[20,1,20,4],[21,0,22,0],[21,1,21,4],[21,5,22,5],[21,6,22,6],[22,1,22,4],[23,0,24,0],[23,1,23,4],[23,5,24,5],[23,6,24,6],[24,1,24,4],[25,1,25,2],[26,1,26,2],[26,7,26,13],[27,1,27,2],[27,7,44,13],[28,1,28,2],[29,1,29,2],[30,1,30,2],[31,1,31,2],[32,1,32,2],[33,1,33,2],[33,3,33,4],[34,1,34,2],[34,3,34,4],[35,1,35,2],[35,3,35,4],[36,1,36,2],[36,3,36,4],[37,1,37,2],[37,3,37,4],[38,1,38,2],[38,3,38,4],[39,1,39,2],[39,3,39,4],[40,1,40,2],[40,3,40,4],[41,1,41,2],[41,3,41,4],[42,1,42,2],[42,3,42,4],[43,1,43,2],[43,3,43,4],[44,1,44,2],[44,3,44,4],[48,12,48,13],[45,1,45,2],[45,3,45,4],[46,1,46,2],[46,3,46,4],[46,7,46,11],[46,12,46,13],[49,1,49,4],[49,7,49,9],[49,10,49,13],[47,1,47,2],[47,3,47,4],[47,7,47,11],[47,12,47,13],[48,1,48,2],[48,3,48,4],[48,7,48,11]]}
["Übersetzungstext",null,"Schülername",{"$f":"SchuelernamenEingabe!B18","v":0},null,null,null,"Arbeitsaufgaben/ Interpretation"]
[{"$f":"EingabeAngabe!B6","v":"SE1"},{"$f":"IF(EingabeAngabe!C6=\"\",\"\",EingabeAngabe!C6)","v":""},null,null,null,{"$f":"IF(OR(G2=\"\",G2>EingabeAngabe!F6),\"F\",EingabeAngabe!B6)","v":"F"},null,{"$f":"EingabeAngabe!B61","v":"IT1"},{"$f":"IF(EingabeAngabe!C61=\"\",\"\",EingabeAngabe!C61)","v":""},null,null,null,{"$f":"IF(N2>EingabeAngabe!F61,\"F\",IF(EingabeAngabe!F61=\"\",\"\",EingabeAngabe!F61))","v":""}]
[null,{"$f":"IF(EingabeAngabe!C7=\"\",\"\",EingabeAngabe!C7)","v":""},null,null,null,null,null,{"$f":"EingabeAngabe!B62","v":"IT2"},{"$f":"IF(EingabeAngabe!C62=\"\",\"\",EingabeAngabe!C62)","v":""},null,null,null,{"$f":"IF(N3>EingabeAngabe!F62,\"F\",IF(EingabeAngabe!F62=\"\",\"\",EingabeAngabe!F62))","v":""}]
[{"$f":"EingabeAngabe!B8","v":"SE2"},{"$f":"IF(EingabeAngabe!C8=\"\",\"\",EingabeAngabe!C8)","v":""},null,null,null,{"$f":"IF(OR(G4=\"\",G4>EingabeAngabe!F8),\"F\",EingabeAngabe!B8)","v":"F"},null,{"$f":"EingabeAngabe!B63","v":"IT3"},{"$f":"IF(EingabeAngabe!C63=\"\",\"\",EingabeAngabe!C63)","v":""},null,null,null,{"$f":"IF(N4>EingabeAngabe!F63,\"F\",IF(EingabeAngabe!F63=\"\",\"\",EingabeAngabe!F63))","v":""}]
[null,{"$f":"IF(EingabeAngabe!C9=\"\",\"\",EingabeAngabe!C9)","v":""},null,null,null,null,null,{"$f":"EingabeAngabe!B64","v":"IT4"},{"$f":"IF(EingabeAngabe!C64=\"\",\"\",EingabeAngabe!C64)","v":""},null,null,null,{"$f":"IF(N5>EingabeAngabe!F64,\"F\",IF(EingabeAngabe!F64=\"\",\"\",EingabeAngabe!F64))","v":""}]
[{"$f":"EingabeAngabe!B10","v":"SE3"},{"$f":"IF(EingabeAngabe!C10=\"\",\"\",EingabeAngabe!C10)","v":""},null,null,null,{"$f":"IF(OR(G6=\"\",G6>EingabeAngabe!F10),\"F\",EingabeAngabe!B10)","v":"F"},null,{"$f":"EingabeAngabe!B65","v":"IT5"},{"$f":"IF(EingabeAngabe!C65=\"\",\"\",EingabeAngabe!C65)","v":""},null,null,null,{"$f":"IF(N6>EingabeAngabe!F65,\"F\",IF(EingabeAngabe!F65=\"\",\"\",EingabeAngabe!F65))","v":""}]
[null,{"$f":"IF(EingabeAngabe!C11=\"\",\"\",EingabeAngabe!C11)","v":""},null,null,null,null,null,{"$f":"EingabeAngabe!B66","v":"IT6"},{"$f":"IF(EingabeAngabe!C66=\"\",\"\",EingabeAngabe!C66)","v":""},null,null,null,{"$f":"IF(N7>EingabeAngabe!F66,\"F\",IF(EingabeAngabe!F66=\"\",\"\",EingabeAngabe!F66))","v":""}]
[{"$f":"EingabeAngabe!B12","v":"SE4"},{"$f":"IF(EingabeAngabe!C12=\"\",\"\",EingabeAngabe!C12)","v":""},null,null,null,{"$f":"IF(OR(G8=\"\",G8>EingabeAngabe!F12),\"F\",EingabeAngabe!B12)","v":"F"},null,{"$f":"EingabeAngabe!B67","v":"IT7"},{"$f":"IF(EingabeAngabe!C67=\"\",\"\",EingabeAngabe!C67)","v":""},null,null,null,{"$f":"IF(N8>EingabeAngabe!F67,\"F\",IF(EingabeAngabe!F67=\"\",\"\",EingabeAngabe!F67))","v":""}]
[null,{"$f":"IF(EingabeAngabe!C13=\"\",\"\",EingabeAngabe!C13)","v":""},null,null,null,null,null,{"$f":"EingabeAngabe!B68","v":"IT8"},{"$f":"IF(EingabeAngabe!C68=\"\",\"\",EingabeAngabe!C68)","v":""},null,null,null,{"$f":"IF(N9>EingabeAngabe!F68,\"F\",IF(EingabeAngabe!F68=\"\",\"\",EingabeAngabe!F68))","v":""}]
[{"$f":"EingabeAngabe!B14","v":"SE5"},{"$f":"IF(EingabeAngabe!C14=\"\",\"\",EingabeAngabe!C14)","v":""},null,null,null,{"$f":"IF(OR(G10=\"\",G10>EingabeAngabe!F14),\"F\",EingabeAngabe!B14)","v":"F"},null,"Notenschlüssel:"]
[null,{"$f":"IF(EingabeAngabe!C15=\"\",\"\",EingabeAngabe!C15)","v":""},null,null,null,null,null,"Sehr gut",null,null,null,{"$f":"EingabeAngabe!F72","v":"60 - 53"}]
[{"$f":"EingabeAngabe!B16","v":"SE6"},{"$f":"IF(EingabeAngabe!C16=\"\",\"\",EingabeAngabe!C16)","v":""},null,null,null,{"$f":"IF(OR(G12=\"\",G12>EingabeAngabe!F16),\"F\",EingabeAngabe!B16)","v":"F"},null,"Gut",null,null,null,{"$f":"EingabeAngabe!F73","v":"52 - 45"}]
[null,{"$f":"IF(EingabeAngabe!C17=\"\",\"\",EingabeAngabe!C17)","v":""},null,null,null,null,null,"Befriedigend",null,null,null,{"$f":"EingabeAngabe!F74","v":"44 - 37"}]
[{"$f":"EingabeAngabe!B18","v":"SE7"},{"$f":"IF(EingabeAngabe!C18=\"\",\"\",EingabeAngabe!C18)","v":""},null,null,null,{"$f":"IF(OR(G14=\"\",G14>EingabeAngabe!F18),\"F\",EingabeAngabe!B18)","v":"F"},null,"Genügend",null,null,null,{"$f":"EingabeAngabe!F75","v":"36 - 30"}]
[null,{"$f":"IF(EingabeAngabe!C19=\"\",\"\",EingabeAngabe!C19)","v":""},null,null,null,null,null,"Nicht genügend",null,null,null,{"$f":"EingabeAngabe!F76","v":"29 - 00"}]
[{"$f":"EingabeAngabe!B20","v":"SE8"},{"$f":"IF(EingabeAngabe!C20=\"\",\"\",EingabeAngabe!C20)","v":""},null,null,null,{"$f":"IF(OR(G16=\"\",G16>EingabeAngabe!F20),\"F\",EingabeAngabe!B20)","v":"F"},null,{"$f":"CONCATENATE(\"Notendefinition laut LBVO$14:\",\"            \",K50)","v":"Notendefinition laut LBVO$14:            "}]
[null,{"$f":"IF(EingabeAngabe!C21=\"\",\"\",EingabeAngabe!C21)","v":""},null,null,null,null,null,{"$f":"VLOOKUP(K50,SchuelernamenEingabe!D2:'SchuelernamenEingabe'!E40,2,FALSE)","v":{"$error":"#N/A"}}]
[{"$f":"EingabeAngabe!B22","v":"SE9"},{"$f":"IF(EingabeAngabe!C22=\"\",\"\",EingabeAngabe!C22)","v":""},null,null,null,{"$f":"IF(OR(G18=\"\",G18>EingabeAngabe!F22),\"F\",EingabeAngabe!B22)","v":"F"}]
[null,{"$f":"IF(EingabeAngabe!C23=\"\",\"\",EingabeAngabe!C23)","v":""}]
[{"$f":"EingabeAngabe!B24","v":"SE10"},{"$f":"IF(EingabeAngabe!C24=\"\",\"\",EingabeAngabe!C24)","v":""},null,null,null,{"$f":"IF(OR(G20=\"\",G20>EingabeAngabe!F24),\"F\",EingabeAngabe!B24)","v":"F"}]
[null,{"$f":"IF(EingabeAngabe!C25=\"\",\"\",EingabeAngabe!C25)","v":""}]
[{"$f":"EingabeAngabe!B26","v":"SE11"},{"$f":"IF(EingabeAngabe!C26=\"\",\"\",EingabeAngabe!C26)","v":""},null,null,null,{"$f":"IF(OR(G22=\"\",G22>EingabeAngabe!F26),\"F\",EingabeAngabe!B26)","v":"F"}]
[null,{"$f":"IF(EingabeAngabe!C27=\"\",\"\",EingabeAngabe!C27)","v":""}]
[{"$f":"EingabeAngabe!B28","v":"SE12"},{"$f":"IF(EingabeAngabe!C28=\"\",\"\",EingabeAngabe!C28)","v":""},null,null,null,{"$f":"IF(OR(G24=\"\",G24>EingabeAngabe!F28),\"F\",EingabeAngabe!B28)","v":"F"}]
[null,{"$f":"IF(EingabeAngabe!C29=\"\",\"\",EingabeAngabe!C29)","v":""}]
[{"$f":"EingabeAngabe!B31","v":"LE13"},{"$f":"IF(EingabeAngabe!C31=\"\",\"\",EingabeAngabe!C31)","v":""},null,{"$f":"IF(EingabeAngabe!D31=\"\",\"\",EingabeAngabe!D31)","v":""},{"$f":"IF(EingabeAngabe!E31=\"\",\"\",EingabeAngabe!E31)","v":""},{"$f":"IF(OR(G26=\"\",G26>EingabeAngabe!F31),\"F\",EingabeAngabe!B31)","v":"F"}]
[{"$f":"EingabeAngabe!B32","v":"LE14"},{"$f":"IF(EingabeAngabe!C32=\"\",\"\",EingabeAngabe!C32)","v":""},null,{"$f":"IF(EingabeAngabe!D32=\"\",\"\",EingabeAngabe!D32)","v":""},{"$f":"IF(EingabeAngabe!E32=\"\",\"\",EingabeAngabe!E32)","v":""},{"$f":"IF(OR(G27=\"\",G27>EingabeAngabe!F32),\"F\",EingabeAngabe!B32)","v":"F"},null,{"$f":"IF(EingabeAngabe!F80>\"\",EingabeAngabe!E79,\"\")","v":"Eigener Notenkommentar:"}]
[{"$f":"EingabeAngabe!B33","v":"LE15"},{"$f":"IF(EingabeAngabe!C33=\"\",\"\",EingabeAngabe!C33)","v":""},null,{"$f":"IF(EingabeAngabe!D33=\"\",\"\",EingabeAngabe!D33)","v":""},{"$f":"IF(EingabeAngabe!E33=\"\",\"\",EingabeAngabe!E33)","v":""},{"$f":"IF(OR(G28=\"\",G28>EingabeAngabe!F33),\"F\",EingabeAngabe!B33)","v":"F"}]
["LE16",{"$f":"IF(EingabeAngabe!C34=\"\",\"\",EingabeAngabe!C34)","v":""},null,{"$f":"IF(EingabeAngabe!D34=\"\",\"\",EingabeAngabe!D34)","v":""},{"$f":"IF(EingabeAngabe!E34=\"\",\"\",EingabeAngabe!E34)","v":""},{"$f":"IF(OR(G29=\"\",G29>EingabeAngabe!F34),\"F\",EingabeAngabe!B34)","v":"F"}]
["LE17",{"$f":"IF(EingabeAngabe!C35=\"\",\"\",EingabeAngabe!C35)","v":""},null,{"$f":"IF(EingabeAngabe!D35=\"\",\"\",EingabeAngabe!D35)","v":""},{"$f":"IF(EingabeAngabe!E35=\"\",\"\",EingabeAngabe!E35)","v":""},{"$f":"IF(OR(G30=\"\",G30>EingabeAngabe!F35),\"F\",EingabeAngabe!B35)","v":"F"}]
["LE18",{"$f":"IF(EingabeAngabe!C36=\"\",\"\",EingabeAngabe!C36)","v":""},null,{"$f":"IF(EingabeAngabe!D36=\"\",\"\",EingabeAngabe!D36)","v":""},{"$f":"IF(EingabeAngabe!E36=\"\",\"\",EingabeAngabe!E36)","v":""},{"$f":"IF(OR(G31=\"\",G31>EingabeAngabe!F36),\"F\",EingabeAngabe!B36)","v":"F"}]
["LE19",{"$f":"IF(EingabeAngabe!C37=\"\",\"\",EingabeAngabe!C37)","v":""},null,{"$f":"IF(EingabeAngabe!D37=\"\",\"\",EingabeAngabe!D37)","v":""},{"$f":"IF(EingabeAngabe!E37=\"\",\"\",EingabeAngabe!E37)","v":""},{"$f":"IF(OR(G32=\"\",G32>EingabeAngabe!F37),\"F\",EingabeAngabe!B37)","v":"F"}]
[{"$f":"EingabeAngabe!B38","v":"LE20"},{"$f":"IF(EingabeAngabe!C38=\"\",\"\",EingabeAngabe!C38)","v":""},null,{"$f":"IF(EingabeAngabe!D38=\"\",\"\",EingabeAngabe!D38)","v":""},{"$f":"IF(EingabeAngabe!E38=\"\",\"\",EingabeAngabe!E38)","v":""},{"$f":"IF(OR(G33=\"\",G33>EingabeAngabe!F38),\"F\",EingabeAngabe!B38)","v":"F"}]
[{"$f":"EingabeAngabe!B40","v":"MO21"},{"$f":"IF(EingabeAngabe!C40=\"\",\"\",EingabeAngabe!C40)","v":""},null,{"$f":"IF(EingabeAngabe!D40=\"\",\"\",EingabeAngabe!D40)","v":""},null,{"$f":"IF(OR(G34=\"\",G34>EingabeAngabe!F39),\"F\",EingabeAngabe!B40)","v":"F"}]
[{"$f":"EingabeAngabe!B41","v":"MO22"},{"$f":"IF(EingabeAngabe!C41=\"\",\"\",EingabeAngabe!C41)","v":""},null,{"$f":"IF(EingabeAngabe!D41=\"\",\"\",EingabeAngabe!D41)","v":""},null,{"$f":"IF(OR(G35=\"\",G35>EingabeAngabe!F40),\"F\",EingabeAngabe!B41)","v":"F"}]
["MO23",{"$f":"IF(EingabeAngabe!C42=\"\",\"\",EingabeAngabe!C42)","v":""},null,{"$f":"IF(EingabeAngabe!D42=\"\",\"\",EingabeAngabe!D42)","v":""},null,{"$f":"IF(OR(G36=\"\",G36>EingabeAngabe!F41),\"F\",EingabeAngabe!B42)","v":"F"}]
["MO24",{"$f":"IF(EingabeAngabe!C43=\"\",\"\",EingabeAngabe!C43)","v":""},null,{"$f":"IF(EingabeAngabe!D43=\"\",\"\",EingabeAngabe!D43)","v":""},null,{"$f":"IF(OR(G37=\"\",G37>EingabeAngabe!F42),\"F\",EingabeAngabe!B43)","v":"F"}]
["MO25",{"$f":"IF(EingabeAngabe!C44=\"\",\"\",EingabeAngabe!C44)","v":""},null,{"$f":"IF(EingabeAngabe!D44=\"\",\"\",EingabeAngabe!D44)","v":""},null,{"$f":"IF(OR(G38=\"\",G38>EingabeAngabe!F41),\"F\",EingabeAngabe!B42)","v":"F"}]
[{"$f":"EingabeAngabe!B45","v":"MO26"},{"$f":"IF(EingabeAngabe!C45=\"\",\"\",EingabeAngabe!C45)","v":""},null,{"$f":"IF(EingabeAngabe!D45=\"\",\"\",EingabeAngabe!D45)","v":""},null,{"$f":"IF(OR(G39=\"\",G39>EingabeAngabe!F42),\"F\",EingabeAngabe!B45)","v":"F"}]
[{"$f":"EingabeAngabe!B46","v":"MO27"},{"$f":"IF(EingabeAngabe!C46=\"\",\"\",EingabeAngabe!C46)","v":""},null,{"$f":"IF(EingabeAngabe!D46=\"\",\"\",EingabeAngabe!D46)","v":""},null,{"$f":"IF(OR(G40=\"\",G40>EingabeAngabe!F45),\"F\",EingabeAngabe!B46)","v":"F"}]
[{"$f":"EingabeAngabe!B47","v":"MO28"},{"$f":"IF(EingabeAngabe!C47=\"\",\"\",EingabeAngabe!C47)","v":""},null,{"$f":"IF(EingabeAngabe!D47=\"\",\"\",EingabeAngabe!D47)","v":""},null,{"$f":"IF(OR(G41=\"\",G41>EingabeAngabe!F46),\"F\",EingabeAngabe!B47)","v":"F"}]
[{"$f":"EingabeAngabe!B49","v":"SY29"},{"$f":"IF(EingabeAngabe!C49=\"\",\"\",EingabeAngabe!C49)","v":""},null,{"$f":"IF(EingabeAngabe!D49=\"\",\"\",EingabeAngabe!D49)","v":""},null,{"$f":"IF(OR(G42=\"\",G42>EingabeAngabe!F47),\"F\",EingabeAngabe!B49)","v":"F"}]
["SY30",{"$f":"IF(EingabeAngabe!C50=\"\",\"\",EingabeAngabe!C50)","v":""},null,{"$f":"IF(EingabeAngabe!D50=\"\",\"\",EingabeAngabe!D50)","v":""},null,{"$f":"IF(OR(G43=\"\",G43>EingabeAngabe!F48),\"F\",EingabeAngabe!B50)","v":"F"}]
["SY31",{"$f":"IF(EingabeAngabe!C51=\"\",\"\",EingabeAngabe!C51)","v":""},null,{"$f":"IF(EingabeAngabe!D51=\"\",\"\",EingabeAngabe!D51)","v":""},null,{"$f":"IF(OR(G44=\"\",G44>EingabeAngabe!F49),\"F\",EingabeAngabe!B51)","v":"F"}]
["SY32",{"$f":"IF(EingabeAngabe!C52=\"\",\"\",EingabeAngabe!C52)","v":""},null,{"$f":"IF(EingabeAngabe!D52=\"\",\"\",EingabeAngabe!D52)","v":""},null,{"$f":"IF(OR(G45=\"\",G45>EingabeAngabe!F50),\"F\",EingabeAngabe!B52)","v":"F"}]
["SY33",{"$f":"IF(EingabeAngabe!C53=\"\",\"\",EingabeAngabe!C53)","v":""},null,{"$f":"IF(EingabeAngabe!D53=\"\",\"\",EingabeAngabe!D53)","v":""},null,{"$f":"IF(OR(G46=\"\",G46>EingabeAngabe!F51),\"F\",EingabeAngabe!B53)","v":"F"}]
["SY34",{"$f":"IF(EingabeAngabe!C54=\"\",\"\",EingabeAngabe!C54)","v":""},null,{"$f":"IF(EingabeAngabe!D54=\"\",\"\",EingabeAngabe!D54)","v":""},null,{"$f":"IF(OR(G47=\"\",G47>EingabeAngabe!F52),\"F\",EingabeAngabe!B54)","v":"F"},null,"Summe Übersetzungstext",null,null,null,null,{"$f":"EingabeAngabe!W59","v":""}]
[{"$f":"EingabeAngabe!B55","v":"SY35"},{"$f":"IF(EingabeAngabe!C55=\"\",\"\",EingabeAngabe!C55)","v":""},null,{"$f":"IF(EingabeAngabe!D55=\"\",\"\",EingabeAngabe!D55)","v":""},null,{"$f":"IF(OR(G48=\"\",G48>EingabeAngabe!F53),\"F\",EingabeAngabe!B55)","v":"F"},null,"Summe Arbeitsaufgaben und Interpretation",null,null,null,null,{"$f":"EingabeAngabe!W60","v":""}]
[{"$f":"EingabeAngabe!B56","v":"SY36"},{"$f":"IF(EingabeAngabe!C56=\"\",\"\",EingabeAngabe!C56)","v":""},null,{"$f":"IF(EingabeAngabe!D56=\"\",\"\",EingabeAngabe!D56)","v":""},null,{"$f":"IF(OR(G49=\"\",G49>EingabeAngabe!F54),\"F\",EingabeAngabe!B56)","v":"F"},null,"Gesamtsumme",null,null,null,null,{"$f":"EingabeAngabe!W2","v":""}]
[null,{"$f":"EingabeAngabe!C57","v":"SPRACHLICHE QUALITÄT IN DER ZIELSPRACHE"},null,null,null,{"$f":"IF(OR(G50=1,G50=3,G50=5,G50>6),\"F\",\"6/4/2/0\")","v":"6/4/2/0"},null,"NOTE",null,null,{"$f":"IF(EingabeAngabe!W3=1,\"Sehr gut\",IF(EingabeAngabe!W3=2,\"Gut\",IF(EingabeAngabe!W3=3,\"Befriedigend\",IF(EingabeAngabe!W3=4,\"Genügend\",IF(EingabeAngabe!W3=5,\"Nicht genügend\",\"\")))))","v":""}]

{"sheet":"Schueler18Punkte","index":21,"n_rows":50,"n_cols":13,"rows_kept":50,"cut":false,"hidden":false,"merged":[[0,0,0,1],[0,3,0,4],[0,7,0,11],[1,0,2,0],[1,1,1,4],[1,5,2,5],[1,6,2,6],[1,8,1,11],[2,1,2,4],[2,8,2,11],[3,0,4,0],[3,1,3,4],[3,5,4,5],[3,6,4,6],[3,8,3,11],[4,1,4,4],[4,8,4,11],[5,0,6,0],[5,1,5,4],[5,5,6,5],[5,6,6,6],[5,8,5,11],[6,1,6,4],[6,8,6,11],[7,0,8,0],[7,1,7,4],[7,5,8,5],[7,6,8,6],[7,8,7,11],[8,1,8,4],[8,8,8,11],[9,0,10,0],[9,1,9,4],[9,5,10,5],[9,6,10,6],[9,7,9,13],[10,1,10,4],[10,7,10,10],[10,11,10,13],[11,0,12,0],[11,1,11,4],[11,5,12,5],[11,6,12,6],[11,7,11,10],[11,11,11,13],[12,1,12,4],[12,7,12,10],[12,11,12,13],[13,0,14,0],[13,1,13,4],[13,5,14,5],[13,6,14,6],[13,7,13,10],[13,11,13,13],[14,1,14,4],[14,7,14,10],[14,11,14,13],[15,0,16,0],[15,1,15,4],[15,5,16,5],[15,6,16,6],[15,7,15,13],[16,1,16,4],[16,7,24,13],[17,0,18,0],[17,1,17,4],[17,5,18,5],[17,6,18,6],[18,1,18,4],[19,0,20,0],[19,1,19,4],[19,5,20,5],[19,6,20,6],[20,1,20,4],[21,0,22,0],[21,1,21,4],[21,5,22,5],[21,6,22,6],[22,1,22,4],[23,0,24,0],[23,1,23,4],[23,5,24,5],[23,6,24,6],[24,1,24,4],[25,1,25,2],[26,1,26,2],[26,7,26,13],[27,1,27,2],[27,7,44,13],[28,1,28,2],[29,1,29,2],[30,1,30,2],[31,1,31,2],[32,1,32,2],[33,1,33,2],[33,3,33,4],[34,1,34,2],[34,3,34,4],[35,1,35,2],[35,3,35,4],[36,1,36,2],[36,3,36,4],[37,1,37,2],[37,3,37,4],[38,1,38,2],[38,3,38,4],[39,1,39,2],[39,3,39,4],[40,1,40,2],[40,3,40,4],[41,1,41,2],[41,3,41,4],[42,1,42,2],[42,3,42,4],[43,1,43,2],[43,3,43,4],[44,1,44,2],[44,3,44,4],[48,12,48,13],[45,1,45,2],[45,3,45,4],[46,1,46,2],[46,3,46,4],[46,7,46,11],[46,12,46,13],[49,1,49,4],[49,7,49,9],[49,10,49,13],[47,1,47,2],[47,3,47,4],[47,7,47,11],[47,12,47,13],[48,1,48,2],[48,3,48,4],[48,7,48,11]]}
["Übersetzungstext",null,"Schülername",{"$f":"SchuelernamenEingabe!B19","v":0},null,null,null,"Arbeitsaufgaben/ Interpretation"]
[{"$f":"EingabeAngabe!B6","v":"SE1"},{"$f":"IF(EingabeAngabe!C6=\"\",\"\",EingabeAngabe!C6)","v":""},null,null,null,{"$f":"IF(OR(G2=\"\",G2>EingabeAngabe!F6),\"F\",EingabeAngabe!B6)","v":"F"},null,{"$f":"EingabeAngabe!B61","v":"IT1"},{"$f":"IF(EingabeAngabe!C61=\"\",\"\",EingabeAngabe!C61)","v":""},null,null,null,{"$f":"IF(N2>EingabeAngabe!F61,\"F\",IF(EingabeAngabe!F61=\"\",\"\",EingabeAngabe!F61))","v":""}]
[null,{"$f":"IF(EingabeAngabe!C7=\"\",\"\",EingabeAngabe!C7)","v":""},null,null,null,null,null,{"$f":"EingabeAngabe!B62","v":"IT2"},{"$f":"IF(EingabeAngabe!C62=\"\",\"\",EingabeAngabe!C62)","v":""},null,null,null,{"$f":"IF(N3>EingabeAngabe!F62,\"F\",IF(EingabeAngabe!F62=\"\",\"\",EingabeAngabe!F62))","v":""}]
[{"$f":"EingabeAngabe!B8","v":"SE2"},{"$f":"IF(EingabeAngabe!C8=\"\",\"\",EingabeAngabe!C8)","v":""},null,null,null,{"$f":"IF(OR(G4=\"\",G4>EingabeAngabe!F8),\"F\",EingabeAngabe!B8)","v":"F"},null,{"$f":"EingabeAngabe!B63","v":"IT3"},{"$f":"IF(EingabeAngabe!C63=\"\",\"\",EingabeAngabe!C63)","v":""},null,null,null,{"$f":"IF(N4>EingabeAngabe!F63,\"F\",IF(EingabeAngabe!F63=\"\",\"\",EingabeAngabe!F63))","v":""}]
[null,{"$f":"IF(EingabeAngabe!C9=\"\",\"\",EingabeAngabe!C9)","v":""},null,null,null,null,null,{"$f":"EingabeAngabe!B64","v":"IT4"},{"$f":"IF(EingabeAngabe!C64=\"\",\"\",EingabeAngabe!C64)","v":""},null,null,null,{"$f":"IF(N5>EingabeAngabe!F64,\"F\",IF(EingabeAngabe!F64=\"\",\"\",EingabeAngabe!F64))","v":""}]
[{"$f":"EingabeAngabe!B10","v":"SE3"},{"$f":"IF(EingabeAngabe!C10=\"\",\"\",EingabeAngabe!C10)","v":""},null,null,null,{"$f":"IF(OR(G6=\"\",G6>EingabeAngabe!F10),\"F\",EingabeAngabe!B10)","v":"F"},null,{"$f":"EingabeAngabe!B65","v":"IT5"},{"$f":"IF(EingabeAngabe!C65=\"\",\"\",EingabeAngabe!C65)","v":""},null,null,null,{"$f":"IF(N6>EingabeAngabe!F65,\"F\",IF(EingabeAngabe!F65=\"\",\"\",EingabeAngabe!F65))","v":""}]
[null,{"$f":"IF(EingabeAngabe!C11=\"\",\"\",EingabeAngabe!C11)","v":""},null,null,null,null,null,{"$f":"EingabeAngabe!B66","v":"IT6"},{"$f":"IF(EingabeAngabe!C66=\"\",\"\",EingabeAngabe!C66)","v":""},null,null,null,{"$f":"IF(N7>EingabeAngabe!F66,\"F\",IF(EingabeAngabe!F66=\"\",\"\",EingabeAngabe!F66))","v":""}]
[{"$f":"EingabeAngabe!B12","v":"SE4"},{"$f":"IF(EingabeAngabe!C12=\"\",\"\",EingabeAngabe!C12)","v":""},null,null,null,{"$f":"IF(OR(G8=\"\",G8>EingabeAngabe!F12),\"F\",EingabeAngabe!B12)","v":"F"},null,{"$f":"EingabeAngabe!B67","v":"IT7"},{"$f":"IF(EingabeAngabe!C67=\"\",\"\",EingabeAngabe!C67)","v":""},null,null,null,{"$f":"IF(N8>EingabeAngabe!F67,\"F\",IF(EingabeAngabe!F67=\"\",\"\",EingabeAngabe!F67))","v":""}]
[null,{"$f":"IF(EingabeAngabe!C13=\"\",\"\",EingabeAngabe!C13)","v":""},null,null,null,null,null,{"$f":"EingabeAngabe!B68","v":"IT8"},{"$f":"IF(EingabeAngabe!C68=\"\",\"\",EingabeAngabe!C68)","v":""},null,null,null,{"$f":"IF(N9>EingabeAngabe!F68,\"F\",IF(EingabeAngabe!F68=\"\",\"\",EingabeAngabe!F68))","v":""}]
[{"$f":"EingabeAngabe!B14","v":"SE5"},{"$f":"IF(EingabeAngabe!C14=\"\",\"\",EingabeAngabe!C14)","v":""},null,null,null,{"$f":"IF(OR(G10=\"\",G10>EingabeAngabe!F14),\"F\",EingabeAngabe!B14)","v":"F"},null,"Notenschlüssel:"]
[null,{"$f":"IF(EingabeAngabe!C15=\"\",\"\",EingabeAngabe!C15)","v":""},null,null,null,null,null,"Sehr gut",null,null,null,{"$f":"EingabeAngabe!F72","v":"60 - 53"}]
[{"$f":"EingabeAngabe!B16","v":"SE6"},{"$f":"IF(EingabeAngabe!C16=\"\",\"\",EingabeAngabe!C16)","v":""},null,null,null,{"$f":"IF(OR(G12=\"\",G12>EingabeAngabe!F16),\"F\",EingabeAngabe!B16)","v":"F"},null,"Gut",null,null,null,{"$f":"EingabeAngabe!F73","v":"52 - 45"}]
[null,{"$f":"IF(EingabeAngabe!C17=\"\",\"\",EingabeAngabe!C17)","v":""},null,null,null,null,null,"Befriedigend",null,null,null,{"$f":"EingabeAngabe!F74","v":"44 - 37"}]
[{"$f":"EingabeAngabe!B18","v":"SE7"},{"$f":"IF(EingabeAngabe!C18=\"\",\"\",EingabeAngabe!C18)","v":""},null,null,null,{"$f":"IF(OR(G14=\"\",G14>EingabeAngabe!F18),\"F\",EingabeAngabe!B18)","v":"F"},null,"Genügend",null,null,null,{"$f":"EingabeAngabe!F75","v":"36 - 30"}]
[null,{"$f":"IF(EingabeAngabe!C19=\"\",\"\",EingabeAngabe!C19)","v":""},null,null,null,null,null,"Nicht genügend",null,null,null,{"$f":"EingabeAngabe!F76","v":"29 - 00"}]
[{"$f":"EingabeAngabe!B20","v":"SE8"},{"$f":"IF(EingabeAngabe!C20=\"\",\"\",EingabeAngabe!C20)","v":""},null,null,null,{"$f":"IF(OR(G16=\"\",G16>EingabeAngabe!F20),\"F\",EingabeAngabe!B20)","v":"F"},null,{"$f":"CONCATENATE(\"Notendefinition laut LBVO$14:\",\"            \",K50)","v":"Notendefinition laut LBVO$14:            "}]
[null,{"$f":"IF(EingabeAngabe!C21=\"\",\"\",EingabeAngabe!C21)","v":""},null,null,null,null,null,{"$f":"VLOOKUP(K50,SchuelernamenEingabe!D2:'SchuelernamenEingabe'!E40,2,FALSE)","v":{"$error":"#N/A"}}]
[{"$f":"EingabeAngabe!B22","v":"SE9"},{"$f":"IF(EingabeAngabe!C22=\"\",\"\",EingabeAngabe!C22)","v":""},null,null,null,{"$f":"IF(OR(G18=\"\",G18>EingabeAngabe!F22),\"F\",EingabeAngabe!B22)","v":"F"}]
[null,{"$f":"IF(EingabeAngabe!C23=\"\",\"\",EingabeAngabe!C23)","v":""}]
[{"$f":"EingabeAngabe!B24","v":"SE10"},{"$f":"IF(EingabeAngabe!C24=\"\",\"\",EingabeAngabe!C24)","v":""},null,null,null,{"$f":"IF(OR(G20=\"\",G20>EingabeAngabe!F24),\"F\",EingabeAngabe!B24)","v":"F"}]
[null,{"$f":"IF(EingabeAngabe!C25=\"\",\"\",EingabeAngabe!C25)","v":""}]
[{"$f":"EingabeAngabe!B26","v":"SE11"},{"$f":"IF(EingabeAngabe!C26=\"\",\"\",EingabeAngabe!C26)","v":""},null,null,null,{"$f":"IF(OR(G22=\"\",G22>EingabeAngabe!F26),\"F\",EingabeAngabe!B26)","v":"F"}]
[null,{"$f":"IF(EingabeAngabe!C27=\"\",\"\",EingabeAngabe!C27)","v":""}]
[{"$f":"EingabeAngabe!B28","v":"SE12"},{"$f":"IF(EingabeAngabe!C28=\"\",\"\",EingabeAngabe!C28)","v":""},null,null,null,{"$f":"IF(OR(G24=\"\",G24>EingabeAngabe!F28),\"F\",EingabeAngabe!B28)","v":"F"}]
[null,{"$f":"IF(EingabeAngabe!C29=\"\",\"\",EingabeAngabe!C29)","v":""}]
[{"$f":"EingabeAngabe!B31","v":"LE13"},{"$f":"IF(EingabeAngabe!C31=\"\",\"\",EingabeAngabe!C31)","v":""},null,{"$f":"IF(EingabeAngabe!D31=\"\",\"\",EingabeAngabe!D31)","v":""},{"$f":"IF(EingabeAngabe!E31=\"\",\"\",EingabeAngabe!E31)","v":""},{"$f":"IF(OR(G26=\"\",G26>EingabeAngabe!F31),\"F\",EingabeAngabe!B31)","v":"F"}]
[{"$f":"EingabeAngabe!B32","v":"LE14"},{"$f":"IF(EingabeAngabe!C32=\"\",\"\",EingabeAngabe!C32)","v":""},null,{"$f":"IF(EingabeAngabe!D32=\"\",\"\",EingabeAngabe!D32)","v":""},{"$f":"IF(EingabeAngabe!E32=\"\",\"\",EingabeAngabe!E32)","v":""},{"$f":"IF(OR(G27=\"\",G27>EingabeAngabe!F32),\"F\",EingabeAngabe!B32)","v":"F"},null,{"$f":"IF(EingabeAngabe!F80>\"\",EingabeAngabe!E79,\"\")","v":"Eigener Notenkommentar:"}]
[{"$f":"EingabeAngabe!B33","v":"LE15"},{"$f":"IF(EingabeAngabe!C33=\"\",\"\",EingabeAngabe!C33)","v":""},null,{"$f":"IF(EingabeAngabe!D33=\"\",\"\",EingabeAngabe!D33)","v":""},{"$f":"IF(EingabeAngabe!E33=\"\",\"\",EingabeAngabe!E33)","v":""},{"$f":"IF(OR(G28=\"\",G28>EingabeAngabe!F33),\"F\",EingabeAngabe!B33)","v":"F"}]
["LE16",{"$f":"IF(EingabeAngabe!C34=\"\",\"\",EingabeAngabe!C34)","v":""},null,{"$f":"IF(EingabeAngabe!D34=\"\",\"\",EingabeAngabe!D34)","v":""},{"$f":"IF(EingabeAngabe!E34=\"\",\"\",EingabeAngabe!E34)","v":""},{"$f":"IF(OR(G29=\"\",G29>EingabeAngabe!F34),\"F\",EingabeAngabe!B34)","v":"F"}]
["LE17",{"$f":"IF(EingabeAngabe!C35=\"\",\"\",EingabeAngabe!C35)","v":""},null,{"$f":"IF(EingabeAngabe!D35=\"\",\"\",EingabeAngabe!D35)","v":""},{"$f":"IF(EingabeAngabe!E35=\"\",\"\",EingabeAngabe!E35)","v":""},{"$f":"IF(OR(G30=\"\",G30>EingabeAngabe!F35),\"F\",EingabeAngabe!B35)","v":"F"}]
["LE18",{"$f":"IF(EingabeAngabe!C36=\"\",\"\",EingabeAngabe!C36)","v":""},null,{"$f":"IF(EingabeAngabe!D36=\"\",\"\",EingabeAngabe!D36)","v":""},{"$f":"IF(EingabeAngabe!E36=\"\",\"\",EingabeAngabe!E36)","v":""},{"$f":"IF(OR(G31=\"\",G31>EingabeAngabe!F36),\"F\",EingabeAngabe!B36)","v":"F"}]
["LE19",{"$f":"IF(EingabeAngabe!C37=\"\",\"\",EingabeAngabe!C37)","v":""},null,{"$f":"IF(EingabeAngabe!D37=\"\",\"\",EingabeAngabe!D37)","v":""},{"$f":"IF(EingabeAngabe!E37=\"\",\"\",EingabeAngabe!E37)","v":""},{"$f":"IF(OR(G32=\"\",G32>EingabeAngabe!F37),\"F\",EingabeAngabe!B37)","v":"F"}]
[{"$f":"EingabeAngabe!B38","v":"LE20"},{"$f":"IF(EingabeAngabe!C38=\"\",\"\",EingabeAngabe!C38)","v":""},null,{"$f":"IF(EingabeAngabe!D38=\"\",\"\",EingabeAngabe!D38)","v":""},{"$f":"IF(EingabeAngabe!E38=\"\",\"\",EingabeAngabe!E38)","v":""},{"$f":"IF(OR(G33=\"\",G33>EingabeAngabe!F38),\"F\",EingabeAngabe!B38)","v":"F"}]
[{"$f":"EingabeAngabe!B40","v":"MO21"},{"$f":"IF(EingabeAngabe!C40=\"\",\"\",EingabeAngabe!C40)","v":""},null,{"$f":"IF(EingabeAngabe!D40=\"\",\"\",EingabeAngabe!D40)","v":""},null,{"$f":"IF(OR(G34=\"\",G34>EingabeAngabe!F39),\"F\",EingabeAngabe!B40)","v":"F"}]
[{"$f":"EingabeAngabe!B41","v":"MO22"},{"$f":"IF(EingabeAngabe!C41=\"\",\"\",EingabeAngabe!C41)","v":""},null,{"$f":"IF(EingabeAngabe!D41=\"\",\"\",EingabeAngabe!D41)","v":""},null,{"$f":"IF(OR(G35=\"\",G35>EingabeAngabe!F40),\"F\",EingabeAngabe!B41)","v":"F"}]
["MO23",{"$f":"IF(EingabeAngabe!C42=\"\",\"\",EingabeAngabe!C42)","v":""},null,{"$f":"IF(EingabeAngabe!D42=\"\",\"\",EingabeAngabe!D42)","v":""},null,{"$f":"IF(OR(G36=\"\",G36>EingabeAngabe!F41),\"F\",EingabeAngabe!B42)","v":"F"}]
["MO24",{"$f":"IF(EingabeAngabe!C43=\"\",\"\",EingabeAngabe!C43)","v":""},null,{"$f":"IF(EingabeAngabe!D43=\"\",\"\",EingabeAngabe!D43)","v":""},null,{"$f":"IF(OR(G37=\"\",G37>EingabeAngabe!F42),\"F\",EingabeAngabe!B43)","v":"F"}]
["MO25",{"$f":"IF(EingabeAngabe!C44=\"\",\"\",EingabeAngabe!C44)","v":""},null,{"$f":"IF(EingabeAngabe!D44=\"\",\"\",EingabeAngabe!D44)","v":""},null,{"$f":"IF(OR(G38=\"\",G38>EingabeAngabe!F41),\"F\",EingabeAngabe!B42)","v":"F"}]
[{"$f":"EingabeAngabe!B45","v":"MO26"},{"$f":"IF(EingabeAngabe!C45=\"\",\"\",EingabeAngabe!C45)","v":""},null,{"$f":"IF(EingabeAngabe!D45=\"\",\"\",EingabeAngabe!D45)","v":""},null,{"$f":"IF(OR(G39=\"\",G39>EingabeAngabe!F42),\"F\",EingabeAngabe!B45)","v":"F"}]
[{"$f":"EingabeAngabe!B46","v":"MO27"},{"$f":"IF(EingabeAngabe!C46=\"\",\"\",EingabeAngabe!C46)","v":""},null,{"$f":"IF(EingabeAngabe!D46=\"\",\"\",EingabeAngabe!D46)","v":""},null,{"$f":"IF(OR(G40=\"\",G40>EingabeAngabe!F45),\"F\",EingabeAngabe!B46)","v":"F"}]
[{"$f":"EingabeAngabe!B47","v":"MO28"},{"$f":"IF(EingabeAngabe!C47=\"\",\"\",EingabeAngabe!C47)","v":""},null,{"$f":"IF(EingabeAngabe!D47=\"\",\"\",EingabeAngabe!D47)","v":""},null,{"$f":"IF(OR(G41=\"\",G41>EingabeAngabe!F46),\"F\",EingabeAngabe!B47)","v":"F"}]
[{"$f":"EingabeAngabe!B49","v":"SY29"},{"$f":"IF(EingabeAngabe!C49=\"\",\"\",EingabeAngabe!C49)","v":""},null,{"$f":"IF(EingabeAngabe!D49=\"\",\"\",EingabeAngabe!D49)","v":""},null,{"$f":"IF(OR(G42=\"\",G42>EingabeAngabe!F47),\"F\",EingabeAngabe!B49)","v":"F"}]
["SY30",{"$f":"IF(EingabeAngabe!C50=\"\",\"\",EingabeAngabe!C50)","v":""},null,{"$f":"IF(EingabeAngabe!D50=\"\",\"\",EingabeAngabe!D50)","v":""},null,{"$f":"IF(OR(G43=\"\",G43>EingabeAngabe!F48),\"F\",EingabeAngabe!B50)","v":"F"}]
["SY31",{"$f":"IF(EingabeAngabe!C51=\"\",\"\",EingabeAngabe!C51)","v":""},null,{"$f":"IF(EingabeAngabe!D51=\"\",\"\",EingabeAngabe!D51)","v":""},null,{"$f":"IF(OR(G44=\"\",G44>EingabeAngabe!F49),\"F\",EingabeAngabe!B51)","v":"F"}]
["SY32",{"$f":"IF(EingabeAngabe!C52=\"\",\"\",EingabeAngabe!C52)","v":""},null,{"$f":"IF(EingabeAngabe!D52=\"\",\"\",EingabeAngabe!D52)","v":""},null,{"$f":"IF(OR(G45=\"\",G45>EingabeAngabe!F50),\"F\",EingabeAngabe!B52)","v":"F"}]
["SY33",{"$f":"IF(EingabeAngabe!C53=\"\",\"\",EingabeAngabe!C53)","v":""},null,{"$f":"IF(EingabeAngabe!D53=\"\",\"\",EingabeAngabe!D53)","v":""},null,{"$f":"IF(OR(G46=\"\",G46>EingabeAngabe!F51),\"F\",EingabeAngabe!B53)","v":"F"}]
["SY34",{"$f":"IF(EingabeAngabe!C54=\"\",\"\",EingabeAngabe!C54)","v":""},null,{"$f":"IF(EingabeAngabe!D54=\"\",\"\",EingabeAngabe!D54)","v":""},null,{"$f":"IF(OR(G47=\"\",G47>EingabeAngabe!F52),\"F\",EingabeAngabe!B54)","v":"F"},null,"Summe Übersetzungstext",null,null,null,null,{"$f":"EingabeAngabe!X59","v":""}]
[{"$f":"EingabeAngabe!B55","v":"SY35"},{"$f":"IF(EingabeAngabe!C55=\"\",\"\",EingabeAngabe!C55)","v":""},null,{"$f":"IF(EingabeAngabe!D55=\"\",\"\",EingabeAngabe!D55)","v":""},null,{"$f":"IF(OR(G48=\"\",G48>EingabeAngabe!F53),\"F\",EingabeAngabe!B55)","v":"F"},null,"Summe Arbeitsaufgaben und Interpretation",null,null,null,null,{"$f":"EingabeAngabe!X60","v":""}]
[{"$f":"EingabeAngabe!B56","v":"SY36"},{"$f":"IF(EingabeAngabe!C56=\"\",\"\",EingabeAngabe!C56)","v":""},null,{"$f":"IF(EingabeAngabe!D56=\"\",\"\",EingabeAngabe!D56)","v":""},null,{"$f":"IF(OR(G49=\"\",G49>EingabeAngabe!F54),\"F\",EingabeAngabe!B56)","v":"F"},null,"Gesamtsumme",null,null,null,null,{"$f":"EingabeAngabe!X2","v":""}]
[null,{"$f":"EingabeAngabe!C57","v":"SPRACHLICHE QUALITÄT IN DER ZIELSPRACHE"},null,null,null,{"$f":"IF(OR(G50=1,G50=3,G50=5,G50>6),\"F\",\"6/4/2/0\")","v":"6/4/2/0"},null,"NOTE",null,null,{"$f":"IF(EingabeAngabe!X3=1,\"Sehr gut\",IF(EingabeAngabe!X3=2,\"Gut\",IF(EingabeAngabe!X3=3,\"Befriedigend\",IF(EingabeAngabe!X3=4,\"Genügend\",IF(EingabeAngabe!X3=5,\"Nicht genügend\",\"\")))))","v":""}]

{"sheet":"Schueler19Punkte","index":22,"n_rows":50,"n_cols":13,"rows_kept":50,"cut":false,"hidden":false,"merged":[[0,0,0,1],[0,3,0,4],[0,7,0,11],[1,0,2,0],[1,1,1,4],[1,5,2,5],[1,6,2,6],[1,8,1,11],[2,1,2,4],[2,8,2,11],[3,0,4,0],[3,1,3,4],[3,5,4,5],[3,6,4,6],[3,8,3,11],[4,1,4,4],[4,8,4,11],[5,0,6,0],[5,1,5,4],[5,5,6,5],[5,6,6,6],[5,8,5,11],[6,1,6,4],[6,8,6,11],[7,0,8,0],[7,1,7,4],[7,5,8,5],[7,6,8,6],[7,8,7,11],[8,1,8,4],[8,8,8,11],[9,0,10,0],[9,1,9,4],[9,5,10,5],[9,6,10,6],[9,7,9,13],[10,1,10,4],[10,7,10,10],[10,11,10,13],[11,0,12,0],[11,1,11,4],[11,5,12,5],[11,6,12,6],[11,7,11,10],[11,11,11,13],[12,1,12,4],[12,7,12,10],[12,11,12,13],[13,0,14,0],[13,1,13,4],[13,5,14,5],[13,6,14,6],[13,7,13,10],[13,11,13,13],[14,1,14,4],[14,7,14,10],[14,11,14,13],[15,0,16,0],[15,1,15,4],[15,5,16,5],[15,6,16,6],[15,7,15,13],[16,1,16,4],[16,7,24,13],[17,0,18,0],[17,1,17,4],[17,5,18,5],[17,6,18,6],[18,1,18,4],[19,0,20,0],[19,1,19,4],[19,5,20,5],[19,6,20,6],[20,1,20,4],[21,0,22,0],[21,1,21,4],[21,5,22,5],[21,6,22,6],[22,1,22,4],[23,0,24,0],[23,1,23,4],[23,5,24,5],[23,6,24,6],[24,1,24,4],[25,1,25,2],[26,1,26,2],[26,7,26,13],[27,1,27,2],[27,7,44,13],[28,1,28,2],[29,1,29,2],[30,1,30,2],[31,1,31,2],[32,1,32,2],[33,1,33,2],[33,3,33,4],[34,1,34,2],[34,3,34,4],[35,1,35,2],[35,3,35,4],[36,1,36,2],[36,3,36,4],[37,1,37,2],[37,3,37,4],[38,1,38,2],[38,3,38,4],[39,1,39,2],[39,3,39,4],[40,1,40,2],[40,3,40,4],[41,1,41,2],[41,3,41,4],[42,1,42,2],[42,3,42,4],[43,1,43,2],[43,3,43,4],[44,1,44,2],[44,3,44,4],[48,12,48,13],[45,1,45,2],[45,3,45,4],[46,1,46,2],[46,3,46,4],[46,7,46,11],[46,12,46,13],[49,1,49,4],[49,7,49,9],[49,10,49,13],[47,1,47,2],[47,3,47,4],[47,7,47,11],[47,12,47,13],[48,1,48,2],[48,3,48,4],[48,7,48,11]]}
["Übersetzungstext",null,"Schülername",{"$f":"SchuelernamenEingabe!B20","v":0},null,null,null,"Arbeitsaufgaben/ Interpretation"]
[{"$f":"EingabeAngabe!B6","v":"SE1"},{"$f":"IF(EingabeAngabe!C6=\"\",\"\",EingabeAngabe!C6)","v":""},null,null,null,{"$f":"IF(OR(G2=\"\",G2>EingabeAngabe!F6),\"F\",EingabeAngabe!B6)","v":"F"},null,{"$f":"EingabeAngabe!B61","v":"IT1"},{"$f":"IF(EingabeAngabe!C61=\"\",\"\",EingabeAngabe!C61)","v":""},null,null,null,{"$f":"IF(N2>EingabeAngabe!F61,\"F\",IF(EingabeAngabe!F61=\"\",\"\",EingabeAngabe!F61))","v":""}]
[null,{"$f":"IF(EingabeAngabe!C7=\"\",\"\",EingabeAngabe!C7)","v":""},null,null,null,null,null,{"$f":"EingabeAngabe!B62","v":"IT2"},{"$f":"IF(EingabeAngabe!C62=\"\",\"\",EingabeAngabe!C62)","v":""},null,null,null,{"$f":"IF(N3>EingabeAngabe!F62,\"F\",IF(EingabeAngabe!F62=\"\",\"\",EingabeAngabe!F62))","v":""}]
[{"$f":"EingabeAngabe!B8","v":"SE2"},{"$f":"IF(EingabeAngabe!C8=\"\",\"\",EingabeAngabe!C8)","v":""},null,null,null,{"$f":"IF(OR(G4=\"\",G4>EingabeAngabe!F8),\"F\",EingabeAngabe!B8)","v":"F"},null,{"$f":"EingabeAngabe!B63","v":"IT3"},{"$f":"IF(EingabeAngabe!C63=\"\",\"\",EingabeAngabe!C63)","v":""},null,null,null,{"$f":"IF(N4>EingabeAngabe!F63,\"F\",IF(EingabeAngabe!F63=\"\",\"\",EingabeAngabe!F63))","v":""}]
[null,{"$f":"IF(EingabeAngabe!C9=\"\",\"\",EingabeAngabe!C9)","v":""},null,null,null,null,null,{"$f":"EingabeAngabe!B64","v":"IT4"},{"$f":"IF(EingabeAngabe!C64=\"\",\"\",EingabeAngabe!C64)","v":""},null,null,null,{"$f":"IF(N5>EingabeAngabe!F64,\"F\",IF(EingabeAngabe!F64=\"\",\"\",EingabeAngabe!F64))","v":""}]
[{"$f":"EingabeAngabe!B10","v":"SE3"},{"$f":"IF(EingabeAngabe!C10=\"\",\"\",EingabeAngabe!C10)","v":""},null,null,null,{"$f":"IF(OR(G6=\"\",G6>EingabeAngabe!F10),\"F\",EingabeAngabe!B10)","v":"F"},null,{"$f":"EingabeAngabe!B65","v":"IT5"},{"$f":"IF(EingabeAngabe!C65=\"\",\"\",EingabeAngabe!C65)","v":""},null,null,null,{"$f":"IF(N6>EingabeAngabe!F65,\"F\",IF(EingabeAngabe!F65=\"\",\"\",EingabeAngabe!F65))","v":""}]
[null,{"$f":"IF(EingabeAngabe!C11=\"\",\"\",EingabeAngabe!C11)","v":""},null,null,null,null,null,{"$f":"EingabeAngabe!B66","v":"IT6"},{"$f":"IF(EingabeAngabe!C66=\"\",\"\",EingabeAngabe!C66)","v":""},null,null,null,{"$f":"IF(N7>EingabeAngabe!F66,\"F\",IF(EingabeAngabe!F66=\"\",\"\",EingabeAngabe!F66))","v":""}]
[{"$f":"EingabeAngabe!B12","v":"SE4"},{"$f":"IF(EingabeAngabe!C12=\"\",\"\",EingabeAngabe!C12)","v":""},null,null,null,{"$f":"IF(OR(G8=\"\",G8>EingabeAngabe!F12),\"F\",EingabeAngabe!B12)","v":"F"},null,{"$f":"EingabeAngabe!B67","v":"IT7"},{"$f":"IF(EingabeAngabe!C67=\"\",\"\",EingabeAngabe!C67)","v":""},null,null,null,{"$f":"IF(N8>EingabeAngabe!F67,\"F\",IF(EingabeAngabe!F67=\"\",\"\",EingabeAngabe!F67))","v":""}]
[null,{"$f":"IF(EingabeAngabe!C13=\"\",\"\",EingabeAngabe!C13)","v":""},null,null,null,null,null,{"$f":"EingabeAngabe!B68","v":"IT8"},{"$f":"IF(EingabeAngabe!C68=\"\",\"\",EingabeAngabe!C68)","v":""},null,null,null,{"$f":"IF(N9>EingabeAngabe!F68,\"F\",IF(EingabeAngabe!F68=\"\",\"\",EingabeAngabe!F68))","v":""}]
[{"$f":"EingabeAngabe!B14","v":"SE5"},{"$f":"IF(EingabeAngabe!C14=\"\",\"\",EingabeAngabe!C14)","v":""},null,null,null,{"$f":"IF(OR(G10=\"\",G10>EingabeAngabe!F14),\"F\",EingabeAngabe!B14)","v":"F"},null,"Notenschlüssel:"]
[null,{"$f":"IF(EingabeAngabe!C15=\"\",\"\",EingabeAngabe!C15)","v":""},null,null,null,null,null,"Sehr gut",null,null,null,{"$f":"EingabeAngabe!F72","v":"60 - 53"}]
[{"$f":"EingabeAngabe!B16","v":"SE6"},{"$f":"IF(EingabeAngabe!C16=\"\",\"\",EingabeAngabe!C16)","v":""},null,null,null,{"$f":"IF(OR(G12=\"\",G12>EingabeAngabe!F16),\"F\",EingabeAngabe!B16)","v":"F"},null,"Gut",null,null,null,{"$f":"EingabeAngabe!F73","v":"52 - 45"}]
[null,{"$f":"IF(EingabeAngabe!C17=\"\",\"\",EingabeAngabe!C17)","v":""},null,null,null,null,null,"Befriedigend",null,null,null,{"$f":"EingabeAngabe!F74","v":"44 - 37"}]
[{"$f":"EingabeAngabe!B18","v":"SE7"},{"$f":"IF(EingabeAngabe!C18=\"\",\"\",EingabeAngabe!C18)","v":""},null,null,null,{"$f":"IF(OR(G14=\"\",G14>EingabeAngabe!F18),\"F\",EingabeAngabe!B18)","v":"F"},null,"Genügend",null,null,null,{"$f":"EingabeAngabe!F75","v":"36 - 30"}]
[null,{"$f":"IF(EingabeAngabe!C19=\"\",\"\",EingabeAngabe!C19)","v":""},null,null,null,null,null,"Nicht genügend",null,null,null,{"$f":"EingabeAngabe!F76","v":"29 - 00"}]
[{"$f":"EingabeAngabe!B20","v":"SE8"},{"$f":"IF(EingabeAngabe!C20=\"\",\"\",EingabeAngabe!C20)","v":""},null,null,null,{"$f":"IF(OR(G16=\"\",G16>EingabeAngabe!F20),\"F\",EingabeAngabe!B20)","v":"F"},null,{"$f":"CONCATENATE(\"Notendefinition laut LBVO$14:\",\"            \",K50)","v":"Notendefinition laut LBVO$14:            "}]
[null,{"$f":"IF(EingabeAngabe!C21=\"\",\"\",EingabeAngabe!C21)","v":""},null,null,null,null,null,{"$f":"VLOOKUP(K50,SchuelernamenEingabe!D2:'SchuelernamenEingabe'!E40,2,FALSE)","v":{"$error":"#N/A"}}]
[{"$f":"EingabeAngabe!B22","v":"SE9"},{"$f":"IF(EingabeAngabe!C22=\"\",\"\",EingabeAngabe!C22)","v":""},null,null,null,{"$f":"IF(OR(G18=\"\",G18>EingabeAngabe!F22),\"F\",EingabeAngabe!B22)","v":"F"}]
[null,{"$f":"IF(EingabeAngabe!C23=\"\",\"\",EingabeAngabe!C23)","v":""}]
[{"$f":"EingabeAngabe!B24","v":"SE10"},{"$f":"IF(EingabeAngabe!C24=\"\",\"\",EingabeAngabe!C24)","v":""},null,null,null,{"$f":"IF(OR(G20=\"\",G20>EingabeAngabe!F24),\"F\",EingabeAngabe!B24)","v":"F"}]
[null,{"$f":"IF(EingabeAngabe!C25=\"\",\"\",EingabeAngabe!C25)","v":""}]
[{"$f":"EingabeAngabe!B26","v":"SE11"},{"$f":"IF(EingabeAngabe!C26=\"\",\"\",EingabeAngabe!C26)","v":""},null,null,null,{"$f":"IF(OR(G22=\"\",G22>EingabeAngabe!F26),\"F\",EingabeAngabe!B26)","v":"F"}]
[null,{"$f":"IF(EingabeAngabe!C27=\"\",\"\",EingabeAngabe!C27)","v":""}]
[{"$f":"EingabeAngabe!B28","v":"SE12"},{"$f":"IF(EingabeAngabe!C28=\"\",\"\",EingabeAngabe!C28)","v":""},null,null,null,{"$f":"IF(OR(G24=\"\",G24>EingabeAngabe!F28),\"F\",EingabeAngabe!B28)","v":"F"}]
[null,{"$f":"IF(EingabeAngabe!C29=\"\",\"\",EingabeAngabe!C29)","v":""}]
[{"$f":"EingabeAngabe!B31","v":"LE13"},{"$f":"IF(EingabeAngabe!C31=\"\",\"\",EingabeAngabe!C31)","v":""},null,{"$f":"IF(EingabeAngabe!D31=\"\",\"\",EingabeAngabe!D31)","v":""},{"$f":"IF(EingabeAngabe!E31=\"\",\"\",EingabeAngabe!E31)","v":""},{"$f":"IF(OR(G26=\"\",G26>EingabeAngabe!F31),\"F\",EingabeAngabe!B31)","v":"F"}]
[{"$f":"EingabeAngabe!B32","v":"LE14"},{"$f":"IF(EingabeAngabe!C32=\"\",\"\",EingabeAngabe!C32)","v":""},null,{"$f":"IF(EingabeAngabe!D32=\"\",\"\",EingabeAngabe!D32)","v":""},{"$f":"IF(EingabeAngabe!E32=\"\",\"\",EingabeAngabe!E32)","v":""},{"$f":"IF(OR(G27=\"\",G27>EingabeAngabe!F32),\"F\",EingabeAngabe!B32)","v":"F"},null,{"$f":"IF(EingabeAngabe!F80>\"\",EingabeAngabe!E79,\"\")","v":"Eigener Notenkommentar:"}]
[{"$f":"EingabeAngabe!B33","v":"LE15"},{"$f":"IF(EingabeAngabe!C33=\"\",\"\",EingabeAngabe!C33)","v":""},null,{"$f":"IF(EingabeAngabe!D33=\"\",\"\",EingabeAngabe!D33)","v":""},{"$f":"IF(EingabeAngabe!E33=\"\",\"\",EingabeAngabe!E33)","v":""},{"$f":"IF(OR(G28=\"\",G28>EingabeAngabe!F33),\"F\",EingabeAngabe!B33)","v":"F"}]
["LE16",{"$f":"IF(EingabeAngabe!C34=\"\",\"\",EingabeAngabe!C34)","v":""},null,{"$f":"IF(EingabeAngabe!D34=\"\",\"\",EingabeAngabe!D34)","v":""},{"$f":"IF(EingabeAngabe!E34=\"\",\"\",EingabeAngabe!E34)","v":""},{"$f":"IF(OR(G29=\"\",G29>EingabeAngabe!F34),\"F\",EingabeAngabe!B34)","v":"F"}]
["LE17",{"$f":"IF(EingabeAngabe!C35=\"\",\"\",EingabeAngabe!C35)","v":""},null,{"$f":"IF(EingabeAngabe!D35=\"\",\"\",EingabeAngabe!D35)","v":""},{"$f":"IF(EingabeAngabe!E35=\"\",\"\",EingabeAngabe!E35)","v":""},{"$f":"IF(OR(G30=\"\",G30>EingabeAngabe!F35),\"F\",EingabeAngabe!B35)","v":"F"}]
["LE18",{"$f":"IF(EingabeAngabe!C36=\"\",\"\",EingabeAngabe!C36)","v":""},null,{"$f":"IF(EingabeAngabe!D36=\"\",\"\",EingabeAngabe!D36)","v":""},{"$f":"IF(EingabeAngabe!E36=\"\",\"\",EingabeAngabe!E36)","v":""},{"$f":"IF(OR(G31=\"\",G31>EingabeAngabe!F36),\"F\",EingabeAngabe!B36)","v":"F"}]
["LE19",{"$f":"IF(EingabeAngabe!C37=\"\",\"\",EingabeAngabe!C37)","v":""},null,{"$f":"IF(EingabeAngabe!D37=\"\",\"\",EingabeAngabe!D37)","v":""},{"$f":"IF(EingabeAngabe!E37=\"\",\"\",EingabeAngabe!E37)","v":""},{"$f":"IF(OR(G32=\"\",G32>EingabeAngabe!F37),\"F\",EingabeAngabe!B37)","v":"F"}]
[{"$f":"EingabeAngabe!B38","v":"LE20"},{"$f":"IF(EingabeAngabe!C38=\"\",\"\",EingabeAngabe!C38)","v":""},null,{"$f":"IF(EingabeAngabe!D38=\"\",\"\",EingabeAngabe!D38)","v":""},{"$f":"IF(EingabeAngabe!E38=\"\",\"\",EingabeAngabe!E38)","v":""},{"$f":"IF(OR(G33=\"\",G33>EingabeAngabe!F38),\"F\",EingabeAngabe!B38)","v":"F"}]
[{"$f":"EingabeAngabe!B40","v":"MO21"},{"$f":"IF(EingabeAngabe!C40=\"\",\"\",EingabeAngabe!C40)","v":""},null,{"$f":"IF(EingabeAngabe!D40=\"\",\"\",EingabeAngabe!D40)","v":""},null,{"$f":"IF(OR(G34=\"\",G34>EingabeAngabe!F39),\"F\",EingabeAngabe!B40)","v":"F"}]
[{"$f":"EingabeAngabe!B41","v":"MO22"},{"$f":"IF(EingabeAngabe!C41=\"\",\"\",EingabeAngabe!C41)","v":""},null,{"$f":"IF(EingabeAngabe!D41=\"\",\"\",EingabeAngabe!D41)","v":""},null,{"$f":"IF(OR(G35=\"\",G35>EingabeAngabe!F40),\"F\",EingabeAngabe!B41)","v":"F"}]
["MO23",{"$f":"IF(EingabeAngabe!C42=\"\",\"\",EingabeAngabe!C42)","v":""},null,{"$f":"IF(EingabeAngabe!D42=\"\",\"\",EingabeAngabe!D42)","v":""},null,{"$f":"IF(OR(G36=\"\",G36>EingabeAngabe!F41),\"F\",EingabeAngabe!B42)","v":"F"}]
["MO24",{"$f":"IF(EingabeAngabe!C43=\"\",\"\",EingabeAngabe!C43)","v":""},null,{"$f":"IF(EingabeAngabe!D43=\"\",\"\",EingabeAngabe!D43)","v":""},null,{"$f":"IF(OR(G37=\"\",G37>EingabeAngabe!F42),\"F\",EingabeAngabe!B43)","v":"F"}]
["MO25",{"$f":"IF(EingabeAngabe!C44=\"\",\"\",EingabeAngabe!C44)","v":""},null,{"$f":"IF(EingabeAngabe!D44=\"\",\"\",EingabeAngabe!D44)","v":""},null,{"$f":"IF(OR(G38=\"\",G38>EingabeAngabe!F41),\"F\",EingabeAngabe!B42)","v":"F"}]
[{"$f":"EingabeAngabe!B45","v":"MO26"},{"$f":"IF(EingabeAngabe!C45=\"\",\"\",EingabeAngabe!C45)","v":""},null,{"$f":"IF(EingabeAngabe!D45=\"\",\"\",EingabeAngabe!D45)","v":""},null,{"$f":"IF(OR(G39=\"\",G39>EingabeAngabe!F42),\"F\",EingabeAngabe!B45)","v":"F"}]
[{"$f":"EingabeAngabe!B46","v":"MO27"},{"$f":"IF(EingabeAngabe!C46=\"\",\"\",EingabeAngabe!C46)","v":""},null,{"$f":"IF(EingabeAngabe!D46=\"\",\"\",EingabeAngabe!D46)","v":""},null,{"$f":"IF(OR(G40=\"\",G40>EingabeAngabe!F45),\"F\",EingabeAngabe!B46)","v":"F"}]
[{"$f":"EingabeAngabe!B47","v":"MO28"},{"$f":"IF(EingabeAngabe!C47=\"\",\"\",EingabeAngabe!C47)","v":""},null,{"$f":"IF(EingabeAngabe!D47=\"\",\"\",EingabeAngabe!D47)","v":""},null,{"$f":"IF(OR(G41=\"\",G41>EingabeAngabe!F46),\"F\",EingabeAngabe!B47)","v":"F"}]
[{"$f":"EingabeAngabe!B49","v":"SY29"},{"$f":"IF(EingabeAngabe!C49=\"\",\"\",EingabeAngabe!C49)","v":""},null,{"$f":"IF(EingabeAngabe!D49=\"\",\"\",EingabeAngabe!D49)","v":""},null,{"$f":"IF(OR(G42=\"\",G42>EingabeAngabe!F47),\"F\",EingabeAngabe!B49)","v":"F"}]
["SY30",{"$f":"IF(EingabeAngabe!C50=\"\",\"\",EingabeAngabe!C50)","v":""},null,{"$f":"IF(EingabeAngabe!D50=\"\",\"\",EingabeAngabe!D50)","v":""},null,{"$f":"IF(OR(G43=\"\",G43>EingabeAngabe!F48),\"F\",EingabeAngabe!B50)","v":"F"}]
["SY31",{"$f":"IF(EingabeAngabe!C51=\"\",\"\",EingabeAngabe!C51)","v":""},null,{"$f":"IF(EingabeAngabe!D51=\"\",\"\",EingabeAngabe!D51)","v":""},null,{"$f":"IF(OR(G44=\"\",G44>EingabeAngabe!F49),\"F\",EingabeAngabe!B51)","v":"F"}]
["SY32",{"$f":"IF(EingabeAngabe!C52=\"\",\"\",EingabeAngabe!C52)","v":""},null,{"$f":"IF(EingabeAngabe!D52=\"\",\"\",EingabeAngabe!D52)","v":""},null,{"$f":"IF(OR(G45=\"\",G45>EingabeAngabe!F50),\"F\",EingabeAngabe!B52)","v":"F"}]
["SY33",{"$f":"IF(EingabeAngabe!C53=\"\",\"\",EingabeAngabe!C53)","v":""},null,{"$f":"IF(EingabeAngabe!D53=\"\",\"\",EingabeAngabe!D53)","v":""},null,{"$f":"IF(OR(G46=\"\",G46>EingabeAngabe!F51),\"F\",EingabeAngabe!B53)","v":"F"}]
["SY34",{"$f":"IF(EingabeAngabe!C54=\"\",\"\",EingabeAngabe!C54)","v":""},null,{"$f":"IF(EingabeAngabe!D54=\"\",\"\",EingabeAngabe!D54)","v":""},null,{"$f":"IF(OR(G47=\"\",G47>EingabeAngabe!F52),\"F\",EingabeAngabe!B54)","v":"F"},null,"Summe Übersetzungstext",null,null,null,null,{"$f":"EingabeAngabe!Y59","v":""}]
[{"$f":"EingabeAngabe!B55","v":"SY35"},{"$f":"IF(EingabeAngabe!C55=\"\",\"\",EingabeAngabe!C55)","v":""},null,{"$f":"IF(EingabeAngabe!D55=\"\",\"\",EingabeAngabe!D55)","v":""},null,{"$f":"IF(OR(G48=\"\",G48>EingabeAngabe!F53),\"F\",EingabeAngabe!B55)","v":"F"},null,"Summe Arbeitsaufgaben und Interpretation",null,null,null,null,{"$f":"EingabeAngabe!Y60","v":""}]
[{"$f":"EingabeAngabe!B56","v":"SY36"},{"$f":"IF(EingabeAngabe!C56=\"\",\"\",EingabeAngabe!C56)","v":""},null,{"$f":"IF(EingabeAngabe!D56=\"\",\"\",EingabeAngabe!D56)","v":""},null,{"$f":"IF(OR(G49=\"\",G49>EingabeAngabe!F54),\"F\",EingabeAngabe!B56)","v":"F"},null,"Gesamtsumme",null,null,null,null,{"$f":"EingabeAngabe!Y2","v":""}]
[null,{"$f":"EingabeAngabe!C57","v":"SPRACHLICHE QUALITÄT IN DER ZIELSPRACHE"},null,null,null,{"$f":"IF(OR(G50=1,G50=3,G50=5,G50>6),\"F\",\"6/4/2/0\")","v":"6/4/2/0"},null,"NOTE",null,null,{"$f":"IF(EingabeAngabe!Y3=1,\"Sehr gut\",IF(EingabeAngabe!Y3=2,\"Gut\",IF(EingabeAngabe!Y3=3,\"Befriedigend\",IF(EingabeAngabe!Y3=4,\"Genügend\",IF(EingabeAngabe!Y3=5,\"Nicht genügend\",\"\")))))","v":""}]

{"sheet":"Schueler20Punkte","index":23,"n_rows":50,"n_cols":13,"rows_kept":50,"cut":false,"hidden":false,"merged":[[0,0,0,1],[0,3,0,4],[0,7,0,11],[1,0,2,0],[1,1,1,4],[1,5,2,5],[1,6,2,6],[1,8,1,11],[2,1,2,4],[2,8,2,11],[3,0,4,0],[3,1,3,4],[3,5,4,5],[3,6,4,6],[3,8,3,11],[4,1,4,4],[4,8,4,11],[5,0,6,0],[5,1,5,4],[5,5,6,5],[5,6,6,6],[5,8,5,11],[6,1,6,4],[6,8,6,11],[7,0,8,0],[7,1,7,4],[7,5,8,5],[7,6,8,6],[7,8,7,11],[8,1,8,4],[8,8,8,11],[9,0,10,0],[9,1,9,4],[9,5,10,5],[9,6,10,6],[9,7,9,13],[10,1,10,4],[10,7,10,10],[10,11,10,13],[11,0,12,0],[11,1,11,4],[11,5,12,5],[11,6,12,6],[11,7,11,10],[11,11,11,13],[12,1,12,4],[12,7,12,10],[12,11,12,13],[13,0,14,0],[13,1,13,4],[13,5,14,5],[13,6,14,6],[13,7,13,10],[13,11,13,13],[14,1,14,4],[14,7,14,10],[14,11,14,13],[15,0,16,0],[15,1,15,4],[15,5,16,5],[15,6,16,6],[15,7,15,13],[16,1,16,4],[16,7,24,13],[17,0,18,0],[17,1,17,4],[17,5,18,5],[17,6,18,6],[18,1,18,4],[19,0,20,0],[19,1,19,4],[19,5,20,5],[19,6,20,6],[20,1,20,4],[21,0,22,0],[21,1,21,4],[21,5,22,5],[21,6,22,6],[22,1,22,4],[23,0,24,0],[23,1,23,4],[23,5,24,5],[23,6,24,6],[24,1,24,4],[25,1,25,2],[26,1,26,2],[26,7,26,13],[27,1,27,2],[27,7,44,13],[28,1,28,2],[29,1,29,2],[30,1,30,2],[31,1,31,2],[32,1,32,2],[33,1,33,2],[33,3,33,4],[34,1,34,2],[34,3,34,4],[35,1,35,2],[35,3,35,4],[36,1,36,2],[36,3,36,4],[37,1,37,2],[37,3,37,4],[38,1,38,2],[38,3,38,4],[39,1,39,2],[39,3,39,4],[40,1,40,2],[40,3,40,4],[41,1,41,2],[41,3,41,4],[42,1,42,2],[42,3,42,4],[43,1,43,2],[43,3,43,4],[44,1,44,2],[44,3,44,4],[48,12,48,13],[45,1,45,2],[45,3,45,4],[46,1,46,2],[46,3,46,4],[46,7,46,11],[46,12,46,13],[49,1,49,4],[49,7,49,9],[49,10,49,13],[47,1,47,2],[47,3,47,4],[47,7,47,11],[47,12,47,13],[48,1,48,2],[48,3,48,4],[48,7,48,11]]}
["Übersetzungstext",null,"Schülername",{"$f":"SchuelernamenEingabe!B21","v":0},null,null,null,"Arbeitsaufgaben/ Interpretation"]
[{"$f":"EingabeAngabe!B6","v":"SE1"},{"$f":"IF(EingabeAngabe!C6=\"\",\"\",EingabeAngabe!C6)","v":""},null,null,null,{"$f":"IF(OR(G2=\"\",G2>EingabeAngabe!F6),\"F\",EingabeAngabe!B6)","v":"F"},null,{"$f":"EingabeAngabe!B61","v":"IT1"},{"$f":"IF(EingabeAngabe!C61=\"\",\"\",EingabeAngabe!C61)","v":""},null,null,null,{"$f":"IF(N2>EingabeAngabe!F61,\"F\",IF(EingabeAngabe!F61=\"\",\"\",EingabeAngabe!F61))","v":""}]
[null,{"$f":"IF(EingabeAngabe!C7=\"\",\"\",EingabeAngabe!C7)","v":""},null,null,null,null,null,{"$f":"EingabeAngabe!B62","v":"IT2"},{"$f":"IF(EingabeAngabe!C62=\"\",\"\",EingabeAngabe!C62)","v":""},null,null,null,{"$f":"IF(N3>EingabeAngabe!F62,\"F\",IF(EingabeAngabe!F62=\"\",\"\",EingabeAngabe!F62))","v":""}]
[{"$f":"EingabeAngabe!B8","v":"SE2"},{"$f":"IF(EingabeAngabe!C8=\"\",\"\",EingabeAngabe!C8)","v":""},null,null,null,{"$f":"IF(OR(G4=\"\",G4>EingabeAngabe!F8),\"F\",EingabeAngabe!B8)","v":"F"},null,{"$f":"EingabeAngabe!B63","v":"IT3"},{"$f":"IF(EingabeAngabe!C63=\"\",\"\",EingabeAngabe!C63)","v":""},null,null,null,{"$f":"IF(N4>EingabeAngabe!F63,\"F\",IF(EingabeAngabe!F63=\"\",\"\",EingabeAngabe!F63))","v":""}]
[null,{"$f":"IF(EingabeAngabe!C9=\"\",\"\",EingabeAngabe!C9)","v":""},null,null,null,null,null,{"$f":"EingabeAngabe!B64","v":"IT4"},{"$f":"IF(EingabeAngabe!C64=\"\",\"\",EingabeAngabe!C64)","v":""},null,null,null,{"$f":"IF(N5>EingabeAngabe!F64,\"F\",IF(EingabeAngabe!F64=\"\",\"\",EingabeAngabe!F64))","v":""}]
[{"$f":"EingabeAngabe!B10","v":"SE3"},{"$f":"IF(EingabeAngabe!C10=\"\",\"\",EingabeAngabe!C10)","v":""},null,null,null,{"$f":"IF(OR(G6=\"\",G6>EingabeAngabe!F10),\"F\",EingabeAngabe!B10)","v":"F"},null,{"$f":"EingabeAngabe!B65","v":"IT5"},{"$f":"IF(EingabeAngabe!C65=\"\",\"\",EingabeAngabe!C65)","v":""},null,null,null,{"$f":"IF(N6>EingabeAngabe!F65,\"F\",IF(EingabeAngabe!F65=\"\",\"\",EingabeAngabe!F65))","v":""}]
[null,{"$f":"IF(EingabeAngabe!C11=\"\",\"\",EingabeAngabe!C11)","v":""},null,null,null,null,null,{"$f":"EingabeAngabe!B66","v":"IT6"},{"$f":"IF(EingabeAngabe!C66=\"\",\"\",EingabeAngabe!C66)","v":""},null,null,null,{"$f":"IF(N7>EingabeAngabe!F66,\"F\",IF(EingabeAngabe!F66=\"\",\"\",EingabeAngabe!F66))","v":""}]
[{"$f":"EingabeAngabe!B12","v":"SE4"},{"$f":"IF(EingabeAngabe!C12=\"\",\"\",EingabeAngabe!C12)","v":""},null,null,null,{"$f":"IF(OR(G8=\"\",G8>EingabeAngabe!F12),\"F\",EingabeAngabe!B12)","v":"F"},null,{"$f":"EingabeAngabe!B67","v":"IT7"},{"$f":"IF(EingabeAngabe!C67=\"\",\"\",EingabeAngabe!C67)","v":""},null,null,null,{"$f":"IF(N8>EingabeAngabe!F67,\"F\",IF(EingabeAngabe!F67=\"\",\"\",EingabeAngabe!F67))","v":""}]
[null,{"$f":"IF(EingabeAngabe!C13=\"\",\"\",EingabeAngabe!C13)","v":""},null,null,null,null,null,{"$f":"EingabeAngabe!B68","v":"IT8"},{"$f":"IF(EingabeAngabe!C68=\"\",\"\",EingabeAngabe!C68)","v":""},null,null,null,{"$f":"IF(N9>EingabeAngabe!F68,\"F\",IF(EingabeAngabe!F68=\"\",\"\",EingabeAngabe!F68))","v":""}]
[{"$f":"EingabeAngabe!B14","v":"SE5"},{"$f":"IF(EingabeAngabe!C14=\"\",\"\",EingabeAngabe!C14)","v":""},null,null,null,{"$f":"IF(OR(G10=\"\",G10>EingabeAngabe!F14),\"F\",EingabeAngabe!B14)","v":"F"},null,"Notenschlüssel:"]
[null,{"$f":"IF(EingabeAngabe!C15=\"\",\"\",EingabeAngabe!C15)","v":""},null,null,null,null,null,"Sehr gut",null,null,null,{"$f":"EingabeAngabe!F72","v":"60 - 53"}]
[{"$f":"EingabeAngabe!B16","v":"SE6"},{"$f":"IF(EingabeAngabe!C16=\"\",\"\",EingabeAngabe!C16)","v":""},null,null,null,{"$f":"IF(OR(G12=\"\",G12>EingabeAngabe!F16),\"F\",EingabeAngabe!B16)","v":"F"},null,"Gut",null,null,null,{"$f":"EingabeAngabe!F73","v":"52 - 45"}]
[null,{"$f":"IF(EingabeAngabe!C17=\"\",\"\",EingabeAngabe!C17)","v":""},null,null,null,null,null,"Befriedigend",null,null,null,{"$f":"EingabeAngabe!F74","v":"44 - 37"}]
[{"$f":"EingabeAngabe!B18","v":"SE7"},{"$f":"IF(EingabeAngabe!C18=\"\",\"\",EingabeAngabe!C18)","v":""},null,null,null,{"$f":"IF(OR(G14=\"\",G14>EingabeAngabe!F18),\"F\",EingabeAngabe!B18)","v":"F"},null,"Genügend",null,null,null,{"$f":"EingabeAngabe!F75","v":"36 - 30"}]
[null,{"$f":"IF(EingabeAngabe!C19=\"\",\"\",EingabeAngabe!C19)","v":""},null,null,null,null,null,"Nicht genügend",null,null,null,{"$f":"EingabeAngabe!F76","v":"29 - 00"}]
[{"$f":"EingabeAngabe!B20","v":"SE8"},{"$f":"IF(EingabeAngabe!C20=\"\",\"\",EingabeAngabe!C20)","v":""},null,null,null,{"$f":"IF(OR(G16=\"\",G16>EingabeAngabe!F20),\"F\",EingabeAngabe!B20)","v":"F"},null,{"$f":"CONCATENATE(\"Notendefinition laut LBVO$14:\",\"            \",K50)","v":"Notendefinition laut LBVO$14:            "}]
[null,{"$f":"IF(EingabeAngabe!C21=\"\",\"\",EingabeAngabe!C21)","v":""},null,null,null,null,null,{"$f":"VLOOKUP(K50,SchuelernamenEingabe!D2:'SchuelernamenEingabe'!E40,2,FALSE)","v":{"$error":"#N/A"}}]
[{"$f":"EingabeAngabe!B22","v":"SE9"},{"$f":"IF(EingabeAngabe!C22=\"\",\"\",EingabeAngabe!C22)","v":""},null,null,null,{"$f":"IF(OR(G18=\"\",G18>EingabeAngabe!F22),\"F\",EingabeAngabe!B22)","v":"F"}]
[null,{"$f":"IF(EingabeAngabe!C23=\"\",\"\",EingabeAngabe!C23)","v":""}]
[{"$f":"EingabeAngabe!B24","v":"SE10"},{"$f":"IF(EingabeAngabe!C24=\"\",\"\",EingabeAngabe!C24)","v":""},null,null,null,{"$f":"IF(OR(G20=\"\",G20>EingabeAngabe!F24),\"F\",EingabeAngabe!B24)","v":"F"}]
[null,{"$f":"IF(EingabeAngabe!C25=\"\",\"\",EingabeAngabe!C25)","v":""}]
[{"$f":"EingabeAngabe!B26","v":"SE11"},{"$f":"IF(EingabeAngabe!C26=\"\",\"\",EingabeAngabe!C26)","v":""},null,null,null,{"$f":"IF(OR(G22=\"\",G22>EingabeAngabe!F26),\"F\",EingabeAngabe!B26)","v":"F"}]
[null,{"$f":"IF(EingabeAngabe!C27=\"\",\"\",EingabeAngabe!C27)","v":""}]
[{"$f":"EingabeAngabe!B28","v":"SE12"},{"$f":"IF(EingabeAngabe!C28=\"\",\"\",EingabeAngabe!C28)","v":""},null,null,null,{"$f":"IF(OR(G24=\"\",G24>EingabeAngabe!F28),\"F\",EingabeAngabe!B28)","v":"F"}]
[null,{"$f":"IF(EingabeAngabe!C29=\"\",\"\",EingabeAngabe!C29)","v":""}]
[{"$f":"EingabeAngabe!B31","v":"LE13"},{"$f":"IF(EingabeAngabe!C31=\"\",\"\",EingabeAngabe!C31)","v":""},null,{"$f":"IF(EingabeAngabe!D31=\"\",\"\",EingabeAngabe!D31)","v":""},{"$f":"IF(EingabeAngabe!E31=\"\",\"\",EingabeAngabe!E31)","v":""},{"$f":"IF(OR(G26=\"\",G26>EingabeAngabe!F31),\"F\",EingabeAngabe!B31)","v":"F"}]
[{"$f":"EingabeAngabe!B32","v":"LE14"},{"$f":"IF(EingabeAngabe!C32=\"\",\"\",EingabeAngabe!C32)","v":""},null,{"$f":"IF(EingabeAngabe!D32=\"\",\"\",EingabeAngabe!D32)","v":""},{"$f":"IF(EingabeAngabe!E32=\"\",\"\",EingabeAngabe!E32)","v":""},{"$f":"IF(OR(G27=\"\",G27>EingabeAngabe!F32),\"F\",EingabeAngabe!B32)","v":"F"},null,{"$f":"IF(EingabeAngabe!F80>\"\",EingabeAngabe!E79,\"\")","v":"Eigener Notenkommentar:"}]
[{"$f":"EingabeAngabe!B33","v":"LE15"},{"$f":"IF(EingabeAngabe!C33=\"\",\"\",EingabeAngabe!C33)","v":""},null,{"$f":"IF(EingabeAngabe!D33=\"\",\"\",EingabeAngabe!D33)","v":""},{"$f":"IF(EingabeAngabe!E33=\"\",\"\",EingabeAngabe!E33)","v":""},{"$f":"IF(OR(G28=\"\",G28>EingabeAngabe!F33),\"F\",EingabeAngabe!B33)","v":"F"}]
["LE16",{"$f":"IF(EingabeAngabe!C34=\"\",\"\",EingabeAngabe!C34)","v":""},null,{"$f":"IF(EingabeAngabe!D34=\"\",\"\",EingabeAngabe!D34)","v":""},{"$f":"IF(EingabeAngabe!E34=\"\",\"\",EingabeAngabe!E34)","v":""},{"$f":"IF(OR(G29=\"\",G29>EingabeAngabe!F34),\"F\",EingabeAngabe!B34)","v":"F"}]
["LE17",{"$f":"IF(EingabeAngabe!C35=\"\",\"\",EingabeAngabe!C35)","v":""},null,{"$f":"IF(EingabeAngabe!D35=\"\",\"\",EingabeAngabe!D35)","v":""},{"$f":"IF(EingabeAngabe!E35=\"\",\"\",EingabeAngabe!E35)","v":""},{"$f":"IF(OR(G30=\"\",G30>EingabeAngabe!F35),\"F\",EingabeAngabe!B35)","v":"F"}]
["LE18",{"$f":"IF(EingabeAngabe!C36=\"\",\"\",EingabeAngabe!C36)","v":""},null,{"$f":"IF(EingabeAngabe!D36=\"\",\"\",EingabeAngabe!D36)","v":""},{"$f":"IF(EingabeAngabe!E36=\"\",\"\",EingabeAngabe!E36)","v":""},{"$f":"IF(OR(G31=\"\",G31>EingabeAngabe!F36),\"F\",EingabeAngabe!B36)","v":"F"}]
["LE19",{"$f":"IF(EingabeAngabe!C37=\"\",\"\",EingabeAngabe!C37)","v":""},null,{"$f":"IF(EingabeAngabe!D37=\"\",\"\",EingabeAngabe!D37)","v":""},{"$f":"IF(EingabeAngabe!E37=\"\",\"\",EingabeAngabe!E37)","v":""},{"$f":"IF(OR(G32=\"\",G32>EingabeAngabe!F37),\"F\",EingabeAngabe!B37)","v":"F"}]
[{"$f":"EingabeAngabe!B38","v":"LE20"},{"$f":"IF(EingabeAngabe!C38=\"\",\"\",EingabeAngabe!C38)","v":""},null,{"$f":"IF(EingabeAngabe!D38=\"\",\"\",EingabeAngabe!D38)","v":""},{"$f":"IF(EingabeAngabe!E38=\"\",\"\",EingabeAngabe!E38)","v":""},{"$f":"IF(OR(G33=\"\",G33>EingabeAngabe!F38),\"F\",EingabeAngabe!B38)","v":"F"}]
[{"$f":"EingabeAngabe!B40","v":"MO21"},{"$f":"IF(EingabeAngabe!C40=\"\",\"\",EingabeAngabe!C40)","v":""},null,{"$f":"IF(EingabeAngabe!D40=\"\",\"\",EingabeAngabe!D40)","v":""},null,{"$f":"IF(OR(G34=\"\",G34>EingabeAngabe!F39),\"F\",EingabeAngabe!B40)","v":"F"}]
[{"$f":"EingabeAngabe!B41","v":"MO22"},{"$f":"IF(EingabeAngabe!C41=\"\",\"\",EingabeAngabe!C41)","v":""},null,{"$f":"IF(EingabeAngabe!D41=\"\",\"\",EingabeAngabe!D41)","v":""},null,{"$f":"IF(OR(G35=\"\",G35>EingabeAngabe!F40),\"F\",EingabeAngabe!B41)","v":"F"}]
["MO23",{"$f":"IF(EingabeAngabe!C42=\"\",\"\",EingabeAngabe!C42)","v":""},null,{"$f":"IF(EingabeAngabe!D42=\"\",\"\",EingabeAngabe!D42)","v":""},null,{"$f":"IF(OR(G36=\"\",G36>EingabeAngabe!F41),\"F\",EingabeAngabe!B42)","v":"F"}]
["MO24",{"$f":"IF(EingabeAngabe!C43=\"\",\"\",EingabeAngabe!C43)","v":""},null,{"$f":"IF(EingabeAngabe!D43=\"\",\"\",EingabeAngabe!D43)","v":""},null,{"$f":"IF(OR(G37=\"\",G37>EingabeAngabe!F42),\"F\",EingabeAngabe!B43)","v":"F"}]
["MO25",{"$f":"IF(EingabeAngabe!C44=\"\",\"\",EingabeAngabe!C44)","v":""},null,{"$f":"IF(EingabeAngabe!D44=\"\",\"\",EingabeAngabe!D44)","v":""},null,{"$f":"IF(OR(G38=\"\",G38>EingabeAngabe!F41),\"F\",EingabeAngabe!B42)","v":"F"}]
[{"$f":"EingabeAngabe!B45","v":"MO26"},{"$f":"IF(EingabeAngabe!C45=\"\",\"\",EingabeAngabe!C45)","v":""},null,{"$f":"IF(EingabeAngabe!D45=\"\",\"\",EingabeAngabe!D45)","v":""},null,{"$f":"IF(OR(G39=\"\",G39>EingabeAngabe!F42),\"F\",EingabeAngabe!B45)","v":"F"}]
[{"$f":"EingabeAngabe!B46","v":"MO27"},{"$f":"IF(EingabeAngabe!C46=\"\",\"\",EingabeAngabe!C46)","v":""},null,{"$f":"IF(EingabeAngabe!D46=\"\",\"\",EingabeAngabe!D46)","v":""},null,{"$f":"IF(OR(G40=\"\",G40>EingabeAngabe!F45),\"F\",EingabeAngabe!B46)","v":"F"}]
[{"$f":"EingabeAngabe!B47","v":"MO28"},{"$f":"IF(EingabeAngabe!C47=\"\",\"\",EingabeAngabe!C47)","v":""},null,{"$f":"IF(EingabeAngabe!D47=\"\",\"\",EingabeAngabe!D47)","v":""},null,{"$f":"IF(OR(G41=\"\",G41>EingabeAngabe!F46),\"F\",EingabeAngabe!B47)","v":"F"}]
[{"$f":"EingabeAngabe!B49","v":"SY29"},{"$f":"IF(EingabeAngabe!C49=\"\",\"\",EingabeAngabe!C49)","v":""},null,{"$f":"IF(EingabeAngabe!D49=\"\",\"\",EingabeAngabe!D49)","v":""},null,{"$f":"IF(OR(G42=\"\",G42>EingabeAngabe!F47),\"F\",EingabeAngabe!B49)","v":"F"}]
["SY30",{"$f":"IF(EingabeAngabe!C50=\"\",\"\",EingabeAngabe!C50)","v":""},null,{"$f":"IF(EingabeAngabe!D50=\"\",\"\",EingabeAngabe!D50)","v":""},null,{"$f":"IF(OR(G43=\"\",G43>EingabeAngabe!F48),\"F\",EingabeAngabe!B50)","v":"F"}]
["SY31",{"$f":"IF(EingabeAngabe!C51=\"\",\"\",EingabeAngabe!C51)","v":""},null,{"$f":"IF(EingabeAngabe!D51=\"\",\"\",EingabeAngabe!D51)","v":""},null,{"$f":"IF(OR(G44=\"\",G44>EingabeAngabe!F49),\"F\",EingabeAngabe!B51)","v":"F"}]
["SY32",{"$f":"IF(EingabeAngabe!C52=\"\",\"\",EingabeAngabe!C52)","v":""},null,{"$f":"IF(EingabeAngabe!D52=\"\",\"\",EingabeAngabe!D52)","v":""},null,{"$f":"IF(OR(G45=\"\",G45>EingabeAngabe!F50),\"F\",EingabeAngabe!B52)","v":"F"}]
["SY33",{"$f":"IF(EingabeAngabe!C53=\"\",\"\",EingabeAngabe!C53)","v":""},null,{"$f":"IF(EingabeAngabe!D53=\"\",\"\",EingabeAngabe!D53)","v":""},null,{"$f":"IF(OR(G46=\"\",G46>EingabeAngabe!F51),\"F\",EingabeAngabe!B53)","v":"F"}]
["SY34",{"$f":"IF(EingabeAngabe!C54=\"\",\"\",EingabeAngabe!C54)","v":""},null,{"$f":"IF(EingabeAngabe!D54=\"\",\"\",EingabeAngabe!D54)","v":""},null,{"$f":"IF(OR(G47=\"\",G47>EingabeAngabe!F52),\"F\",EingabeAngabe!B54)","v":"F"},null,"Summe Übersetzungstext",null,null,null,null,{"$f":"EingabeAngabe!Z59","v":""}]
[{"$f":"EingabeAngabe!B55","v":"SY35"},{"$f":"IF(EingabeAngabe!C55=\"\",\"\",EingabeAngabe!C55)","v":""},null,{"$f":"IF(EingabeAngabe!D55=\"\",\"\",EingabeAngabe!D55)","v":""},null,{"$f":"IF(OR(G48=\"\",G48>EingabeAngabe!F53),\"F\",EingabeAngabe!B55)","v":"F"},null,"Summe Arbeitsaufgaben und Interpretation",null,null,null,null,{"$f":"EingabeAngabe!Z60","v":""}]
[{"$f":"EingabeAngabe!B56","v":"SY36"},{"$f":"IF(EingabeAngabe!C56=\"\",\"\",EingabeAngabe!C56)","v":""},null,{"$f":"IF(EingabeAngabe!D56=\"\",\"\",EingabeAngabe!D56)","v":""},null,{"$f":"IF(OR(G49=\"\",G49>EingabeAngabe!F54),\"F\",EingabeAngabe!B56)","v":"F"},null,"Gesamtsumme",null,null,null,null,{"$f":"EingabeAngabe!Z2","v":""}]
[null,{"$f":"EingabeAngabe!C57","v":"SPRACHLICHE QUALITÄT IN DER ZIELSPRACHE"},null,null,null,{"$f":"IF(OR(G50=1,G50=3,G50=5,G50>6),\"F\",\"6/4/2/0\")","v":"6/4/2/0"},null,"NOTE",null,null,{"$f":"IF(EingabeAngabe!Z3=1,\"Sehr gut\",IF(EingabeAngabe!Z3=2,\"Gut\",IF(EingabeAngabe!Z3=3,\"Befriedigend\",IF(EingabeAngabe!Z3=4,\"Genügend\",IF(EingabeAngabe!Z3=5,\"Nicht genügend\",\"\")))))","v":""}]

{"sheet":"Schueler21Punkte","index":24,"n_rows":50,"n_cols":13,"rows_kept":50,"cut":false,"hidden":false,"merged":[[0,0,0,1],[0,3,0,4],[0,7,0,11],[1,0,2,0],[1,1,1,4],[1,5,2,5],[1,6,2,6],[1,8,1,11],[2,1,2,4],[2,8,2,11],[3,0,4,0],[3,1,3,4],[3,5,4,5],[3,6,4,6],[3,8,3,11],[4,1,4,4],[4,8,4,11],[5,0,6,0],[5,1,5,4],[5,5,6,5],[5,6,6,6],[5,8,5,11],[6,1,6,4],[6,8,6,11],[7,0,8,0],[7,1,7,4],[7,5,8,5],[7,6,8,6],[7,8,7,11],[8,1,8,4],[8,8,8,11],[9,0,10,0],[9,1,9,4],[9,5,10,5],[9,6,10,6],[9,7,9,13],[10,1,10,4],[10,7,10,10],[10,11,10,13],[11,0,12,0],[11,1,11,4],[11,5,12,5],[11,6,12,6],[11,7,11,10],[11,11,11,13],[12,1,12,4],[12,7,12,10],[12,11,12,13],[13,0,14,0],[13,1,13,4],[13,5,14,5],[13,6,14,6],[13,7,13,10],[13,11,13,13],[14,1,14,4],[14,7,14,10],[14,11,14,13],[15,0,16,0],[15,1,15,4],[15,5,16,5],[15,6,16,6],[15,7,15,13],[16,1,16,4],[16,7,24,13],[17,0,18,0],[17,1,17,4],[17,5,18,5],[17,6,18,6],[18,1,18,4],[19,0,20,0],[19,1,19,4],[19,5,20,5],[19,6,20,6],[20,1,20,4],[21,0,22,0],[21,1,21,4],[21,5,22,5],[21,6,22,6],[22,1,22,4],[23,0,24,0],[23,1,23,4],[23,5,24,5],[23,6,24,6],[24,1,24,4],[25,1,25,2],[26,1,26,2],[26,7,26,13],[27,1,27,2],[27,7,44,13],[28,1,28,2],[29,1,29,2],[30,1,30,2],[31,1,31,2],[32,1,32,2],[33,1,33,2],[33,3,33,4],[34,1,34,2],[34,3,34,4],[35,1,35,2],[35,3,35,4],[36,1,36,2],[36,3,36,4],[37,1,37,2],[37,3,37,4],[38,1,38,2],[38,3,38,4],[39,1,39,2],[39,3,39,4],[40,1,40,2],[40,3,40,4],[41,1,41,2],[41,3,41,4],[42,1,42,2],[42,3,42,4],[43,1,43,2],[43,3,43,4],[44,1,44,2],[44,3,44,4],[48,12,48,13],[45,1,45,2],[45,3,45,4],[46,1,46,2],[46,3,46,4],[46,7,46,11],[46,12,46,13],[49,1,49,4],[49,7,49,9],[49,10,49,13],[47,1,47,2],[47,3,47,4],[47,7,47,11],[47,12,47,13],[48,1,48,2],[48,3,48,4],[48,7,48,11]]}
["Übersetzungstext",null,"Schülername",{"$f":"SchuelernamenEingabe!B22","v":0},null,null,null,"Arbeitsaufgaben/ Interpretation"]
[{"$f":"EingabeAngabe!B6","v":"SE1"},{"$f":"IF(EingabeAngabe!C6=\"\",\"\",EingabeAngabe!C6)","v":""},null,null,null,{"$f":"IF(OR(G2=\"\",G2>EingabeAngabe!F6),\"F\",EingabeAngabe!B6)","v":"F"},null,{"$f":"EingabeAngabe!B61","v":"IT1"},{"$f":"IF(EingabeAngabe!C61=\"\",\"\",EingabeAngabe!C61)","v":""},null,null,null,{"$f":"IF(N2>EingabeAngabe!F61,\"F\",IF(EingabeAngabe!F61=\"\",\"\",EingabeAngabe!F61))","v":""}]
[null,{"$f":"IF(EingabeAngabe!C7=\"\",\"\",EingabeAngabe!C7)","v":""},null,null,null,null,null,{"$f":"EingabeAngabe!B62","v":"IT2"},{"$f":"IF(EingabeAngabe!C62=\"\",\"\",EingabeAngabe!C62)","v":""},null,null,null,{"$f":"IF(N3>EingabeAngabe!F62,\"F\",IF(EingabeAngabe!F62=\"\",\"\",EingabeAngabe!F62))","v":""}]
[{"$f":"EingabeAngabe!B8","v":"SE2"},{"$f":"IF(EingabeAngabe!C8=\"\",\"\",EingabeAngabe!C8)","v":""},null,null,null,{"$f":"IF(OR(G4=\"\",G4>EingabeAngabe!F8),\"F\",EingabeAngabe!B8)","v":"F"},null,{"$f":"EingabeAngabe!B63","v":"IT3"},{"$f":"IF(EingabeAngabe!C63=\"\",\"\",EingabeAngabe!C63)","v":""},null,null,null,{"$f":"IF(N4>EingabeAngabe!F63,\"F\",IF(EingabeAngabe!F63=\"\",\"\",EingabeAngabe!F63))","v":""}]
[null,{"$f":"IF(EingabeAngabe!C9=\"\",\"\",EingabeAngabe!C9)","v":""},null,null,null,null,null,{"$f":"EingabeAngabe!B64","v":"IT4"},{"$f":"IF(EingabeAngabe!C64=\"\",\"\",EingabeAngabe!C64)","v":""},null,null,null,{"$f":"IF(N5>EingabeAngabe!F64,\"F\",IF(EingabeAngabe!F64=\"\",\"\",EingabeAngabe!F64))","v":""}]
[{"$f":"EingabeAngabe!B10","v":"SE3"},{"$f":"IF(EingabeAngabe!C10=\"\",\"\",EingabeAngabe!C10)","v":""},null,null,null,{"$f":"IF(OR(G6=\"\",G6>EingabeAngabe!F10),\"F\",EingabeAngabe!B10)","v":"F"},null,{"$f":"EingabeAngabe!B65","v":"IT5"},{"$f":"IF(EingabeAngabe!C65=\"\",\"\",EingabeAngabe!C65)","v":""},null,null,null,{"$f":"IF(N6>EingabeAngabe!F65,\"F\",IF(EingabeAngabe!F65=\"\",\"\",EingabeAngabe!F65))","v":""}]
[null,{"$f":"IF(EingabeAngabe!C11=\"\",\"\",EingabeAngabe!C11)","v":""},null,null,null,null,null,{"$f":"EingabeAngabe!B66","v":"IT6"},{"$f":"IF(EingabeAngabe!C66=\"\",\"\",EingabeAngabe!C66)","v":""},null,null,null,{"$f":"IF(N7>EingabeAngabe!F66,\"F\",IF(EingabeAngabe!F66=\"\",\"\",EingabeAngabe!F66))","v":""}]
[{"$f":"EingabeAngabe!B12","v":"SE4"},{"$f":"IF(EingabeAngabe!C12=\"\",\"\",EingabeAngabe!C12)","v":""},null,null,null,{"$f":"IF(OR(G8=\"\",G8>EingabeAngabe!F12),\"F\",EingabeAngabe!B12)","v":"F"},null,{"$f":"EingabeAngabe!B67","v":"IT7"},{"$f":"IF(EingabeAngabe!C67=\"\",\"\",EingabeAngabe!C67)","v":""},null,null,null,{"$f":"IF(N8>EingabeAngabe!F67,\"F\",IF(EingabeAngabe!F67=\"\",\"\",EingabeAngabe!F67))","v":""}]
[null,{"$f":"IF(EingabeAngabe!C13=\"\",\"\",EingabeAngabe!C13)","v":""},null,null,null,null,null,{"$f":"EingabeAngabe!B68","v":"IT8"},{"$f":"IF(EingabeAngabe!C68=\"\",\"\",EingabeAngabe!C68)","v":""},null,null,null,{"$f":"IF(N9>EingabeAngabe!F68,\"F\",IF(EingabeAngabe!F68=\"\",\"\",EingabeAngabe!F68))","v":""}]
[{"$f":"EingabeAngabe!B14","v":"SE5"},{"$f":"IF(EingabeAngabe!C14=\"\",\"\",EingabeAngabe!C14)","v":""},null,null,null,{"$f":"IF(OR(G10=\"\",G10>EingabeAngabe!F14),\"F\",EingabeAngabe!B14)","v":"F"},null,"Notenschlüssel:"]
[null,{"$f":"IF(EingabeAngabe!C15=\"\",\"\",EingabeAngabe!C15)","v":""},null,null,null,null,null,"Sehr gut",null,null,null,{"$f":"EingabeAngabe!F72","v":"60 - 53"}]
[{"$f":"EingabeAngabe!B16","v":"SE6"},{"$f":"IF(EingabeAngabe!C16=\"\",\"\",EingabeAngabe!C16)","v":""},null,null,null,{"$f":"IF(OR(G12=\"\",G12>EingabeAngabe!F16),\"F\",EingabeAngabe!B16)","v":"F"},null,"Gut",null,null,null,{"$f":"EingabeAngabe!F73","v":"52 - 45"}]
[null,{"$f":"IF(EingabeAngabe!C17=\"\",\"\",EingabeAngabe!C17)","v":""},null,null,null,null,null,"Befriedigend",null,null,null,{"$f":"EingabeAngabe!F74","v":"44 - 37"}]
[{"$f":"EingabeAngabe!B18","v":"SE7"},{"$f":"IF(EingabeAngabe!C18=\"\",\"\",EingabeAngabe!C18)","v":""},null,null,null,{"$f":"IF(OR(G14=\"\",G14>EingabeAngabe!F18),\"F\",EingabeAngabe!B18)","v":"F"},null,"Genügend",null,null,null,{"$f":"EingabeAngabe!F75","v":"36 - 30"}]
[null,{"$f":"IF(EingabeAngabe!C19=\"\",\"\",EingabeAngabe!C19)","v":""},null,null,null,null,null,"Nicht genügend",null,null,null,{"$f":"EingabeAngabe!F76","v":"29 - 00"}]
[{"$f":"EingabeAngabe!B20","v":"SE8"},{"$f":"IF(EingabeAngabe!C20=\"\",\"\",EingabeAngabe!C20)","v":""},null,null,null,{"$f":"IF(OR(G16=\"\",G16>EingabeAngabe!F20),\"F\",EingabeAngabe!B20)","v":"F"},null,{"$f":"CONCATENATE(\"Notendefinition laut LBVO$14:\",\"            \",K50)","v":"Notendefinition laut LBVO$14:            "}]
[null,{"$f":"IF(EingabeAngabe!C21=\"\",\"\",EingabeAngabe!C21)","v":""},null,null,null,null,null,{"$f":"VLOOKUP(K50,SchuelernamenEingabe!D2:'SchuelernamenEingabe'!E40,2,FALSE)","v":{"$error":"#N/A"}}]
[{"$f":"EingabeAngabe!B22","v":"SE9"},{"$f":"IF(EingabeAngabe!C22=\"\",\"\",EingabeAngabe!C22)","v":""},null,null,null,{"$f":"IF(OR(G18=\"\",G18>EingabeAngabe!F22),\"F\",EingabeAngabe!B22)","v":"F"}]
[null,{"$f":"IF(EingabeAngabe!C23=\"\",\"\",EingabeAngabe!C23)","v":""}]
[{"$f":"EingabeAngabe!B24","v":"SE10"},{"$f":"IF(EingabeAngabe!C24=\"\",\"\",EingabeAngabe!C24)","v":""},null,null,null,{"$f":"IF(OR(G20=\"\",G20>EingabeAngabe!F24),\"F\",EingabeAngabe!B24)","v":"F"}]
[null,{"$f":"IF(EingabeAngabe!C25=\"\",\"\",EingabeAngabe!C25)","v":""}]
[{"$f":"EingabeAngabe!B26","v":"SE11"},{"$f":"IF(EingabeAngabe!C26=\"\",\"\",EingabeAngabe!C26)","v":""},null,null,null,{"$f":"IF(OR(G22=\"\",G22>EingabeAngabe!F26),\"F\",EingabeAngabe!B26)","v":"F"}]
[null,{"$f":"IF(EingabeAngabe!C27=\"\",\"\",EingabeAngabe!C27)","v":""}]
[{"$f":"EingabeAngabe!B28","v":"SE12"},{"$f":"IF(EingabeAngabe!C28=\"\",\"\",EingabeAngabe!C28)","v":""},null,null,null,{"$f":"IF(OR(G24=\"\",G24>EingabeAngabe!F28),\"F\",EingabeAngabe!B28)","v":"F"}]
[null,{"$f":"IF(EingabeAngabe!C29=\"\",\"\",EingabeAngabe!C29)","v":""}]
[{"$f":"EingabeAngabe!B31","v":"LE13"},{"$f":"IF(EingabeAngabe!C31=\"\",\"\",EingabeAngabe!C31)","v":""},null,{"$f":"IF(EingabeAngabe!D31=\"\",\"\",EingabeAngabe!D31)","v":""},{"$f":"IF(EingabeAngabe!E31=\"\",\"\",EingabeAngabe!E31)","v":""},{"$f":"IF(OR(G26=\"\",G26>EingabeAngabe!F31),\"F\",EingabeAngabe!B31)","v":"F"}]
[{"$f":"EingabeAngabe!B32","v":"LE14"},{"$f":"IF(EingabeAngabe!C32=\"\",\"\",EingabeAngabe!C32)","v":""},null,{"$f":"IF(EingabeAngabe!D32=\"\",\"\",EingabeAngabe!D32)","v":""},{"$f":"IF(EingabeAngabe!E32=\"\",\"\",EingabeAngabe!E32)","v":""},{"$f":"IF(OR(G27=\"\",G27>EingabeAngabe!F32),\"F\",EingabeAngabe!B32)","v":"F"},null,{"$f":"IF(EingabeAngabe!F80>\"\",EingabeAngabe!E79,\"\")","v":"Eigener Notenkommentar:"}]
[{"$f":"EingabeAngabe!B33","v":"LE15"},{"$f":"IF(EingabeAngabe!C33=\"\",\"\",EingabeAngabe!C33)","v":""},null,{"$f":"IF(EingabeAngabe!D33=\"\",\"\",EingabeAngabe!D33)","v":""},{"$f":"IF(EingabeAngabe!E33=\"\",\"\",EingabeAngabe!E33)","v":""},{"$f":"IF(OR(G28=\"\",G28>EingabeAngabe!F33),\"F\",EingabeAngabe!B33)","v":"F"}]
["LE16",{"$f":"IF(EingabeAngabe!C34=\"\",\"\",EingabeAngabe!C34)","v":""},null,{"$f":"IF(EingabeAngabe!D34=\"\",\"\",EingabeAngabe!D34)","v":""},{"$f":"IF(EingabeAngabe!E34=\"\",\"\",EingabeAngabe!E34)","v":""},{"$f":"IF(OR(G29=\"\",G29>EingabeAngabe!F34),\"F\",EingabeAngabe!B34)","v":"F"}]
["LE17",{"$f":"IF(EingabeAngabe!C35=\"\",\"\",EingabeAngabe!C35)","v":""},null,{"$f":"IF(EingabeAngabe!D35=\"\",\"\",EingabeAngabe!D35)","v":""},{"$f":"IF(EingabeAngabe!E35=\"\",\"\",EingabeAngabe!E35)","v":""},{"$f":"IF(OR(G30=\"\",G30>EingabeAngabe!F35),\"F\",EingabeAngabe!B35)","v":"F"}]
["LE18",{"$f":"IF(EingabeAngabe!C36=\"\",\"\",EingabeAngabe!C36)","v":""},null,{"$f":"IF(EingabeAngabe!D36=\"\",\"\",EingabeAngabe!D36)","v":""},{"$f":"IF(EingabeAngabe!E36=\"\",\"\",EingabeAngabe!E36)","v":""},{"$f":"IF(OR(G31=\"\",G31>EingabeAngabe!F36),\"F\",EingabeAngabe!B36)","v":"F"}]
["LE19",{"$f":"IF(EingabeAngabe!C37=\"\",\"\",EingabeAngabe!C37)","v":""},null,{"$f":"IF(EingabeAngabe!D37=\"\",\"\",EingabeAngabe!D37)","v":""},{"$f":"IF(EingabeAngabe!E37=\"\",\"\",EingabeAngabe!E37)","v":""},{"$f":"IF(OR(G32=\"\",G32>EingabeAngabe!F37),\"F\",EingabeAngabe!B37)","v":"F"}]
[{"$f":"EingabeAngabe!B38","v":"LE20"},{"$f":"IF(EingabeAngabe!C38=\"\",\"\",EingabeAngabe!C38)","v":""},null,{"$f":"IF(EingabeAngabe!D38=\"\",\"\",EingabeAngabe!D38)","v":""},{"$f":"IF(EingabeAngabe!E38=\"\",\"\",EingabeAngabe!E38)","v":""},{"$f":"IF(OR(G33=\"\",G33>EingabeAngabe!F38),\"F\",EingabeAngabe!B38)","v":"F"}]
[{"$f":"EingabeAngabe!B40","v":"MO21"},{"$f":"IF(EingabeAngabe!C40=\"\",\"\",EingabeAngabe!C40)","v":""},null,{"$f":"IF(EingabeAngabe!D40=\"\",\"\",EingabeAngabe!D40)","v":""},null,{"$f":"IF(OR(G34=\"\",G34>EingabeAngabe!F39),\"F\",EingabeAngabe!B40)","v":"F"}]
[{"$f":"EingabeAngabe!B41","v":"MO22"},{"$f":"IF(EingabeAngabe!C41=\"\",\"\",EingabeAngabe!C41)","v":""},null,{"$f":"IF(EingabeAngabe!D41=\"\",\"\",EingabeAngabe!D41)","v":""},null,{"$f":"IF(OR(G35=\"\",G35>EingabeAngabe!F40),\"F\",EingabeAngabe!B41)","v":"F"}]
["MO23",{"$f":"IF(EingabeAngabe!C42=\"\",\"\",EingabeAngabe!C42)","v":""},null,{"$f":"IF(EingabeAngabe!D42=\"\",\"\",EingabeAngabe!D42)","v":""},null,{"$f":"IF(OR(G36=\"\",G36>EingabeAngabe!F41),\"F\",EingabeAngabe!B42)","v":"F"}]
["MO24",{"$f":"IF(EingabeAngabe!C43=\"\",\"\",EingabeAngabe!C43)","v":""},null,{"$f":"IF(EingabeAngabe!D43=\"\",\"\",EingabeAngabe!D43)","v":""},null,{"$f":"IF(OR(G37=\"\",G37>EingabeAngabe!F42),\"F\",EingabeAngabe!B43)","v":"F"}]
["MO25",{"$f":"IF(EingabeAngabe!C44=\"\",\"\",EingabeAngabe!C44)","v":""},null,{"$f":"IF(EingabeAngabe!D44=\"\",\"\",EingabeAngabe!D44)","v":""},null,{"$f":"IF(OR(G38=\"\",G38>EingabeAngabe!F41),\"F\",EingabeAngabe!B42)","v":"F"}]
[{"$f":"EingabeAngabe!B45","v":"MO26"},{"$f":"IF(EingabeAngabe!C45=\"\",\"\",EingabeAngabe!C45)","v":""},null,{"$f":"IF(EingabeAngabe!D45=\"\",\"\",EingabeAngabe!D45)","v":""},null,{"$f":"IF(OR(G39=\"\",G39>EingabeAngabe!F42),\"F\",EingabeAngabe!B45)","v":"F"}]
[{"$f":"EingabeAngabe!B46","v":"MO27"},{"$f":"IF(EingabeAngabe!C46=\"\",\"\",EingabeAngabe!C46)","v":""},null,{"$f":"IF(EingabeAngabe!D46=\"\",\"\",EingabeAngabe!D46)","v":""},null,{"$f":"IF(OR(G40=\"\",G40>EingabeAngabe!F45),\"F\",EingabeAngabe!B46)","v":"F"}]
[{"$f":"EingabeAngabe!B47","v":"MO28"},{"$f":"IF(EingabeAngabe!C47=\"\",\"\",EingabeAngabe!C47)","v":""},null,{"$f":"IF(EingabeAngabe!D47=\"\",\"\",EingabeAngabe!D47)","v":""},null,{"$f":"IF(OR(G41=\"\",G41>EingabeAngabe!F46),\"F\",EingabeAngabe!B47)","v":"F"}]
[{"$f":"EingabeAngabe!B49","v":"SY29"},{"$f":"IF(EingabeAngabe!C49=\"\",\"\",EingabeAngabe!C49)","v":""},null,{"$f":"IF(EingabeAngabe!D49=\"\",\"\",EingabeAngabe!D49)","v":""},null,{"$f":"IF(OR(G42=\"\",G42>EingabeAngabe!F47),\"F\",EingabeAngabe!B49)","v":"F"}]
["SY30",{"$f":"IF(EingabeAngabe!C50=\"\",\"\",EingabeAngabe!C50)","v":""},null,{"$f":"IF(EingabeAngabe!D50=\"\",\"\",EingabeAngabe!D50)","v":""},null,{"$f":"IF(OR(G43=\"\",G43>EingabeAngabe!F48),\"F\",EingabeAngabe!B50)","v":"F"}]
["SY31",{"$f":"IF(EingabeAngabe!C51=\"\",\"\",EingabeAngabe!C51)","v":""},null,{"$f":"IF(EingabeAngabe!D51=\"\",\"\",EingabeAngabe!D51)","v":""},null,{"$f":"IF(OR(G44=\"\",G44>EingabeAngabe!F49),\"F\",EingabeAngabe!B51)","v":"F"}]
["SY32",{"$f":"IF(EingabeAngabe!C52=\"\",\"\",EingabeAngabe!C52)","v":""},null,{"$f":"IF(EingabeAngabe!D52=\"\",\"\",EingabeAngabe!D52)","v":""},null,{"$f":"IF(OR(G45=\"\",G45>EingabeAngabe!F50),\"F\",EingabeAngabe!B52)","v":"F"}]
["SY33",{"$f":"IF(EingabeAngabe!C53=\"\",\"\",EingabeAngabe!C53)","v":""},null,{"$f":"IF(EingabeAngabe!D53=\"\",\"\",EingabeAngabe!D53)","v":""},null,{"$f":"IF(OR(G46=\"\",G46>EingabeAngabe!F51),\"F\",EingabeAngabe!B53)","v":"F"}]
["SY34",{"$f":"IF(EingabeAngabe!C54=\"\",\"\",EingabeAngabe!C54)","v":""},null,{"$f":"IF(EingabeAngabe!D54=\"\",\"\",EingabeAngabe!D54)","v":""},null,{"$f":"IF(OR(G47=\"\",G47>EingabeAngabe!F52),\"F\",EingabeAngabe!B54)","v":"F"},null,"Summe Übersetzungstext",null,null,null,null,{"$f":"EingabeAngabe!AA59","v":""}]
[{"$f":"EingabeAngabe!B55","v":"SY35"},{"$f":"IF(EingabeAngabe!C55=\"\",\"\",EingabeAngabe!C55)","v":""},null,{"$f":"IF(EingabeAngabe!D55=\"\",\"\",EingabeAngabe!D55)","v":""},null,{"$f":"IF(OR(G48=\"\",G48>EingabeAngabe!F53),\"F\",EingabeAngabe!B55)","v":"F"},null,"Summe Arbeitsaufgaben und Interpretation",null,null,null,null,{"$f":"EingabeAngabe!AA60","v":""}]
[{"$f":"EingabeAngabe!B56","v":"SY36"},{"$f":"IF(EingabeAngabe!C56=\"\",\"\",EingabeAngabe!C56)","v":""},null,{"$f":"IF(EingabeAngabe!D56=\"\",\"\",EingabeAngabe!D56)","v":""},null,{"$f":"IF(OR(G49=\"\",G49>EingabeAngabe!F54),\"F\",EingabeAngabe!B56)","v":"F"},null,"Gesamtsumme",null,null,null,null,{"$f":"EingabeAngabe!AA2","v":""}]
[null,{"$f":"EingabeAngabe!C57","v":"SPRACHLICHE QUALITÄT IN DER ZIELSPRACHE"},null,null,null,{"$f":"IF(OR(G50=1,G50=3,G50=5,G50>6),\"F\",\"6/4/2/0\")","v":"6/4/2/0"},null,"NOTE",null,null,{"$f":"IF(EingabeAngabe!AA3=1,\"Sehr gut\",IF(EingabeAngabe!AA3=2,\"Gut\",IF(EingabeAngabe!AA3=3,\"Befriedigend\",IF(EingabeAngabe!AA3=4,\"Genügend\",IF(EingabeAngabe!AA3=5,\"Nicht genügend\",\"\")))))","v":""}]

{"sheet":"Schueler22Punkte","index":25,"n_rows":50,"n_cols":13,"rows_kept":50,"cut":false,"hidden":false,"merged":[[0,0,0,1],[0,3,0,4],[0,7,0,11],[1,0,2,0],[1,1,1,4],[1,5,2,5],[1,6,2,6],[1,8,1,11],[2,1,2,4],[2,8,2,11],[3,0,4,0],[3,1,3,4],[3,5,4,5],[3,6,4,6],[3,8,3,11],[4,1,4,4],[4,8,4,11],[5,0,6,0],[5,1,5,4],[5,5,6,5],[5,6,6,6],[5,8,5,11],[6,1,6,4],[6,8,6,11],[7,0,8,0],[7,1,7,4],[7,5,8,5],[7,6,8,6],[7,8,7,11],[8,1,8,4],[8,8,8,11],[9,0,10,0],[9,1,9,4],[9,5,10,5],[9,6,10,6],[9,7,9,13],[10,1,10,4],[10,7,10,10],[10,11,10,13],[11,0,12,0],[11,1,11,4],[11,5,12,5],[11,6,12,6],[11,7,11,10],[11,11,11,13],[12,1,12,4],[12,7,12,10],[12,11,12,13],[13,0,14,0],[13,1,13,4],[13,5,14,5],[13,6,14,6],[13,7,13,10],[13,11,13,13],[14,1,14,4],[14,7,14,10],[14,11,14,13],[15,0,16,0],[15,1,15,4],[15,5,16,5],[15,6,16,6],[15,7,15,13],[16,1,16,4],[16,7,24,13],[17,0,18,0],[17,1,17,4],[17,5,18,5],[17,6,18,6],[18,1,18,4],[19,0,20,0],[19,1,19,4],[19,5,20,5],[19,6,20,6],[20,1,20,4],[21,0,22,0],[21,1,21,4],[21,5,22,5],[21,6,22,6],[22,1,22,4],[23,0,24,0],[23,1,23,4],[23,5,24,5],[23,6,24,6],[24,1,24,4],[25,1,25,2],[26,1,26,2],[26,7,26,13],[27,1,27,2],[27,7,44,13],[28,1,28,2],[29,1,29,2],[30,1,30,2],[31,1,31,2],[32,1,32,2],[33,1,33,2],[33,3,33,4],[34,1,34,2],[34,3,34,4],[35,1,35,2],[35,3,35,4],[36,1,36,2],[36,3,36,4],[37,1,37,2],[37,3,37,4],[38,1,38,2],[38,3,38,4],[39,1,39,2],[39,3,39,4],[40,1,40,2],[40,3,40,4],[41,1,41,2],[41,3,41,4],[42,1,42,2],[42,3,42,4],[43,1,43,2],[43,3,43,4],[44,1,44,2],[44,3,44,4],[48,12,48,13],[45,1,45,2],[45,3,45,4],[46,1,46,2],[46,3,46,4],[46,7,46,11],[46,12,46,13],[49,1,49,4],[49,7,49,9],[49,10,49,13],[47,1,47,2],[47,3,47,4],[47,7,47,11],[47,12,47,13],[48,1,48,2],[48,3,48,4],[48,7,48,11]]}
["Übersetzungstext",null,"Schülername",{"$f":"SchuelernamenEingabe!B23","v":0},null,null,null,"Arbeitsaufgaben/ Interpretation"]
[{"$f":"EingabeAngabe!B6","v":"SE1"},{"$f":"IF(EingabeAngabe!C6=\"\",\"\",EingabeAngabe!C6)","v":""},null,null,null,{"$f":"IF(OR(G2=\"\",G2>EingabeAngabe!F6),\"F\",EingabeAngabe!B6)","v":"F"},null,{"$f":"EingabeAngabe!B61","v":"IT1"},{"$f":"IF(EingabeAngabe!C61=\"\",\"\",EingabeAngabe!C61)","v":""},null,null,null,{"$f":"IF(N2>EingabeAngabe!F61,\"F\",IF(EingabeAngabe!F61=\"\",\"\",EingabeAngabe!F61))","v":""}]
[null,{"$f":"IF(EingabeAngabe!C7=\"\",\"\",EingabeAngabe!C7)","v":""},null,null,null,null,null,{"$f":"EingabeAngabe!B62","v":"IT2"},{"$f":"IF(EingabeAngabe!C62=\"\",\"\",EingabeAngabe!C62)","v":""},null,null,null,{"$f":"IF(N3>EingabeAngabe!F62,\"F\",IF(EingabeAngabe!F62=\"\",\"\",EingabeAngabe!F62))","v":""}]
[{"$f":"EingabeAngabe!B8","v":"SE2"},{"$f":"IF(EingabeAngabe!C8=\"\",\"\",EingabeAngabe!C8)","v":""},null,null,null,{"$f":"IF(OR(G4=\"\",G4>EingabeAngabe!F8),\"F\",EingabeAngabe!B8)","v":"F"},null,{"$f":"EingabeAngabe!B63","v":"IT3"},{"$f":"IF(EingabeAngabe!C63=\"\",\"\",EingabeAngabe!C63)","v":""},null,null,null,{"$f":"IF(N4>EingabeAngabe!F63,\"F\",IF(EingabeAngabe!F63=\"\",\"\",EingabeAngabe!F63))","v":""}]
[null,{"$f":"IF(EingabeAngabe!C9=\"\",\"\",EingabeAngabe!C9)","v":""},null,null,null,null,null,{"$f":"EingabeAngabe!B64","v":"IT4"},{"$f":"IF(EingabeAngabe!C64=\"\",\"\",EingabeAngabe!C64)","v":""},null,null,null,{"$f":"IF(N5>EingabeAngabe!F64,\"F\",IF(EingabeAngabe!F64=\"\",\"\",EingabeAngabe!F64))","v":""}]
[{"$f":"EingabeAngabe!B10","v":"SE3"},{"$f":"IF(EingabeAngabe!C10=\"\",\"\",EingabeAngabe!C10)","v":""},null,null,null,{"$f":"IF(OR(G6=\"\",G6>EingabeAngabe!F10),\"F\",EingabeAngabe!B10)","v":"F"},null,{"$f":"EingabeAngabe!B65","v":"IT5"},{"$f":"IF(EingabeAngabe!C65=\"\",\"\",EingabeAngabe!C65)","v":""},null,null,null,{"$f":"IF(N6>EingabeAngabe!F65,\"F\",IF(EingabeAngabe!F65=\"\",\"\",EingabeAngabe!F65))","v":""}]
[null,{"$f":"IF(EingabeAngabe!C11=\"\",\"\",EingabeAngabe!C11)","v":""},null,null,null,null,null,{"$f":"EingabeAngabe!B66","v":"IT6"},{"$f":"IF(EingabeAngabe!C66=\"\",\"\",EingabeAngabe!C66)","v":""},null,null,null,{"$f":"IF(N7>EingabeAngabe!F66,\"F\",IF(EingabeAngabe!F66=\"\",\"\",EingabeAngabe!F66))","v":""}]
[{"$f":"EingabeAngabe!B12","v":"SE4"},{"$f":"IF(EingabeAngabe!C12=\"\",\"\",EingabeAngabe!C12)","v":""},null,null,null,{"$f":"IF(OR(G8=\"\",G8>EingabeAngabe!F12),\"F\",EingabeAngabe!B12)","v":"F"},null,{"$f":"EingabeAngabe!B67","v":"IT7"},{"$f":"IF(EingabeAngabe!C67=\"\",\"\",EingabeAngabe!C67)","v":""},null,null,null,{"$f":"IF(N8>EingabeAngabe!F67,\"F\",IF(EingabeAngabe!F67=\"\",\"\",EingabeAngabe!F67))","v":""}]
[null,{"$f":"IF(EingabeAngabe!C13=\"\",\"\",EingabeAngabe!C13)","v":""},null,null,null,null,null,{"$f":"EingabeAngabe!B68","v":"IT8"},{"$f":"IF(EingabeAngabe!C68=\"\",\"\",EingabeAngabe!C68)","v":""},null,null,null,{"$f":"IF(N9>EingabeAngabe!F68,\"F\",IF(EingabeAngabe!F68=\"\",\"\",EingabeAngabe!F68))","v":""}]
[{"$f":"EingabeAngabe!B14","v":"SE5"},{"$f":"IF(EingabeAngabe!C14=\"\",\"\",EingabeAngabe!C14)","v":""},null,null,null,{"$f":"IF(OR(G10=\"\",G10>EingabeAngabe!F14),\"F\",EingabeAngabe!B14)","v":"F"},null,"Notenschlüssel:"]
[null,{"$f":"IF(EingabeAngabe!C15=\"\",\"\",EingabeAngabe!C15)","v":""},null,null,null,null,null,"Sehr gut",null,null,null,{"$f":"EingabeAngabe!F72","v":"60 - 53"}]
[{"$f":"EingabeAngabe!B16","v":"SE6"},{"$f":"IF(EingabeAngabe!C16=\"\",\"\",EingabeAngabe!C16)","v":""},null,null,null,{"$f":"IF(OR(G12=\"\",G12>EingabeAngabe!F16),\"F\",EingabeAngabe!B16)","v":"F"},null,"Gut",null,null,null,{"$f":"EingabeAngabe!F73","v":"52 - 45"}]
[null,{"$f":"IF(EingabeAngabe!C17=\"\",\"\",EingabeAngabe!C17)","v":""},null,null,null,null,null,"Befriedigend",null,null,null,{"$f":"EingabeAngabe!F74","v":"44 - 37"}]
[{"$f":"EingabeAngabe!B18","v":"SE7"},{"$f":"IF(EingabeAngabe!C18=\"\",\"\",EingabeAngabe!C18)","v":""},null,null,null,{"$f":"IF(OR(G14=\"\",G14>EingabeAngabe!F18),\"F\",EingabeAngabe!B18)","v":"F"},null,"Genügend",null,null,null,{"$f":"EingabeAngabe!F75","v":"36 - 30"}]
[null,{"$f":"IF(EingabeAngabe!C19=\"\",\"\",EingabeAngabe!C19)","v":""},null,null,null,null,null,"Nicht genügend",null,null,null,{"$f":"EingabeAngabe!F76","v":"29 - 00"}]
[{"$f":"EingabeAngabe!B20","v":"SE8"},{"$f":"IF(EingabeAngabe!C20=\"\",\"\",EingabeAngabe!C20)","v":""},null,null,null,{"$f":"IF(OR(G16=\"\",G16>EingabeAngabe!F20),\"F\",EingabeAngabe!B20)","v":"F"},null,{"$f":"CONCATENATE(\"Notendefinition laut LBVO$14:\",\"            \",K50)","v":"Notendefinition laut LBVO$14:            "}]
[null,{"$f":"IF(EingabeAngabe!C21=\"\",\"\",EingabeAngabe!C21)","v":""},null,null,null,null,null,{"$f":"VLOOKUP(K50,SchuelernamenEingabe!D2:'SchuelernamenEingabe'!E40,2,FALSE)","v":{"$error":"#N/A"}}]
[{"$f":"EingabeAngabe!B22","v":"SE9"},{"$f":"IF(EingabeAngabe!C22=\"\",\"\",EingabeAngabe!C22)","v":""},null,null,null,{"$f":"IF(OR(G18=\"\",G18>EingabeAngabe!F22),\"F\",EingabeAngabe!B22)","v":"F"}]
[null,{"$f":"IF(EingabeAngabe!C23=\"\",\"\",EingabeAngabe!C23)","v":""}]
[{"$f":"EingabeAngabe!B24","v":"SE10"},{"$f":"IF(EingabeAngabe!C24=\"\",\"\",EingabeAngabe!C24)","v":""},null,null,null,{"$f":"IF(OR(G20=\"\",G20>EingabeAngabe!F24),\"F\",EingabeAngabe!B24)","v":"F"}]
[null,{"$f":"IF(EingabeAngabe!C25=\"\",\"\",EingabeAngabe!C25)","v":""}]
[{"$f":"EingabeAngabe!B26","v":"SE11"},{"$f":"IF(EingabeAngabe!C26=\"\",\"\",EingabeAngabe!C26)","v":""},null,null,null,{"$f":"IF(OR(G22=\"\",G22>EingabeAngabe!F26),\"F\",EingabeAngabe!B26)","v":"F"}]
[null,{"$f":"IF(EingabeAngabe!C27=\"\",\"\",EingabeAngabe!C27)","v":""}]
[{"$f":"EingabeAngabe!B28","v":"SE12"},{"$f":"IF(EingabeAngabe!C28=\"\",\"\",EingabeAngabe!C28)","v":""},null,null,null,{"$f":"IF(OR(G24=\"\",G24>EingabeAngabe!F28),\"F\",EingabeAngabe!B28)","v":"F"}]
[null,{"$f":"IF(EingabeAngabe!C29=\"\",\"\",EingabeAngabe!C29)","v":""}]
[{"$f":"EingabeAngabe!B31","v":"LE13"},{"$f":"IF(EingabeAngabe!C31=\"\",\"\",EingabeAngabe!C31)","v":""},null,{"$f":"IF(EingabeAngabe!D31=\"\",\"\",EingabeAngabe!D31)","v":""},{"$f":"IF(EingabeAngabe!E31=\"\",\"\",EingabeAngabe!E31)","v":""},{"$f":"IF(OR(G26=\"\",G26>EingabeAngabe!F31),\"F\",EingabeAngabe!B31)","v":"F"}]
[{"$f":"EingabeAngabe!B32","v":"LE14"},{"$f":"IF(EingabeAngabe!C32=\"\",\"\",EingabeAngabe!C32)","v":""},null,{"$f":"IF(EingabeAngabe!D32=\"\",\"\",EingabeAngabe!D32)","v":""},{"$f":"IF(EingabeAngabe!E32=\"\",\"\",EingabeAngabe!E32)","v":""},{"$f":"IF(OR(G27=\"\",G27>EingabeAngabe!F32),\"F\",EingabeAngabe!B32)","v":"F"},null,{"$f":"IF(EingabeAngabe!F80>\"\",EingabeAngabe!E79,\"\")","v":"Eigener Notenkommentar:"}]
[{"$f":"EingabeAngabe!B33","v":"LE15"},{"$f":"IF(EingabeAngabe!C33=\"\",\"\",EingabeAngabe!C33)","v":""},null,{"$f":"IF(EingabeAngabe!D33=\"\",\"\",EingabeAngabe!D33)","v":""},{"$f":"IF(EingabeAngabe!E33=\"\",\"\",EingabeAngabe!E33)","v":""},{"$f":"IF(OR(G28=\"\",G28>EingabeAngabe!F33),\"F\",EingabeAngabe!B33)","v":"F"}]
["LE16",{"$f":"IF(EingabeAngabe!C34=\"\",\"\",EingabeAngabe!C34)","v":""},null,{"$f":"IF(EingabeAngabe!D34=\"\",\"\",EingabeAngabe!D34)","v":""},{"$f":"IF(EingabeAngabe!E34=\"\",\"\",EingabeAngabe!E34)","v":""},{"$f":"IF(OR(G29=\"\",G29>EingabeAngabe!F34),\"F\",EingabeAngabe!B34)","v":"F"}]
["LE17",{"$f":"IF(EingabeAngabe!C35=\"\",\"\",EingabeAngabe!C35)","v":""},null,{"$f":"IF(EingabeAngabe!D35=\"\",\"\",EingabeAngabe!D35)","v":""},{"$f":"IF(EingabeAngabe!E35=\"\",\"\",EingabeAngabe!E35)","v":""},{"$f":"IF(OR(G30=\"\",G30>EingabeAngabe!F35),\"F\",EingabeAngabe!B35)","v":"F"}]
["LE18",{"$f":"IF(EingabeAngabe!C36=\"\",\"\",EingabeAngabe!C36)","v":""},null,{"$f":"IF(EingabeAngabe!D36=\"\",\"\",EingabeAngabe!D36)","v":""},{"$f":"IF(EingabeAngabe!E36=\"\",\"\",EingabeAngabe!E36)","v":""},{"$f":"IF(OR(G31=\"\",G31>EingabeAngabe!F36),\"F\",EingabeAngabe!B36)","v":"F"}]
["LE19",{"$f":"IF(EingabeAngabe!C37=\"\",\"\",EingabeAngabe!C37)","v":""},null,{"$f":"IF(EingabeAngabe!D37=\"\",\"\",EingabeAngabe!D37)","v":""},{"$f":"IF(EingabeAngabe!E37=\"\",\"\",EingabeAngabe!E37)","v":""},{"$f":"IF(OR(G32=\"\",G32>EingabeAngabe!F37),\"F\",EingabeAngabe!B37)","v":"F"}]
[{"$f":"EingabeAngabe!B38","v":"LE20"},{"$f":"IF(EingabeAngabe!C38=\"\",\"\",EingabeAngabe!C38)","v":""},null,{"$f":"IF(EingabeAngabe!D38=\"\",\"\",EingabeAngabe!D38)","v":""},{"$f":"IF(EingabeAngabe!E38=\"\",\"\",EingabeAngabe!E38)","v":""},{"$f":"IF(OR(G33=\"\",G33>EingabeAngabe!F38),\"F\",EingabeAngabe!B38)","v":"F"}]
[{"$f":"EingabeAngabe!B40","v":"MO21"},{"$f":"IF(EingabeAngabe!C40=\"\",\"\",EingabeAngabe!C40)","v":""},null,{"$f":"IF(EingabeAngabe!D40=\"\",\"\",EingabeAngabe!D40)","v":""},null,{"$f":"IF(OR(G34=\"\",G34>EingabeAngabe!F39),\"F\",EingabeAngabe!B40)","v":"F"}]
[{"$f":"EingabeAngabe!B41","v":"MO22"},{"$f":"IF(EingabeAngabe!C41=\"\",\"\",EingabeAngabe!C41)","v":""},null,{"$f":"IF(EingabeAngabe!D41=\"\",\"\",EingabeAngabe!D41)","v":""},null,{"$f":"IF(OR(G35=\"\",G35>EingabeAngabe!F40),\"F\",EingabeAngabe!B41)","v":"F"}]
["MO23",{"$f":"IF(EingabeAngabe!C42=\"\",\"\",EingabeAngabe!C42)","v":""},null,{"$f":"IF(EingabeAngabe!D42=\"\",\"\",EingabeAngabe!D42)","v":""},null,{"$f":"IF(OR(G36=\"\",G36>EingabeAngabe!F41),\"F\",EingabeAngabe!B42)","v":"F"}]
["MO24",{"$f":"IF(EingabeAngabe!C43=\"\",\"\",EingabeAngabe!C43)","v":""},null,{"$f":"IF(EingabeAngabe!D43=\"\",\"\",EingabeAngabe!D43)","v":""},null,{"$f":"IF(OR(G37=\"\",G37>EingabeAngabe!F42),\"F\",EingabeAngabe!B43)","v":"F"}]
["MO25",{"$f":"IF(EingabeAngabe!C44=\"\",\"\",EingabeAngabe!C44)","v":""},null,{"$f":"IF(EingabeAngabe!D44=\"\",\"\",EingabeAngabe!D44)","v":""},null,{"$f":"IF(OR(G38=\"\",G38>EingabeAngabe!F41),\"F\",EingabeAngabe!B42)","v":"F"}]
[{"$f":"EingabeAngabe!B45","v":"MO26"},{"$f":"IF(EingabeAngabe!C45=\"\",\"\",EingabeAngabe!C45)","v":""},null,{"$f":"IF(EingabeAngabe!D45=\"\",\"\",EingabeAngabe!D45)","v":""},null,{"$f":"IF(OR(G39=\"\",G39>EingabeAngabe!F42),\"F\",EingabeAngabe!B45)","v":"F"}]
[{"$f":"EingabeAngabe!B46","v":"MO27"},{"$f":"IF(EingabeAngabe!C46=\"\",\"\",EingabeAngabe!C46)","v":""},null,{"$f":"IF(EingabeAngabe!D46=\"\",\"\",EingabeAngabe!D46)","v":""},null,{"$f":"IF(OR(G40=\"\",G40>EingabeAngabe!F45),\"F\",EingabeAngabe!B46)","v":"F"}]
[{"$f":"EingabeAngabe!B47","v":"MO28"},{"$f":"IF(EingabeAngabe!C47=\"\",\"\",EingabeAngabe!C47)","v":""},null,{"$f":"IF(EingabeAngabe!D47=\"\",\"\",EingabeAngabe!D47)","v":""},null,{"$f":"IF(OR(G41=\"\",G41>EingabeAngabe!F46),\"F\",EingabeAngabe!B47)","v":"F"}]
[{"$f":"EingabeAngabe!B49","v":"SY29"},{"$f":"IF(EingabeAngabe!C49=\"\",\"\",EingabeAngabe!C49)","v":""},null,{"$f":"IF(EingabeAngabe!D49=\"\",\"\",EingabeAngabe!D49)","v":""},null,{"$f":"IF(OR(G42=\"\",G42>EingabeAngabe!F47),\"F\",EingabeAngabe!B49)","v":"F"}]
["SY30",{"$f":"IF(EingabeAngabe!C50=\"\",\"\",EingabeAngabe!C50)","v":""},null,{"$f":"IF(EingabeAngabe!D50=\"\",\"\",EingabeAngabe!D50)","v":""},null,{"$f":"IF(OR(G43=\"\",G43>EingabeAngabe!F48),\"F\",EingabeAngabe!B50)","v":"F"}]
["SY31",{"$f":"IF(EingabeAngabe!C51=\"\",\"\",EingabeAngabe!C51)","v":""},null,{"$f":"IF(EingabeAngabe!D51=\"\",\"\",EingabeAngabe!D51)","v":""},null,{"$f":"IF(OR(G44=\"\",G44>EingabeAngabe!F49),\"F\",EingabeAngabe!B51)","v":"F"}]
["SY32",{"$f":"IF(EingabeAngabe!C52=\"\",\"\",EingabeAngabe!C52)","v":""},null,{"$f":"IF(EingabeAngabe!D52=\"\",\"\",EingabeAngabe!D52)","v":""},null,{"$f":"IF(OR(G45=\"\",G45>EingabeAngabe!F50),\"F\",EingabeAngabe!B52)","v":"F"}]
["SY33",{"$f":"IF(EingabeAngabe!C53=\"\",\"\",EingabeAngabe!C53)","v":""},null,{"$f":"IF(EingabeAngabe!D53=\"\",\"\",EingabeAngabe!D53)","v":""},null,{"$f":"IF(OR(G46=\"\",G46>EingabeAngabe!F51),\"F\",EingabeAngabe!B53)","v":"F"}]
["SY34",{"$f":"IF(EingabeAngabe!C54=\"\",\"\",EingabeAngabe!C54)","v":""},null,{"$f":"IF(EingabeAngabe!D54=\"\",\"\",EingabeAngabe!D54)","v":""},null,{"$f":"IF(OR(G47=\"\",G47>EingabeAngabe!F52),\"F\",EingabeAngabe!B54)","v":"F"},null,"Summe Übersetzungstext",null,null,null,null,{"$f":"EingabeAngabe!AB59","v":""}]
[{"$f":"EingabeAngabe!B55","v":"SY35"},{"$f":"IF(EingabeAngabe!C55=\"\",\"\",EingabeAngabe!C55)","v":""},null,{"$f":"IF(EingabeAngabe!D55=\"\",\"\",EingabeAngabe!D55)","v":""},null,{"$f":"IF(OR(G48=\"\",G48>EingabeAngabe!F53),\"F\",EingabeAngabe!B55)","v":"F"},null,"Summe Arbeitsaufgaben und Interpretation",null,null,null,null,{"$f":"EingabeAngabe!AB60","v":""}]
[{"$f":"EingabeAngabe!B56","v":"SY36"},{"$f":"IF(EingabeAngabe!C56=\"\",\"\",EingabeAngabe!C56)","v":""},null,{"$f":"IF(EingabeAngabe!D56=\"\",\"\",EingabeAngabe!D56)","v":""},null,{"$f":"IF(OR(G49=\"\",G49>EingabeAngabe!F54),\"F\",EingabeAngabe!B56)","v":"F"},null,"Gesamtsumme",null,null,null,null,{"$f":"EingabeAngabe!AB2","v":""}]
[null,{"$f":"EingabeAngabe!C57","v":"SPRACHLICHE QUALITÄT IN DER ZIELSPRACHE"},null,null,null,{"$f":"IF(OR(G50=1,G50=3,G50=5,G50>6),\"F\",\"6/4/2/0\")","v":"6/4/2/0"},null,"NOTE",null,null,{"$f":"IF(EingabeAngabe!AB3=1,\"Sehr gut\",IF(EingabeAngabe!AB3=2,\"Gut\",IF(EingabeAngabe!AB3=3,\"Befriedigend\",IF(EingabeAngabe!AB3=4,\"Genügend\",IF(EingabeAngabe!AB3=5,\"Nicht genügend\",\"\")))))","v":""}]

{"sheet":"Schueler23Punkte","index":26,"n_rows":50,"n_cols":13,"rows_kept":50,"cut":false,"hidden":false,"merged":[[0,0,0,1],[0,3,0,4],[0,7,0,11],[1,0,2,0],[1,1,1,4],[1,5,2,5],[1,6,2,6],[1,8,1,11],[2,1,2,4],[2,8,2,11],[3,0,4,0],[3,1,3,4],[3,5,4,5],[3,6,4,6],[3,8,3,11],[4,1,4,4],[4,8,4,11],[5,0,6,0],[5,1,5,4],[5,5,6,5],[5,6,6,6],[5,8,5,11],[6,1,6,4],[6,8,6,11],[7,0,8,0],[7,1,7,4],[7,5,8,5],[7,6,8,6],[7,8,7,11],[8,1,8,4],[8,8,8,11],[9,0,10,0],[9,1,9,4],[9,5,10,5],[9,6,10,6],[9,7,9,13],[10,1,10,4],[10,7,10,10],[10,11,10,13],[11,0,12,0],[11,1,11,4],[11,5,12,5],[11,6,12,6],[11,7,11,10],[11,11,11,13],[12,1,12,4],[12,7,12,10],[12,11,12,13],[13,0,14,0],[13,1,13,4],[13,5,14,5],[13,6,14,6],[13,7,13,10],[13,11,13,13],[14,1,14,4],[14,7,14,10],[14,11,14,13],[15,0,16,0],[15,1,15,4],[15,5,16,5],[15,6,16,6],[15,7,15,13],[16,1,16,4],[16,7,24,13],[17,0,18,0],[17,1,17,4],[17,5,18,5],[17,6,18,6],[18,1,18,4],[19,0,20,0],[19,1,19,4],[19,5,20,5],[19,6,20,6],[20,1,20,4],[21,0,22,0],[21,1,21,4],[21,5,22,5],[21,6,22,6],[22,1,22,4],[23,0,24,0],[23,1,23,4],[23,5,24,5],[23,6,24,6],[24,1,24,4],[25,1,25,2],[26,1,26,2],[26,7,26,13],[27,1,27,2],[27,7,44,13],[28,1,28,2],[29,1,29,2],[30,1,30,2],[31,1,31,2],[32,1,32,2],[33,1,33,2],[33,3,33,4],[34,1,34,2],[34,3,34,4],[35,1,35,2],[35,3,35,4],[36,1,36,2],[36,3,36,4],[37,1,37,2],[37,3,37,4],[38,1,38,2],[38,3,38,4],[39,1,39,2],[39,3,39,4],[40,1,40,2],[40,3,40,4],[41,1,41,2],[41,3,41,4],[42,1,42,2],[42,3,42,4],[43,1,43,2],[43,3,43,4],[44,1,44,2],[44,3,44,4],[48,12,48,13],[45,1,45,2],[45,3,45,4],[46,1,46,2],[46,3,46,4],[46,7,46,11],[46,12,46,13],[49,1,49,4],[49,7,49,9],[49,10,49,13],[47,1,47,2],[47,3,47,4],[47,7,47,11],[47,12,47,13],[48,1,48,2],[48,3,48,4],[48,7,48,11]]}
["Übersetzungstext",null,"Schülername",{"$f":"SchuelernamenEingabe!B24","v":0},null,null,null,"Arbeitsaufgaben/ Interpretation"]
[{"$f":"EingabeAngabe!B6","v":"SE1"},{"$f":"IF(EingabeAngabe!C6=\"\",\"\",EingabeAngabe!C6)","v":""},null,null,null,{"$f":"IF(OR(G2=\"\",G2>EingabeAngabe!F6),\"F\",EingabeAngabe!B6)","v":"F"},null,{"$f":"EingabeAngabe!B61","v":"IT1"},{"$f":"IF(EingabeAngabe!C61=\"\",\"\",EingabeAngabe!C61)","v":""},null,null,null,{"$f":"IF(N2>EingabeAngabe!F61,\"F\",IF(EingabeAngabe!F61=\"\",\"\",EingabeAngabe!F61))","v":""}]
[null,{"$f":"IF(EingabeAngabe!C7=\"\",\"\",EingabeAngabe!C7)","v":""},null,null,null,null,null,{"$f":"EingabeAngabe!B62","v":"IT2"},{"$f":"IF(EingabeAngabe!C62=\"\",\"\",EingabeAngabe!C62)","v":""},null,null,null,{"$f":"IF(N3>EingabeAngabe!F62,\"F\",IF(EingabeAngabe!F62=\"\",\"\",EingabeAngabe!F62))","v":""}]
[{"$f":"EingabeAngabe!B8","v":"SE2"},{"$f":"IF(EingabeAngabe!C8=\"\",\"\",EingabeAngabe!C8)","v":""},null,null,null,{"$f":"IF(OR(G4=\"\",G4>EingabeAngabe!F8),\"F\",EingabeAngabe!B8)","v":"F"},null,{"$f":"EingabeAngabe!B63","v":"IT3"},{"$f":"IF(EingabeAngabe!C63=\"\",\"\",EingabeAngabe!C63)","v":""},null,null,null,{"$f":"IF(N4>EingabeAngabe!F63,\"F\",IF(EingabeAngabe!F63=\"\",\"\",EingabeAngabe!F63))","v":""}]
[null,{"$f":"IF(EingabeAngabe!C9=\"\",\"\",EingabeAngabe!C9)","v":""},null,null,null,null,null,{"$f":"EingabeAngabe!B64","v":"IT4"},{"$f":"IF(EingabeAngabe!C64=\"\",\"\",EingabeAngabe!C64)","v":""},null,null,null,{"$f":"IF(N5>EingabeAngabe!F64,\"F\",IF(EingabeAngabe!F64=\"\",\"\",EingabeAngabe!F64))","v":""}]
[{"$f":"EingabeAngabe!B10","v":"SE3"},{"$f":"IF(EingabeAngabe!C10=\"\",\"\",EingabeAngabe!C10)","v":""},null,null,null,{"$f":"IF(OR(G6=\"\",G6>EingabeAngabe!F10),\"F\",EingabeAngabe!B10)","v":"F"},null,{"$f":"EingabeAngabe!B65","v":"IT5"},{"$f":"IF(EingabeAngabe!C65=\"\",\"\",EingabeAngabe!C65)","v":""},null,null,null,{"$f":"IF(N6>EingabeAngabe!F65,\"F\",IF(EingabeAngabe!F65=\"\",\"\",EingabeAngabe!F65))","v":""}]
[null,{"$f":"IF(EingabeAngabe!C11=\"\",\"\",EingabeAngabe!C11)","v":""},null,null,null,null,null,{"$f":"EingabeAngabe!B66","v":"IT6"},{"$f":"IF(EingabeAngabe!C66=\"\",\"\",EingabeAngabe!C66)","v":""},null,null,null,{"$f":"IF(N7>EingabeAngabe!F66,\"F\",IF(EingabeAngabe!F66=\"\",\"\",EingabeAngabe!F66))","v":""}]
[{"$f":"EingabeAngabe!B12","v":"SE4"},{"$f":"IF(EingabeAngabe!C12=\"\",\"\",EingabeAngabe!C12)","v":""},null,null,null,{"$f":"IF(OR(G8=\"\",G8>EingabeAngabe!F12),\"F\",EingabeAngabe!B12)","v":"F"},null,{"$f":"EingabeAngabe!B67","v":"IT7"},{"$f":"IF(EingabeAngabe!C67=\"\",\"\",EingabeAngabe!C67)","v":""},null,null,null,{"$f":"IF(N8>EingabeAngabe!F67,\"F\",IF(EingabeAngabe!F67=\"\",\"\",EingabeAngabe!F67))","v":""}]
[null,{"$f":"IF(EingabeAngabe!C13=\"\",\"\",EingabeAngabe!C13)","v":""},null,null,null,null,null,{"$f":"EingabeAngabe!B68","v":"IT8"},{"$f":"IF(EingabeAngabe!C68=\"\",\"\",EingabeAngabe!C68)","v":""},null,null,null,{"$f":"IF(N9>EingabeAngabe!F68,\"F\",IF(EingabeAngabe!F68=\"\",\"\",EingabeAngabe!F68))","v":""}]
[{"$f":"EingabeAngabe!B14","v":"SE5"},{"$f":"IF(EingabeAngabe!C14=\"\",\"\",EingabeAngabe!C14)","v":""},null,null,null,{"$f":"IF(OR(G10=\"\",G10>EingabeAngabe!F14),\"F\",EingabeAngabe!B14)","v":"F"},null,"Notenschlüssel:"]
[null,{"$f":"IF(EingabeAngabe!C15=\"\",\"\",EingabeAngabe!C15)","v":""},null,null,null,null,null,"Sehr gut",null,null,null,{"$f":"EingabeAngabe!F72","v":"60 - 53"}]
[{"$f":"EingabeAngabe!B16","v":"SE6"},{"$f":"IF(EingabeAngabe!C16=\"\",\"\",EingabeAngabe!C16)","v":""},null,null,null,{"$f":"IF(OR(G12=\"\",G12>EingabeAngabe!F16),\"F\",EingabeAngabe!B16)","v":"F"},null,"Gut",null,null,null,{"$f":"EingabeAngabe!F73","v":"52 - 45"}]
[null,{"$f":"IF(EingabeAngabe!C17=\"\",\"\",EingabeAngabe!C17)","v":""},null,null,null,null,null,"Befriedigend",null,null,null,{"$f":"EingabeAngabe!F74","v":"44 - 37"}]
[{"$f":"EingabeAngabe!B18","v":"SE7"},{"$f":"IF(EingabeAngabe!C18=\"\",\"\",EingabeAngabe!C18)","v":""},null,null,null,{"$f":"IF(OR(G14=\"\",G14>EingabeAngabe!F18),\"F\",EingabeAngabe!B18)","v":"F"},null,"Genügend",null,null,null,{"$f":"EingabeAngabe!F75","v":"36 - 30"}]
[null,{"$f":"IF(EingabeAngabe!C19=\"\",\"\",EingabeAngabe!C19)","v":""},null,null,null,null,null,"Nicht genügend",null,null,null,{"$f":"EingabeAngabe!F76","v":"29 - 00"}]
[{"$f":"EingabeAngabe!B20","v":"SE8"},{"$f":"IF(EingabeAngabe!C20=\"\",\"\",EingabeAngabe!C20)","v":""},null,null,null,{"$f":"IF(OR(G16=\"\",G16>EingabeAngabe!F20),\"F\",EingabeAngabe!B20)","v":"F"},null,{"$f":"CONCATENATE(\"Notendefinition laut LBVO$14:\",\"            \",K50)","v":"Notendefinition laut LBVO$14:            "}]
[null,{"$f":"IF(EingabeAngabe!C21=\"\",\"\",EingabeAngabe!C21)","v":""},null,null,null,null,null,{"$f":"VLOOKUP(K50,SchuelernamenEingabe!D2:'SchuelernamenEingabe'!E40,2,FALSE)","v":{"$error":"#N/A"}}]
[{"$f":"EingabeAngabe!B22","v":"SE9"},{"$f":"IF(EingabeAngabe!C22=\"\",\"\",EingabeAngabe!C22)","v":""},null,null,null,{"$f":"IF(OR(G18=\"\",G18>EingabeAngabe!F22),\"F\",EingabeAngabe!B22)","v":"F"}]
[null,{"$f":"IF(EingabeAngabe!C23=\"\",\"\",EingabeAngabe!C23)","v":""}]
[{"$f":"EingabeAngabe!B24","v":"SE10"},{"$f":"IF(EingabeAngabe!C24=\"\",\"\",EingabeAngabe!C24)","v":""},null,null,null,{"$f":"IF(OR(G20=\"\",G20>EingabeAngabe!F24),\"F\",EingabeAngabe!B24)","v":"F"}]
[null,{"$f":"IF(EingabeAngabe!C25=\"\",\"\",EingabeAngabe!C25)","v":""}]
[{"$f":"EingabeAngabe!B26","v":"SE11"},{"$f":"IF(EingabeAngabe!C26=\"\",\"\",EingabeAngabe!C26)","v":""},null,null,null,{"$f":"IF(OR(G22=\"\",G22>EingabeAngabe!F26),\"F\",EingabeAngabe!B26)","v":"F"}]
[null,{"$f":"IF(EingabeAngabe!C27=\"\",\"\",EingabeAngabe!C27)","v":""}]
[{"$f":"EingabeAngabe!B28","v":"SE12"},{"$f":"IF(EingabeAngabe!C28=\"\",\"\",EingabeAngabe!C28)","v":""},null,null,null,{"$f":"IF(OR(G24=\"\",G24>EingabeAngabe!F28),\"F\",EingabeAngabe!B28)","v":"F"}]
[null,{"$f":"IF(EingabeAngabe!C29=\"\",\"\",EingabeAngabe!C29)","v":""}]
[{"$f":"EingabeAngabe!B31","v":"LE13"},{"$f":"IF(EingabeAngabe!C31=\"\",\"\",EingabeAngabe!C31)","v":""},null,{"$f":"IF(EingabeAngabe!D31=\"\",\"\",EingabeAngabe!D31)","v":""},{"$f":"IF(EingabeAngabe!E31=\"\",\"\",EingabeAngabe!E31)","v":""},{"$f":"IF(OR(G26=\"\",G26>EingabeAngabe!F31),\"F\",EingabeAngabe!B31)","v":"F"}]
[{"$f":"EingabeAngabe!B32","v":"LE14"},{"$f":"IF(EingabeAngabe!C32=\"\",\"\",EingabeAngabe!C32)","v":""},null,{"$f":"IF(EingabeAngabe!D32=\"\",\"\",EingabeAngabe!D32)","v":""},{"$f":"IF(EingabeAngabe!E32=\"\",\"\",EingabeAngabe!E32)","v":""},{"$f":"IF(OR(G27=\"\",G27>EingabeAngabe!F32),\"F\",EingabeAngabe!B32)","v":"F"},null,{"$f":"IF(EingabeAngabe!F80>\"\",EingabeAngabe!E79,\"\")","v":"Eigener Notenkommentar:"}]
[{"$f":"EingabeAngabe!B33","v":"LE15"},{"$f":"IF(EingabeAngabe!C33=\"\",\"\",EingabeAngabe!C33)","v":""},null,{"$f":"IF(EingabeAngabe!D33=\"\",\"\",EingabeAngabe!D33)","v":""},{"$f":"IF(EingabeAngabe!E33=\"\",\"\",EingabeAngabe!E33)","v":""},{"$f":"IF(OR(G28=\"\",G28>EingabeAngabe!F33),\"F\",EingabeAngabe!B33)","v":"F"}]
["LE16",{"$f":"IF(EingabeAngabe!C34=\"\",\"\",EingabeAngabe!C34)","v":""},null,{"$f":"IF(EingabeAngabe!D34=\"\",\"\",EingabeAngabe!D34)","v":""},{"$f":"IF(EingabeAngabe!E34=\"\",\"\",EingabeAngabe!E34)","v":""},{"$f":"IF(OR(G29=\"\",G29>EingabeAngabe!F34),\"F\",EingabeAngabe!B34)","v":"F"}]
["LE17",{"$f":"IF(EingabeAngabe!C35=\"\",\"\",EingabeAngabe!C35)","v":""},null,{"$f":"IF(EingabeAngabe!D35=\"\",\"\",EingabeAngabe!D35)","v":""},{"$f":"IF(EingabeAngabe!E35=\"\",\"\",EingabeAngabe!E35)","v":""},{"$f":"IF(OR(G30=\"\",G30>EingabeAngabe!F35),\"F\",EingabeAngabe!B35)","v":"F"}]
["LE18",{"$f":"IF(EingabeAngabe!C36=\"\",\"\",EingabeAngabe!C36)","v":""},null,{"$f":"IF(EingabeAngabe!D36=\"\",\"\",EingabeAngabe!D36)","v":""},{"$f":"IF(EingabeAngabe!E36=\"\",\"\",EingabeAngabe!E36)","v":""},{"$f":"IF(OR(G31=\"\",G31>EingabeAngabe!F36),\"F\",EingabeAngabe!B36)","v":"F"}]
["LE19",{"$f":"IF(EingabeAngabe!C37=\"\",\"\",EingabeAngabe!C37)","v":""},null,{"$f":"IF(EingabeAngabe!D37=\"\",\"\",EingabeAngabe!D37)","v":""},{"$f":"IF(EingabeAngabe!E37=\"\",\"\",EingabeAngabe!E37)","v":""},{"$f":"IF(OR(G32=\"\",G32>EingabeAngabe!F37),\"F\",EingabeAngabe!B37)","v":"F"}]
[{"$f":"EingabeAngabe!B38","v":"LE20"},{"$f":"IF(EingabeAngabe!C38=\"\",\"\",EingabeAngabe!C38)","v":""},null,{"$f":"IF(EingabeAngabe!D38=\"\",\"\",EingabeAngabe!D38)","v":""},{"$f":"IF(EingabeAngabe!E38=\"\",\"\",EingabeAngabe!E38)","v":""},{"$f":"IF(OR(G33=\"\",G33>EingabeAngabe!F38),\"F\",EingabeAngabe!B38)","v":"F"}]
[{"$f":"EingabeAngabe!B40","v":"MO21"},{"$f":"IF(EingabeAngabe!C40=\"\",\"\",EingabeAngabe!C40)","v":""},null,{"$f":"IF(EingabeAngabe!D40=\"\",\"\",EingabeAngabe!D40)","v":""},null,{"$f":"IF(OR(G34=\"\",G34>EingabeAngabe!F39),\"F\",EingabeAngabe!B40)","v":"F"}]
[{"$f":"EingabeAngabe!B41","v":"MO22"},{"$f":"IF(EingabeAngabe!C41=\"\",\"\",EingabeAngabe!C41)","v":""},null,{"$f":"IF(EingabeAngabe!D41=\"\",\"\",EingabeAngabe!D41)","v":""},null,{"$f":"IF(OR(G35=\"\",G35>EingabeAngabe!F40),\"F\",EingabeAngabe!B41)","v":"F"}]
["MO23",{"$f":"IF(EingabeAngabe!C42=\"\",\"\",EingabeAngabe!C42)","v":""},null,{"$f":"IF(EingabeAngabe!D42=\"\",\"\",EingabeAngabe!D42)","v":""},null,{"$f":"IF(OR(G36=\"\",G36>EingabeAngabe!F41),\"F\",EingabeAngabe!B42)","v":"F"}]
["MO24",{"$f":"IF(EingabeAngabe!C43=\"\",\"\",EingabeAngabe!C43)","v":""},null,{"$f":"IF(EingabeAngabe!D43=\"\",\"\",EingabeAngabe!D43)","v":""},null,{"$f":"IF(OR(G37=\"\",G37>EingabeAngabe!F42),\"F\",EingabeAngabe!B43)","v":"F"}]
["MO25",{"$f":"IF(EingabeAngabe!C44=\"\",\"\",EingabeAngabe!C44)","v":""},null,{"$f":"IF(EingabeAngabe!D44=\"\",\"\",EingabeAngabe!D44)","v":""},null,{"$f":"IF(OR(G38=\"\",G38>EingabeAngabe!F41),\"F\",EingabeAngabe!B42)","v":"F"}]
[{"$f":"EingabeAngabe!B45","v":"MO26"},{"$f":"IF(EingabeAngabe!C45=\"\",\"\",EingabeAngabe!C45)","v":""},null,{"$f":"IF(EingabeAngabe!D45=\"\",\"\",EingabeAngabe!D45)","v":""},null,{"$f":"IF(OR(G39=\"\",G39>EingabeAngabe!F42),\"F\",EingabeAngabe!B45)","v":"F"}]
[{"$f":"EingabeAngabe!B46","v":"MO27"},{"$f":"IF(EingabeAngabe!C46=\"\",\"\",EingabeAngabe!C46)","v":""},null,{"$f":"IF(EingabeAngabe!D46=\"\",\"\",EingabeAngabe!D46)","v":""},null,{"$f":"IF(OR(G40=\"\",G40>EingabeAngabe!F45),\"F\",EingabeAngabe!B46)","v":"F"}]
[{"$f":"EingabeAngabe!B47","v":"MO28"},{"$f":"IF(EingabeAngabe!C47=\"\",\"\",EingabeAngabe!C47)","v":""},null,{"$f":"IF(EingabeAngabe!D47=\"\",\"\",EingabeAngabe!D47)","v":""},null,{"$f":"IF(OR(G41=\"\",G41>EingabeAngabe!F46),\"F\",EingabeAngabe!B47)","v":"F"}]
[{"$f":"EingabeAngabe!B49","v":"SY29"},{"$f":"IF(EingabeAngabe!C49=\"\",\"\",EingabeAngabe!C49)","v":""},null,{"$f":"IF(EingabeAngabe!D49=\"\",\"\",EingabeAngabe!D49)","v":""},null,{"$f":"IF(OR(G42=\"\",G42>EingabeAngabe!F47),\"F\",EingabeAngabe!B49)","v":"F"}]
["SY30",{"$f":"IF(EingabeAngabe!C50=\"\",\"\",EingabeAngabe!C50)","v":""},null,{"$f":"IF(EingabeAngabe!D50=\"\",\"\",EingabeAngabe!D50)","v":""},null,{"$f":"IF(OR(G43=\"\",G43>EingabeAngabe!F48),\"F\",EingabeAngabe!B50)","v":"F"}]
["SY31",{"$f":"IF(EingabeAngabe!C51=\"\",\"\",EingabeAngabe!C51)","v":""},null,{"$f":"IF(EingabeAngabe!D51=\"\",\"\",EingabeAngabe!D51)","v":""},null,{"$f":"IF(OR(G44=\"\",G44>EingabeAngabe!F49),\"F\",EingabeAngabe!B51)","v":"F"}]
["SY32",{"$f":"IF(EingabeAngabe!C52=\"\",\"\",EingabeAngabe!C52)","v":""},null,{"$f":"IF(EingabeAngabe!D52=\"\",\"\",EingabeAngabe!D52)","v":""},null,{"$f":"IF(OR(G45=\"\",G45>EingabeAngabe!F50),\"F\",EingabeAngabe!B52)","v":"F"}]
["SY33",{"$f":"IF(EingabeAngabe!C53=\"\",\"\",EingabeAngabe!C53)","v":""},null,{"$f":"IF(EingabeAngabe!D53=\"\",\"\",EingabeAngabe!D53)","v":""},null,{"$f":"IF(OR(G46=\"\",G46>EingabeAngabe!F51),\"F\",EingabeAngabe!B53)","v":"F"}]
["SY34",{"$f":"IF(EingabeAngabe!C54=\"\",\"\",EingabeAngabe!C54)","v":""},null,{"$f":"IF(EingabeAngabe!D54=\"\",\"\",EingabeAngabe!D54)","v":""},null,{"$f":"IF(OR(G47=\"\",G47>EingabeAngabe!F52),\"F\",EingabeAngabe!B54)","v":"F"},null,"Summe Übersetzungstext",null,null,null,null,{"$f":"EingabeAngabe!AC59","v":""}]
[{"$f":"EingabeAngabe!B55","v":"SY35"},{"$f":"IF(EingabeAngabe!C55=\"\",\"\",EingabeAngabe!C55)","v":""},null,{"$f":"IF(EingabeAngabe!D55=\"\",\"\",EingabeAngabe!D55)","v":""},null,{"$f":"IF(OR(G48=\"\",G48>EingabeAngabe!F53),\"F\",EingabeAngabe!B55)","v":"F"},null,"Summe Arbeitsaufgaben und Interpretation",null,null,null,null,{"$f":"EingabeAngabe!AC60","v":""}]
[{"$f":"EingabeAngabe!B56","v":"SY36"},{"$f":"IF(EingabeAngabe!C56=\"\",\"\",EingabeAngabe!C56)","v":""},null,{"$f":"IF(EingabeAngabe!D56=\"\",\"\",EingabeAngabe!D56)","v":""},null,{"$f":"IF(OR(G49=\"\",G49>EingabeAngabe!F54),\"F\",EingabeAngabe!B56)","v":"F"},null,"Gesamtsumme",null,null,null,null,{"$f":"EingabeAngabe!AC2","v":""}]
[null,{"$f":"EingabeAngabe!C57","v":"SPRACHLICHE QUALITÄT IN DER ZIELSPRACHE"},null,null,null,{"$f":"IF(OR(G50=1,G50=3,G50=5,G50>6),\"F\",\"6/4/2/0\")","v":"6/4/2/0"},null,"NOTE",null,null,{"$f":"IF(EingabeAngabe!AC3=1,\"Sehr gut\",IF(EingabeAngabe!AC3=2,\"Gut\",IF(EingabeAngabe!AC3=3,\"Befriedigend\",IF(EingabeAngabe!AC3=4,\"Genügend\",IF(EingabeAngabe!AC3=5,\"Nicht genügend\",\"\")))))","v":""}]

{"sheet":"Schueler24Punkte","index":27,"n_rows":50,"n_cols":13,"rows_kept":50,"cut":false,"hidden":false,"merged":[[0,0,0,1],[0,3,0,4],[0,7,0,11],[1,0,2,0],[1,1,1,4],[1,5,2,5],[1,6,2,6],[1,8,1,11],[2,1,2,4],[2,8,2,11],[3,0,4,0],[3,1,3,4],[3,5,4,5],[3,6,4,6],[3,8,3,11],[4,1,4,4],[4,8,4,11],[5,0,6,0],[5,1,5,4],[5,5,6,5],[5,6,6,6],[5,8,5,11],[6,1,6,4],[6,8,6,11],[7,0,8,0],[7,1,7,4],[7,5,8,5],[7,6,8,6],[7,8,7,11],[8,1,8,4],[8,8,8,11],[9,0,10,0],[9,1,9,4],[9,5,10,5],[9,6,10,6],[9,7,9,13],[10,1,10,4],[10,7,10,10],[10,11,10,13],[11,0,12,0],[11,1,11,4],[11,5,12,5],[11,6,12,6],[11,7,11,10],[11,11,11,13],[12,1,12,4],[12,7,12,10],[12,11,12,13],[13,0,14,0],[13,1,13,4],[13,5,14,5],[13,6,14,6],[13,7,13,10],[13,11,13,13],[14,1,14,4],[14,7,14,10],[14,11,14,13],[15,0,16,0],[15,1,15,4],[15,5,16,5],[15,6,16,6],[15,7,15,13],[16,1,16,4],[16,7,24,13],[17,0,18,0],[17,1,17,4],[17,5,18,5],[17,6,18,6],[18,1,18,4],[19,0,20,0],[19,1,19,4],[19,5,20,5],[19,6,20,6],[20,1,20,4],[21,0,22,0],[21,1,21,4],[21,5,22,5],[21,6,22,6],[22,1,22,4],[23,0,24,0],[23,1,23,4],[23,5,24,5],[23,6,24,6],[24,1,24,4],[25,1,25,2],[26,1,26,2],[26,7,26,13],[27,1,27,2],[27,7,44,13],[28,1,28,2],[29,1,29,2],[30,1,30,2],[31,1,31,2],[32,1,32,2],[33,1,33,2],[33,3,33,4],[34,1,34,2],[34,3,34,4],[35,1,35,2],[35,3,35,4],[36,1,36,2],[36,3,36,4],[37,1,37,2],[37,3,37,4],[38,1,38,2],[38,3,38,4],[39,1,39,2],[39,3,39,4],[40,1,40,2],[40,3,40,4],[41,1,41,2],[41,3,41,4],[42,1,42,2],[42,3,42,4],[43,1,43,2],[43,3,43,4],[44,1,44,2],[44,3,44,4],[48,12,48,13],[45,1,45,2],[45,3,45,4],[46,1,46,2],[46,3,46,4],[46,7,46,11],[46,12,46,13],[49,1,49,4],[49,7,49,9],[49,10,49,13],[47,1,47,2],[47,3,47,4],[47,7,47,11],[47,12,47,13],[48,1,48,2],[48,3,48,4],[48,7,48,11]]}
["Übersetzungstext",null,"Schülername",{"$f":"SchuelernamenEingabe!B25","v":0},null,null,null,"Arbeitsaufgaben/ Interpretation"]
[{"$f":"EingabeAngabe!B6","v":"SE1"},{"$f":"IF(EingabeAngabe!C6=\"\",\"\",EingabeAngabe!C6)","v":""},null,null,null,{"$f":"IF(OR(G2=\"\",G2>EingabeAngabe!F6),\"F\",EingabeAngabe!B6)","v":"F"},null,{"$f":"EingabeAngabe!B61","v":"IT1"},{"$f":"IF(EingabeAngabe!C61=\"\",\"\",EingabeAngabe!C61)","v":""},null,null,null,{"$f":"IF(N2>EingabeAngabe!F61,\"F\",IF(EingabeAngabe!F61=\"\",\"\",EingabeAngabe!F61))","v":""}]
[null,{"$f":"IF(EingabeAngabe!C7=\"\",\"\",EingabeAngabe!C7)","v":""},null,null,null,null,null,{"$f":"EingabeAngabe!B62","v":"IT2"},{"$f":"IF(EingabeAngabe!C62=\"\",\"\",EingabeAngabe!C62)","v":""},null,null,null,{"$f":"IF(N3>EingabeAngabe!F62,\"F\",IF(EingabeAngabe!F62=\"\",\"\",EingabeAngabe!F62))","v":""}]
[{"$f":"EingabeAngabe!B8","v":"SE2"},{"$f":"IF(EingabeAngabe!C8=\"\",\"\",EingabeAngabe!C8)","v":""},null,null,null,{"$f":"IF(OR(G4=\"\",G4>EingabeAngabe!F8),\"F\",EingabeAngabe!B8)","v":"F"},null,{"$f":"EingabeAngabe!B63","v":"IT3"},{"$f":"IF(EingabeAngabe!C63=\"\",\"\",EingabeAngabe!C63)","v":""},null,null,null,{"$f":"IF(N4>EingabeAngabe!F63,\"F\",IF(EingabeAngabe!F63=\"\",\"\",EingabeAngabe!F63))","v":""}]
[null,{"$f":"IF(EingabeAngabe!C9=\"\",\"\",EingabeAngabe!C9)","v":""},null,null,null,null,null,{"$f":"EingabeAngabe!B64","v":"IT4"},{"$f":"IF(EingabeAngabe!C64=\"\",\"\",EingabeAngabe!C64)","v":""},null,null,null,{"$f":"IF(N5>EingabeAngabe!F64,\"F\",IF(EingabeAngabe!F64=\"\",\"\",EingabeAngabe!F64))","v":""}]
[{"$f":"EingabeAngabe!B10","v":"SE3"},{"$f":"IF(EingabeAngabe!C10=\"\",\"\",EingabeAngabe!C10)","v":""},null,null,null,{"$f":"IF(OR(G6=\"\",G6>EingabeAngabe!F10),\"F\",EingabeAngabe!B10)","v":"F"},null,{"$f":"EingabeAngabe!B65","v":"IT5"},{"$f":"IF(EingabeAngabe!C65=\"\",\"\",EingabeAngabe!C65)","v":""},null,null,null,{"$f":"IF(N6>EingabeAngabe!F65,\"F\",IF(EingabeAngabe!F65=\"\",\"\",EingabeAngabe!F65))","v":""}]
[null,{"$f":"IF(EingabeAngabe!C11=\"\",\"\",EingabeAngabe!C11)","v":""},null,null,null,null,null,{"$f":"EingabeAngabe!B66","v":"IT6"},{"$f":"IF(EingabeAngabe!C66=\"\",\"\",EingabeAngabe!C66)","v":""},null,null,null,{"$f":"IF(N7>EingabeAngabe!F66,\"F\",IF(EingabeAngabe!F66=\"\",\"\",EingabeAngabe!F66))","v":""}]
[{"$f":"EingabeAngabe!B12","v":"SE4"},{"$f":"IF(EingabeAngabe!C12=\"\",\"\",EingabeAngabe!C12)","v":""},null,null,null,{"$f":"IF(OR(G8=\"\",G8>EingabeAngabe!F12),\"F\",EingabeAngabe!B12)","v":"F"},null,{"$f":"EingabeAngabe!B67","v":"IT7"},{"$f":"IF(EingabeAngabe!C67=\"\",\"\",EingabeAngabe!C67)","v":""},null,null,null,{"$f":"IF(N8>EingabeAngabe!F67,\"F\",IF(EingabeAngabe!F67=\"\",\"\",EingabeAngabe!F67))","v":""}]
[null,{"$f":"IF(EingabeAngabe!C13=\"\",\"\",EingabeAngabe!C13)","v":""},null,null,null,null,null,{"$f":"EingabeAngabe!B68","v":"IT8"},{"$f":"IF(EingabeAngabe!C68=\"\",\"\",EingabeAngabe!C68)","v":""},null,null,null,{"$f":"IF(N9>EingabeAngabe!F68,\"F\",IF(EingabeAngabe!F68=\"\",\"\",EingabeAngabe!F68))","v":""}]
[{"$f":"EingabeAngabe!B14","v":"SE5"},{"$f":"IF(EingabeAngabe!C14=\"\",\"\",EingabeAngabe!C14)","v":""},null,null,null,{"$f":"IF(OR(G10=\"\",G10>EingabeAngabe!F14),\"F\",EingabeAngabe!B14)","v":"F"},null,"Notenschlüssel:"]
[null,{"$f":"IF(EingabeAngabe!C15=\"\",\"\",EingabeAngabe!C15)","v":""},null,null,null,null,null,"Sehr gut",null,null,null,{"$f":"EingabeAngabe!F72","v":"60 - 53"}]
[{"$f":"EingabeAngabe!B16","v":"SE6"},{"$f":"IF(EingabeAngabe!C16=\"\",\"\",EingabeAngabe!C16)","v":""},null,null,null,{"$f":"IF(OR(G12=\"\",G12>EingabeAngabe!F16),\"F\",EingabeAngabe!B16)","v":"F"},null,"Gut",null,null,null,{"$f":"EingabeAngabe!F73","v":"52 - 45"}]
[null,{"$f":"IF(EingabeAngabe!C17=\"\",\"\",EingabeAngabe!C17)","v":""},null,null,null,null,null,"Befriedigend",null,null,null,{"$f":"EingabeAngabe!F74","v":"44 - 37"}]
[{"$f":"EingabeAngabe!B18","v":"SE7"},{"$f":"IF(EingabeAngabe!C18=\"\",\"\",EingabeAngabe!C18)","v":""},null,null,null,{"$f":"IF(OR(G14=\"\",G14>EingabeAngabe!F18),\"F\",EingabeAngabe!B18)","v":"F"},null,"Genügend",null,null,null,{"$f":"EingabeAngabe!F75","v":"36 - 30"}]
[null,{"$f":"IF(EingabeAngabe!C19=\"\",\"\",EingabeAngabe!C19)","v":""},null,null,null,null,null,"Nicht genügend",null,null,null,{"$f":"EingabeAngabe!F76","v":"29 - 00"}]
[{"$f":"EingabeAngabe!B20","v":"SE8"},{"$f":"IF(EingabeAngabe!C20=\"\",\"\",EingabeAngabe!C20)","v":""},null,null,null,{"$f":"IF(OR(G16=\"\",G16>EingabeAngabe!F20),\"F\",EingabeAngabe!B20)","v":"F"},null,{"$f":"CONCATENATE(\"Notendefinition laut LBVO$14:\",\"            \",K50)","v":"Notendefinition laut LBVO$14:            "}]
[null,{"$f":"IF(EingabeAngabe!C21=\"\",\"\",EingabeAngabe!C21)","v":""},null,null,null,null,null,{"$f":"VLOOKUP(K50,SchuelernamenEingabe!D2:'SchuelernamenEingabe'!E40,2,FALSE)","v":{"$error":"#N/A"}}]
[{"$f":"EingabeAngabe!B22","v":"SE9"},{"$f":"IF(EingabeAngabe!C22=\"\",\"\",EingabeAngabe!C22)","v":""},null,null,null,{"$f":"IF(OR(G18=\"\",G18>EingabeAngabe!F22),\"F\",EingabeAngabe!B22)","v":"F"}]
[null,{"$f":"IF(EingabeAngabe!C23=\"\",\"\",EingabeAngabe!C23)","v":""}]
[{"$f":"EingabeAngabe!B24","v":"SE10"},{"$f":"IF(EingabeAngabe!C24=\"\",\"\",EingabeAngabe!C24)","v":""},null,null,null,{"$f":"IF(OR(G20=\"\",G20>EingabeAngabe!F24),\"F\",EingabeAngabe!B24)","v":"F"}]
[null,{"$f":"IF(EingabeAngabe!C25=\"\",\"\",EingabeAngabe!C25)","v":""}]
[{"$f":"EingabeAngabe!B26","v":"SE11"},{"$f":"IF(EingabeAngabe!C26=\"\",\"\",EingabeAngabe!C26)","v":""},null,null,null,{"$f":"IF(OR(G22=\"\",G22>EingabeAngabe!F26),\"F\",EingabeAngabe!B26)","v":"F"}]
[null,{"$f":"IF(EingabeAngabe!C27=\"\",\"\",EingabeAngabe!C27)","v":""}]
[{"$f":"EingabeAngabe!B28","v":"SE12"},{"$f":"IF(EingabeAngabe!C28=\"\",\"\",EingabeAngabe!C28)","v":""},null,null,null,{"$f":"IF(OR(G24=\"\",G24>EingabeAngabe!F28),\"F\",EingabeAngabe!B28)","v":"F"}]
[null,{"$f":"IF(EingabeAngabe!C29=\"\",\"\",EingabeAngabe!C29)","v":""}]
[{"$f":"EingabeAngabe!B31","v":"LE13"},{"$f":"IF(EingabeAngabe!C31=\"\",\"\",EingabeAngabe!C31)","v":""},null,{"$f":"IF(EingabeAngabe!D31=\"\",\"\",EingabeAngabe!D31)","v":""},{"$f":"IF(EingabeAngabe!E31=\"\",\"\",EingabeAngabe!E31)","v":""},{"$f":"IF(OR(G26=\"\",G26>EingabeAngabe!F31),\"F\",EingabeAngabe!B31)","v":"F"}]
[{"$f":"EingabeAngabe!B32","v":"LE14"},{"$f":"IF(EingabeAngabe!C32=\"\",\"\",EingabeAngabe!C32)","v":""},null,{"$f":"IF(EingabeAngabe!D32=\"\",\"\",EingabeAngabe!D32)","v":""},{"$f":"IF(EingabeAngabe!E32=\"\",\"\",EingabeAngabe!E32)","v":""},{"$f":"IF(OR(G27=\"\",G27>EingabeAngabe!F32),\"F\",EingabeAngabe!B32)","v":"F"},null,{"$f":"IF(EingabeAngabe!F80>\"\",EingabeAngabe!E79,\"\")","v":"Eigener Notenkommentar:"}]
[{"$f":"EingabeAngabe!B33","v":"LE15"},{"$f":"IF(EingabeAngabe!C33=\"\",\"\",EingabeAngabe!C33)","v":""},null,{"$f":"IF(EingabeAngabe!D33=\"\",\"\",EingabeAngabe!D33)","v":""},{"$f":"IF(EingabeAngabe!E33=\"\",\"\",EingabeAngabe!E33)","v":""},{"$f":"IF(OR(G28=\"\",G28>EingabeAngabe!F33),\"F\",EingabeAngabe!B33)","v":"F"}]
["LE16",{"$f":"IF(EingabeAngabe!C34=\"\",\"\",EingabeAngabe!C34)","v":""},null,{"$f":"IF(EingabeAngabe!D34=\"\",\"\",EingabeAngabe!D34)","v":""},{"$f":"IF(EingabeAngabe!E34=\"\",\"\",EingabeAngabe!E34)","v":""},{"$f":"IF(OR(G29=\"\",G29>EingabeAngabe!F34),\"F\",EingabeAngabe!B34)","v":"F"}]
["LE17",{"$f":"IF(EingabeAngabe!C35=\"\",\"\",EingabeAngabe!C35)","v":""},null,{"$f":"IF(EingabeAngabe!D35=\"\",\"\",EingabeAngabe!D35)","v":""},{"$f":"IF(EingabeAngabe!E35=\"\",\"\",EingabeAngabe!E35)","v":""},{"$f":"IF(OR(G30=\"\",G30>EingabeAngabe!F35),\"F\",EingabeAngabe!B35)","v":"F"}]
["LE18",{"$f":"IF(EingabeAngabe!C36=\"\",\"\",EingabeAngabe!C36)","v":""},null,{"$f":"IF(EingabeAngabe!D36=\"\",\"\",EingabeAngabe!D36)","v":""},{"$f":"IF(EingabeAngabe!E36=\"\",\"\",EingabeAngabe!E36)","v":""},{"$f":"IF(OR(G31=\"\",G31>EingabeAngabe!F36),\"F\",EingabeAngabe!B36)","v":"F"}]
["LE19",{"$f":"IF(EingabeAngabe!C37=\"\",\"\",EingabeAngabe!C37)","v":""},null,{"$f":"IF(EingabeAngabe!D37=\"\",\"\",EingabeAngabe!D37)","v":""},{"$f":"IF(EingabeAngabe!E37=\"\",\"\",EingabeAngabe!E37)","v":""},{"$f":"IF(OR(G32=\"\",G32>EingabeAngabe!F37),\"F\",EingabeAngabe!B37)","v":"F"}]
[{"$f":"EingabeAngabe!B38","v":"LE20"},{"$f":"IF(EingabeAngabe!C38=\"\",\"\",EingabeAngabe!C38)","v":""},null,{"$f":"IF(EingabeAngabe!D38=\"\",\"\",EingabeAngabe!D38)","v":""},{"$f":"IF(EingabeAngabe!E38=\"\",\"\",EingabeAngabe!E38)","v":""},{"$f":"IF(OR(G33=\"\",G33>EingabeAngabe!F38),\"F\",EingabeAngabe!B38)","v":"F"}]
[{"$f":"EingabeAngabe!B40","v":"MO21"},{"$f":"IF(EingabeAngabe!C40=\"\",\"\",EingabeAngabe!C40)","v":""},null,{"$f":"IF(EingabeAngabe!D40=\"\",\"\",EingabeAngabe!D40)","v":""},null,{"$f":"IF(OR(G34=\"\",G34>EingabeAngabe!F39),\"F\",EingabeAngabe!B40)","v":"F"}]
[{"$f":"EingabeAngabe!B41","v":"MO22"},{"$f":"IF(EingabeAngabe!C41=\"\",\"\",EingabeAngabe!C41)","v":""},null,{"$f":"IF(EingabeAngabe!D41=\"\",\"\",EingabeAngabe!D41)","v":""},null,{"$f":"IF(OR(G35=\"\",G35>EingabeAngabe!F40),\"F\",EingabeAngabe!B41)","v":"F"}]
["MO23",{"$f":"IF(EingabeAngabe!C42=\"\",\"\",EingabeAngabe!C42)","v":""},null,{"$f":"IF(EingabeAngabe!D42=\"\",\"\",EingabeAngabe!D42)","v":""},null,{"$f":"IF(OR(G36=\"\",G36>EingabeAngabe!F41),\"F\",EingabeAngabe!B42)","v":"F"}]
["MO24",{"$f":"IF(EingabeAngabe!C43=\"\",\"\",EingabeAngabe!C43)","v":""},null,{"$f":"IF(EingabeAngabe!D43=\"\",\"\",EingabeAngabe!D43)","v":""},null,{"$f":"IF(OR(G37=\"\",G37>EingabeAngabe!F42),\"F\",EingabeAngabe!B43)","v":"F"}]
["MO25",{"$f":"IF(EingabeAngabe!C44=\"\",\"\",EingabeAngabe!C44)","v":""},null,{"$f":"IF(EingabeAngabe!D44=\"\",\"\",EingabeAngabe!D44)","v":""},null,{"$f":"IF(OR(G38=\"\",G38>EingabeAngabe!F41),\"F\",EingabeAngabe!B42)","v":"F"}]
[{"$f":"EingabeAngabe!B45","v":"MO26"},{"$f":"IF(EingabeAngabe!C45=\"\",\"\",EingabeAngabe!C45)","v":""},null,{"$f":"IF(EingabeAngabe!D45=\"\",\"\",EingabeAngabe!D45)","v":""},null,{"$f":"IF(OR(G39=\"\",G39>EingabeAngabe!F42),\"F\",EingabeAngabe!B45)","v":"F"}]
[{"$f":"EingabeAngabe!B46","v":"MO27"},{"$f":"IF(EingabeAngabe!C46=\"\",\"\",EingabeAngabe!C46)","v":""},null,{"$f":"IF(EingabeAngabe!D46=\"\",\"\",EingabeAngabe!D46)","v":""},null,{"$f":"IF(OR(G40=\"\",G40>EingabeAngabe!F45),\"F\",EingabeAngabe!B46)","v":"F"}]
[{"$f":"EingabeAngabe!B47","v":"MO28"},{"$f":"IF(EingabeAngabe!C47=\"\",\"\",EingabeAngabe!C47)","v":""},null,{"$f":"IF(EingabeAngabe!D47=\"\",\"\",EingabeAngabe!D47)","v":""},null,{"$f":"IF(OR(G41=\"\",G41>EingabeAngabe!F46),\"F\",EingabeAngabe!B47)","v":"F"}]
[{"$f":"EingabeAngabe!B49","v":"SY29"},{"$f":"IF(EingabeAngabe!C49=\"\",\"\",EingabeAngabe!C49)","v":""},null,{"$f":"IF(EingabeAngabe!D49=\"\",\"\",EingabeAngabe!D49)","v":""},null,{"$f":"IF(OR(G42=\"\",G42>EingabeAngabe!F47),\"F\",EingabeAngabe!B49)","v":"F"}]
["SY30",{"$f":"IF(EingabeAngabe!C50=\"\",\"\",EingabeAngabe!C50)","v":""},null,{"$f":"IF(EingabeAngabe!D50=\"\",\"\",EingabeAngabe!D50)","v":""},null,{"$f":"IF(OR(G43=\"\",G43>EingabeAngabe!F48),\"F\",EingabeAngabe!B50)","v":"F"}]
["SY31",{"$f":"IF(EingabeAngabe!C51=\"\",\"\",EingabeAngabe!C51)","v":""},null,{"$f":"IF(EingabeAngabe!D51=\"\",\"\",EingabeAngabe!D51)","v":""},null,{"$f":"IF(OR(G44=\"\",G44>EingabeAngabe!F49),\"F\",EingabeAngabe!B51)","v":"F"}]
["SY32",{"$f":"IF(EingabeAngabe!C52=\"\",\"\",EingabeAngabe!C52)","v":""},null,{"$f":"IF(EingabeAngabe!D52=\"\",\"\",EingabeAngabe!D52)","v":""},null,{"$f":"IF(OR(G45=\"\",G45>EingabeAngabe!F50),\"F\",EingabeAngabe!B52)","v":"F"}]
["SY33",{"$f":"IF(EingabeAngabe!C53=\"\",\"\",EingabeAngabe!C53)","v":""},null,{"$f":"IF(EingabeAngabe!D53=\"\",\"\",EingabeAngabe!D53)","v":""},null,{"$f":"IF(OR(G46=\"\",G46>EingabeAngabe!F51),\"F\",EingabeAngabe!B53)","v":"F"}]
["SY34",{"$f":"IF(EingabeAngabe!C54=\"\",\"\",EingabeAngabe!C54)","v":""},null,{"$f":"IF(EingabeAngabe!D54=\"\",\"\",EingabeAngabe!D54)","v":""},null,{"$f":"IF(OR(G47=\"\",G47>EingabeAngabe!F52),\"F\",EingabeAngabe!B54)","v":"F"},null,"Summe Übersetzungstext",null,null,null,null,{"$f":"EingabeAngabe!AD59","v":""}]
[{"$f":"EingabeAngabe!B55","v":"SY35"},{"$f":"IF(EingabeAngabe!C55=\"\",\"\",EingabeAngabe!C55)","v":""},null,{"$f":"IF(EingabeAngabe!D55=\"\",\"\",EingabeAngabe!D55)","v":""},null,{"$f":"IF(OR(G48=\"\",G48>EingabeAngabe!F53),\"F\",EingabeAngabe!B55)","v":"F"},null,"Summe Arbeitsaufgaben und Interpretation",null,null,null,null,{"$f":"EingabeAngabe!AD60","v":""}]
[{"$f":"EingabeAngabe!B56","v":"SY36"},{"$f":"IF(EingabeAngabe!C56=\"\",\"\",EingabeAngabe!C56)","v":""},null,{"$f":"IF(EingabeAngabe!D56=\"\",\"\",EingabeAngabe!D56)","v":""},null,{"$f":"IF(OR(G49=\"\",G49>EingabeAngabe!F54),\"F\",EingabeAngabe!B56)","v":"F"},null,"Gesamtsumme",null,null,null,null,{"$f":"EingabeAngabe!AD2","v":""}]
[null,{"$f":"EingabeAngabe!C57","v":"SPRACHLICHE QUALITÄT IN DER ZIELSPRACHE"},null,null,null,{"$f":"IF(OR(G50=1,G50=3,G50=5,G50>6),\"F\",\"6/4/2/0\")","v":"6/4/2/0"},null,"NOTE",null,null,{"$f":"IF(EingabeAngabe!AD3=1,\"Sehr gut\",IF(EingabeAngabe!AD3=2,\"Gut\",IF(EingabeAngabe!AD3=3,\"Befriedigend\",IF(EingabeAngabe!AD3=4,\"Genügend\",IF(EingabeAngabe!AD3=5,\"Nicht genügend\",\"\")))))","v":""}]

{"sheet":"Schueler25Punkte","index":28,"n_rows":50,"n_cols":13,"rows_kept":50,"cut":false,"hidden":false,"merged":[[0,0,0,1],[0,3,0,4],[0,7,0,11],[1,0,2,0],[1,1,1,4],[1,5,2,5],[1,6,2,6],[1,8,1,11],[2,1,2,4],[2,8,2,11],[3,0,4,0],[3,1,3,4],[3,5,4,5],[3,6,4,6],[3,8,3,11],[4,1,4,4],[4,8,4,11],[5,0,6,0],[5,1,5,4],[5,5,6,5],[5,6,6,6],[5,8,5,11],[6,1,6,4],[6,8,6,11],[7,0,8,0],[7,1,7,4],[7,5,8,5],[7,6,8,6],[7,8,7,11],[8,1,8,4],[8,8,8,11],[9,0,10,0],[9,1,9,4],[9,5,10,5],[9,6,10,6],[9,7,9,13],[10,1,10,4],[10,7,10,10],[10,11,10,13],[11,0,12,0],[11,1,11,4],[11,5,12,5],[11,6,12,6],[11,7,11,10],[11,11,11,13],[12,1,12,4],[12,7,12,10],[12,11,12,13],[13,0,14,0],[13,1,13,4],[13,5,14,5],[13,6,14,6],[13,7,13,10],[13,11,13,13],[14,1,14,4],[14,7,14,10],[14,11,14,13],[15,0,16,0],[15,1,15,4],[15,5,16,5],[15,6,16,6],[15,7,15,13],[16,1,16,4],[16,7,24,13],[17,0,18,0],[17,1,17,4],[17,5,18,5],[17,6,18,6],[18,1,18,4],[19,0,20,0],[19,1,19,4],[19,5,20,5],[19,6,20,6],[20,1,20,4],[21,0,22,0],[21,1,21,4],[21,5,22,5],[21,6,22,6],[22,1,22,4],[23,0,24,0],[23,1,23,4],[23,5,24,5],[23,6,24,6],[24,1,24,4],[25,1,25,2],[26,1,26,2],[26,7,26,13],[27,1,27,2],[27,7,44,13],[28,1,28,2],[29,1,29,2],[30,1,30,2],[31,1,31,2],[32,1,32,2],[33,1,33,2],[33,3,33,4],[34,1,34,2],[34,3,34,4],[35,1,35,2],[35,3,35,4],[36,1,36,2],[36,3,36,4],[37,1,37,2],[37,3,37,4],[38,1,38,2],[38,3,38,4],[39,1,39,2],[39,3,39,4],[40,1,40,2],[40,3,40,4],[41,1,41,2],[41,3,41,4],[42,1,42,2],[42,3,42,4],[43,1,43,2],[43,3,43,4],[44,1,44,2],[44,3,44,4],[48,12,48,13],[45,1,45,2],[45,3,45,4],[46,1,46,2],[46,3,46,4],[46,7,46,11],[46,12,46,13],[49,1,49,4],[49,7,49,9],[49,10,49,13],[47,1,47,2],[47,3,47,4],[47,7,47,11],[47,12,47,13],[48,1,48,2],[48,3,48,4],[48,7,48,11]]}
["Übersetzungstext",null,"Schülername",{"$f":"SchuelernamenEingabe!B26","v":0},null,null,null,"Arbeitsaufgaben/ Interpretation"]
[{"$f":"EingabeAngabe!B6","v":"SE1"},{"$f":"IF(EingabeAngabe!C6=\"\",\"\",EingabeAngabe!C6)","v":""},null,null,null,{"$f":"IF(OR(G2=\"\",G2>EingabeAngabe!F6),\"F\",EingabeAngabe!B6)","v":"F"},null,{"$f":"EingabeAngabe!B61","v":"IT1"},{"$f":"IF(EingabeAngabe!C61=\"\",\"\",EingabeAngabe!C61)","v":""},null,null,null,{"$f":"IF(N2>EingabeAngabe!F61,\"F\",IF(EingabeAngabe!F61=\"\",\"\",EingabeAngabe!F61))","v":""}]
[null,{"$f":"IF(EingabeAngabe!C7=\"\",\"\",EingabeAngabe!C7)","v":""},null,null,null,null,null,{"$f":"EingabeAngabe!B62","v":"IT2"},{"$f":"IF(EingabeAngabe!C62=\"\",\"\",EingabeAngabe!C62)","v":""},null,null,null,{"$f":"IF(N3>EingabeAngabe!F62,\"F\",IF(EingabeAngabe!F62=\"\",\"\",EingabeAngabe!F62))","v":""}]
[{"$f":"EingabeAngabe!B8","v":"SE2"},{"$f":"IF(EingabeAngabe!C8=\"\",\"\",EingabeAngabe!C8)","v":""},null,null,null,{"$f":"IF(OR(G4=\"\",G4>EingabeAngabe!F8),\"F\",EingabeAngabe!B8)","v":"F"},null,{"$f":"EingabeAngabe!B63","v":"IT3"},{"$f":"IF(EingabeAngabe!C63=\"\",\"\",EingabeAngabe!C63)","v":""},null,null,null,{"$f":"IF(N4>EingabeAngabe!F63,\"F\",IF(EingabeAngabe!F63=\"\",\"\",EingabeAngabe!F63))","v":""}]
[null,{"$f":"IF(EingabeAngabe!C9=\"\",\"\",EingabeAngabe!C9)","v":""},null,null,null,null,null,{"$f":"EingabeAngabe!B64","v":"IT4"},{"$f":"IF(EingabeAngabe!C64=\"\",\"\",EingabeAngabe!C64)","v":""},null,null,null,{"$f":"IF(N5>EingabeAngabe!F64,\"F\",IF(EingabeAngabe!F64=\"\",\"\",EingabeAngabe!F64))","v":""}]
[{"$f":"EingabeAngabe!B10","v":"SE3"},{"$f":"IF(EingabeAngabe!C10=\"\",\"\",EingabeAngabe!C10)","v":""},null,null,null,{"$f":"IF(OR(G6=\"\",G6>EingabeAngabe!F10),\"F\",EingabeAngabe!B10)","v":"F"},null,{"$f":"EingabeAngabe!B65","v":"IT5"},{"$f":"IF(EingabeAngabe!C65=\"\",\"\",EingabeAngabe!C65)","v":""},null,null,null,{"$f":"IF(N6>EingabeAngabe!F65,\"F\",IF(EingabeAngabe!F65=\"\",\"\",EingabeAngabe!F65))","v":""}]
[null,{"$f":"IF(EingabeAngabe!C11=\"\",\"\",EingabeAngabe!C11)","v":""},null,null,null,null,null,{"$f":"EingabeAngabe!B66","v":"IT6"},{"$f":"IF(EingabeAngabe!C66=\"\",\"\",EingabeAngabe!C66)","v":""},null,null,null,{"$f":"IF(N7>EingabeAngabe!F66,\"F\",IF(EingabeAngabe!F66=\"\",\"\",EingabeAngabe!F66))","v":""}]
[{"$f":"EingabeAngabe!B12","v":"SE4"},{"$f":"IF(EingabeAngabe!C12=\"\",\"\",EingabeAngabe!C12)","v":""},null,null,null,{"$f":"IF(OR(G8=\"\",G8>EingabeAngabe!F12),\"F\",EingabeAngabe!B12)","v":"F"},null,{"$f":"EingabeAngabe!B67","v":"IT7"},{"$f":"IF(EingabeAngabe!C67=\"\",\"\",EingabeAngabe!C67)","v":""},null,null,null,{"$f":"IF(N8>EingabeAngabe!F67,\"F\",IF(EingabeAngabe!F67=\"\",\"\",EingabeAngabe!F67))","v":""}]
[null,{"$f":"IF(EingabeAngabe!C13=\"\",\"\",EingabeAngabe!C13)","v":""},null,null,null,null,null,{"$f":"EingabeAngabe!B68","v":"IT8"},{"$f":"IF(EingabeAngabe!C68=\"\",\"\",EingabeAngabe!C68)","v":""},null,null,null,{"$f":"IF(N9>EingabeAngabe!F68,\"F\",IF(EingabeAngabe!F68=\"\",\"\",EingabeAngabe!F68))","v":""}]
[{"$f":"EingabeAngabe!B14","v":"SE5"},{"$f":"IF(EingabeAngabe!C14=\"\",\"\",EingabeAngabe!C14)","v":""},null,null,null,{"$f":"IF(OR(G10=\"\",G10>EingabeAngabe!F14),\"F\",EingabeAngabe!B14)","v":"F"},null,"Notenschlüssel:"]
[null,{"$f":"IF(EingabeAngabe!C15=\"\",\"\",EingabeAngabe!C15)","v":""},null,null,null,null,null,"Sehr gut",null,null,null,{"$f":"EingabeAngabe!F72","v":"60 - 53"}]
[{"$f":"EingabeAngabe!B16","v":"SE6"},{"$f":"IF(EingabeAngabe!C16=\"\",\"\",EingabeAngabe!C16)","v":""},null,null,null,{"$f":"IF(OR(G12=\"\",G12>EingabeAngabe!F16),\"F\",EingabeAngabe!B16)","v":"F"},null,"Gut",null,null,null,{"$f":"EingabeAngabe!F73","v":"52 - 45"}]
[null,{"$f":"IF(EingabeAngabe!C17=\"\",\"\",EingabeAngabe!C17)","v":""},null,null,null,null,null,"Befriedigend",null,null,null,{"$f":"EingabeAngabe!F74","v":"44 - 37"}]
[{"$f":"EingabeAngabe!B18","v":"SE7"},{"$f":"IF(EingabeAngabe!C18=\"\",\"\",EingabeAngabe!C18)","v":""},null,null,null,{"$f":"IF(OR(G14=\"\",G14>EingabeAngabe!F18),\"F\",EingabeAngabe!B18)","v":"F"},null,"Genügend",null,null,null,{"$f":"EingabeAngabe!F75","v":"36 - 30"}]
[null,{"$f":"IF(EingabeAngabe!C19=\"\",\"\",EingabeAngabe!C19)","v":""},null,null,null,null,null,"Nicht genügend",null,null,null,{"$f":"EingabeAngabe!F76","v":"29 - 00"}]
[{"$f":"EingabeAngabe!B20","v":"SE8"},{"$f":"IF(EingabeAngabe!C20=\"\",\"\",EingabeAngabe!C20)","v":""},null,null,null,{"$f":"IF(OR(G16=\"\",G16>EingabeAngabe!F20),\"F\",EingabeAngabe!B20)","v":"F"},null,{"$f":"CONCATENATE(\"Notendefinition laut LBVO$14:\",\"            \",K50)","v":"Notendefinition laut LBVO$14:            "}]
[null,{"$f":"IF(EingabeAngabe!C21=\"\",\"\",EingabeAngabe!C21)","v":""},null,null,null,null,null,{"$f":"VLOOKUP(K50,SchuelernamenEingabe!D2:'SchuelernamenEingabe'!E40,2,FALSE)","v":{"$error":"#N/A"}}]
[{"$f":"EingabeAngabe!B22","v":"SE9"},{"$f":"IF(EingabeAngabe!C22=\"\",\"\",EingabeAngabe!C22)","v":""},null,null,null,{"$f":"IF(OR(G18=\"\",G18>EingabeAngabe!F22),\"F\",EingabeAngabe!B22)","v":"F"}]
[null,{"$f":"IF(EingabeAngabe!C23=\"\",\"\",EingabeAngabe!C23)","v":""}]
[{"$f":"EingabeAngabe!B24","v":"SE10"},{"$f":"IF(EingabeAngabe!C24=\"\",\"\",EingabeAngabe!C24)","v":""},null,null,null,{"$f":"IF(OR(G20=\"\",G20>EingabeAngabe!F24),\"F\",EingabeAngabe!B24)","v":"F"}]
[null,{"$f":"IF(EingabeAngabe!C25=\"\",\"\",EingabeAngabe!C25)","v":""}]
[{"$f":"EingabeAngabe!B26","v":"SE11"},{"$f":"IF(EingabeAngabe!C26=\"\",\"\",EingabeAngabe!C26)","v":""},null,null,null,{"$f":"IF(OR(G22=\"\",G22>EingabeAngabe!F26),\"F\",EingabeAngabe!B26)","v":"F"}]
[null,{"$f":"IF(EingabeAngabe!C27=\"\",\"\",EingabeAngabe!C27)","v":""}]
[{"$f":"EingabeAngabe!B28","v":"SE12"},{"$f":"IF(EingabeAngabe!C28=\"\",\"\",EingabeAngabe!C28)","v":""},null,null,null,{"$f":"IF(OR(G24=\"\",G24>EingabeAngabe!F28),\"F\",EingabeAngabe!B28)","v":"F"}]
[null,{"$f":"IF(EingabeAngabe!C29=\"\",\"\",EingabeAngabe!C29)","v":""}]
[{"$f":"EingabeAngabe!B31","v":"LE13"},{"$f":"IF(EingabeAngabe!C31=\"\",\"\",EingabeAngabe!C31)","v":""},null,{"$f":"IF(EingabeAngabe!D31=\"\",\"\",EingabeAngabe!D31)","v":""},{"$f":"IF(EingabeAngabe!E31=\"\",\"\",EingabeAngabe!E31)","v":""},{"$f":"IF(OR(G26=\"\",G26>EingabeAngabe!F31),\"F\",EingabeAngabe!B31)","v":"F"}]
[{"$f":"EingabeAngabe!B32","v":"LE14"},{"$f":"IF(EingabeAngabe!C32=\"\",\"\",EingabeAngabe!C32)","v":""},null,{"$f":"IF(EingabeAngabe!D32=\"\",\"\",EingabeAngabe!D32)","v":""},{"$f":"IF(EingabeAngabe!E32=\"\",\"\",EingabeAngabe!E32)","v":""},{"$f":"IF(OR(G27=\"\",G27>EingabeAngabe!F32),\"F\",EingabeAngabe!B32)","v":"F"},null,{"$f":"IF(EingabeAngabe!F80>\"\",EingabeAngabe!E79,\"\")","v":"Eigener Notenkommentar:"}]
[{"$f":"EingabeAngabe!B33","v":"LE15"},{"$f":"IF(EingabeAngabe!C33=\"\",\"\",EingabeAngabe!C33)","v":""},null,{"$f":"IF(EingabeAngabe!D33=\"\",\"\",EingabeAngabe!D33)","v":""},{"$f":"IF(EingabeAngabe!E33=\"\",\"\",EingabeAngabe!E33)","v":""},{"$f":"IF(OR(G28=\"\",G28>EingabeAngabe!F33),\"F\",EingabeAngabe!B33)","v":"F"}]
["LE16",{"$f":"IF(EingabeAngabe!C34=\"\",\"\",EingabeAngabe!C34)","v":""},null,{"$f":"IF(EingabeAngabe!D34=\"\",\"\",EingabeAngabe!D34)","v":""},{"$f":"IF(EingabeAngabe!E34=\"\",\"\",EingabeAngabe!E34)","v":""},{"$f":"IF(OR(G29=\"\",G29>EingabeAngabe!F34),\"F\",EingabeAngabe!B34)","v":"F"}]
["LE17",{"$f":"IF(EingabeAngabe!C35=\"\",\"\",EingabeAngabe!C35)","v":""},null,{"$f":"IF(EingabeAngabe!D35=\"\",\"\",EingabeAngabe!D35)","v":""},{"$f":"IF(EingabeAngabe!E35=\"\",\"\",EingabeAngabe!E35)","v":""},{"$f":"IF(OR(G30=\"\",G30>EingabeAngabe!F35),\"F\",EingabeAngabe!B35)","v":"F"}]
["LE18",{"$f":"IF(EingabeAngabe!C36=\"\",\"\",EingabeAngabe!C36)","v":""},null,{"$f":"IF(EingabeAngabe!D36=\"\",\"\",EingabeAngabe!D36)","v":""},{"$f":"IF(EingabeAngabe!E36=\"\",\"\",EingabeAngabe!E36)","v":""},{"$f":"IF(OR(G31=\"\",G31>EingabeAngabe!F36),\"F\",EingabeAngabe!B36)","v":"F"}]
["LE19",{"$f":"IF(EingabeAngabe!C37=\"\",\"\",EingabeAngabe!C37)","v":""},null,{"$f":"IF(EingabeAngabe!D37=\"\",\"\",EingabeAngabe!D37)","v":""},{"$f":"IF(EingabeAngabe!E37=\"\",\"\",EingabeAngabe!E37)","v":""},{"$f":"IF(OR(G32=\"\",G32>EingabeAngabe!F37),\"F\",EingabeAngabe!B37)","v":"F"}]
[{"$f":"EingabeAngabe!B38","v":"LE20"},{"$f":"IF(EingabeAngabe!C38=\"\",\"\",EingabeAngabe!C38)","v":""},null,{"$f":"IF(EingabeAngabe!D38=\"\",\"\",EingabeAngabe!D38)","v":""},{"$f":"IF(EingabeAngabe!E38=\"\",\"\",EingabeAngabe!E38)","v":""},{"$f":"IF(OR(G33=\"\",G33>EingabeAngabe!F38),\"F\",EingabeAngabe!B38)","v":"F"}]
[{"$f":"EingabeAngabe!B40","v":"MO21"},{"$f":"IF(EingabeAngabe!C40=\"\",\"\",EingabeAngabe!C40)","v":""},null,{"$f":"IF(EingabeAngabe!D40=\"\",\"\",EingabeAngabe!D40)","v":""},null,{"$f":"IF(OR(G34=\"\",G34>EingabeAngabe!F39),\"F\",EingabeAngabe!B40)","v":"F"}]
[{"$f":"EingabeAngabe!B41","v":"MO22"},{"$f":"IF(EingabeAngabe!C41=\"\",\"\",EingabeAngabe!C41)","v":""},null,{"$f":"IF(EingabeAngabe!D41=\"\",\"\",EingabeAngabe!D41)","v":""},null,{"$f":"IF(OR(G35=\"\",G35>EingabeAngabe!F40),\"F\",EingabeAngabe!B41)","v":"F"}]
["MO23",{"$f":"IF(EingabeAngabe!C42=\"\",\"\",EingabeAngabe!C42)","v":""},null,{"$f":"IF(EingabeAngabe!D42=\"\",\"\",EingabeAngabe!D42)","v":""},null,{"$f":"IF(OR(G36=\"\",G36>EingabeAngabe!F41),\"F\",EingabeAngabe!B42)","v":"F"}]
["MO24",{"$f":"IF(EingabeAngabe!C43=\"\",\"\",EingabeAngabe!C43)","v":""},null,{"$f":"IF(EingabeAngabe!D43=\"\",\"\",EingabeAngabe!D43)","v":""},null,{"$f":"IF(OR(G37=\"\",G37>EingabeAngabe!F42),\"F\",EingabeAngabe!B43)","v":"F"}]
["MO25",{"$f":"IF(EingabeAngabe!C44=\"\",\"\",EingabeAngabe!C44)","v":""},null,{"$f":"IF(EingabeAngabe!D44=\"\",\"\",EingabeAngabe!D44)","v":""},null,{"$f":"IF(OR(G38=\"\",G38>EingabeAngabe!F41),\"F\",EingabeAngabe!B42)","v":"F"}]
[{"$f":"EingabeAngabe!B45","v":"MO26"},{"$f":"IF(EingabeAngabe!C45=\"\",\"\",EingabeAngabe!C45)","v":""},null,{"$f":"IF(EingabeAngabe!D45=\"\",\"\",EingabeAngabe!D45)","v":""},null,{"$f":"IF(OR(G39=\"\",G39>EingabeAngabe!F42),\"F\",EingabeAngabe!B45)","v":"F"}]
[{"$f":"EingabeAngabe!B46","v":"MO27"},{"$f":"IF(EingabeAngabe!C46=\"\",\"\",EingabeAngabe!C46)","v":""},null,{"$f":"IF(EingabeAngabe!D46=\"\",\"\",EingabeAngabe!D46)","v":""},null,{"$f":"IF(OR(G40=\"\",G40>EingabeAngabe!F45),\"F\",EingabeAngabe!B46)","v":"F"}]
[{"$f":"EingabeAngabe!B47","v":"MO28"},{"$f":"IF(EingabeAngabe!C47=\"\",\"\",EingabeAngabe!C47)","v":""},null,{"$f":"IF(EingabeAngabe!D47=\"\",\"\",EingabeAngabe!D47)","v":""},null,{"$f":"IF(OR(G41=\"\",G41>EingabeAngabe!F46),\"F\",EingabeAngabe!B47)","v":"F"}]
[{"$f":"EingabeAngabe!B49","v":"SY29"},{"$f":"IF(EingabeAngabe!C49=\"\",\"\",EingabeAngabe!C49)","v":""},null,{"$f":"IF(EingabeAngabe!D49=\"\",\"\",EingabeAngabe!D49)","v":""},null,{"$f":"IF(OR(G42=\"\",G42>EingabeAngabe!F47),\"F\",EingabeAngabe!B49)","v":"F"}]
["SY30",{"$f":"IF(EingabeAngabe!C50=\"\",\"\",EingabeAngabe!C50)","v":""},null,{"$f":"IF(EingabeAngabe!D50=\"\",\"\",EingabeAngabe!D50)","v":""},null,{"$f":"IF(OR(G43=\"\",G43>EingabeAngabe!F48),\"F\",EingabeAngabe!B50)","v":"F"}]
["SY31",{"$f":"IF(EingabeAngabe!C51=\"\",\"\",EingabeAngabe!C51)","v":""},null,{"$f":"IF(EingabeAngabe!D51=\"\",\"\",EingabeAngabe!D51)","v":""},null,{"$f":"IF(OR(G44=\"\",G44>EingabeAngabe!F49),\"F\",EingabeAngabe!B51)","v":"F"}]
["SY32",{"$f":"IF(EingabeAngabe!C52=\"\",\"\",EingabeAngabe!C52)","v":""},null,{"$f":"IF(EingabeAngabe!D52=\"\",\"\",EingabeAngabe!D52)","v":""},null,{"$f":"IF(OR(G45=\"\",G45>EingabeAngabe!F50),\"F\",EingabeAngabe!B52)","v":"F"}]
["SY33",{"$f":"IF(EingabeAngabe!C53=\"\",\"\",EingabeAngabe!C53)","v":""},null,{"$f":"IF(EingabeAngabe!D53=\"\",\"\",EingabeAngabe!D53)","v":""},null,{"$f":"IF(OR(G46=\"\",G46>EingabeAngabe!F51),\"F\",EingabeAngabe!B53)","v":"F"}]
["SY34",{"$f":"IF(EingabeAngabe!C54=\"\",\"\",EingabeAngabe!C54)","v":""},null,{"$f":"IF(EingabeAngabe!D54=\"\",\"\",EingabeAngabe!D54)","v":""},null,{"$f":"IF(OR(G47=\"\",G47>EingabeAngabe!F52),\"F\",EingabeAngabe!B54)","v":"F"},null,"Summe Übersetzungstext",null,null,null,null,{"$f":"EingabeAngabe!AE59","v":""}]
[{"$f":"EingabeAngabe!B55","v":"SY35"},{"$f":"IF(EingabeAngabe!C55=\"\",\"\",EingabeAngabe!C55)","v":""},null,{"$f":"IF(EingabeAngabe!D55=\"\",\"\",EingabeAngabe!D55)","v":""},null,{"$f":"IF(OR(G48=\"\",G48>EingabeAngabe!F53),\"F\",EingabeAngabe!B55)","v":"F"},null,"Summe Arbeitsaufgaben und Interpretation",null,null,null,null,{"$f":"EingabeAngabe!AE60","v":""}]
[{"$f":"EingabeAngabe!B56","v":"SY36"},{"$f":"IF(EingabeAngabe!C56=\"\",\"\",EingabeAngabe!C56)","v":""},null,{"$f":"IF(EingabeAngabe!D56=\"\",\"\",EingabeAngabe!D56)","v":""},null,{"$f":"IF(OR(G49=\"\",G49>EingabeAngabe!F54),\"F\",EingabeAngabe!B56)","v":"F"},null,"Gesamtsumme",null,null,null,null,{"$f":"EingabeAngabe!AE2","v":""}]
[null,{"$f":"EingabeAngabe!C57","v":"SPRACHLICHE QUALITÄT IN DER ZIELSPRACHE"},null,null,null,{"$f":"IF(OR(G50=1,G50=3,G50=5,G50>6),\"F\",\"6/4/2/0\")","v":"6/4/2/0"},null,"NOTE",null,null,{"$f":"IF(EingabeAngabe!AE3=1,\"Sehr gut\",IF(EingabeAngabe!AE3=2,\"Gut\",IF(EingabeAngabe!AE3=3,\"Befriedigend\",IF(EingabeAngabe!AE3=4,\"Genügend\",IF(EingabeAngabe!AE3=5,\"Nicht genügend\",\"\")))))","v":""}]

{"sheet":"Schueler26Punkte","index":29,"n_rows":50,"n_cols":13,"rows_kept":50,"cut":false,"hidden":false,"merged":[[0,0,0,1],[0,3,0,4],[0,7,0,11],[1,0,2,0],[1,1,1,4],[1,5,2,5],[1,6,2,6],[1,8,1,11],[2,1,2,4],[2,8,2,11],[3,0,4,0],[3,1,3,4],[3,5,4,5],[3,6,4,6],[3,8,3,11],[4,1,4,4],[4,8,4,11],[5,0,6,0],[5,1,5,4],[5,5,6,5],[5,6,6,6],[5,8,5,11],[6,1,6,4],[6,8,6,11],[7,0,8,0],[7,1,7,4],[7,5,8,5],[7,6,8,6],[7,8,7,11],[8,1,8,4],[8,8,8,11],[9,0,10,0],[9,1,9,4],[9,5,10,5],[9,6,10,6],[9,7,9,13],[10,1,10,4],[10,7,10,10],[10,11,10,13],[11,0,12,0],[11,1,11,4],[11,5,12,5],[11,6,12,6],[11,7,11,10],[11,11,11,13],[12,1,12,4],[12,7,12,10],[12,11,12,13],[13,0,14,0],[13,1,13,4],[13,5,14,5],[13,6,14,6],[13,7,13,10],[13,11,13,13],[14,1,14,4],[14,7,14,10],[14,11,14,13],[15,0,16,0],[15,1,15,4],[15,5,16,5],[15,6,16,6],[15,7,15,13],[16,1,16,4],[16,7,24,13],[17,0,18,0],[17,1,17,4],[17,5,18,5],[17,6,18,6],[18,1,18,4],[19,0,20,0],[19,1,19,4],[19,5,20,5],[19,6,20,6],[20,1,20,4],[21,0,22,0],[21,1,21,4],[21,5,22,5],[21,6,22,6],[22,1,22,4],[23,0,24,0],[23,1,23,4],[23,5,24,5],[23,6,24,6],[24,1,24,4],[25,1,25,2],[26,1,26,2],[26,7,26,13],[27,1,27,2],[27,7,44,13],[28,1,28,2],[29,1,29,2],[30,1,30,2],[31,1,31,2],[32,1,32,2],[33,1,33,2],[33,3,33,4],[34,1,34,2],[34,3,34,4],[35,1,35,2],[35,3,35,4],[36,1,36,2],[36,3,36,4],[37,1,37,2],[37,3,37,4],[38,1,38,2],[38,3,38,4],[39,1,39,2],[39,3,39,4],[40,1,40,2],[40,3,40,4],[41,1,41,2],[41,3,41,4],[42,1,42,2],[42,3,42,4],[43,1,43,2],[43,3,43,4],[44,1,44,2],[44,3,44,4],[48,12,48,13],[45,1,45,2],[45,3,45,4],[46,1,46,2],[46,3,46,4],[46,7,46,11],[46,12,46,13],[49,1,49,4],[49,7,49,9],[49,10,49,13],[47,1,47,2],[47,3,47,4],[47,7,47,11],[47,12,47,13],[48,1,48,2],[48,3,48,4],[48,7,48,11]]}
["Übersetzungstext",null,"Schülername",{"$f":"SchuelernamenEingabe!B27","v":0},null,null,null,"Arbeitsaufgaben/ Interpretation"]
[{"$f":"EingabeAngabe!B6","v":"SE1"},{"$f":"IF(EingabeAngabe!C6=\"\",\"\",EingabeAngabe!C6)","v":""},null,null,null,{"$f":"IF(OR(G2=\"\",G2>EingabeAngabe!F6),\"F\",EingabeAngabe!B6)","v":"F"},null,{"$f":"EingabeAngabe!B61","v":"IT1"},{"$f":"IF(EingabeAngabe!C61=\"\",\"\",EingabeAngabe!C61)","v":""},null,null,null,{"$f":"IF(N2>EingabeAngabe!F61,\"F\",IF(EingabeAngabe!F61=\"\",\"\",EingabeAngabe!F61))","v":""}]
[null,{"$f":"IF(EingabeAngabe!C7=\"\",\"\",EingabeAngabe!C7)","v":""},null,null,null,null,null,{"$f":"EingabeAngabe!B62","v":"IT2"},{"$f":"IF(EingabeAngabe!C62=\"\",\"\",EingabeAngabe!C62)","v":""},null,null,null,{"$f":"IF(N3>EingabeAngabe!F62,\"F\",IF(EingabeAngabe!F62=\"\",\"\",EingabeAngabe!F62))","v":""}]
[{"$f":"EingabeAngabe!B8","v":"SE2"},{"$f":"IF(EingabeAngabe!C8=\"\",\"\",EingabeAngabe!C8)","v":""},null,null,null,{"$f":"IF(OR(G4=\"\",G4>EingabeAngabe!F8),\"F\",EingabeAngabe!B8)","v":"F"},null,{"$f":"EingabeAngabe!B63","v":"IT3"},{"$f":"IF(EingabeAngabe!C63=\"\",\"\",EingabeAngabe!C63)","v":""},null,null,null,{"$f":"IF(N4>EingabeAngabe!F63,\"F\",IF(EingabeAngabe!F63=\"\",\"\",EingabeAngabe!F63))","v":""}]
[null,{"$f":"IF(EingabeAngabe!C9=\"\",\"\",EingabeAngabe!C9)","v":""},null,null,null,null,null,{"$f":"EingabeAngabe!B64","v":"IT4"},{"$f":"IF(EingabeAngabe!C64=\"\",\"\",EingabeAngabe!C64)","v":""},null,null,null,{"$f":"IF(N5>EingabeAngabe!F64,\"F\",IF(EingabeAngabe!F64=\"\",\"\",EingabeAngabe!F64))","v":""}]
[{"$f":"EingabeAngabe!B10","v":"SE3"},{"$f":"IF(EingabeAngabe!C10=\"\",\"\",EingabeAngabe!C10)","v":""},null,null,null,{"$f":"IF(OR(G6=\"\",G6>EingabeAngabe!F10),\"F\",EingabeAngabe!B10)","v":"F"},null,{"$f":"EingabeAngabe!B65","v":"IT5"},{"$f":"IF(EingabeAngabe!C65=\"\",\"\",EingabeAngabe!C65)","v":""},null,null,null,{"$f":"IF(N6>EingabeAngabe!F65,\"F\",IF(EingabeAngabe!F65=\"\",\"\",EingabeAngabe!F65))","v":""}]
[null,{"$f":"IF(EingabeAngabe!C11=\"\",\"\",EingabeAngabe!C11)","v":""},null,null,null,null,null,{"$f":"EingabeAngabe!B66","v":"IT6"},{"$f":"IF(EingabeAngabe!C66=\"\",\"\",EingabeAngabe!C66)","v":""},null,null,null,{"$f":"IF(N7>EingabeAngabe!F66,\"F\",IF(EingabeAngabe!F66=\"\",\"\",EingabeAngabe!F66))","v":""}]
[{"$f":"EingabeAngabe!B12","v":"SE4"},{"$f":"IF(EingabeAngabe!C12=\"\",\"\",EingabeAngabe!C12)","v":""},null,null,null,{"$f":"IF(OR(G8=\"\",G8>EingabeAngabe!F12),\"F\",EingabeAngabe!B12)","v":"F"},null,{"$f":"EingabeAngabe!B67","v":"IT7"},{"$f":"IF(EingabeAngabe!C67=\"\",\"\",EingabeAngabe!C67)","v":""},null,null,null,{"$f":"IF(N8>EingabeAngabe!F67,\"F\",IF(EingabeAngabe!F67=\"\",\"\",EingabeAngabe!F67))","v":""}]
[null,{"$f":"IF(EingabeAngabe!C13=\"\",\"\",EingabeAngabe!C13)","v":""},null,null,null,null,null,{"$f":"EingabeAngabe!B68","v":"IT8"},{"$f":"IF(EingabeAngabe!C68=\"\",\"\",EingabeAngabe!C68)","v":""},null,null,null,{"$f":"IF(N9>EingabeAngabe!F68,\"F\",IF(EingabeAngabe!F68=\"\",\"\",EingabeAngabe!F68))","v":""}]
[{"$f":"EingabeAngabe!B14","v":"SE5"},{"$f":"IF(EingabeAngabe!C14=\"\",\"\",EingabeAngabe!C14)","v":""},null,null,null,{"$f":"IF(OR(G10=\"\",G10>EingabeAngabe!F14),\"F\",EingabeAngabe!B14)","v":"F"},null,"Notenschlüssel:"]
[null,{"$f":"IF(EingabeAngabe!C15=\"\",\"\",EingabeAngabe!C15)","v":""},null,null,null,null,null,"Sehr gut",null,null,null,{"$f":"EingabeAngabe!F72","v":"60 - 53"}]
[{"$f":"EingabeAngabe!B16","v":"SE6"},{"$f":"IF(EingabeAngabe!C16=\"\",\"\",EingabeAngabe!C16)","v":""},null,null,null,{"$f":"IF(OR(G12=\"\",G12>EingabeAngabe!F16),\"F\",EingabeAngabe!B16)","v":"F"},null,"Gut",null,null,null,{"$f":"EingabeAngabe!F73","v":"52 - 45"}]
[null,{"$f":"IF(EingabeAngabe!C17=\"\",\"\",EingabeAngabe!C17)","v":""},null,null,null,null,null,"Befriedigend",null,null,null,{"$f":"EingabeAngabe!F74","v":"44 - 37"}]
[{"$f":"EingabeAngabe!B18","v":"SE7"},{"$f":"IF(EingabeAngabe!C18=\"\",\"\",EingabeAngabe!C18)","v":""},null,null,null,{"$f":"IF(OR(G14=\"\",G14>EingabeAngabe!F18),\"F\",EingabeAngabe!B18)","v":"F"},null,"Genügend",null,null,null,{"$f":"EingabeAngabe!F75","v":"36 - 30"}]
[null,{"$f":"IF(EingabeAngabe!C19=\"\",\"\",EingabeAngabe!C19)","v":""},null,null,null,null,null,"Nicht genügend",null,null,null,{"$f":"EingabeAngabe!F76","v":"29 - 00"}]
[{"$f":"EingabeAngabe!B20","v":"SE8"},{"$f":"IF(EingabeAngabe!C20=\"\",\"\",EingabeAngabe!C20)","v":""},null,null,null,{"$f":"IF(OR(G16=\"\",G16>EingabeAngabe!F20),\"F\",EingabeAngabe!B20)","v":"F"},null,{"$f":"CONCATENATE(\"Notendefinition laut LBVO$14:\",\"            \",K50)","v":"Notendefinition laut LBVO$14:            "}]
[null,{"$f":"IF(EingabeAngabe!C21=\"\",\"\",EingabeAngabe!C21)","v":""},null,null,null,null,null,{"$f":"VLOOKUP(K50,SchuelernamenEingabe!D2:'SchuelernamenEingabe'!E40,2,FALSE)","v":{"$error":"#N/A"}}]
[{"$f":"EingabeAngabe!B22","v":"SE9"},{"$f":"IF(EingabeAngabe!C22=\"\",\"\",EingabeAngabe!C22)","v":""},null,null,null,{"$f":"IF(OR(G18=\"\",G18>EingabeAngabe!F22),\"F\",EingabeAngabe!B22)","v":"F"}]
[null,{"$f":"IF(EingabeAngabe!C23=\"\",\"\",EingabeAngabe!C23)","v":""}]
[{"$f":"EingabeAngabe!B24","v":"SE10"},{"$f":"IF(EingabeAngabe!C24=\"\",\"\",EingabeAngabe!C24)","v":""},null,null,null,{"$f":"IF(OR(G20=\"\",G20>EingabeAngabe!F24),\"F\",EingabeAngabe!B24)","v":"F"}]
[null,{"$f":"IF(EingabeAngabe!C25=\"\",\"\",EingabeAngabe!C25)","v":""}]
[{"$f":"EingabeAngabe!B26","v":"SE11"},{"$f":"IF(EingabeAngabe!C26=\"\",\"\",EingabeAngabe!C26)","v":""},null,null,null,{"$f":"IF(OR(G22=\"\",G22>EingabeAngabe!F26),\"F\",EingabeAngabe!B26)","v":"F"}]
[null,{"$f":"IF(EingabeAngabe!C27=\"\",\"\",EingabeAngabe!C27)","v":""}]
[{"$f":"EingabeAngabe!B28","v":"SE12"},{"$f":"IF(EingabeAngabe!C28=\"\",\"\",EingabeAngabe!C28)","v":""},null,null,null,{"$f":"IF(OR(G24=\"\",G24>EingabeAngabe!F28),\"F\",EingabeAngabe!B28)","v":"F"}]
[null,{"$f":"IF(EingabeAngabe!C29=\"\",\"\",EingabeAngabe!C29)","v":""}]
[{"$f":"EingabeAngabe!B31","v":"LE13"},{"$f":"IF(EingabeAngabe!C31=\"\",\"\",EingabeAngabe!C31)","v":""},null,{"$f":"IF(EingabeAngabe!D31=\"\",\"\",EingabeAngabe!D31)","v":""},{"$f":"IF(EingabeAngabe!E31=\"\",\"\",EingabeAngabe!E31)","v":""},{"$f":"IF(OR(G26=\"\",G26>EingabeAngabe!F31),\"F\",EingabeAngabe!B31)","v":"F"}]
[{"$f":"EingabeAngabe!B32","v":"LE14"},{"$f":"IF(EingabeAngabe!C32=\"\",\"\",EingabeAngabe!C32)","v":""},null,{"$f":"IF(EingabeAngabe!D32=\"\",\"\",EingabeAngabe!D32)","v":""},{"$f":"IF(EingabeAngabe!E32=\"\",\"\",EingabeAngabe!E32)","v":""},{"$f":"IF(OR(G27=\"\",G27>EingabeAngabe!F32),\"F\",EingabeAngabe!B32)","v":"F"},null,{"$f":"IF(EingabeAngabe!F80>\"\",EingabeAngabe!E79,\"\")","v":"Eigener Notenkommentar:"}]
[{"$f":"EingabeAngabe!B33","v":"LE15"},{"$f":"IF(EingabeAngabe!C33=\"\",\"\",EingabeAngabe!C33)","v":""},null,{"$f":"IF(EingabeAngabe!D33=\"\",\"\",EingabeAngabe!D33)","v":""},{"$f":"IF(EingabeAngabe!E33=\"\",\"\",EingabeAngabe!E33)","v":""},{"$f":"IF(OR(G28=\"\",G28>EingabeAngabe!F33),\"F\",EingabeAngabe!B33)","v":"F"}]
["LE16",{"$f":"IF(EingabeAngabe!C34=\"\",\"\",EingabeAngabe!C34)","v":""},null,{"$f":"IF(EingabeAngabe!D34=\"\",\"\",EingabeAngabe!D34)","v":""},{"$f":"IF(EingabeAngabe!E34=\"\",\"\",EingabeAngabe!E34)","v":""},{"$f":"IF(OR(G29=\"\",G29>EingabeAngabe!F34),\"F\",EingabeAngabe!B34)","v":"F"}]
["LE17",{"$f":"IF(EingabeAngabe!C35=\"\",\"\",EingabeAngabe!C35)","v":""},null,{"$f":"IF(EingabeAngabe!D35=\"\",\"\",EingabeAngabe!D35)","v":""},{"$f":"IF(EingabeAngabe!E35=\"\",\"\",EingabeAngabe!E35)","v":""},{"$f":"IF(OR(G30=\"\",G30>EingabeAngabe!F35),\"F\",EingabeAngabe!B35)","v":"F"}]
["LE18",{"$f":"IF(EingabeAngabe!C36=\"\",\"\",EingabeAngabe!C36)","v":""},null,{"$f":"IF(EingabeAngabe!D36=\"\",\"\",EingabeAngabe!D36)","v":""},{"$f":"IF(EingabeAngabe!E36=\"\",\"\",EingabeAngabe!E36)","v":""},{"$f":"IF(OR(G31=\"\",G31>EingabeAngabe!F36),\"F\",EingabeAngabe!B36)","v":"F"}]
["LE19",{"$f":"IF(EingabeAngabe!C37=\"\",\"\",EingabeAngabe!C37)","v":""},null,{"$f":"IF(EingabeAngabe!D37=\"\",\"\",EingabeAngabe!D37)","v":""},{"$f":"IF(EingabeAngabe!E37=\"\",\"\",EingabeAngabe!E37)","v":""},{"$f":"IF(OR(G32=\"\",G32>EingabeAngabe!F37),\"F\",EingabeAngabe!B37)","v":"F"}]
[{"$f":"EingabeAngabe!B38","v":"LE20"},{"$f":"IF(EingabeAngabe!C38=\"\",\"\",EingabeAngabe!C38)","v":""},null,{"$f":"IF(EingabeAngabe!D38=\"\",\"\",EingabeAngabe!D38)","v":""},{"$f":"IF(EingabeAngabe!E38=\"\",\"\",EingabeAngabe!E38)","v":""},{"$f":"IF(OR(G33=\"\",G33>EingabeAngabe!F38),\"F\",EingabeAngabe!B38)","v":"F"}]
[{"$f":"EingabeAngabe!B40","v":"MO21"},{"$f":"IF(EingabeAngabe!C40=\"\",\"\",EingabeAngabe!C40)","v":""},null,{"$f":"IF(EingabeAngabe!D40=\"\",\"\",EingabeAngabe!D40)","v":""},null,{"$f":"IF(OR(G34=\"\",G34>EingabeAngabe!F39),\"F\",EingabeAngabe!B40)","v":"F"}]
[{"$f":"EingabeAngabe!B41","v":"MO22"},{"$f":"IF(EingabeAngabe!C41=\"\",\"\",EingabeAngabe!C41)","v":""},null,{"$f":"IF(EingabeAngabe!D41=\"\",\"\",EingabeAngabe!D41)","v":""},null,{"$f":"IF(OR(G35=\"\",G35>EingabeAngabe!F40),\"F\",EingabeAngabe!B41)","v":"F"}]
["MO23",{"$f":"IF(EingabeAngabe!C42=\"\",\"\",EingabeAngabe!C42)","v":""},null,{"$f":"IF(EingabeAngabe!D42=\"\",\"\",EingabeAngabe!D42)","v":""},null,{"$f":"IF(OR(G36=\"\",G36>EingabeAngabe!F41),\"F\",EingabeAngabe!B42)","v":"F"}]
["MO24",{"$f":"IF(EingabeAngabe!C43=\"\",\"\",EingabeAngabe!C43)","v":""},null,{"$f":"IF(EingabeAngabe!D43=\"\",\"\",EingabeAngabe!D43)","v":""},null,{"$f":"IF(OR(G37=\"\",G37>EingabeAngabe!F42),\"F\",EingabeAngabe!B43)","v":"F"}]
["MO25",{"$f":"IF(EingabeAngabe!C44=\"\",\"\",EingabeAngabe!C44)","v":""},null,{"$f":"IF(EingabeAngabe!D44=\"\",\"\",EingabeAngabe!D44)","v":""},null,{"$f":"IF(OR(G38=\"\",G38>EingabeAngabe!F41),\"F\",EingabeAngabe!B42)","v":"F"}]
[{"$f":"EingabeAngabe!B45","v":"MO26"},{"$f":"IF(EingabeAngabe!C45=\"\",\"\",EingabeAngabe!C45)","v":""},null,{"$f":"IF(EingabeAngabe!D45=\"\",\"\",EingabeAngabe!D45)","v":""},null,{"$f":"IF(OR(G39=\"\",G39>EingabeAngabe!F42),\"F\",EingabeAngabe!B45)","v":"F"}]
[{"$f":"EingabeAngabe!B46","v":"MO27"},{"$f":"IF(EingabeAngabe!C46=\"\",\"\",EingabeAngabe!C46)","v":""},null,{"$f":"IF(EingabeAngabe!D46=\"\",\"\",EingabeAngabe!D46)","v":""},null,{"$f":"IF(OR(G40=\"\",G40>EingabeAngabe!F45),\"F\",EingabeAngabe!B46)","v":"F"}]
[{"$f":"EingabeAngabe!B47","v":"MO28"},{"$f":"IF(EingabeAngabe!C47=\"\",\"\",EingabeAngabe!C47)","v":""},null,{"$f":"IF(EingabeAngabe!D47=\"\",\"\",EingabeAngabe!D47)","v":""},null,{"$f":"IF(OR(G41=\"\",G41>EingabeAngabe!F46),\"F\",EingabeAngabe!B47)","v":"F"}]
[{"$f":"EingabeAngabe!B49","v":"SY29"},{"$f":"IF(EingabeAngabe!C49=\"\",\"\",EingabeAngabe!C49)","v":""},null,{"$f":"IF(EingabeAngabe!D49=\"\",\"\",EingabeAngabe!D49)","v":""},null,{"$f":"IF(OR(G42=\"\",G42>EingabeAngabe!F47),\"F\",EingabeAngabe!B49)","v":"F"}]
["SY30",{"$f":"IF(EingabeAngabe!C50=\"\",\"\",EingabeAngabe!C50)","v":""},null,{"$f":"IF(EingabeAngabe!D50=\"\",\"\",EingabeAngabe!D50)","v":""},null,{"$f":"IF(OR(G43=\"\",G43>EingabeAngabe!F48),\"F\",EingabeAngabe!B50)","v":"F"}]
["SY31",{"$f":"IF(EingabeAngabe!C51=\"\",\"\",EingabeAngabe!C51)","v":""},null,{"$f":"IF(EingabeAngabe!D51=\"\",\"\",EingabeAngabe!D51)","v":""},null,{"$f":"IF(OR(G44=\"\",G44>EingabeAngabe!F49),\"F\",EingabeAngabe!B51)","v":"F"}]
["SY32",{"$f":"IF(EingabeAngabe!C52=\"\",\"\",EingabeAngabe!C52)","v":""},null,{"$f":"IF(EingabeAngabe!D52=\"\",\"\",EingabeAngabe!D52)","v":""},null,{"$f":"IF(OR(G45=\"\",G45>EingabeAngabe!F50),\"F\",EingabeAngabe!B52)","v":"F"}]
["SY33",{"$f":"IF(EingabeAngabe!C53=\"\",\"\",EingabeAngabe!C53)","v":""},null,{"$f":"IF(EingabeAngabe!D53=\"\",\"\",EingabeAngabe!D53)","v":""},null,{"$f":"IF(OR(G46=\"\",G46>EingabeAngabe!F51),\"F\",EingabeAngabe!B53)","v":"F"}]
["SY34",{"$f":"IF(EingabeAngabe!C54=\"\",\"\",EingabeAngabe!C54)","v":""},null,{"$f":"IF(EingabeAngabe!D54=\"\",\"\",EingabeAngabe!D54)","v":""},null,{"$f":"IF(OR(G47=\"\",G47>EingabeAngabe!F52),\"F\",EingabeAngabe!B54)","v":"F"},null,"Summe Übersetzungstext",null,null,null,null,{"$f":"EingabeAngabe!AF59","v":""}]
[{"$f":"EingabeAngabe!B55","v":"SY35"},{"$f":"IF(EingabeAngabe!C55=\"\",\"\",EingabeAngabe!C55)","v":""},null,{"$f":"IF(EingabeAngabe!D55=\"\",\"\",EingabeAngabe!D55)","v":""},null,{"$f":"IF(OR(G48=\"\",G48>EingabeAngabe!F53),\"F\",EingabeAngabe!B55)","v":"F"},null,"Summe Arbeitsaufgaben und Interpretation",null,null,null,null,{"$f":"EingabeAngabe!AF60","v":""}]
[{"$f":"EingabeAngabe!B56","v":"SY36"},{"$f":"IF(EingabeAngabe!C56=\"\",\"\",EingabeAngabe!C56)","v":""},null,{"$f":"IF(EingabeAngabe!D56=\"\",\"\",EingabeAngabe!D56)","v":""},null,{"$f":"IF(OR(G49=\"\",G49>EingabeAngabe!F54),\"F\",EingabeAngabe!B56)","v":"F"},null,"Gesamtsumme",null,null,null,null,{"$f":"EingabeAngabe!AF2","v":""}]
[null,{"$f":"EingabeAngabe!C57","v":"SPRACHLICHE QUALITÄT IN DER ZIELSPRACHE"},null,null,null,{"$f":"IF(OR(G50=1,G50=3,G50=5,G50>6),\"F\",\"6/4/2/0\")","v":"6/4/2/0"},null,"NOTE",null,null,{"$f":"IF(EingabeAngabe!AF3=1,\"Sehr gut\",IF(EingabeAngabe!AF3=2,\"Gut\",IF(EingabeAngabe!AF3=3,\"Befriedigend\",IF(EingabeAngabe!AF3=4,\"Genügend\",IF(EingabeAngabe!AF3=5,\"Nicht genügend\",\"\")))))","v":""}]

{"sheet":"Schueler27Punkte","index":30,"n_rows":50,"n_cols":13,"rows_kept":50,"cut":false,"hidden":false,"merged":[[0,0,0,1],[0,3,0,4],[0,7,0,11],[1,0,2,0],[1,1,1,4],[1,5,2,5],[1,6,2,6],[1,8,1,11],[2,1,2,4],[2,8,2,11],[3,0,4,0],[3,1,3,4],[3,5,4,5],[3,6,4,6],[3,8,3,11],[4,1,4,4],[4,8,4,11],[5,0,6,0],[5,1,5,4],[5,5,6,5],[5,6,6,6],[5,8,5,11],[6,1,6,4],[6,8,6,11],[7,0,8,0],[7,1,7,4],[7,5,8,5],[7,6,8,6],[7,8,7,11],[8,1,8,4],[8,8,8,11],[9,0,10,0],[9,1,9,4],[9,5,10,5],[9,6,10,6],[9,7,9,13],[10,1,10,4],[10,7,10,10],[10,11,10,13],[11,0,12,0],[11,1,11,4],[11,5,12,5],[11,6,12,6],[11,7,11,10],[11,11,11,13],[12,1,12,4],[12,7,12,10],[12,11,12,13],[13,0,14,0],[13,1,13,4],[13,5,14,5],[13,6,14,6],[13,7,13,10],[13,11,13,13],[14,1,14,4],[14,7,14,10],[14,11,14,13],[15,0,16,0],[15,1,15,4],[15,5,16,5],[15,6,16,6],[15,7,15,13],[16,1,16,4],[16,7,24,13],[17,0,18,0],[17,1,17,4],[17,5,18,5],[17,6,18,6],[18,1,18,4],[19,0,20,0],[19,1,19,4],[19,5,20,5],[19,6,20,6],[20,1,20,4],[21,0,22,0],[21,1,21,4],[21,5,22,5],[21,6,22,6],[22,1,22,4],[23,0,24,0],[23,1,23,4],[23,5,24,5],[23,6,24,6],[24,1,24,4],[25,1,25,2],[26,1,26,2],[26,7,26,13],[27,1,27,2],[27,7,44,13],[28,1,28,2],[29,1,29,2],[30,1,30,2],[31,1,31,2],[32,1,32,2],[33,1,33,2],[33,3,33,4],[34,1,34,2],[34,3,34,4],[35,1,35,2],[35,3,35,4],[36,1,36,2],[36,3,36,4],[37,1,37,2],[37,3,37,4],[38,1,38,2],[38,3,38,4],[39,1,39,2],[39,3,39,4],[40,1,40,2],[40,3,40,4],[41,1,41,2],[41,3,41,4],[42,1,42,2],[42,3,42,4],[43,1,43,2],[43,3,43,4],[44,1,44,2],[44,3,44,4],[48,12,48,13],[45,1,45,2],[45,3,45,4],[46,1,46,2],[46,3,46,4],[46,7,46,11],[46,12,46,13],[49,1,49,4],[49,7,49,9],[49,10,49,13],[47,1,47,2],[47,3,47,4],[47,7,47,11],[47,12,47,13],[48,1,48,2],[48,3,48,4],[48,7,48,11]]}
["Übersetzungstext",null,"Schülername",{"$f":"SchuelernamenEingabe!B28","v":0},null,null,null,"Arbeitsaufgaben/ Interpretation"]
[{"$f":"EingabeAngabe!B6","v":"SE1"},{"$f":"IF(EingabeAngabe!C6=\"\",\"\",EingabeAngabe!C6)","v":""},null,null,null,{"$f":"IF(OR(G2=\"\",G2>EingabeAngabe!F6),\"F\",EingabeAngabe!B6)","v":"F"},null,{"$f":"EingabeAngabe!B61","v":"IT1"},{"$f":"IF(EingabeAngabe!C61=\"\",\"\",EingabeAngabe!C61)","v":""},null,null,null,{"$f":"IF(N2>EingabeAngabe!F61,\"F\",IF(EingabeAngabe!F61=\"\",\"\",EingabeAngabe!F61))","v":""}]
[null,{"$f":"IF(EingabeAngabe!C7=\"\",\"\",EingabeAngabe!C7)","v":""},null,null,null,null,null,{"$f":"EingabeAngabe!B62","v":"IT2"},{"$f":"IF(EingabeAngabe!C62=\"\",\"\",EingabeAngabe!C62)","v":""},null,null,null,{"$f":"IF(N3>EingabeAngabe!F62,\"F\",IF(EingabeAngabe!F62=\"\",\"\",EingabeAngabe!F62))","v":""}]
[{"$f":"EingabeAngabe!B8","v":"SE2"},{"$f":"IF(EingabeAngabe!C8=\"\",\"\",EingabeAngabe!C8)","v":""},null,null,null,{"$f":"IF(OR(G4=\"\",G4>EingabeAngabe!F8),\"F\",EingabeAngabe!B8)","v":"F"},null,{"$f":"EingabeAngabe!B63","v":"IT3"},{"$f":"IF(EingabeAngabe!C63=\"\",\"\",EingabeAngabe!C63)","v":""},null,null,null,{"$f":"IF(N4>EingabeAngabe!F63,\"F\",IF(EingabeAngabe!F63=\"\",\"\",EingabeAngabe!F63))","v":""}]
[null,{"$f":"IF(EingabeAngabe!C9=\"\",\"\",EingabeAngabe!C9)","v":""},null,null,null,null,null,{"$f":"EingabeAngabe!B64","v":"IT4"},{"$f":"IF(EingabeAngabe!C64=\"\",\"\",EingabeAngabe!C64)","v":""},null,null,null,{"$f":"IF(N5>EingabeAngabe!F64,\"F\",IF(EingabeAngabe!F64=\"\",\"\",EingabeAngabe!F64))","v":""}]
[{"$f":"EingabeAngabe!B10","v":"SE3"},{"$f":"IF(EingabeAngabe!C10=\"\",\"\",EingabeAngabe!C10)","v":""},null,null,null,{"$f":"IF(OR(G6=\"\",G6>EingabeAngabe!F10),\"F\",EingabeAngabe!B10)","v":"F"},null,{"$f":"EingabeAngabe!B65","v":"IT5"},{"$f":"IF(EingabeAngabe!C65=\"\",\"\",EingabeAngabe!C65)","v":""},null,null,null,{"$f":"IF(N6>EingabeAngabe!F65,\"F\",IF(EingabeAngabe!F65=\"\",\"\",EingabeAngabe!F65))","v":""}]
[null,{"$f":"IF(EingabeAngabe!C11=\"\",\"\",EingabeAngabe!C11)","v":""},null,null,null,null,null,{"$f":"EingabeAngabe!B66","v":"IT6"},{"$f":"IF(EingabeAngabe!C66=\"\",\"\",EingabeAngabe!C66)","v":""},null,null,null,{"$f":"IF(N7>EingabeAngabe!F66,\"F\",IF(EingabeAngabe!F66=\"\",\"\",EingabeAngabe!F66))","v":""}]
[{"$f":"EingabeAngabe!B12","v":"SE4"},{"$f":"IF(EingabeAngabe!C12=\"\",\"\",EingabeAngabe!C12)","v":""},null,null,null,{"$f":"IF(OR(G8=\"\",G8>EingabeAngabe!F12),\"F\",EingabeAngabe!B12)","v":"F"},null,{"$f":"EingabeAngabe!B67","v":"IT7"},{"$f":"IF(EingabeAngabe!C67=\"\",\"\",EingabeAngabe!C67)","v":""},null,null,null,{"$f":"IF(N8>EingabeAngabe!F67,\"F\",IF(EingabeAngabe!F67=\"\",\"\",EingabeAngabe!F67))","v":""}]
[null,{"$f":"IF(EingabeAngabe!C13=\"\",\"\",EingabeAngabe!C13)","v":""},null,null,null,null,null,{"$f":"EingabeAngabe!B68","v":"IT8"},{"$f":"IF(EingabeAngabe!C68=\"\",\"\",EingabeAngabe!C68)","v":""},null,null,null,{"$f":"IF(N9>EingabeAngabe!F68,\"F\",IF(EingabeAngabe!F68=\"\",\"\",EingabeAngabe!F68))","v":""}]
[{"$f":"EingabeAngabe!B14","v":"SE5"},{"$f":"IF(EingabeAngabe!C14=\"\",\"\",EingabeAngabe!C14)","v":""},null,null,null,{"$f":"IF(OR(G10=\"\",G10>EingabeAngabe!F14),\"F\",EingabeAngabe!B14)","v":"F"},null,"Notenschlüssel:"]
[null,{"$f":"IF(EingabeAngabe!C15=\"\",\"\",EingabeAngabe!C15)","v":""},null,null,null,null,null,"Sehr gut",null,null,null,{"$f":"EingabeAngabe!F72","v":"60 - 53"}]
[{"$f":"EingabeAngabe!B16","v":"SE6"},{"$f":"IF(EingabeAngabe!C16=\"\",\"\",EingabeAngabe!C16)","v":""},null,null,null,{"$f":"IF(OR(G12=\"\",G12>EingabeAngabe!F16),\"F\",EingabeAngabe!B16)","v":"F"},null,"Gut",null,null,null,{"$f":"EingabeAngabe!F73","v":"52 - 45"}]
[null,{"$f":"IF(EingabeAngabe!C17=\"\",\"\",EingabeAngabe!C17)","v":""},null,null,null,null,null,"Befriedigend",null,null,null,{"$f":"EingabeAngabe!F74","v":"44 - 37"}]
[{"$f":"EingabeAngabe!B18","v":"SE7"},{"$f":"IF(EingabeAngabe!C18=\"\",\"\",EingabeAngabe!C18)","v":""},null,null,null,{"$f":"IF(OR(G14=\"\",G14>EingabeAngabe!F18),\"F\",EingabeAngabe!B18)","v":"F"},null,"Genügend",null,null,null,{"$f":"EingabeAngabe!F75","v":"36 - 30"}]
[null,{"$f":"IF(EingabeAngabe!C19=\"\",\"\",EingabeAngabe!C19)","v":""},null,null,null,null,null,"Nicht genügend",null,null,null,{"$f":"EingabeAngabe!F76","v":"29 - 00"}]
[{"$f":"EingabeAngabe!B20","v":"SE8"},{"$f":"IF(EingabeAngabe!C20=\"\",\"\",EingabeAngabe!C20)","v":""},null,null,null,{"$f":"IF(OR(G16=\"\",G16>EingabeAngabe!F20),\"F\",EingabeAngabe!B20)","v":"F"},null,{"$f":"CONCATENATE(\"Notendefinition laut LBVO$14:\",\"            \",K50)","v":"Notendefinition laut LBVO$14:            "}]
[null,{"$f":"IF(EingabeAngabe!C21=\"\",\"\",EingabeAngabe!C21)","v":""},null,null,null,null,null,{"$f":"VLOOKUP(K50,SchuelernamenEingabe!D2:'SchuelernamenEingabe'!E40,2,FALSE)","v":{"$error":"#N/A"}}]
[{"$f":"EingabeAngabe!B22","v":"SE9"},{"$f":"IF(EingabeAngabe!C22=\"\",\"\",EingabeAngabe!C22)","v":""},null,null,null,{"$f":"IF(OR(G18=\"\",G18>EingabeAngabe!F22),\"F\",EingabeAngabe!B22)","v":"F"}]
[null,{"$f":"IF(EingabeAngabe!C23=\"\",\"\",EingabeAngabe!C23)","v":""}]
[{"$f":"EingabeAngabe!B24","v":"SE10"},{"$f":"IF(EingabeAngabe!C24=\"\",\"\",EingabeAngabe!C24)","v":""},null,null,null,{"$f":"IF(OR(G20=\"\",G20>EingabeAngabe!F24),\"F\",EingabeAngabe!B24)","v":"F"}]
[null,{"$f":"IF(EingabeAngabe!C25=\"\",\"\",EingabeAngabe!C25)","v":""}]
[{"$f":"EingabeAngabe!B26","v":"SE11"},{"$f":"IF(EingabeAngabe!C26=\"\",\"\",EingabeAngabe!C26)","v":""},null,null,null,{"$f":"IF(OR(G22=\"\",G22>EingabeAngabe!F26),\"F\",EingabeAngabe!B26)","v":"F"}]
[null,{"$f":"IF(EingabeAngabe!C27=\"\",\"\",EingabeAngabe!C27)","v":""}]
[{"$f":"EingabeAngabe!B28","v":"SE12"},{"$f":"IF(EingabeAngabe!C28=\"\",\"\",EingabeAngabe!C28)","v":""},null,null,null,{"$f":"IF(OR(G24=\"\",G24>EingabeAngabe!F28),\"F\",EingabeAngabe!B28)","v":"F"}]
[null,{"$f":"IF(EingabeAngabe!C29=\"\",\"\",EingabeAngabe!C29)","v":""}]
[{"$f":"EingabeAngabe!B31","v":"LE13"},{"$f":"IF(EingabeAngabe!C31=\"\",\"\",EingabeAngabe!C31)","v":""},null,{"$f":"IF(EingabeAngabe!D31=\"\",\"\",EingabeAngabe!D31)","v":""},{"$f":"IF(EingabeAngabe!E31=\"\",\"\",EingabeAngabe!E31)","v":""},{"$f":"IF(OR(G26=\"\",G26>EingabeAngabe!F31),\"F\",EingabeAngabe!B31)","v":"F"}]
[{"$f":"EingabeAngabe!B32","v":"LE14"},{"$f":"IF(EingabeAngabe!C32=\"\",\"\",EingabeAngabe!C32)","v":""},null,{"$f":"IF(EingabeAngabe!D32=\"\",\"\",EingabeAngabe!D32)","v":""},{"$f":"IF(EingabeAngabe!E32=\"\",\"\",EingabeAngabe!E32)","v":""},{"$f":"IF(OR(G27=\"\",G27>EingabeAngabe!F32),\"F\",EingabeAngabe!B32)","v":"F"},null,{"$f":"IF(EingabeAngabe!F80>\"\",EingabeAngabe!E79,\"\")","v":"Eigener Notenkommentar:"}]
[{"$f":"EingabeAngabe!B33","v":"LE15"},{"$f":"IF(EingabeAngabe!C33=\"\",\"\",EingabeAngabe!C33)","v":""},null,{"$f":"IF(EingabeAngabe!D33=\"\",\"\",EingabeAngabe!D33)","v":""},{"$f":"IF(EingabeAngabe!E33=\"\",\"\",EingabeAngabe!E33)","v":""},{"$f":"IF(OR(G28=\"\",G28>EingabeAngabe!F33),\"F\",EingabeAngabe!B33)","v":"F"}]
["LE16",{"$f":"IF(EingabeAngabe!C34=\"\",\"\",EingabeAngabe!C34)","v":""},null,{"$f":"IF(EingabeAngabe!D34=\"\",\"\",EingabeAngabe!D34)","v":""},{"$f":"IF(EingabeAngabe!E34=\"\",\"\",EingabeAngabe!E34)","v":""},{"$f":"IF(OR(G29=\"\",G29>EingabeAngabe!F34),\"F\",EingabeAngabe!B34)","v":"F"}]
["LE17",{"$f":"IF(EingabeAngabe!C35=\"\",\"\",EingabeAngabe!C35)","v":""},null,{"$f":"IF(EingabeAngabe!D35=\"\",\"\",EingabeAngabe!D35)","v":""},{"$f":"IF(EingabeAngabe!E35=\"\",\"\",EingabeAngabe!E35)","v":""},{"$f":"IF(OR(G30=\"\",G30>EingabeAngabe!F35),\"F\",EingabeAngabe!B35)","v":"F"}]
["LE18",{"$f":"IF(EingabeAngabe!C36=\"\",\"\",EingabeAngabe!C36)","v":""},null,{"$f":"IF(EingabeAngabe!D36=\"\",\"\",EingabeAngabe!D36)","v":""},{"$f":"IF(EingabeAngabe!E36=\"\",\"\",EingabeAngabe!E36)","v":""},{"$f":"IF(OR(G31=\"\",G31>EingabeAngabe!F36),\"F\",EingabeAngabe!B36)","v":"F"}]
["LE19",{"$f":"IF(EingabeAngabe!C37=\"\",\"\",EingabeAngabe!C37)","v":""},null,{"$f":"IF(EingabeAngabe!D37=\"\",\"\",EingabeAngabe!D37)","v":""},{"$f":"IF(EingabeAngabe!E37=\"\",\"\",EingabeAngabe!E37)","v":""},{"$f":"IF(OR(G32=\"\",G32>EingabeAngabe!F37),\"F\",EingabeAngabe!B37)","v":"F"}]
[{"$f":"EingabeAngabe!B38","v":"LE20"},{"$f":"IF(EingabeAngabe!C38=\"\",\"\",EingabeAngabe!C38)","v":""},null,{"$f":"IF(EingabeAngabe!D38=\"\",\"\",EingabeAngabe!D38)","v":""},{"$f":"IF(EingabeAngabe!E38=\"\",\"\",EingabeAngabe!E38)","v":""},{"$f":"IF(OR(G33=\"\",G33>EingabeAngabe!F38),\"F\",EingabeAngabe!B38)","v":"F"}]
[{"$f":"EingabeAngabe!B40","v":"MO21"},{"$f":"IF(EingabeAngabe!C40=\"\",\"\",EingabeAngabe!C40)","v":""},null,{"$f":"IF(EingabeAngabe!D40=\"\",\"\",EingabeAngabe!D40)","v":""},null,{"$f":"IF(OR(G34=\"\",G34>EingabeAngabe!F39),\"F\",EingabeAngabe!B40)","v":"F"}]
[{"$f":"EingabeAngabe!B41","v":"MO22"},{"$f":"IF(EingabeAngabe!C41=\"\",\"\",EingabeAngabe!C41)","v":""},null,{"$f":"IF(EingabeAngabe!D41=\"\",\"\",EingabeAngabe!D41)","v":""},null,{"$f":"IF(OR(G35=\"\",G35>EingabeAngabe!F40),\"F\",EingabeAngabe!B41)","v":"F"}]
["MO23",{"$f":"IF(EingabeAngabe!C42=\"\",\"\",EingabeAngabe!C42)","v":""},null,{"$f":"IF(EingabeAngabe!D42=\"\",\"\",EingabeAngabe!D42)","v":""},null,{"$f":"IF(OR(G36=\"\",G36>EingabeAngabe!F41),\"F\",EingabeAngabe!B42)","v":"F"}]
["MO24",{"$f":"IF(EingabeAngabe!C43=\"\",\"\",EingabeAngabe!C43)","v":""},null,{"$f":"IF(EingabeAngabe!D43=\"\",\"\",EingabeAngabe!D43)","v":""},null,{"$f":"IF(OR(G37=\"\",G37>EingabeAngabe!F42),\"F\",EingabeAngabe!B43)","v":"F"}]
["MO25",{"$f":"IF(EingabeAngabe!C44=\"\",\"\",EingabeAngabe!C44)","v":""},null,{"$f":"IF(EingabeAngabe!D44=\"\",\"\",EingabeAngabe!D44)","v":""},null,{"$f":"IF(OR(G38=\"\",G38>EingabeAngabe!F41),\"F\",EingabeAngabe!B42)","v":"F"}]
[{"$f":"EingabeAngabe!B45","v":"MO26"},{"$f":"IF(EingabeAngabe!C45=\"\",\"\",EingabeAngabe!C45)","v":""},null,{"$f":"IF(EingabeAngabe!D45=\"\",\"\",EingabeAngabe!D45)","v":""},null,{"$f":"IF(OR(G39=\"\",G39>EingabeAngabe!F42),\"F\",EingabeAngabe!B45)","v":"F"}]
[{"$f":"EingabeAngabe!B46","v":"MO27"},{"$f":"IF(EingabeAngabe!C46=\"\",\"\",EingabeAngabe!C46)","v":""},null,{"$f":"IF(EingabeAngabe!D46=\"\",\"\",EingabeAngabe!D46)","v":""},null,{"$f":"IF(OR(G40=\"\",G40>EingabeAngabe!F45),\"F\",EingabeAngabe!B46)","v":"F"}]
[{"$f":"EingabeAngabe!B47","v":"MO28"},{"$f":"IF(EingabeAngabe!C47=\"\",\"\",EingabeAngabe!C47)","v":""},null,{"$f":"IF(EingabeAngabe!D47=\"\",\"\",EingabeAngabe!D47)","v":""},null,{"$f":"IF(OR(G41=\"\",G41>EingabeAngabe!F46),\"F\",EingabeAngabe!B47)","v":"F"}]
[{"$f":"EingabeAngabe!B49","v":"SY29"},{"$f":"IF(EingabeAngabe!C49=\"\",\"\",EingabeAngabe!C49)","v":""},null,{"$f":"IF(EingabeAngabe!D49=\"\",\"\",EingabeAngabe!D49)","v":""},null,{"$f":"IF(OR(G42=\"\",G42>EingabeAngabe!F47),\"F\",EingabeAngabe!B49)","v":"F"}]
["SY30",{"$f":"IF(EingabeAngabe!C50=\"\",\"\",EingabeAngabe!C50)","v":""},null,{"$f":"IF(EingabeAngabe!D50=\"\",\"\",EingabeAngabe!D50)","v":""},null,{"$f":"IF(OR(G43=\"\",G43>EingabeAngabe!F48),\"F\",EingabeAngabe!B50)","v":"F"}]
["SY31",{"$f":"IF(EingabeAngabe!C51=\"\",\"\",EingabeAngabe!C51)","v":""},null,{"$f":"IF(EingabeAngabe!D51=\"\",\"\",EingabeAngabe!D51)","v":""},null,{"$f":"IF(OR(G44=\"\",G44>EingabeAngabe!F49),\"F\",EingabeAngabe!B51)","v":"F"}]
["SY32",{"$f":"IF(EingabeAngabe!C52=\"\",\"\",EingabeAngabe!C52)","v":""},null,{"$f":"IF(EingabeAngabe!D52=\"\",\"\",EingabeAngabe!D52)","v":""},null,{"$f":"IF(OR(G45=\"\",G45>EingabeAngabe!F50),\"F\",EingabeAngabe!B52)","v":"F"}]
["SY33",{"$f":"IF(EingabeAngabe!C53=\"\",\"\",EingabeAngabe!C53)","v":""},null,{"$f":"IF(EingabeAngabe!D53=\"\",\"\",EingabeAngabe!D53)","v":""},null,{"$f":"IF(OR(G46=\"\",G46>EingabeAngabe!F51),\"F\",EingabeAngabe!B53)","v":"F"}]
["SY34",{"$f":"IF(EingabeAngabe!C54=\"\",\"\",EingabeAngabe!C54)","v":""},null,{"$f":"IF(EingabeAngabe!D54=\"\",\"\",EingabeAngabe!D54)","v":""},null,{"$f":"IF(OR(G47=\"\",G47>EingabeAngabe!F52),\"F\",EingabeAngabe!B54)","v":"F"},null,"Summe Übersetzungstext",null,null,null,null,{"$f":"EingabeAngabe!AG59","v":""}]
[{"$f":"EingabeAngabe!B55","v":"SY35"},{"$f":"IF(EingabeAngabe!C55=\"\",\"\",EingabeAngabe!C55)","v":""},null,{"$f":"IF(EingabeAngabe!D55=\"\",\"\",EingabeAngabe!D55)","v":""},null,{"$f":"IF(OR(G48=\"\",G48>EingabeAngabe!F53),\"F\",EingabeAngabe!B55)","v":"F"},null,"Summe Arbeitsaufgaben und Interpretation",null,null,null,null,{"$f":"EingabeAngabe!AG60","v":""}]
[{"$f":"EingabeAngabe!B56","v":"SY36"},{"$f":"IF(EingabeAngabe!C56=\"\",\"\",EingabeAngabe!C56)","v":""},null,{"$f":"IF(EingabeAngabe!D56=\"\",\"\",EingabeAngabe!D56)","v":""},null,{"$f":"IF(OR(G49=\"\",G49>EingabeAngabe!F54),\"F\",EingabeAngabe!B56)","v":"F"},null,"Gesamtsumme",null,null,null,null,{"$f":"EingabeAngabe!AG2","v":""}]
[null,{"$f":"EingabeAngabe!C57","v":"SPRACHLICHE QUALITÄT IN DER ZIELSPRACHE"},null,null,null,{"$f":"IF(OR(G50=1,G50=3,G50=5,G50>6),\"F\",\"6/4/2/0\")","v":"6/4/2/0"},null,"NOTE",null,null,{"$f":"IF(EingabeAngabe!AG3=1,\"Sehr gut\",IF(EingabeAngabe!AG3=2,\"Gut\",IF(EingabeAngabe!AG3=3,\"Befriedigend\",IF(EingabeAngabe!AG3=4,\"Genügend\",IF(EingabeAngabe!AG3=5,\"Nicht genügend\",\"\")))))","v":""}]

{"sheet":"Schueler28Punkte","index":31,"n_rows":50,"n_cols":13,"rows_kept":50,"cut":false,"hidden":false,"merged":[[0,0,0,1],[0,3,0,4],[0,7,0,11],[1,0,2,0],[1,1,1,4],[1,5,2,5],[1,6,2,6],[1,8,1,11],[2,1,2,4],[2,8,2,11],[3,0,4,0],[3,1,3,4],[3,5,4,5],[3,6,4,6],[3,8,3,11],[4,1,4,4],[4,8,4,11],[5,0,6,0],[5,1,5,4],[5,5,6,5],[5,6,6,6],[5,8,5,11],[6,1,6,4],[6,8,6,11],[7,0,8,0],[7,1,7,4],[7,5,8,5],[7,6,8,6],[7,8,7,11],[8,1,8,4],[8,8,8,11],[9,0,10,0],[9,1,9,4],[9,5,10,5],[9,6,10,6],[9,7,9,13],[10,1,10,4],[10,7,10,10],[10,11,10,13],[11,0,12,0],[11,1,11,4],[11,5,12,5],[11,6,12,6],[11,7,11,10],[11,11,11,13],[12,1,12,4],[12,7,12,10],[12,11,12,13],[13,0,14,0],[13,1,13,4],[13,5,14,5],[13,6,14,6],[13,7,13,10],[13,11,13,13],[14,1,14,4],[14,7,14,10],[14,11,14,13],[15,0,16,0],[15,1,15,4],[15,5,16,5],[15,6,16,6],[15,7,15,13],[16,1,16,4],[16,7,24,13],[17,0,18,0],[17,1,17,4],[17,5,18,5],[17,6,18,6],[18,1,18,4],[19,0,20,0],[19,1,19,4],[19,5,20,5],[19,6,20,6],[20,1,20,4],[21,0,22,0],[21,1,21,4],[21,5,22,5],[21,6,22,6],[22,1,22,4],[23,0,24,0],[23,1,23,4],[23,5,24,5],[23,6,24,6],[24,1,24,4],[25,1,25,2],[26,1,26,2],[26,7,26,13],[27,1,27,2],[27,7,44,13],[28,1,28,2],[29,1,29,2],[30,1,30,2],[31,1,31,2],[32,1,32,2],[33,1,33,2],[33,3,33,4],[34,1,34,2],[34,3,34,4],[35,1,35,2],[35,3,35,4],[36,1,36,2],[36,3,36,4],[37,1,37,2],[37,3,37,4],[38,1,38,2],[38,3,38,4],[39,1,39,2],[39,3,39,4],[40,1,40,2],[40,3,40,4],[41,1,41,2],[41,3,41,4],[42,1,42,2],[42,3,42,4],[43,1,43,2],[43,3,43,4],[44,1,44,2],[44,3,44,4],[48,12,48,13],[45,1,45,2],[45,3,45,4],[46,1,46,2],[46,3,46,4],[46,7,46,11],[46,12,46,13],[49,1,49,4],[49,7,49,9],[49,10,49,13],[47,1,47,2],[47,3,47,4],[47,7,47,11],[47,12,47,13],[48,1,48,2],[48,3,48,4],[48,7,48,11]]}
["Übersetzungstext",null,"Schülername",{"$f":"SchuelernamenEingabe!B29","v":0},null,null,null,"Arbeitsaufgaben/ Interpretation"]
[{"$f":"EingabeAngabe!B6","v":"SE1"},{"$f":"IF(EingabeAngabe!C6=\"\",\"\",EingabeAngabe!C6)","v":""},null,null,null,{"$f":"IF(OR(G2=\"\",G2>EingabeAngabe!F6),\"F\",EingabeAngabe!B6)","v":"F"},null,{"$f":"EingabeAngabe!B61","v":"IT1"},{"$f":"IF(EingabeAngabe!C61=\"\",\"\",EingabeAngabe!C61)","v":""},null,null,null,{"$f":"IF(N2>EingabeAngabe!F61,\"F\",IF(EingabeAngabe!F61=\"\",\"\",EingabeAngabe!F61))","v":""}]
[null,{"$f":"IF(EingabeAngabe!C7=\"\",\"\",EingabeAngabe!C7)","v":""},null,null,null,null,null,{"$f":"EingabeAngabe!B62","v":"IT2"},{"$f":"IF(EingabeAngabe!C62=\"\",\"\",EingabeAngabe!C62)","v":""},null,null,null,{"$f":"IF(N3>EingabeAngabe!F62,\"F\",IF(EingabeAngabe!F62=\"\",\"\",EingabeAngabe!F62))","v":""}]
[{"$f":"EingabeAngabe!B8","v":"SE2"},{"$f":"IF(EingabeAngabe!C8=\"\",\"\",EingabeAngabe!C8)","v":""},null,null,null,{"$f":"IF(OR(G4=\"\",G4>EingabeAngabe!F8),\"F\",EingabeAngabe!B8)","v":"F"},null,{"$f":"EingabeAngabe!B63","v":"IT3"},{"$f":"IF(EingabeAngabe!C63=\"\",\"\",EingabeAngabe!C63)","v":""},null,null,null,{"$f":"IF(N4>EingabeAngabe!F63,\"F\",IF(EingabeAngabe!F63=\"\",\"\",EingabeAngabe!F63))","v":""}]
[null,{"$f":"IF(EingabeAngabe!C9=\"\",\"\",EingabeAngabe!C9)","v":""},null,null,null,null,null,{"$f":"EingabeAngabe!B64","v":"IT4"},{"$f":"IF(EingabeAngabe!C64=\"\",\"\",EingabeAngabe!C64)","v":""},null,null,null,{"$f":"IF(N5>EingabeAngabe!F64,\"F\",IF(EingabeAngabe!F64=\"\",\"\",EingabeAngabe!F64))","v":""}]
[{"$f":"EingabeAngabe!B10","v":"SE3"},{"$f":"IF(EingabeAngabe!C10=\"\",\"\",EingabeAngabe!C10)","v":""},null,null,null,{"$f":"IF(OR(G6=\"\",G6>EingabeAngabe!F10),\"F\",EingabeAngabe!B10)","v":"F"},null,{"$f":"EingabeAngabe!B65","v":"IT5"},{"$f":"IF(EingabeAngabe!C65=\"\",\"\",EingabeAngabe!C65)","v":""},null,null,null,{"$f":"IF(N6>EingabeAngabe!F65,\"F\",IF(EingabeAngabe!F65=\"\",\"\",EingabeAngabe!F65))","v":""}]
[null,{"$f":"IF(EingabeAngabe!C11=\"\",\"\",EingabeAngabe!C11)","v":""},null,null,null,null,null,{"$f":"EingabeAngabe!B66","v":"IT6"},{"$f":"IF(EingabeAngabe!C66=\"\",\"\",EingabeAngabe!C66)","v":""},null,null,null,{"$f":"IF(N7>EingabeAngabe!F66,\"F\",IF(EingabeAngabe!F66=\"\",\"\",EingabeAngabe!F66))","v":""}]
[{"$f":"EingabeAngabe!B12","v":"SE4"},{"$f":"IF(EingabeAngabe!C12=\"\",\"\",EingabeAngabe!C12)","v":""},null,null,null,{"$f":"IF(OR(G8=\"\",G8>EingabeAngabe!F12),\"F\",EingabeAngabe!B12)","v":"F"},null,{"$f":"EingabeAngabe!B67","v":"IT7"},{"$f":"IF(EingabeAngabe!C67=\"\",\"\",EingabeAngabe!C67)","v":""},null,null,null,{"$f":"IF(N8>EingabeAngabe!F67,\"F\",IF(EingabeAngabe!F67=\"\",\"\",EingabeAngabe!F67))","v":""}]
[null,{"$f":"IF(EingabeAngabe!C13=\"\",\"\",EingabeAngabe!C13)","v":""},null,null,null,null,null,{"$f":"EingabeAngabe!B68","v":"IT8"},{"$f":"IF(EingabeAngabe!C68=\"\",\"\",EingabeAngabe!C68)","v":""},null,null,null,{"$f":"IF(N9>EingabeAngabe!F68,\"F\",IF(EingabeAngabe!F68=\"\",\"\",EingabeAngabe!F68))","v":""}]
[{"$f":"EingabeAngabe!B14","v":"SE5"},{"$f":"IF(EingabeAngabe!C14=\"\",\"\",EingabeAngabe!C14)","v":""},null,null,null,{"$f":"IF(OR(G10=\"\",G10>EingabeAngabe!F14),\"F\",EingabeAngabe!B14)","v":"F"},null,"Notenschlüssel:"]
[null,{"$f":"IF(EingabeAngabe!C15=\"\",\"\",EingabeAngabe!C15)","v":""},null,null,null,null,null,"Sehr gut",null,null,null,{"$f":"EingabeAngabe!F72","v":"60 - 53"}]
[{"$f":"EingabeAngabe!B16","v":"SE6"},{"$f":"IF(EingabeAngabe!C16=\"\",\"\",EingabeAngabe!C16)","v":""},null,null,null,{"$f":"IF(OR(G12=\"\",G12>EingabeAngabe!F16),\"F\",EingabeAngabe!B16)","v":"F"},null,"Gut",null,null,null,{"$f":"EingabeAngabe!F73","v":"52 - 45"}]
[null,{"$f":"IF(EingabeAngabe!C17=\"\",\"\",EingabeAngabe!C17)","v":""},null,null,null,null,null,"Befriedigend",null,null,null,{"$f":"EingabeAngabe!F74","v":"44 - 37"}]
[{"$f":"EingabeAngabe!B18","v":"SE7"},{"$f":"IF(EingabeAngabe!C18=\"\",\"\",EingabeAngabe!C18)","v":""},null,null,null,{"$f":"IF(OR(G14=\"\",G14>EingabeAngabe!F18),\"F\",EingabeAngabe!B18)","v":"F"},null,"Genügend",null,null,null,{"$f":"EingabeAngabe!F75","v":"36 - 30"}]
[null,{"$f":"IF(EingabeAngabe!C19=\"\",\"\",EingabeAngabe!C19)","v":""},null,null,null,null,null,"Nicht genügend",null,null,null,{"$f":"EingabeAngabe!F76","v":"29 - 00"}]
[{"$f":"EingabeAngabe!B20","v":"SE8"},{"$f":"IF(EingabeAngabe!C20=\"\",\"\",EingabeAngabe!C20)","v":""},null,null,null,{"$f":"IF(OR(G16=\"\",G16>EingabeAngabe!F20),\"F\",EingabeAngabe!B20)","v":"F"},null,{"$f":"CONCATENATE(\"Notendefinition laut LBVO$14:\",\"            \",K50)","v":"Notendefinition laut LBVO$14:            "}]
[null,{"$f":"IF(EingabeAngabe!C21=\"\",\"\",EingabeAngabe!C21)","v":""},null,null,null,null,null,{"$f":"VLOOKUP(K50,SchuelernamenEingabe!D2:'SchuelernamenEingabe'!E40,2,FALSE)","v":{"$error":"#N/A"}}]
[{"$f":"EingabeAngabe!B22","v":"SE9"},{"$f":"IF(EingabeAngabe!C22=\"\",\"\",EingabeAngabe!C22)","v":""},null,null,null,{"$f":"IF(OR(G18=\"\",G18>EingabeAngabe!F22),\"F\",EingabeAngabe!B22)","v":"F"}]
[null,{"$f":"IF(EingabeAngabe!C23=\"\",\"\",EingabeAngabe!C23)","v":""}]
[{"$f":"EingabeAngabe!B24","v":"SE10"},{"$f":"IF(EingabeAngabe!C24=\"\",\"\",EingabeAngabe!C24)","v":""},null,null,null,{"$f":"IF(OR(G20=\"\",G20>EingabeAngabe!F24),\"F\",EingabeAngabe!B24)","v":"F"}]
[null,{"$f":"IF(EingabeAngabe!C25=\"\",\"\",EingabeAngabe!C25)","v":""}]
[{"$f":"EingabeAngabe!B26","v":"SE11"},{"$f":"IF(EingabeAngabe!C26=\"\",\"\",EingabeAngabe!C26)","v":""},null,null,null,{"$f":"IF(OR(G22=\"\",G22>EingabeAngabe!F26),\"F\",EingabeAngabe!B26)","v":"F"}]
[null,{"$f":"IF(EingabeAngabe!C27=\"\",\"\",EingabeAngabe!C27)","v":""}]
[{"$f":"EingabeAngabe!B28","v":"SE12"},{"$f":"IF(EingabeAngabe!C28=\"\",\"\",EingabeAngabe!C28)","v":""},null,null,null,{"$f":"IF(OR(G24=\"\",G24>EingabeAngabe!F28),\"F\",EingabeAngabe!B28)","v":"F"}]
[null,{"$f":"IF(EingabeAngabe!C29=\"\",\"\",EingabeAngabe!C29)","v":""}]
[{"$f":"EingabeAngabe!B31","v":"LE13"},{"$f":"IF(EingabeAngabe!C31=\"\",\"\",EingabeAngabe!C31)","v":""},null,{"$f":"IF(EingabeAngabe!D31=\"\",\"\",EingabeAngabe!D31)","v":""},{"$f":"IF(EingabeAngabe!E31=\"\",\"\",EingabeAngabe!E31)","v":""},{"$f":"IF(OR(G26=\"\",G26>EingabeAngabe!F31),\"F\",EingabeAngabe!B31)","v":"F"}]
[{"$f":"EingabeAngabe!B32","v":"LE14"},{"$f":"IF(EingabeAngabe!C32=\"\",\"\",EingabeAngabe!C32)","v":""},null,{"$f":"IF(EingabeAngabe!D32=\"\",\"\",EingabeAngabe!D32)","v":""},{"$f":"IF(EingabeAngabe!E32=\"\",\"\",EingabeAngabe!E32)","v":""},{"$f":"IF(OR(G27=\"\",G27>EingabeAngabe!F32),\"F\",EingabeAngabe!B32)","v":"F"},null,{"$f":"IF(EingabeAngabe!F80>\"\",EingabeAngabe!E79,\"\")","v":"Eigener Notenkommentar:"}]
[{"$f":"EingabeAngabe!B33","v":"LE15"},{"$f":"IF(EingabeAngabe!C33=\"\",\"\",EingabeAngabe!C33)","v":""},null,{"$f":"IF(EingabeAngabe!D33=\"\",\"\",EingabeAngabe!D33)","v":""},{"$f":"IF(EingabeAngabe!E33=\"\",\"\",EingabeAngabe!E33)","v":""},{"$f":"IF(OR(G28=\"\",G28>EingabeAngabe!F33),\"F\",EingabeAngabe!B33)","v":"F"}]
["LE16",{"$f":"IF(EingabeAngabe!C34=\"\",\"\",EingabeAngabe!C34)","v":""},null,{"$f":"IF(EingabeAngabe!D34=\"\",\"\",EingabeAngabe!D34)","v":""},{"$f":"IF(EingabeAngabe!E34=\"\",\"\",EingabeAngabe!E34)","v":""},{"$f":"IF(OR(G29=\"\",G29>EingabeAngabe!F34),\"F\",EingabeAngabe!B34)","v":"F"}]
["LE17",{"$f":"IF(EingabeAngabe!C35=\"\",\"\",EingabeAngabe!C35)","v":""},null,{"$f":"IF(EingabeAngabe!D35=\"\",\"\",EingabeAngabe!D35)","v":""},{"$f":"IF(EingabeAngabe!E35=\"\",\"\",EingabeAngabe!E35)","v":""},{"$f":"IF(OR(G30=\"\",G30>EingabeAngabe!F35),\"F\",EingabeAngabe!B35)","v":"F"}]
["LE18",{"$f":"IF(EingabeAngabe!C36=\"\",\"\",EingabeAngabe!C36)","v":""},null,{"$f":"IF(EingabeAngabe!D36=\"\",\"\",EingabeAngabe!D36)","v":""},{"$f":"IF(EingabeAngabe!E36=\"\",\"\",EingabeAngabe!E36)","v":""},{"$f":"IF(OR(G31=\"\",G31>EingabeAngabe!F36),\"F\",EingabeAngabe!B36)","v":"F"}]
["LE19",{"$f":"IF(EingabeAngabe!C37=\"\",\"\",EingabeAngabe!C37)","v":""},null,{"$f":"IF(EingabeAngabe!D37=\"\",\"\",EingabeAngabe!D37)","v":""},{"$f":"IF(EingabeAngabe!E37=\"\",\"\",EingabeAngabe!E37)","v":""},{"$f":"IF(OR(G32=\"\",G32>EingabeAngabe!F37),\"F\",EingabeAngabe!B37)","v":"F"}]
[{"$f":"EingabeAngabe!B38","v":"LE20"},{"$f":"IF(EingabeAngabe!C38=\"\",\"\",EingabeAngabe!C38)","v":""},null,{"$f":"IF(EingabeAngabe!D38=\"\",\"\",EingabeAngabe!D38)","v":""},{"$f":"IF(EingabeAngabe!E38=\"\",\"\",EingabeAngabe!E38)","v":""},{"$f":"IF(OR(G33=\"\",G33>EingabeAngabe!F38),\"F\",EingabeAngabe!B38)","v":"F"}]
[{"$f":"EingabeAngabe!B40","v":"MO21"},{"$f":"IF(EingabeAngabe!C40=\"\",\"\",EingabeAngabe!C40)","v":""},null,{"$f":"IF(EingabeAngabe!D40=\"\",\"\",EingabeAngabe!D40)","v":""},null,{"$f":"IF(OR(G34=\"\",G34>EingabeAngabe!F39),\"F\",EingabeAngabe!B40)","v":"F"}]
[{"$f":"EingabeAngabe!B41","v":"MO22"},{"$f":"IF(EingabeAngabe!C41=\"\",\"\",EingabeAngabe!C41)","v":""},null,{"$f":"IF(EingabeAngabe!D41=\"\",\"\",EingabeAngabe!D41)","v":""},null,{"$f":"IF(OR(G35=\"\",G35>EingabeAngabe!F40),\"F\",EingabeAngabe!B41)","v":"F"}]
["MO23",{"$f":"IF(EingabeAngabe!C42=\"\",\"\",EingabeAngabe!C42)","v":""},null,{"$f":"IF(EingabeAngabe!D42=\"\",\"\",EingabeAngabe!D42)","v":""},null,{"$f":"IF(OR(G36=\"\",G36>EingabeAngabe!F41),\"F\",EingabeAngabe!B42)","v":"F"}]
["MO24",{"$f":"IF(EingabeAngabe!C43=\"\",\"\",EingabeAngabe!C43)","v":""},null,{"$f":"IF(EingabeAngabe!D43=\"\",\"\",EingabeAngabe!D43)","v":""},null,{"$f":"IF(OR(G37=\"\",G37>EingabeAngabe!F42),\"F\",EingabeAngabe!B43)","v":"F"}]
["MO25",{"$f":"IF(EingabeAngabe!C44=\"\",\"\",EingabeAngabe!C44)","v":""},null,{"$f":"IF(EingabeAngabe!D44=\"\",\"\",EingabeAngabe!D44)","v":""},null,{"$f":"IF(OR(G38=\"\",G38>EingabeAngabe!F41),\"F\",EingabeAngabe!B42)","v":"F"}]
[{"$f":"EingabeAngabe!B45","v":"MO26"},{"$f":"IF(EingabeAngabe!C45=\"\",\"\",EingabeAngabe!C45)","v":""},null,{"$f":"IF(EingabeAngabe!D45=\"\",\"\",EingabeAngabe!D45)","v":""},null,{"$f":"IF(OR(G39=\"\",G39>EingabeAngabe!F42),\"F\",EingabeAngabe!B45)","v":"F"}]
[{"$f":"EingabeAngabe!B46","v":"MO27"},{"$f":"IF(EingabeAngabe!C46=\"\",\"\",EingabeAngabe!C46)","v":""},null,{"$f":"IF(EingabeAngabe!D46=\"\",\"\",EingabeAngabe!D46)","v":""},null,{"$f":"IF(OR(G40=\"\",G40>EingabeAngabe!F45),\"F\",EingabeAngabe!B46)","v":"F"}]
[{"$f":"EingabeAngabe!B47","v":"MO28"},{"$f":"IF(EingabeAngabe!C47=\"\",\"\",EingabeAngabe!C47)","v":""},null,{"$f":"IF(EingabeAngabe!D47=\"\",\"\",EingabeAngabe!D47)","v":""},null,{"$f":"IF(OR(G41=\"\",G41>EingabeAngabe!F46),\"F\",EingabeAngabe!B47)","v":"F"}]
[{"$f":"EingabeAngabe!B49","v":"SY29"},{"$f":"IF(EingabeAngabe!C49=\"\",\"\",EingabeAngabe!C49)","v":""},null,{"$f":"IF(EingabeAngabe!D49=\"\",\"\",EingabeAngabe!D49)","v":""},null,{"$f":"IF(OR(G42=\"\",G42>EingabeAngabe!F47),\"F\",EingabeAngabe!B49)","v":"F"}]
["SY30",{"$f":"IF(EingabeAngabe!C50=\"\",\"\",EingabeAngabe!C50)","v":""},null,{"$f":"IF(EingabeAngabe!D50=\"\",\"\",EingabeAngabe!D50)","v":""},null,{"$f":"IF(OR(G43=\"\",G43>EingabeAngabe!F48),\"F\",EingabeAngabe!B50)","v":"F"}]
["SY31",{"$f":"IF(EingabeAngabe!C51=\"\",\"\",EingabeAngabe!C51)","v":""},null,{"$f":"IF(EingabeAngabe!D51=\"\",\"\",EingabeAngabe!D51)","v":""},null,{"$f":"IF(OR(G44=\"\",G44>EingabeAngabe!F49),\"F\",EingabeAngabe!B51)","v":"F"}]
["SY32",{"$f":"IF(EingabeAngabe!C52=\"\",\"\",EingabeAngabe!C52)","v":""},null,{"$f":"IF(EingabeAngabe!D52=\"\",\"\",EingabeAngabe!D52)","v":""},null,{"$f":"IF(OR(G45=\"\",G45>EingabeAngabe!F50),\"F\",EingabeAngabe!B52)","v":"F"}]
["SY33",{"$f":"IF(EingabeAngabe!C53=\"\",\"\",EingabeAngabe!C53)","v":""},null,{"$f":"IF(EingabeAngabe!D53=\"\",\"\",EingabeAngabe!D53)","v":""},null,{"$f":"IF(OR(G46=\"\",G46>EingabeAngabe!F51),\"F\",EingabeAngabe!B53)","v":"F"}]
["SY34",{"$f":"IF(EingabeAngabe!C54=\"\",\"\",EingabeAngabe!C54)","v":""},null,{"$f":"IF(EingabeAngabe!D54=\"\",\"\",EingabeAngabe!D54)","v":""},null,{"$f":"IF(OR(G47=\"\",G47>EingabeAngabe!F52),\"F\",EingabeAngabe!B54)","v":"F"},null,"Summe Übersetzungstext",null,null,null,null,{"$f":"EingabeAngabe!AH59","v":""}]
[{"$f":"EingabeAngabe!B55","v":"SY35"},{"$f":"IF(EingabeAngabe!C55=\"\",\"\",EingabeAngabe!C55)","v":""},null,{"$f":"IF(EingabeAngabe!D55=\"\",\"\",EingabeAngabe!D55)","v":""},null,{"$f":"IF(OR(G48=\"\",G48>EingabeAngabe!F53),\"F\",EingabeAngabe!B55)","v":"F"},null,"Summe Arbeitsaufgaben und Interpretation",null,null,null,null,{"$f":"EingabeAngabe!AH60","v":""}]
[{"$f":"EingabeAngabe!B56","v":"SY36"},{"$f":"IF(EingabeAngabe!C56=\"\",\"\",EingabeAngabe!C56)","v":""},null,{"$f":"IF(EingabeAngabe!D56=\"\",\"\",EingabeAngabe!D56)","v":""},null,{"$f":"IF(OR(G49=\"\",G49>EingabeAngabe!F54),\"F\",EingabeAngabe!B56)","v":"F"},null,"Gesamtsumme",null,null,null,null,{"$f":"EingabeAngabe!AH2","v":""}]
[null,{"$f":"EingabeAngabe!C57","v":"SPRACHLICHE QUALITÄT IN DER ZIELSPRACHE"},null,null,null,{"$f":"IF(OR(G50=1,G50=3,G50=5,G50>6),\"F\",\"6/4/2/0\")","v":"6/4/2/0"},null,"NOTE",null,null,{"$f":"IF(EingabeAngabe!AH3=1,\"Sehr gut\",IF(EingabeAngabe!AH3=2,\"Gut\",IF(EingabeAngabe!AH3=3,\"Befriedigend\",IF(EingabeAngabe!AH3=4,\"Genügend\",IF(EingabeAngabe!AH3=5,\"Nicht genügend\",\"\")))))","v":""}]

{"sheet":"Schueler29Punkte","index":32,"n_rows":50,"n_cols":13,"rows_kept":50,"cut":false,"hidden":false,"merged":[[0,0,0,1],[0,3,0,4],[0,7,0,11],[1,0,2,0],[1,1,1,4],[1,5,2,5],[1,6,2,6],[1,8,1,11],[2,1,2,4],[2,8,2,11],[3,0,4,0],[3,1,3,4],[3,5,4,5],[3,6,4,6],[3,8,3,11],[4,1,4,4],[4,8,4,11],[5,0,6,0],[5,1,5,4],[5,5,6,5],[5,6,6,6],[5,8,5,11],[6,1,6,4],[6,8,6,11],[7,0,8,0],[7,1,7,4],[7,5,8,5],[7,6,8,6],[7,8,7,11],[8,1,8,4],[8,8,8,11],[9,0,10,0],[9,1,9,4],[9,5,10,5],[9,6,10,6],[9,7,9,13],[10,1,10,4],[10,7,10,10],[10,11,10,13],[11,0,12,0],[11,1,11,4],[11,5,12,5],[11,6,12,6],[11,7,11,10],[11,11,11,13],[12,1,12,4],[12,7,12,10],[12,11,12,13],[13,0,14,0],[13,1,13,4],[13,5,14,5],[13,6,14,6],[13,7,13,10],[13,11,13,13],[14,1,14,4],[14,7,14,10],[14,11,14,13],[15,0,16,0],[15,1,15,4],[15,5,16,5],[15,6,16,6],[15,7,15,13],[16,1,16,4],[16,7,24,13],[17,0,18,0],[17,1,17,4],[17,5,18,5],[17,6,18,6],[18,1,18,4],[19,0,20,0],[19,1,19,4],[19,5,20,5],[19,6,20,6],[20,1,20,4],[21,0,22,0],[21,1,21,4],[21,5,22,5],[21,6,22,6],[22,1,22,4],[23,0,24,0],[23,1,23,4],[23,5,24,5],[23,6,24,6],[24,1,24,4],[25,1,25,2],[26,1,26,2],[26,7,26,13],[27,1,27,2],[27,7,44,13],[28,1,28,2],[29,1,29,2],[30,1,30,2],[31,1,31,2],[32,1,32,2],[33,1,33,2],[33,3,33,4],[34,1,34,2],[34,3,34,4],[35,1,35,2],[35,3,35,4],[36,1,36,2],[36,3,36,4],[37,1,37,2],[37,3,37,4],[38,1,38,2],[38,3,38,4],[39,1,39,2],[39,3,39,4],[40,1,40,2],[40,3,40,4],[41,1,41,2],[41,3,41,4],[42,1,42,2],[42,3,42,4],[43,1,43,2],[43,3,43,4],[44,1,44,2],[44,3,44,4],[48,12,48,13],[45,1,45,2],[45,3,45,4],[46,1,46,2],[46,3,46,4],[46,7,46,11],[46,12,46,13],[49,1,49,4],[49,7,49,9],[49,10,49,13],[47,1,47,2],[47,3,47,4],[47,7,47,11],[47,12,47,13],[48,1,48,2],[48,3,48,4],[48,7,48,11]]}
["Übersetzungstext",null,"Schülername",{"$f":"SchuelernamenEingabe!B30","v":0},null,null,null,"Arbeitsaufgaben/ Interpretation"]
[{"$f":"EingabeAngabe!B6","v":"SE1"},{"$f":"IF(EingabeAngabe!C6=\"\",\"\",EingabeAngabe!C6)","v":""},null,null,null,{"$f":"IF(OR(G2=\"\",G2>EingabeAngabe!F6),\"F\",EingabeAngabe!B6)","v":"F"},null,{"$f":"EingabeAngabe!B61","v":"IT1"},{"$f":"IF(EingabeAngabe!C61=\"\",\"\",EingabeAngabe!C61)","v":""},null,null,null,{"$f":"IF(N2>EingabeAngabe!F61,\"F\",IF(EingabeAngabe!F61=\"\",\"\",EingabeAngabe!F61))","v":""}]
[null,{"$f":"IF(EingabeAngabe!C7=\"\",\"\",EingabeAngabe!C7)","v":""},null,null,null,null,null,{"$f":"EingabeAngabe!B62","v":"IT2"},{"$f":"IF(EingabeAngabe!C62=\"\",\"\",EingabeAngabe!C62)","v":""},null,null,null,{"$f":"IF(N3>EingabeAngabe!F62,\"F\",IF(EingabeAngabe!F62=\"\",\"\",EingabeAngabe!F62))","v":""}]
[{"$f":"EingabeAngabe!B8","v":"SE2"},{"$f":"IF(EingabeAngabe!C8=\"\",\"\",EingabeAngabe!C8)","v":""},null,null,null,{"$f":"IF(OR(G4=\"\",G4>EingabeAngabe!F8),\"F\",EingabeAngabe!B8)","v":"F"},null,{"$f":"EingabeAngabe!B63","v":"IT3"},{"$f":"IF(EingabeAngabe!C63=\"\",\"\",EingabeAngabe!C63)","v":""},null,null,null,{"$f":"IF(N4>EingabeAngabe!F63,\"F\",IF(EingabeAngabe!F63=\"\",\"\",EingabeAngabe!F63))","v":""}]
[null,{"$f":"IF(EingabeAngabe!C9=\"\",\"\",EingabeAngabe!C9)","v":""},null,null,null,null,null,{"$f":"EingabeAngabe!B64","v":"IT4"},{"$f":"IF(EingabeAngabe!C64=\"\",\"\",EingabeAngabe!C64)","v":""},null,null,null,{"$f":"IF(N5>EingabeAngabe!F64,\"F\",IF(EingabeAngabe!F64=\"\",\"\",EingabeAngabe!F64))","v":""}]
[{"$f":"EingabeAngabe!B10","v":"SE3"},{"$f":"IF(EingabeAngabe!C10=\"\",\"\",EingabeAngabe!C10)","v":""},null,null,null,{"$f":"IF(OR(G6=\"\",G6>EingabeAngabe!F10),\"F\",EingabeAngabe!B10)","v":"F"},null,{"$f":"EingabeAngabe!B65","v":"IT5"},{"$f":"IF(EingabeAngabe!C65=\"\",\"\",EingabeAngabe!C65)","v":""},null,null,null,{"$f":"IF(N6>EingabeAngabe!F65,\"F\",IF(EingabeAngabe!F65=\"\",\"\",EingabeAngabe!F65))","v":""}]
[null,{"$f":"IF(EingabeAngabe!C11=\"\",\"\",EingabeAngabe!C11)","v":""},null,null,null,null,null,{"$f":"EingabeAngabe!B66","v":"IT6"},{"$f":"IF(EingabeAngabe!C66=\"\",\"\",EingabeAngabe!C66)","v":""},null,null,null,{"$f":"IF(N7>EingabeAngabe!F66,\"F\",IF(EingabeAngabe!F66=\"\",\"\",EingabeAngabe!F66))","v":""}]
[{"$f":"EingabeAngabe!B12","v":"SE4"},{"$f":"IF(EingabeAngabe!C12=\"\",\"\",EingabeAngabe!C12)","v":""},null,null,null,{"$f":"IF(OR(G8=\"\",G8>EingabeAngabe!F12),\"F\",EingabeAngabe!B12)","v":"F"},null,{"$f":"EingabeAngabe!B67","v":"IT7"},{"$f":"IF(EingabeAngabe!C67=\"\",\"\",EingabeAngabe!C67)","v":""},null,null,null,{"$f":"IF(N8>EingabeAngabe!F67,\"F\",IF(EingabeAngabe!F67=\"\",\"\",EingabeAngabe!F67))","v":""}]
[null,{"$f":"IF(EingabeAngabe!C13=\"\",\"\",EingabeAngabe!C13)","v":""},null,null,null,null,null,{"$f":"EingabeAngabe!B68","v":"IT8"},{"$f":"IF(EingabeAngabe!C68=\"\",\"\",EingabeAngabe!C68)","v":""},null,null,null,{"$f":"IF(N9>EingabeAngabe!F68,\"F\",IF(EingabeAngabe!F68=\"\",\"\",EingabeAngabe!F68))","v":""}]
[{"$f":"EingabeAngabe!B14","v":"SE5"},{"$f":"IF(EingabeAngabe!C14=\"\",\"\",EingabeAngabe!C14)","v":""},null,null,null,{"$f":"IF(OR(G10=\"\",G10>EingabeAngabe!F14),\"F\",EingabeAngabe!B14)","v":"F"},null,"Notenschlüssel:"]
[null,{"$f":"IF(EingabeAngabe!C15=\"\",\"\",EingabeAngabe!C15)","v":""},null,null,null,null,null,"Sehr gut",null,null,null,{"$f":"EingabeAngabe!F72","v":"60 - 53"}]
[{"$f":"EingabeAngabe!B16","v":"SE6"},{"$f":"IF(EingabeAngabe!C16=\"\",\"\",EingabeAngabe!C16)","v":""},null,null,null,{"$f":"IF(OR(G12=\"\",G12>EingabeAngabe!F16),\"F\",EingabeAngabe!B16)","v":"F"},null,"Gut",null,null,null,{"$f":"EingabeAngabe!F73","v":"52 - 45"}]
[null,{"$f":"IF(EingabeAngabe!C17=\"\",\"\",EingabeAngabe!C17)","v":""},null,null,null,null,null,"Befriedigend",null,null,null,{"$f":"EingabeAngabe!F74","v":"44 - 37"}]
[{"$f":"EingabeAngabe!B18","v":"SE7"},{"$f":"IF(EingabeAngabe!C18=\"\",\"\",EingabeAngabe!C18)","v":""},null,null,null,{"$f":"IF(OR(G14=\"\",G14>EingabeAngabe!F18),\"F\",EingabeAngabe!B18)","v":"F"},null,"Genügend",null,null,null,{"$f":"EingabeAngabe!F75","v":"36 - 30"}]
[null,{"$f":"IF(EingabeAngabe!C19=\"\",\"\",EingabeAngabe!C19)","v":""},null,null,null,null,null,"Nicht genügend",null,null,null,{"$f":"EingabeAngabe!F76","v":"29 - 00"}]
[{"$f":"EingabeAngabe!B20","v":"SE8"},{"$f":"IF(EingabeAngabe!C20=\"\",\"\",EingabeAngabe!C20)","v":""},null,null,null,{"$f":"IF(OR(G16=\"\",G16>EingabeAngabe!F20),\"F\",EingabeAngabe!B20)","v":"F"},null,{"$f":"CONCATENATE(\"Notendefinition laut LBVO$14:\",\"            \",K50)","v":"Notendefinition laut LBVO$14:            "}]
[null,{"$f":"IF(EingabeAngabe!C21=\"\",\"\",EingabeAngabe!C21)","v":""},null,null,null,null,null,{"$f":"VLOOKUP(K50,SchuelernamenEingabe!D2:'SchuelernamenEingabe'!E40,2,FALSE)","v":{"$error":"#N/A"}}]
[{"$f":"EingabeAngabe!B22","v":"SE9"},{"$f":"IF(EingabeAngabe!C22=\"\",\"\",EingabeAngabe!C22)","v":""},null,null,null,{"$f":"IF(OR(G18=\"\",G18>EingabeAngabe!F22),\"F\",EingabeAngabe!B22)","v":"F"}]
[null,{"$f":"IF(EingabeAngabe!C23=\"\",\"\",EingabeAngabe!C23)","v":""}]
[{"$f":"EingabeAngabe!B24","v":"SE10"},{"$f":"IF(EingabeAngabe!C24=\"\",\"\",EingabeAngabe!C24)","v":""},null,null,null,{"$f":"IF(OR(G20=\"\",G20>EingabeAngabe!F24),\"F\",EingabeAngabe!B24)","v":"F"}]
[null,{"$f":"IF(EingabeAngabe!C25=\"\",\"\",EingabeAngabe!C25)","v":""}]
[{"$f":"EingabeAngabe!B26","v":"SE11"},{"$f":"IF(EingabeAngabe!C26=\"\",\"\",EingabeAngabe!C26)","v":""},null,null,null,{"$f":"IF(OR(G22=\"\",G22>EingabeAngabe!F26),\"F\",EingabeAngabe!B26)","v":"F"}]
[null,{"$f":"IF(EingabeAngabe!C27=\"\",\"\",EingabeAngabe!C27)","v":""}]
[{"$f":"EingabeAngabe!B28","v":"SE12"},{"$f":"IF(EingabeAngabe!C28=\"\",\"\",EingabeAngabe!C28)","v":""},null,null,null,{"$f":"IF(OR(G24=\"\",G24>EingabeAngabe!F28),\"F\",EingabeAngabe!B28)","v":"F"}]
[null,{"$f":"IF(EingabeAngabe!C29=\"\",\"\",EingabeAngabe!C29)","v":""}]
[{"$f":"EingabeAngabe!B31","v":"LE13"},{"$f":"IF(EingabeAngabe!C31=\"\",\"\",EingabeAngabe!C31)","v":""},null,{"$f":"IF(EingabeAngabe!D31=\"\",\"\",EingabeAngabe!D31)","v":""},{"$f":"IF(EingabeAngabe!E31=\"\",\"\",EingabeAngabe!E31)","v":""},{"$f":"IF(OR(G26=\"\",G26>EingabeAngabe!F31),\"F\",EingabeAngabe!B31)","v":"F"}]
[{"$f":"EingabeAngabe!B32","v":"LE14"},{"$f":"IF(EingabeAngabe!C32=\"\",\"\",EingabeAngabe!C32)","v":""},null,{"$f":"IF(EingabeAngabe!D32=\"\",\"\",EingabeAngabe!D32)","v":""},{"$f":"IF(EingabeAngabe!E32=\"\",\"\",EingabeAngabe!E32)","v":""},{"$f":"IF(OR(G27=\"\",G27>EingabeAngabe!F32),\"F\",EingabeAngabe!B32)","v":"F"},null,{"$f":"IF(EingabeAngabe!F80>\"\",EingabeAngabe!E79,\"\")","v":"Eigener Notenkommentar:"}]
[{"$f":"EingabeAngabe!B33","v":"LE15"},{"$f":"IF(EingabeAngabe!C33=\"\",\"\",EingabeAngabe!C33)","v":""},null,{"$f":"IF(EingabeAngabe!D33=\"\",\"\",EingabeAngabe!D33)","v":""},{"$f":"IF(EingabeAngabe!E33=\"\",\"\",EingabeAngabe!E33)","v":""},{"$f":"IF(OR(G28=\"\",G28>EingabeAngabe!F33),\"F\",EingabeAngabe!B33)","v":"F"}]
["LE16",{"$f":"IF(EingabeAngabe!C34=\"\",\"\",EingabeAngabe!C34)","v":""},null,{"$f":"IF(EingabeAngabe!D34=\"\",\"\",EingabeAngabe!D34)","v":""},{"$f":"IF(EingabeAngabe!E34=\"\",\"\",EingabeAngabe!E34)","v":""},{"$f":"IF(OR(G29=\"\",G29>EingabeAngabe!F34),\"F\",EingabeAngabe!B34)","v":"F"}]
["LE17",{"$f":"IF(EingabeAngabe!C35=\"\",\"\",EingabeAngabe!C35)","v":""},null,{"$f":"IF(EingabeAngabe!D35=\"\",\"\",EingabeAngabe!D35)","v":""},{"$f":"IF(EingabeAngabe!E35=\"\",\"\",EingabeAngabe!E35)","v":""},{"$f":"IF(OR(G30=\"\",G30>EingabeAngabe!F35),\"F\",EingabeAngabe!B35)","v":"F"}]
["LE18",{"$f":"IF(EingabeAngabe!C36=\"\",\"\",EingabeAngabe!C36)","v":""},null,{"$f":"IF(EingabeAngabe!D36=\"\",\"\",EingabeAngabe!D36)","v":""},{"$f":"IF(EingabeAngabe!E36=\"\",\"\",EingabeAngabe!E36)","v":""},{"$f":"IF(OR(G31=\"\",G31>EingabeAngabe!F36),\"F\",EingabeAngabe!B36)","v":"F"}]
["LE19",{"$f":"IF(EingabeAngabe!C37=\"\",\"\",EingabeAngabe!C37)","v":""},null,{"$f":"IF(EingabeAngabe!D37=\"\",\"\",EingabeAngabe!D37)","v":""},{"$f":"IF(EingabeAngabe!E37=\"\",\"\",EingabeAngabe!E37)","v":""},{"$f":"IF(OR(G32=\"\",G32>EingabeAngabe!F37),\"F\",EingabeAngabe!B37)","v":"F"}]
[{"$f":"EingabeAngabe!B38","v":"LE20"},{"$f":"IF(EingabeAngabe!C38=\"\",\"\",EingabeAngabe!C38)","v":""},null,{"$f":"IF(EingabeAngabe!D38=\"\",\"\",EingabeAngabe!D38)","v":""},{"$f":"IF(EingabeAngabe!E38=\"\",\"\",EingabeAngabe!E38)","v":""},{"$f":"IF(OR(G33=\"\",G33>EingabeAngabe!F38),\"F\",EingabeAngabe!B38)","v":"F"}]
[{"$f":"EingabeAngabe!B40","v":"MO21"},{"$f":"IF(EingabeAngabe!C40=\"\",\"\",EingabeAngabe!C40)","v":""},null,{"$f":"IF(EingabeAngabe!D40=\"\",\"\",EingabeAngabe!D40)","v":""},null,{"$f":"IF(OR(G34=\"\",G34>EingabeAngabe!F39),\"F\",EingabeAngabe!B40)","v":"F"}]
[{"$f":"EingabeAngabe!B41","v":"MO22"},{"$f":"IF(EingabeAngabe!C41=\"\",\"\",EingabeAngabe!C41)","v":""},null,{"$f":"IF(EingabeAngabe!D41=\"\",\"\",EingabeAngabe!D41)","v":""},null,{"$f":"IF(OR(G35=\"\",G35>EingabeAngabe!F40),\"F\",EingabeAngabe!B41)","v":"F"}]
["MO23",{"$f":"IF(EingabeAngabe!C42=\"\",\"\",EingabeAngabe!C42)","v":""},null,{"$f":"IF(EingabeAngabe!D42=\"\",\"\",EingabeAngabe!D42)","v":""},null,{"$f":"IF(OR(G36=\"\",G36>EingabeAngabe!F41),\"F\",EingabeAngabe!B42)","v":"F"}]
["MO24",{"$f":"IF(EingabeAngabe!C43=\"\",\"\",EingabeAngabe!C43)","v":""},null,{"$f":"IF(EingabeAngabe!D43=\"\",\"\",EingabeAngabe!D43)","v":""},null,{"$f":"IF(OR(G37=\"\",G37>EingabeAngabe!F42),\"F\",EingabeAngabe!B43)","v":"F"}]
["MO25",{"$f":"IF(EingabeAngabe!C44=\"\",\"\",EingabeAngabe!C44)","v":""},null,{"$f":"IF(EingabeAngabe!D44=\"\",\"\",EingabeAngabe!D44)","v":""},null,{"$f":"IF(OR(G38=\"\",G38>EingabeAngabe!F41),\"F\",EingabeAngabe!B42)","v":"F"}]
[{"$f":"EingabeAngabe!B45","v":"MO26"},{"$f":"IF(EingabeAngabe!C45=\"\",\"\",EingabeAngabe!C45)","v":""},null,{"$f":"IF(EingabeAngabe!D45=\"\",\"\",EingabeAngabe!D45)","v":""},null,{"$f":"IF(OR(G39=\"\",G39>EingabeAngabe!F42),\"F\",EingabeAngabe!B45)","v":"F"}]
[{"$f":"EingabeAngabe!B46","v":"MO27"},{"$f":"IF(EingabeAngabe!C46=\"\",\"\",EingabeAngabe!C46)","v":""},null,{"$f":"IF(EingabeAngabe!D46=\"\",\"\",EingabeAngabe!D46)","v":""},null,{"$f":"IF(OR(G40=\"\",G40>EingabeAngabe!F45),\"F\",EingabeAngabe!B46)","v":"F"}]
[{"$f":"EingabeAngabe!B47","v":"MO28"},{"$f":"IF(EingabeAngabe!C47=\"\",\"\",EingabeAngabe!C47)","v":""},null,{"$f":"IF(EingabeAngabe!D47=\"\",\"\",EingabeAngabe!D47)","v":""},null,{"$f":"IF(OR(G41=\"\",G41>EingabeAngabe!F46),\"F\",EingabeAngabe!B47)","v":"F"}]
[{"$f":"EingabeAngabe!B49","v":"SY29"},{"$f":"IF(EingabeAngabe!C49=\"\",\"\",EingabeAngabe!C49)","v":""},null,{"$f":"IF(EingabeAngabe!D49=\"\",\"\",EingabeAngabe!D49)","v":""},null,{"$f":"IF(OR(G42=\"\",G42>EingabeAngabe!F47),\"F\",EingabeAngabe!B49)","v":"F"}]
["SY30",{"$f":"IF(EingabeAngabe!C50=\"\",\"\",EingabeAngabe!C50)","v":""},null,{"$f":"IF(EingabeAngabe!D50=\"\",\"\",EingabeAngabe!D50)","v":""},null,{"$f":"IF(OR(G43=\"\",G43>EingabeAngabe!F48),\"F\",EingabeAngabe!B50)","v":"F"}]
["SY31",{"$f":"IF(EingabeAngabe!C51=\"\",\"\",EingabeAngabe!C51)","v":""},null,{"$f":"IF(EingabeAngabe!D51=\"\",\"\",EingabeAngabe!D51)","v":""},null,{"$f":"IF(OR(G44=\"\",G44>EingabeAngabe!F49),\"F\",EingabeAngabe!B51)","v":"F"}]
["SY32",{"$f":"IF(EingabeAngabe!C52=\"\",\"\",EingabeAngabe!C52)","v":""},null,{"$f":"IF(EingabeAngabe!D52=\"\",\"\",EingabeAngabe!D52)","v":""},null,{"$f":"IF(OR(G45=\"\",G45>EingabeAngabe!F50),\"F\",EingabeAngabe!B52)","v":"F"}]
["SY33",{"$f":"IF(EingabeAngabe!C53=\"\",\"\",EingabeAngabe!C53)","v":""},null,{"$f":"IF(EingabeAngabe!D53=\"\",\"\",EingabeAngabe!D53)","v":""},null,{"$f":"IF(OR(G46=\"\",G46>EingabeAngabe!F51),\"F\",EingabeAngabe!B53)","v":"F"}]
["SY34",{"$f":"IF(EingabeAngabe!C54=\"\",\"\",EingabeAngabe!C54)","v":""},null,{"$f":"IF(EingabeAngabe!D54=\"\",\"\",EingabeAngabe!D54)","v":""},null,{"$f":"IF(OR(G47=\"\",G47>EingabeAngabe!F52),\"F\",EingabeAngabe!B54)","v":"F"},null,"Summe Übersetzungstext",null,null,null,null,{"$f":"EingabeAngabe!AI59","v":""}]
[{"$f":"EingabeAngabe!B55","v":"SY35"},{"$f":"IF(EingabeAngabe!C55=\"\",\"\",EingabeAngabe!C55)","v":""},null,{"$f":"IF(EingabeAngabe!D55=\"\",\"\",EingabeAngabe!D55)","v":""},null,{"$f":"IF(OR(G48=\"\",G48>EingabeAngabe!F53),\"F\",EingabeAngabe!B55)","v":"F"},null,"Summe Arbeitsaufgaben und Interpretation",null,null,null,null,{"$f":"EingabeAngabe!AI60","v":""}]
[{"$f":"EingabeAngabe!B56","v":"SY36"},{"$f":"IF(EingabeAngabe!C56=\"\",\"\",EingabeAngabe!C56)","v":""},null,{"$f":"IF(EingabeAngabe!D56=\"\",\"\",EingabeAngabe!D56)","v":""},null,{"$f":"IF(OR(G49=\"\",G49>EingabeAngabe!F54),\"F\",EingabeAngabe!B56)","v":"F"},null,"Gesamtsumme",null,null,null,null,{"$f":"EingabeAngabe!AI2","v":""}]
[null,{"$f":"EingabeAngabe!C57","v":"SPRACHLICHE QUALITÄT IN DER ZIELSPRACHE"},null,null,null,{"$f":"IF(OR(G50=1,G50=3,G50=5,G50>6),\"F\",\"6/4/2/0\")","v":"6/4/2/0"},null,"NOTE",null,null,{"$f":"IF(EingabeAngabe!AI3=1,\"Sehr gut\",IF(EingabeAngabe!AI3=2,\"Gut\",IF(EingabeAngabe!AI3=3,\"Befriedigend\",IF(EingabeAngabe!AI3=4,\"Genügend\",IF(EingabeAngabe!AI3=5,\"Nicht genügend\",\"\")))))","v":""}]

{"sheet":"Schueler30Punkte","index":33,"n_rows":50,"n_cols":13,"rows_kept":50,"cut":false,"hidden":false,"merged":[[0,0,0,1],[0,3,0,4],[0,7,0,11],[1,0,2,0],[1,1,1,4],[1,5,2,5],[1,6,2,6],[1,8,1,11],[2,1,2,4],[2,8,2,11],[3,0,4,0],[3,1,3,4],[3,5,4,5],[3,6,4,6],[3,8,3,11],[4,1,4,4],[4,8,4,11],[5,0,6,0],[5,1,5,4],[5,5,6,5],[5,6,6,6],[5,8,5,11],[6,1,6,4],[6,8,6,11],[7,0,8,0],[7,1,7,4],[7,5,8,5],[7,6,8,6],[7,8,7,11],[8,1,8,4],[8,8,8,11],[9,0,10,0],[9,1,9,4],[9,5,10,5],[9,6,10,6],[9,7,9,13],[10,1,10,4],[10,7,10,10],[10,11,10,13],[11,0,12,0],[11,1,11,4],[11,5,12,5],[11,6,12,6],[11,7,11,10],[11,11,11,13],[12,1,12,4],[12,7,12,10],[12,11,12,13],[13,0,14,0],[13,1,13,4],[13,5,14,5],[13,6,14,6],[13,7,13,10],[13,11,13,13],[14,1,14,4],[14,7,14,10],[14,11,14,13],[15,0,16,0],[15,1,15,4],[15,5,16,5],[15,6,16,6],[15,7,15,13],[16,1,16,4],[16,7,24,13],[17,0,18,0],[17,1,17,4],[17,5,18,5],[17,6,18,6],[18,1,18,4],[19,0,20,0],[19,1,19,4],[19,5,20,5],[19,6,20,6],[20,1,20,4],[21,0,22,0],[21,1,21,4],[21,5,22,5],[21,6,22,6],[22,1,22,4],[23,0,24,0],[23,1,23,4],[23,5,24,5],[23,6,24,6],[24,1,24,4],[25,1,25,2],[26,1,26,2],[26,7,26,13],[27,1,27,2],[27,7,44,13],[28,1,28,2],[29,1,29,2],[30,1,30,2],[31,1,31,2],[32,1,32,2],[33,1,33,2],[33,3,33,4],[34,1,34,2],[34,3,34,4],[35,1,35,2],[35,3,35,4],[36,1,36,2],[36,3,36,4],[37,1,37,2],[37,3,37,4],[38,1,38,2],[38,3,38,4],[39,1,39,2],[39,3,39,4],[40,1,40,2],[40,3,40,4],[41,1,41,2],[41,3,41,4],[42,1,42,2],[42,3,42,4],[43,1,43,2],[43,3,43,4],[44,1,44,2],[44,3,44,4],[48,12,48,13],[45,1,45,2],[45,3,45,4],[46,1,46,2],[46,3,46,4],[46,7,46,11],[46,12,46,13],[49,1,49,4],[49,7,49,9],[49,10,49,13],[47,1,47,2],[47,3,47,4],[47,7,47,11],[47,12,47,13],[48,1,48,2],[48,3,48,4],[48,7,48,11]]}
["Übersetzungstext",null,"Schülername",{"$f":"SchuelernamenEingabe!B31","v":0},null,null,null,"Arbeitsaufgaben/ Interpretation"]
[{"$f":"EingabeAngabe!B6","v":"SE1"},{"$f":"IF(EingabeAngabe!C6=\"\",\"\",EingabeAngabe!C6)","v":""},null,null,null,{"$f":"IF(OR(G2=\"\",G2>EingabeAngabe!F6),\"F\",EingabeAngabe!B6)","v":"F"},null,{"$f":"EingabeAngabe!B61","v":"IT1"},{"$f":"IF(EingabeAngabe!C61=\"\",\"\",EingabeAngabe!C61)","v":""},null,null,null,{"$f":"IF(N2>EingabeAngabe!F61,\"F\",IF(EingabeAngabe!F61=\"\",\"\",EingabeAngabe!F61))","v":""}]
[null,{"$f":"IF(EingabeAngabe!C7=\"\",\"\",EingabeAngabe!C7)","v":""},null,null,null,null,null,{"$f":"EingabeAngabe!B62","v":"IT2"},{"$f":"IF(EingabeAngabe!C62=\"\",\"\",EingabeAngabe!C62)","v":""},null,null,null,{"$f":"IF(N3>EingabeAngabe!F62,\"F\",IF(EingabeAngabe!F62=\"\",\"\",EingabeAngabe!F62))","v":""}]
[{"$f":"EingabeAngabe!B8","v":"SE2"},{"$f":"IF(EingabeAngabe!C8=\"\",\"\",EingabeAngabe!C8)","v":""},null,null,null,{"$f":"IF(OR(G4=\"\",G4>EingabeAngabe!F8),\"F\",EingabeAngabe!B8)","v":"F"},null,{"$f":"EingabeAngabe!B63","v":"IT3"},{"$f":"IF(EingabeAngabe!C63=\"\",\"\",EingabeAngabe!C63)","v":""},null,null,null,{"$f":"IF(N4>EingabeAngabe!F63,\"F\",IF(EingabeAngabe!F63=\"\",\"\",EingabeAngabe!F63))","v":""}]
[null,{"$f":"IF(EingabeAngabe!C9=\"\",\"\",EingabeAngabe!C9)","v":""},null,null,null,null,null,{"$f":"EingabeAngabe!B64","v":"IT4"},{"$f":"IF(EingabeAngabe!C64=\"\",\"\",EingabeAngabe!C64)","v":""},null,null,null,{"$f":"IF(N5>EingabeAngabe!F64,\"F\",IF(EingabeAngabe!F64=\"\",\"\",EingabeAngabe!F64))","v":""}]
[{"$f":"EingabeAngabe!B10","v":"SE3"},{"$f":"IF(EingabeAngabe!C10=\"\",\"\",EingabeAngabe!C10)","v":""},null,null,null,{"$f":"IF(OR(G6=\"\",G6>EingabeAngabe!F10),\"F\",EingabeAngabe!B10)","v":"F"},null,{"$f":"EingabeAngabe!B65","v":"IT5"},{"$f":"IF(EingabeAngabe!C65=\"\",\"\",EingabeAngabe!C65)","v":""},null,null,null,{"$f":"IF(N6>EingabeAngabe!F65,\"F\",IF(EingabeAngabe!F65=\"\",\"\",EingabeAngabe!F65))","v":""}]
[null,{"$f":"IF(EingabeAngabe!C11=\"\",\"\",EingabeAngabe!C11)","v":""},null,null,null,null,null,{"$f":"EingabeAngabe!B66","v":"IT6"},{"$f":"IF(EingabeAngabe!C66=\"\",\"\",EingabeAngabe!C66)","v":""},null,null,null,{"$f":"IF(N7>EingabeAngabe!F66,\"F\",IF(EingabeAngabe!F66=\"\",\"\",EingabeAngabe!F66))","v":""}]
[{"$f":"EingabeAngabe!B12","v":"SE4"},{"$f":"IF(EingabeAngabe!C12=\"\",\"\",EingabeAngabe!C12)","v":""},null,null,null,{"$f":"IF(OR(G8=\"\",G8>EingabeAngabe!F12),\"F\",EingabeAngabe!B12)","v":"F"},null,{"$f":"EingabeAngabe!B67","v":"IT7"},{"$f":"IF(EingabeAngabe!C67=\"\",\"\",EingabeAngabe!C67)","v":""},null,null,null,{"$f":"IF(N8>EingabeAngabe!F67,\"F\",IF(EingabeAngabe!F67=\"\",\"\",EingabeAngabe!F67))","v":""}]
[null,{"$f":"IF(EingabeAngabe!C13=\"\",\"\",EingabeAngabe!C13)","v":""},null,null,null,null,null,{"$f":"EingabeAngabe!B68","v":"IT8"},{"$f":"IF(EingabeAngabe!C68=\"\",\"\",EingabeAngabe!C68)","v":""},null,null,null,{"$f":"IF(N9>EingabeAngabe!F68,\"F\",IF(EingabeAngabe!F68=\"\",\"\",EingabeAngabe!F68))","v":""}]
[{"$f":"EingabeAngabe!B14","v":"SE5"},{"$f":"IF(EingabeAngabe!C14=\"\",\"\",EingabeAngabe!C14)","v":""},null,null,null,{"$f":"IF(OR(G10=\"\",G10>EingabeAngabe!F14),\"F\",EingabeAngabe!B14)","v":"F"},null,"Notenschlüssel:"]
[null,{"$f":"IF(EingabeAngabe!C15=\"\",\"\",EingabeAngabe!C15)","v":""},null,null,null,null,null,"Sehr gut",null,null,null,{"$f":"EingabeAngabe!F72","v":"60 - 53"}]
[{"$f":"EingabeAngabe!B16","v":"SE6"},{"$f":"IF(EingabeAngabe!C16=\"\",\"\",EingabeAngabe!C16)","v":""},null,null,null,{"$f":"IF(OR(G12=\"\",G12>EingabeAngabe!F16),\"F\",EingabeAngabe!B16)","v":"F"},null,"Gut",null,null,null,{"$f":"EingabeAngabe!F73","v":"52 - 45"}]
[null,{"$f":"IF(EingabeAngabe!C17=\"\",\"\",EingabeAngabe!C17)","v":""},null,null,null,null,null,"Befriedigend",null,null,null,{"$f":"EingabeAngabe!F74","v":"44 - 37"}]
[{"$f":"EingabeAngabe!B18","v":"SE7"},{"$f":"IF(EingabeAngabe!C18=\"\",\"\",EingabeAngabe!C18)","v":""},null,null,null,{"$f":"IF(OR(G14=\"\",G14>EingabeAngabe!F18),\"F\",EingabeAngabe!B18)","v":"F"},null,"Genügend",null,null,null,{"$f":"EingabeAngabe!F75","v":"36 - 30"}]
[null,{"$f":"IF(EingabeAngabe!C19=\"\",\"\",EingabeAngabe!C19)","v":""},null,null,null,null,null,"Nicht genügend",null,null,null,{"$f":"EingabeAngabe!F76","v":"29 - 00"}]
[{"$f":"EingabeAngabe!B20","v":"SE8"},{"$f":"IF(EingabeAngabe!C20=\"\",\"\",EingabeAngabe!C20)","v":""},null,null,null,{"$f":"IF(OR(G16=\"\",G16>EingabeAngabe!F20),\"F\",EingabeAngabe!B20)","v":"F"},null,{"$f":"CONCATENATE(\"Notendefinition laut LBVO$14:\",\"            \",K50)","v":"Notendefinition laut LBVO$14:            "}]
[null,{"$f":"IF(EingabeAngabe!C21=\"\",\"\",EingabeAngabe!C21)","v":""},null,null,null,null,null,{"$f":"VLOOKUP(K50,SchuelernamenEingabe!D2:'SchuelernamenEingabe'!E40,2,FALSE)","v":{"$error":"#N/A"}}]
[{"$f":"EingabeAngabe!B22","v":"SE9"},{"$f":"IF(EingabeAngabe!C22=\"\",\"\",EingabeAngabe!C22)","v":""},null,null,null,{"$f":"IF(OR(G18=\"\",G18>EingabeAngabe!F22),\"F\",EingabeAngabe!B22)","v":"F"}]
[null,{"$f":"IF(EingabeAngabe!C23=\"\",\"\",EingabeAngabe!C23)","v":""}]
[{"$f":"EingabeAngabe!B24","v":"SE10"},{"$f":"IF(EingabeAngabe!C24=\"\",\"\",EingabeAngabe!C24)","v":""},null,null,null,{"$f":"IF(OR(G20=\"\",G20>EingabeAngabe!F24),\"F\",EingabeAngabe!B24)","v":"F"}]
[null,{"$f":"IF(EingabeAngabe!C25=\"\",\"\",EingabeAngabe!C25)","v":""}]
[{"$f":"EingabeAngabe!B26","v":"SE11"},{"$f":"IF(EingabeAngabe!C26=\"\",\"\",EingabeAngabe!C26)","v":""},null,null,null,{"$f":"IF(OR(G22=\"\",G22>EingabeAngabe!F26),\"F\",EingabeAngabe!B26)","v":"F"}]
[null,{"$f":"IF(EingabeAngabe!C27=\"\",\"\",EingabeAngabe!C27)","v":""}]
[{"$f":"EingabeAngabe!B28","v":"SE12"},{"$f":"IF(EingabeAngabe!C28=\"\",\"\",EingabeAngabe!C28)","v":""},null,null,null,{"$f":"IF(OR(G24=\"\",G24>EingabeAngabe!F28),\"F\",EingabeAngabe!B28)","v":"F"}]
[null,{"$f":"IF(EingabeAngabe!C29=\"\",\"\",EingabeAngabe!C29)","v":""}]
[{"$f":"EingabeAngabe!B31","v":"LE13"},{"$f":"IF(EingabeAngabe!C31=\"\",\"\",EingabeAngabe!C31)","v":""},null,{"$f":"IF(EingabeAngabe!D31=\"\",\"\",EingabeAngabe!D31)","v":""},{"$f":"IF(EingabeAngabe!E31=\"\",\"\",EingabeAngabe!E31)","v":""},{"$f":"IF(OR(G26=\"\",G26>EingabeAngabe!F31),\"F\",EingabeAngabe!B31)","v":"F"}]
[{"$f":"EingabeAngabe!B32","v":"LE14"},{"$f":"IF(EingabeAngabe!C32=\"\",\"\",EingabeAngabe!C32)","v":""},null,{"$f":"IF(EingabeAngabe!D32=\"\",\"\",EingabeAngabe!D32)","v":""},{"$f":"IF(EingabeAngabe!E32=\"\",\"\",EingabeAngabe!E32)","v":""},{"$f":"IF(OR(G27=\"\",G27>EingabeAngabe!F32),\"F\",EingabeAngabe!B32)","v":"F"},null,{"$f":"IF(EingabeAngabe!F80>\"\",EingabeAngabe!E79,\"\")","v":"Eigener Notenkommentar:"}]
[{"$f":"EingabeAngabe!B33","v":"LE15"},{"$f":"IF(EingabeAngabe!C33=\"\",\"\",EingabeAngabe!C33)","v":""},null,{"$f":"IF(EingabeAngabe!D33=\"\",\"\",EingabeAngabe!D33)","v":""},{"$f":"IF(EingabeAngabe!E33=\"\",\"\",EingabeAngabe!E33)","v":""},{"$f":"IF(OR(G28=\"\",G28>EingabeAngabe!F33),\"F\",EingabeAngabe!B33)","v":"F"}]
["LE16",{"$f":"IF(EingabeAngabe!C34=\"\",\"\",EingabeAngabe!C34)","v":""},null,{"$f":"IF(EingabeAngabe!D34=\"\",\"\",EingabeAngabe!D34)","v":""},{"$f":"IF(EingabeAngabe!E34=\"\",\"\",EingabeAngabe!E34)","v":""},{"$f":"IF(OR(G29=\"\",G29>EingabeAngabe!F34),\"F\",EingabeAngabe!B34)","v":"F"}]
["LE17",{"$f":"IF(EingabeAngabe!C35=\"\",\"\",EingabeAngabe!C35)","v":""},null,{"$f":"IF(EingabeAngabe!D35=\"\",\"\",EingabeAngabe!D35)","v":""},{"$f":"IF(EingabeAngabe!E35=\"\",\"\",EingabeAngabe!E35)","v":""},{"$f":"IF(OR(G30=\"\",G30>EingabeAngabe!F35),\"F\",EingabeAngabe!B35)","v":"F"}]
["LE18",{"$f":"IF(EingabeAngabe!C36=\"\",\"\",EingabeAngabe!C36)","v":""},null,{"$f":"IF(EingabeAngabe!D36=\"\",\"\",EingabeAngabe!D36)","v":""},{"$f":"IF(EingabeAngabe!E36=\"\",\"\",EingabeAngabe!E36)","v":""},{"$f":"IF(OR(G31=\"\",G31>EingabeAngabe!F36),\"F\",EingabeAngabe!B36)","v":"F"}]
["LE19",{"$f":"IF(EingabeAngabe!C37=\"\",\"\",EingabeAngabe!C37)","v":""},null,{"$f":"IF(EingabeAngabe!D37=\"\",\"\",EingabeAngabe!D37)","v":""},{"$f":"IF(EingabeAngabe!E37=\"\",\"\",EingabeAngabe!E37)","v":""},{"$f":"IF(OR(G32=\"\",G32>EingabeAngabe!F37),\"F\",EingabeAngabe!B37)","v":"F"}]
[{"$f":"EingabeAngabe!B38","v":"LE20"},{"$f":"IF(EingabeAngabe!C38=\"\",\"\",EingabeAngabe!C38)","v":""},null,{"$f":"IF(EingabeAngabe!D38=\"\",\"\",EingabeAngabe!D38)","v":""},{"$f":"IF(EingabeAngabe!E38=\"\",\"\",EingabeAngabe!E38)","v":""},{"$f":"IF(OR(G33=\"\",G33>EingabeAngabe!F38),\"F\",EingabeAngabe!B38)","v":"F"}]
[{"$f":"EingabeAngabe!B40","v":"MO21"},{"$f":"IF(EingabeAngabe!C40=\"\",\"\",EingabeAngabe!C40)","v":""},null,{"$f":"IF(EingabeAngabe!D40=\"\",\"\",EingabeAngabe!D40)","v":""},null,{"$f":"IF(OR(G34=\"\",G34>EingabeAngabe!F39),\"F\",EingabeAngabe!B40)","v":"F"}]
[{"$f":"EingabeAngabe!B41","v":"MO22"},{"$f":"IF(EingabeAngabe!C41=\"\",\"\",EingabeAngabe!C41)","v":""},null,{"$f":"IF(EingabeAngabe!D41=\"\",\"\",EingabeAngabe!D41)","v":""},null,{"$f":"IF(OR(G35=\"\",G35>EingabeAngabe!F40),\"F\",EingabeAngabe!B41)","v":"F"}]
["MO23",{"$f":"IF(EingabeAngabe!C42=\"\",\"\",EingabeAngabe!C42)","v":""},null,{"$f":"IF(EingabeAngabe!D42=\"\",\"\",EingabeAngabe!D42)","v":""},null,{"$f":"IF(OR(G36=\"\",G36>EingabeAngabe!F41),\"F\",EingabeAngabe!B42)","v":"F"}]
["MO24",{"$f":"IF(EingabeAngabe!C43=\"\",\"\",EingabeAngabe!C43)","v":""},null,{"$f":"IF(EingabeAngabe!D43=\"\",\"\",EingabeAngabe!D43)","v":""},null,{"$f":"IF(OR(G37=\"\",G37>EingabeAngabe!F42),\"F\",EingabeAngabe!B43)","v":"F"}]
["MO25",{"$f":"IF(EingabeAngabe!C44=\"\",\"\",EingabeAngabe!C44)","v":""},null,{"$f":"IF(EingabeAngabe!D44=\"\",\"\",EingabeAngabe!D44)","v":""},null,{"$f":"IF(OR(G38=\"\",G38>EingabeAngabe!F41),\"F\",EingabeAngabe!B42)","v":"F"}]
[{"$f":"EingabeAngabe!B45","v":"MO26"},{"$f":"IF(EingabeAngabe!C45=\"\",\"\",EingabeAngabe!C45)","v":""},null,{"$f":"IF(EingabeAngabe!D45=\"\",\"\",EingabeAngabe!D45)","v":""},null,{"$f":"IF(OR(G39=\"\",G39>EingabeAngabe!F42),\"F\",EingabeAngabe!B45)","v":"F"}]
[{"$f":"EingabeAngabe!B46","v":"MO27"},{"$f":"IF(EingabeAngabe!C46=\"\",\"\",EingabeAngabe!C46)","v":""},null,{"$f":"IF(EingabeAngabe!D46=\"\",\"\",EingabeAngabe!D46)","v":""},null,{"$f":"IF(OR(G40=\"\",G40>EingabeAngabe!F45),\"F\",EingabeAngabe!B46)","v":"F"}]
[{"$f":"EingabeAngabe!B47","v":"MO28"},{"$f":"IF(EingabeAngabe!C47=\"\",\"\",EingabeAngabe!C47)","v":""},null,{"$f":"IF(EingabeAngabe!D47=\"\",\"\",EingabeAngabe!D47)","v":""},null,{"$f":"IF(OR(G41=\"\",G41>EingabeAngabe!F46),\"F\",EingabeAngabe!B47)","v":"F"}]
[{"$f":"EingabeAngabe!B49","v":"SY29"},{"$f":"IF(EingabeAngabe!C49=\"\",\"\",EingabeAngabe!C49)","v":""},null,{"$f":"IF(EingabeAngabe!D49=\"\",\"\",EingabeAngabe!D49)","v":""},null,{"$f":"IF(OR(G42=\"\",G42>EingabeAngabe!F47),\"F\",EingabeAngabe!B49)","v":"F"}]
["SY30",{"$f":"IF(EingabeAngabe!C50=\"\",\"\",EingabeAngabe!C50)","v":""},null,{"$f":"IF(EingabeAngabe!D50=\"\",\"\",EingabeAngabe!D50)","v":""},null,{"$f":"IF(OR(G43=\"\",G43>EingabeAngabe!F48),\"F\",EingabeAngabe!B50)","v":"F"}]
["SY31",{"$f":"IF(EingabeAngabe!C51=\"\",\"\",EingabeAngabe!C51)","v":""},null,{"$f":"IF(EingabeAngabe!D51=\"\",\"\",EingabeAngabe!D51)","v":""},null,{"$f":"IF(OR(G44=\"\",G44>EingabeAngabe!F49),\"F\",EingabeAngabe!B51)","v":"F"}]
["SY32",{"$f":"IF(EingabeAngabe!C52=\"\",\"\",EingabeAngabe!C52)","v":""},null,{"$f":"IF(EingabeAngabe!D52=\"\",\"\",EingabeAngabe!D52)","v":""},null,{"$f":"IF(OR(G45=\"\",G45>EingabeAngabe!F50),\"F\",EingabeAngabe!B52)","v":"F"}]
["SY33",{"$f":"IF(EingabeAngabe!C53=\"\",\"\",EingabeAngabe!C53)","v":""},null,{"$f":"IF(EingabeAngabe!D53=\"\",\"\",EingabeAngabe!D53)","v":""},null,{"$f":"IF(OR(G46=\"\",G46>EingabeAngabe!F51),\"F\",EingabeAngabe!B53)","v":"F"}]
["SY34",{"$f":"IF(EingabeAngabe!C54=\"\",\"\",EingabeAngabe!C54)","v":""},null,{"$f":"IF(EingabeAngabe!D54=\"\",\"\",EingabeAngabe!D54)","v":""},null,{"$f":"IF(OR(G47=\"\",G47>EingabeAngabe!F52),\"F\",EingabeAngabe!B54)","v":"F"},null,"Summe Übersetzungstext",null,null,null,null,{"$f":"EingabeAngabe!AJ59","v":""}]
[{"$f":"EingabeAngabe!B55","v":"SY35"},{"$f":"IF(EingabeAngabe!C55=\"\",\"\",EingabeAngabe!C55)","v":""},null,{"$f":"IF(EingabeAngabe!D55=\"\",\"\",EingabeAngabe!D55)","v":""},null,{"$f":"IF(OR(G48=\"\",G48>EingabeAngabe!F53),\"F\",EingabeAngabe!B55)","v":"F"},null,"Summe Arbeitsaufgaben und Interpretation",null,null,null,null,{"$f":"EingabeAngabe!AJ60","v":""}]
[{"$f":"EingabeAngabe!B56","v":"SY36"},{"$f":"IF(EingabeAngabe!C56=\"\",\"\",EingabeAngabe!C56)","v":""},null,{"$f":"IF(EingabeAngabe!D56=\"\",\"\",EingabeAngabe!D56)","v":""},null,{"$f":"IF(OR(G49=\"\",G49>EingabeAngabe!F54),\"F\",EingabeAngabe!B56)","v":"F"},null,"Gesamtsumme",null,null,null,null,{"$f":"EingabeAngabe!AJ2","v":""}]
[null,{"$f":"EingabeAngabe!C57","v":"SPRACHLICHE QUALITÄT IN DER ZIELSPRACHE"},null,null,null,{"$f":"IF(OR(G50=1,G50=3,G50=5,G50>6),\"F\",\"6/4/2/0\")","v":"6/4/2/0"},null,"NOTE",null,null,{"$f":"IF(EingabeAngabe!AJ3=1,\"Sehr gut\",IF(EingabeAngabe!AJ3=2,\"Gut\",IF(EingabeAngabe!AJ3=3,\"Befriedigend\",IF(EingabeAngabe!AJ3=4,\"Genügend\",IF(EingabeAngabe!AJ3=5,\"Nicht genügend\",\"\")))))","v":""}]